BEGIN:VCALENDAR
VERSION:2.0
PRODID:-//GO Latin Dance - ECPv6.15.18//NONSGML v1.0//EN
CALSCALE:GREGORIAN
METHOD:PUBLISH
X-ORIGINAL-URL:https://golatindance.com
X-WR-CALDESC:Events for GO Latin Dance
REFRESH-INTERVAL;VALUE=DURATION:PT1H
X-Robots-Tag:noindex
X-PUBLISHED-TTL:PT1H
BEGIN:VTIMEZONE
TZID:America/New_York
BEGIN:DAYLIGHT
TZOFFSETFROM:-0500
TZOFFSETTO:-0400
TZNAME:EDT
DTSTART:20270314T070000
END:DAYLIGHT
BEGIN:STANDARD
TZOFFSETFROM:-0400
TZOFFSETTO:-0500
TZNAME:EST
DTSTART:20271107T060000
END:STANDARD
BEGIN:DAYLIGHT
TZOFFSETFROM:-0500
TZOFFSETTO:-0400
TZNAME:EDT
DTSTART:20280312T070000
END:DAYLIGHT
BEGIN:STANDARD
TZOFFSETFROM:-0400
TZOFFSETTO:-0500
TZNAME:EST
DTSTART:20281105T060000
END:STANDARD
BEGIN:DAYLIGHT
TZOFFSETFROM:-0500
TZOFFSETTO:-0400
TZNAME:EDT
DTSTART:20290311T070000
END:DAYLIGHT
BEGIN:STANDARD
TZOFFSETFROM:-0400
TZOFFSETTO:-0500
TZNAME:EST
DTSTART:20291104T060000
END:STANDARD
END:VTIMEZONE
BEGIN:VEVENT
DTSTART;TZID=America/New_York:20280901T203000
DTEND;TZID=America/New_York:20280902T010000
DTSTAMP:20260424T115528
CREATED:20240223T154942Z
LAST-MODIFIED:20260206T150521Z
UID:10434294-1851453000-1851469200@golatindance.com
SUMMARY:Dante's Salsa Inferno Salsa/Bachata Dance Social!
DESCRIPTION:Dante’s Salsa Social is a unique and energetic night of MUSIC\, DANCE\, and COMMUNITY! Get ready to heat up the dance floor! \nThe Dante Alighieri has plenty of dance space\, its own parking lot and parking nearby\, a powerful and comfortable A/C\, and above all\, has plenty of class to spare. There will also be a full cash bar available! \n************************************************** \nLocation:\nDante Alighieri Society of Massachusetts\n41 Hampshire St\nCambridge\, MA 02139 \nAge Limit: 21+ \nMusic: Rotating DJs \nPerformances: TBD \n8:30pm – 9:30pm\nSalsa or Bachata Lesson \n9:30pm – 1:00am\nSocial Dancing (Salsa\, Bachata) \nCost:\n$20 Dance Lesson/Social Dancing\n$15 Social Dancing Only \n$5 Discount with Student ID \nFind more info at:\nhttps://www.facebook.com/DantesSalsaInferno\nParking: Street Parking and Nearby Parking Lots\nHope to see you all there!!
URL:https://golatindance.com/event/dantes-salsa-inferno-salsa-bachata-dance-social/2028-09-01/
LOCATION:Dante Alighieri Society of Massachusetts\, 41 Hampshire Street\, Cambridge\, MA 02139\, Cambridge\, MA\, 02139\, United States
CATEGORIES:Boston
END:VEVENT
BEGIN:VEVENT
DTSTART;TZID=America/New_York:20280902T190000
DTEND;TZID=America/New_York:20280902T230000
DTSTAMP:20260424T115528
CREATED:20240301T161505Z
LAST-MODIFIED:20260206T150847Z
UID:10360703-1851534000-1851548400@golatindance.com
SUMMARY:J&L Underground
DESCRIPTION:EACH 1ST SATURDAY OF THE MONTH\nJ&L Underground Social will be bringing you a night of energy\, fun\, and the best mix of Bachata (with some sprinkles of Kizomba\, Salsa\, and Merengue ) to keep you dancing all night!\nLocation: Rumba y Timbal Studio\, 7 Temple Street\, Cambridge (YWCA)\nClass Workshop:\n7pm-8pm\nBachata Footwork Challenge (modified for all levels) OR Bachata for Beginners Crash Course\n8pm-11pm\nSocial Dancing (80% Bachata\, 20% Salsa/Merengue)\nCost:\n$15 (includes J&L Footwork Challenge Class)\nMusic: DJ Lui-G\nParking: Street Parking and Nearby Parking Lots or Central Square T Stop\nCan’t wait to bring that island feel to Boston! See you on the dancefloor!
URL:https://golatindance.com/event/jl-underground-social-2/2028-09-02/
LOCATION:Rumba Y Timbal Dance Studio\, 7 Temple St\, Cambridge\, MA\, 02139\, United States
CATEGORIES:Boston
ATTACH;FMTTYPE=image/png:https://golatindance.com/wp-content/uploads/2024/03/Screenshot-2026-02-06-100756.png
END:VEVENT
BEGIN:VEVENT
DTSTART;TZID=America/New_York:20280902T210000
DTEND;TZID=America/New_York:20280903T020000
DTSTAMP:20260424T115528
CREATED:20240802T143631Z
LAST-MODIFIED:20250228T173422Z
UID:10241741-1851541200-1851559200@golatindance.com
SUMMARY:Salsa/Bachata Saturday at Havana Club
DESCRIPTION:Saturday Night Bachata/Salsa is Boston’s biggest bachata/salsa dance party on Saturdays featuring bachata/salsa dancing and lessons\, an amazing venue filled with 300+ welcoming salsa dancers\, an inexpensive parking garage next door\, and public transport on Mass Ave. one block away! \nVisit http://havanaclubsalsa.com/saturdays for the latest event details!
URL:https://golatindance.com/event/salsa-bachata-saturday-at-havana-club-2-2/2028-09-02/
LOCATION:Havana Club\, 288 Green St\, Central Sq\, Cambridge\, MA\, 02139\, United States
CATEGORIES:Boston
GEO:42.3646038;-71.1043268
X-APPLE-STRUCTURED-LOCATION;VALUE=URI;X-ADDRESS=Havana Club 288 Green St Central Sq Cambridge MA 02139 United States;X-APPLE-RADIUS=500;X-TITLE=288 Green St\, Central Sq:geo:-71.1043268,42.3646038
END:VEVENT
BEGIN:VEVENT
DTSTART;TZID=America/New_York:20280903T190000
DTEND;TZID=America/New_York:20280903T233000
DTSTAMP:20260424T115528
CREATED:20231020T153601Z
LAST-MODIFIED:20250103T164313Z
UID:10255743-1851620400-1851636600@golatindance.com
SUMMARY:Salsa/Bachata Sunday at Havana Club
DESCRIPTION:Bachata Sundays is Boston’s Latin Playground for social dancing on Sunday nights featuring bachata lessons and dancing\, an amazing venue\, and a cozy\, welcoming ‘house party meets social’ atmosphere. \nVisit https://havanaclubsalsa.com/sundays for the latest details!
URL:https://golatindance.com/event/salsa-bachata-sunday-at-havana-club/2028-09-03/
LOCATION:Havana Club\, 288 Green St\, Central Sq\, Cambridge\, MA\, 02139\, United States
CATEGORIES:Boston
ATTACH;FMTTYPE=image/png:https://golatindance.com/wp-content/uploads/2023/10/havana-sunday.png
GEO:42.3646038;-71.1043268
X-APPLE-STRUCTURED-LOCATION;VALUE=URI;X-ADDRESS=Havana Club 288 Green St Central Sq Cambridge MA 02139 United States;X-APPLE-RADIUS=500;X-TITLE=288 Green St\, Central Sq:geo:-71.1043268,42.3646038
END:VEVENT
BEGIN:VEVENT
DTSTART;TZID=America/New_York:20280904T200000
DTEND;TZID=America/New_York:20280905T000000
DTSTAMP:20260424T115528
CREATED:20221202T160136Z
LAST-MODIFIED:20231215T165309Z
UID:10188648-1851710400-1851724800@golatindance.com
SUMMARY:Bachata Mondays at Havana Club
DESCRIPTION:Bachata Mondays – are always EPIC! \nJoin us (and 150+ fun dancers)! \n\n\nBachata Mondays is Boston’s hot spot for dancing on Monday nights featuring bachata (90%) and salsa (10%) dancing\, bachata lessons\, an amazing venue\, and a cozy\, welcoming ‘house party meets social’ atmosphere. \nVisit http://havanaclubsalsa.com/mondays for the latest events details!
URL:https://golatindance.com/event/bachata-mondays-at-havana-club/2028-09-04/
LOCATION:Havana Club\, 288 Green St\, Central Sq\, Cambridge\, MA\, 02139\, United States
CATEGORIES:Boston
ATTACH;FMTTYPE=image/jpeg:https://golatindance.com/wp-content/uploads/2022/12/havana-monday.jpg
GEO:42.3646038;-71.1043268
X-APPLE-STRUCTURED-LOCATION;VALUE=URI;X-ADDRESS=Havana Club 288 Green St Central Sq Cambridge MA 02139 United States;X-APPLE-RADIUS=500;X-TITLE=288 Green St\, Central Sq:geo:-71.1043268,42.3646038
END:VEVENT
BEGIN:VEVENT
DTSTART;TZID=America/New_York:20280906T210000
DTEND;TZID=America/New_York:20280907T000000
DTSTAMP:20260424T115528
CREATED:20221111T164326Z
LAST-MODIFIED:20260130T154808Z
UID:10188676-1851886800-1851897600@golatindance.com
SUMMARY:Bachata Room Boston
DESCRIPTION:Your Mid-Week Break \nSocial Dancing Every Wednesday starting at 9:00 pm. Dance. Mingle. Repeat. \nBachata Room Boston is your mid-week getaway. Join us each Wednesday at La Fábrica Central in Cambridge for beginner-friendly dance lessons\, followed by a social dancing party. \nWalk-ins welcome. No partner needed.
URL:https://golatindance.com/event/bachata-room-boston/2028-09-06/
LOCATION:La Fabrica Central\, 450 Massachussets\, Cambridge\, MA\, 02139\, United States
CATEGORIES:Boston
ATTACH;FMTTYPE=image/jpeg:https://golatindance.com/wp-content/uploads/2022/11/313379676_665007541723336_1618937492419299458_n.jpg
GEO:42.3636218;-71.101056
X-APPLE-STRUCTURED-LOCATION;VALUE=URI;X-ADDRESS=La Fabrica Central 450 Massachussets Cambridge MA 02139 United States;X-APPLE-RADIUS=500;X-TITLE=450 Massachussets:geo:-71.101056,42.3636218
END:VEVENT
BEGIN:VEVENT
DTSTART;TZID=America/New_York:20280907T203000
DTEND;TZID=America/New_York:20280908T003000
DTSTAMP:20260424T115528
CREATED:20221104T134143Z
LAST-MODIFIED:20251219T160335Z
UID:10182356-1851971400-1851985800@golatindance.com
SUMMARY:Salsa/Bachata Thursdays at Havana Club
DESCRIPTION:Bachata Thursdays is Boston’s hot spot for dancing on Thursday nights featuring: bachata (70%) and salsa (20%) dancing\, beginner and intermediate level bachata lessons\, an amazing venue\, and a fun night of bachata and salsa goodness! \nVisit http://havanaclubsalsa.com/thursdays for the latest event details!
URL:https://golatindance.com/event/salsa-bachata-thursdays-at-havana-club/2028-09-07/
LOCATION:Havana Club\, 288 Green St\, Central Sq\, Cambridge\, MA\, 02139\, United States
CATEGORIES:Boston
ATTACH;FMTTYPE=image/jpeg:https://golatindance.com/wp-content/uploads/2022/11/Havana-club-thursday.jpg
GEO:42.3646038;-71.1043268
X-APPLE-STRUCTURED-LOCATION;VALUE=URI;X-ADDRESS=Havana Club 288 Green St Central Sq Cambridge MA 02139 United States;X-APPLE-RADIUS=500;X-TITLE=288 Green St\, Central Sq:geo:-71.1043268,42.3646038
END:VEVENT
BEGIN:VEVENT
DTSTART;TZID=America/New_York:20280908T204500
DTEND;TZID=America/New_York:20280909T010000
DTSTAMP:20260424T115528
CREATED:20241108T154315Z
LAST-MODIFIED:20260227T162914Z
UID:10369182-1852058700-1852074000@golatindance.com
SUMMARY:Tambo Salsa/Bachata Social
DESCRIPTION:One of your favorites places to dance salsa is Dante Alighieri Hall in Cambridge. All the music and friendly environment you like and want. Bring your dance shoes and get ready to dance the night away meeting new friends and having fun. \n– 8:45pm Salsa lesson\n– 9:30pm – 1am Music\n– Performances (on certain events)\n– Cover $20 Lesson + Party\, $15 Party only \nFree parking and full bar.\nPlease RSVP the event and INVITE YOUR friends\n$5 discount for students with ID
URL:https://golatindance.com/event/tambo-salsa-bachata-social/2028-09-08/
LOCATION:Dante Alighieri Society of Massachusetts\, 41 Hampshire Street\, Cambridge\, MA 02139\, Cambridge\, MA\, 02139\, United States
CATEGORIES:Boston
END:VEVENT
BEGIN:VEVENT
DTSTART;TZID=America/New_York:20280909T210000
DTEND;TZID=America/New_York:20280910T020000
DTSTAMP:20260424T115528
CREATED:20240802T143631Z
LAST-MODIFIED:20250228T173422Z
UID:10241742-1852146000-1852164000@golatindance.com
SUMMARY:Salsa/Bachata Saturday at Havana Club
DESCRIPTION:Saturday Night Bachata/Salsa is Boston’s biggest bachata/salsa dance party on Saturdays featuring bachata/salsa dancing and lessons\, an amazing venue filled with 300+ welcoming salsa dancers\, an inexpensive parking garage next door\, and public transport on Mass Ave. one block away! \nVisit http://havanaclubsalsa.com/saturdays for the latest event details!
URL:https://golatindance.com/event/salsa-bachata-saturday-at-havana-club-2-2/2028-09-09/
LOCATION:Havana Club\, 288 Green St\, Central Sq\, Cambridge\, MA\, 02139\, United States
CATEGORIES:Boston
GEO:42.3646038;-71.1043268
X-APPLE-STRUCTURED-LOCATION;VALUE=URI;X-ADDRESS=Havana Club 288 Green St Central Sq Cambridge MA 02139 United States;X-APPLE-RADIUS=500;X-TITLE=288 Green St\, Central Sq:geo:-71.1043268,42.3646038
END:VEVENT
BEGIN:VEVENT
DTSTART;TZID=America/New_York:20280910T190000
DTEND;TZID=America/New_York:20280910T233000
DTSTAMP:20260424T115528
CREATED:20231020T153601Z
LAST-MODIFIED:20250103T164313Z
UID:10255744-1852225200-1852241400@golatindance.com
SUMMARY:Salsa/Bachata Sunday at Havana Club
DESCRIPTION:Bachata Sundays is Boston’s Latin Playground for social dancing on Sunday nights featuring bachata lessons and dancing\, an amazing venue\, and a cozy\, welcoming ‘house party meets social’ atmosphere. \nVisit https://havanaclubsalsa.com/sundays for the latest details!
URL:https://golatindance.com/event/salsa-bachata-sunday-at-havana-club/2028-09-10/
LOCATION:Havana Club\, 288 Green St\, Central Sq\, Cambridge\, MA\, 02139\, United States
CATEGORIES:Boston
ATTACH;FMTTYPE=image/png:https://golatindance.com/wp-content/uploads/2023/10/havana-sunday.png
GEO:42.3646038;-71.1043268
X-APPLE-STRUCTURED-LOCATION;VALUE=URI;X-ADDRESS=Havana Club 288 Green St Central Sq Cambridge MA 02139 United States;X-APPLE-RADIUS=500;X-TITLE=288 Green St\, Central Sq:geo:-71.1043268,42.3646038
END:VEVENT
BEGIN:VEVENT
DTSTART;TZID=America/New_York:20280911T200000
DTEND;TZID=America/New_York:20280912T000000
DTSTAMP:20260424T115528
CREATED:20221202T160136Z
LAST-MODIFIED:20231215T165309Z
UID:10188649-1852315200-1852329600@golatindance.com
SUMMARY:Bachata Mondays at Havana Club
DESCRIPTION:Bachata Mondays – are always EPIC! \nJoin us (and 150+ fun dancers)! \n\n\nBachata Mondays is Boston’s hot spot for dancing on Monday nights featuring bachata (90%) and salsa (10%) dancing\, bachata lessons\, an amazing venue\, and a cozy\, welcoming ‘house party meets social’ atmosphere. \nVisit http://havanaclubsalsa.com/mondays for the latest events details!
URL:https://golatindance.com/event/bachata-mondays-at-havana-club/2028-09-11/
LOCATION:Havana Club\, 288 Green St\, Central Sq\, Cambridge\, MA\, 02139\, United States
CATEGORIES:Boston
ATTACH;FMTTYPE=image/jpeg:https://golatindance.com/wp-content/uploads/2022/12/havana-monday.jpg
GEO:42.3646038;-71.1043268
X-APPLE-STRUCTURED-LOCATION;VALUE=URI;X-ADDRESS=Havana Club 288 Green St Central Sq Cambridge MA 02139 United States;X-APPLE-RADIUS=500;X-TITLE=288 Green St\, Central Sq:geo:-71.1043268,42.3646038
END:VEVENT
BEGIN:VEVENT
DTSTART;TZID=America/New_York:20280913T210000
DTEND;TZID=America/New_York:20280914T000000
DTSTAMP:20260424T115528
CREATED:20221111T164326Z
LAST-MODIFIED:20260130T154808Z
UID:10188677-1852491600-1852502400@golatindance.com
SUMMARY:Bachata Room Boston
DESCRIPTION:Your Mid-Week Break \nSocial Dancing Every Wednesday starting at 9:00 pm. Dance. Mingle. Repeat. \nBachata Room Boston is your mid-week getaway. Join us each Wednesday at La Fábrica Central in Cambridge for beginner-friendly dance lessons\, followed by a social dancing party. \nWalk-ins welcome. No partner needed.
URL:https://golatindance.com/event/bachata-room-boston/2028-09-13/
LOCATION:La Fabrica Central\, 450 Massachussets\, Cambridge\, MA\, 02139\, United States
CATEGORIES:Boston
ATTACH;FMTTYPE=image/jpeg:https://golatindance.com/wp-content/uploads/2022/11/313379676_665007541723336_1618937492419299458_n.jpg
GEO:42.3636218;-71.101056
X-APPLE-STRUCTURED-LOCATION;VALUE=URI;X-ADDRESS=La Fabrica Central 450 Massachussets Cambridge MA 02139 United States;X-APPLE-RADIUS=500;X-TITLE=450 Massachussets:geo:-71.101056,42.3636218
END:VEVENT
BEGIN:VEVENT
DTSTART;TZID=America/New_York:20280914T203000
DTEND;TZID=America/New_York:20280915T003000
DTSTAMP:20260424T115528
CREATED:20221104T134143Z
LAST-MODIFIED:20251219T160335Z
UID:10182357-1852576200-1852590600@golatindance.com
SUMMARY:Salsa/Bachata Thursdays at Havana Club
DESCRIPTION:Bachata Thursdays is Boston’s hot spot for dancing on Thursday nights featuring: bachata (70%) and salsa (20%) dancing\, beginner and intermediate level bachata lessons\, an amazing venue\, and a fun night of bachata and salsa goodness! \nVisit http://havanaclubsalsa.com/thursdays for the latest event details!
URL:https://golatindance.com/event/salsa-bachata-thursdays-at-havana-club/2028-09-14/
LOCATION:Havana Club\, 288 Green St\, Central Sq\, Cambridge\, MA\, 02139\, United States
CATEGORIES:Boston
ATTACH;FMTTYPE=image/jpeg:https://golatindance.com/wp-content/uploads/2022/11/Havana-club-thursday.jpg
GEO:42.3646038;-71.1043268
X-APPLE-STRUCTURED-LOCATION;VALUE=URI;X-ADDRESS=Havana Club 288 Green St Central Sq Cambridge MA 02139 United States;X-APPLE-RADIUS=500;X-TITLE=288 Green St\, Central Sq:geo:-71.1043268,42.3646038
END:VEVENT
BEGIN:VEVENT
DTSTART;TZID=America/New_York:20280916T210000
DTEND;TZID=America/New_York:20280917T020000
DTSTAMP:20260424T115528
CREATED:20240802T143631Z
LAST-MODIFIED:20250228T173422Z
UID:10241743-1852750800-1852768800@golatindance.com
SUMMARY:Salsa/Bachata Saturday at Havana Club
DESCRIPTION:Saturday Night Bachata/Salsa is Boston’s biggest bachata/salsa dance party on Saturdays featuring bachata/salsa dancing and lessons\, an amazing venue filled with 300+ welcoming salsa dancers\, an inexpensive parking garage next door\, and public transport on Mass Ave. one block away! \nVisit http://havanaclubsalsa.com/saturdays for the latest event details!
URL:https://golatindance.com/event/salsa-bachata-saturday-at-havana-club-2-2/2028-09-16/
LOCATION:Havana Club\, 288 Green St\, Central Sq\, Cambridge\, MA\, 02139\, United States
CATEGORIES:Boston
GEO:42.3646038;-71.1043268
X-APPLE-STRUCTURED-LOCATION;VALUE=URI;X-ADDRESS=Havana Club 288 Green St Central Sq Cambridge MA 02139 United States;X-APPLE-RADIUS=500;X-TITLE=288 Green St\, Central Sq:geo:-71.1043268,42.3646038
END:VEVENT
BEGIN:VEVENT
DTSTART;TZID=America/New_York:20280917T190000
DTEND;TZID=America/New_York:20280917T233000
DTSTAMP:20260424T115528
CREATED:20231020T153601Z
LAST-MODIFIED:20250103T164313Z
UID:10255745-1852830000-1852846200@golatindance.com
SUMMARY:Salsa/Bachata Sunday at Havana Club
DESCRIPTION:Bachata Sundays is Boston’s Latin Playground for social dancing on Sunday nights featuring bachata lessons and dancing\, an amazing venue\, and a cozy\, welcoming ‘house party meets social’ atmosphere. \nVisit https://havanaclubsalsa.com/sundays for the latest details!
URL:https://golatindance.com/event/salsa-bachata-sunday-at-havana-club/2028-09-17/
LOCATION:Havana Club\, 288 Green St\, Central Sq\, Cambridge\, MA\, 02139\, United States
CATEGORIES:Boston
ATTACH;FMTTYPE=image/png:https://golatindance.com/wp-content/uploads/2023/10/havana-sunday.png
GEO:42.3646038;-71.1043268
X-APPLE-STRUCTURED-LOCATION;VALUE=URI;X-ADDRESS=Havana Club 288 Green St Central Sq Cambridge MA 02139 United States;X-APPLE-RADIUS=500;X-TITLE=288 Green St\, Central Sq:geo:-71.1043268,42.3646038
END:VEVENT
BEGIN:VEVENT
DTSTART;TZID=America/New_York:20280918T200000
DTEND;TZID=America/New_York:20280919T000000
DTSTAMP:20260424T115528
CREATED:20221202T160136Z
LAST-MODIFIED:20231215T165309Z
UID:10188650-1852920000-1852934400@golatindance.com
SUMMARY:Bachata Mondays at Havana Club
DESCRIPTION:Bachata Mondays – are always EPIC! \nJoin us (and 150+ fun dancers)! \n\n\nBachata Mondays is Boston’s hot spot for dancing on Monday nights featuring bachata (90%) and salsa (10%) dancing\, bachata lessons\, an amazing venue\, and a cozy\, welcoming ‘house party meets social’ atmosphere. \nVisit http://havanaclubsalsa.com/mondays for the latest events details!
URL:https://golatindance.com/event/bachata-mondays-at-havana-club/2028-09-18/
LOCATION:Havana Club\, 288 Green St\, Central Sq\, Cambridge\, MA\, 02139\, United States
CATEGORIES:Boston
ATTACH;FMTTYPE=image/jpeg:https://golatindance.com/wp-content/uploads/2022/12/havana-monday.jpg
GEO:42.3646038;-71.1043268
X-APPLE-STRUCTURED-LOCATION;VALUE=URI;X-ADDRESS=Havana Club 288 Green St Central Sq Cambridge MA 02139 United States;X-APPLE-RADIUS=500;X-TITLE=288 Green St\, Central Sq:geo:-71.1043268,42.3646038
END:VEVENT
BEGIN:VEVENT
DTSTART;TZID=America/New_York:20280920T210000
DTEND;TZID=America/New_York:20280921T000000
DTSTAMP:20260424T115528
CREATED:20221111T164326Z
LAST-MODIFIED:20260130T154808Z
UID:10188678-1853096400-1853107200@golatindance.com
SUMMARY:Bachata Room Boston
DESCRIPTION:Your Mid-Week Break \nSocial Dancing Every Wednesday starting at 9:00 pm. Dance. Mingle. Repeat. \nBachata Room Boston is your mid-week getaway. Join us each Wednesday at La Fábrica Central in Cambridge for beginner-friendly dance lessons\, followed by a social dancing party. \nWalk-ins welcome. No partner needed.
URL:https://golatindance.com/event/bachata-room-boston/2028-09-20/
LOCATION:La Fabrica Central\, 450 Massachussets\, Cambridge\, MA\, 02139\, United States
CATEGORIES:Boston
ATTACH;FMTTYPE=image/jpeg:https://golatindance.com/wp-content/uploads/2022/11/313379676_665007541723336_1618937492419299458_n.jpg
GEO:42.3636218;-71.101056
X-APPLE-STRUCTURED-LOCATION;VALUE=URI;X-ADDRESS=La Fabrica Central 450 Massachussets Cambridge MA 02139 United States;X-APPLE-RADIUS=500;X-TITLE=450 Massachussets:geo:-71.101056,42.3636218
END:VEVENT
BEGIN:VEVENT
DTSTART;TZID=America/New_York:20280921T203000
DTEND;TZID=America/New_York:20280922T003000
DTSTAMP:20260424T115528
CREATED:20221104T134143Z
LAST-MODIFIED:20251219T160335Z
UID:10182358-1853181000-1853195400@golatindance.com
SUMMARY:Salsa/Bachata Thursdays at Havana Club
DESCRIPTION:Bachata Thursdays is Boston’s hot spot for dancing on Thursday nights featuring: bachata (70%) and salsa (20%) dancing\, beginner and intermediate level bachata lessons\, an amazing venue\, and a fun night of bachata and salsa goodness! \nVisit http://havanaclubsalsa.com/thursdays for the latest event details!
URL:https://golatindance.com/event/salsa-bachata-thursdays-at-havana-club/2028-09-21/
LOCATION:Havana Club\, 288 Green St\, Central Sq\, Cambridge\, MA\, 02139\, United States
CATEGORIES:Boston
ATTACH;FMTTYPE=image/jpeg:https://golatindance.com/wp-content/uploads/2022/11/Havana-club-thursday.jpg
GEO:42.3646038;-71.1043268
X-APPLE-STRUCTURED-LOCATION;VALUE=URI;X-ADDRESS=Havana Club 288 Green St Central Sq Cambridge MA 02139 United States;X-APPLE-RADIUS=500;X-TITLE=288 Green St\, Central Sq:geo:-71.1043268,42.3646038
END:VEVENT
BEGIN:VEVENT
DTSTART;TZID=America/New_York:20280923T210000
DTEND;TZID=America/New_York:20280924T020000
DTSTAMP:20260424T115528
CREATED:20240802T143631Z
LAST-MODIFIED:20250228T173422Z
UID:10241744-1853355600-1853373600@golatindance.com
SUMMARY:Salsa/Bachata Saturday at Havana Club
DESCRIPTION:Saturday Night Bachata/Salsa is Boston’s biggest bachata/salsa dance party on Saturdays featuring bachata/salsa dancing and lessons\, an amazing venue filled with 300+ welcoming salsa dancers\, an inexpensive parking garage next door\, and public transport on Mass Ave. one block away! \nVisit http://havanaclubsalsa.com/saturdays for the latest event details!
URL:https://golatindance.com/event/salsa-bachata-saturday-at-havana-club-2-2/2028-09-23/
LOCATION:Havana Club\, 288 Green St\, Central Sq\, Cambridge\, MA\, 02139\, United States
CATEGORIES:Boston
GEO:42.3646038;-71.1043268
X-APPLE-STRUCTURED-LOCATION;VALUE=URI;X-ADDRESS=Havana Club 288 Green St Central Sq Cambridge MA 02139 United States;X-APPLE-RADIUS=500;X-TITLE=288 Green St\, Central Sq:geo:-71.1043268,42.3646038
END:VEVENT
BEGIN:VEVENT
DTSTART;TZID=America/New_York:20280924T190000
DTEND;TZID=America/New_York:20280924T233000
DTSTAMP:20260424T115528
CREATED:20231020T153601Z
LAST-MODIFIED:20250103T164313Z
UID:10255746-1853434800-1853451000@golatindance.com
SUMMARY:Salsa/Bachata Sunday at Havana Club
DESCRIPTION:Bachata Sundays is Boston’s Latin Playground for social dancing on Sunday nights featuring bachata lessons and dancing\, an amazing venue\, and a cozy\, welcoming ‘house party meets social’ atmosphere. \nVisit https://havanaclubsalsa.com/sundays for the latest details!
URL:https://golatindance.com/event/salsa-bachata-sunday-at-havana-club/2028-09-24/
LOCATION:Havana Club\, 288 Green St\, Central Sq\, Cambridge\, MA\, 02139\, United States
CATEGORIES:Boston
ATTACH;FMTTYPE=image/png:https://golatindance.com/wp-content/uploads/2023/10/havana-sunday.png
GEO:42.3646038;-71.1043268
X-APPLE-STRUCTURED-LOCATION;VALUE=URI;X-ADDRESS=Havana Club 288 Green St Central Sq Cambridge MA 02139 United States;X-APPLE-RADIUS=500;X-TITLE=288 Green St\, Central Sq:geo:-71.1043268,42.3646038
END:VEVENT
BEGIN:VEVENT
DTSTART;TZID=America/New_York:20280925T200000
DTEND;TZID=America/New_York:20280926T000000
DTSTAMP:20260424T115528
CREATED:20221202T160136Z
LAST-MODIFIED:20231215T165309Z
UID:10188651-1853524800-1853539200@golatindance.com
SUMMARY:Bachata Mondays at Havana Club
DESCRIPTION:Bachata Mondays – are always EPIC! \nJoin us (and 150+ fun dancers)! \n\n\nBachata Mondays is Boston’s hot spot for dancing on Monday nights featuring bachata (90%) and salsa (10%) dancing\, bachata lessons\, an amazing venue\, and a cozy\, welcoming ‘house party meets social’ atmosphere. \nVisit http://havanaclubsalsa.com/mondays for the latest events details!
URL:https://golatindance.com/event/bachata-mondays-at-havana-club/2028-09-25/
LOCATION:Havana Club\, 288 Green St\, Central Sq\, Cambridge\, MA\, 02139\, United States
CATEGORIES:Boston
ATTACH;FMTTYPE=image/jpeg:https://golatindance.com/wp-content/uploads/2022/12/havana-monday.jpg
GEO:42.3646038;-71.1043268
X-APPLE-STRUCTURED-LOCATION;VALUE=URI;X-ADDRESS=Havana Club 288 Green St Central Sq Cambridge MA 02139 United States;X-APPLE-RADIUS=500;X-TITLE=288 Green St\, Central Sq:geo:-71.1043268,42.3646038
END:VEVENT
BEGIN:VEVENT
DTSTART;TZID=America/New_York:20280927T210000
DTEND;TZID=America/New_York:20280928T000000
DTSTAMP:20260424T115528
CREATED:20221111T164326Z
LAST-MODIFIED:20260130T154808Z
UID:10188679-1853701200-1853712000@golatindance.com
SUMMARY:Bachata Room Boston
DESCRIPTION:Your Mid-Week Break \nSocial Dancing Every Wednesday starting at 9:00 pm. Dance. Mingle. Repeat. \nBachata Room Boston is your mid-week getaway. Join us each Wednesday at La Fábrica Central in Cambridge for beginner-friendly dance lessons\, followed by a social dancing party. \nWalk-ins welcome. No partner needed.
URL:https://golatindance.com/event/bachata-room-boston/2028-09-27/
LOCATION:La Fabrica Central\, 450 Massachussets\, Cambridge\, MA\, 02139\, United States
CATEGORIES:Boston
ATTACH;FMTTYPE=image/jpeg:https://golatindance.com/wp-content/uploads/2022/11/313379676_665007541723336_1618937492419299458_n.jpg
GEO:42.3636218;-71.101056
X-APPLE-STRUCTURED-LOCATION;VALUE=URI;X-ADDRESS=La Fabrica Central 450 Massachussets Cambridge MA 02139 United States;X-APPLE-RADIUS=500;X-TITLE=450 Massachussets:geo:-71.101056,42.3636218
END:VEVENT
BEGIN:VEVENT
DTSTART;TZID=America/New_York:20280928T203000
DTEND;TZID=America/New_York:20280929T003000
DTSTAMP:20260424T115528
CREATED:20221104T134143Z
LAST-MODIFIED:20251219T160335Z
UID:10182359-1853785800-1853800200@golatindance.com
SUMMARY:Salsa/Bachata Thursdays at Havana Club
DESCRIPTION:Bachata Thursdays is Boston’s hot spot for dancing on Thursday nights featuring: bachata (70%) and salsa (20%) dancing\, beginner and intermediate level bachata lessons\, an amazing venue\, and a fun night of bachata and salsa goodness! \nVisit http://havanaclubsalsa.com/thursdays for the latest event details!
URL:https://golatindance.com/event/salsa-bachata-thursdays-at-havana-club/2028-09-28/
LOCATION:Havana Club\, 288 Green St\, Central Sq\, Cambridge\, MA\, 02139\, United States
CATEGORIES:Boston
ATTACH;FMTTYPE=image/jpeg:https://golatindance.com/wp-content/uploads/2022/11/Havana-club-thursday.jpg
GEO:42.3646038;-71.1043268
X-APPLE-STRUCTURED-LOCATION;VALUE=URI;X-ADDRESS=Havana Club 288 Green St Central Sq Cambridge MA 02139 United States;X-APPLE-RADIUS=500;X-TITLE=288 Green St\, Central Sq:geo:-71.1043268,42.3646038
END:VEVENT
BEGIN:VEVENT
DTSTART;TZID=America/New_York:20280930T210000
DTEND;TZID=America/New_York:20281001T020000
DTSTAMP:20260424T115528
CREATED:20240802T143631Z
LAST-MODIFIED:20250228T173422Z
UID:10241745-1853960400-1853978400@golatindance.com
SUMMARY:Salsa/Bachata Saturday at Havana Club
DESCRIPTION:Saturday Night Bachata/Salsa is Boston’s biggest bachata/salsa dance party on Saturdays featuring bachata/salsa dancing and lessons\, an amazing venue filled with 300+ welcoming salsa dancers\, an inexpensive parking garage next door\, and public transport on Mass Ave. one block away! \nVisit http://havanaclubsalsa.com/saturdays for the latest event details!
URL:https://golatindance.com/event/salsa-bachata-saturday-at-havana-club-2-2/2028-09-30/
LOCATION:Havana Club\, 288 Green St\, Central Sq\, Cambridge\, MA\, 02139\, United States
CATEGORIES:Boston
GEO:42.3646038;-71.1043268
X-APPLE-STRUCTURED-LOCATION;VALUE=URI;X-ADDRESS=Havana Club 288 Green St Central Sq Cambridge MA 02139 United States;X-APPLE-RADIUS=500;X-TITLE=288 Green St\, Central Sq:geo:-71.1043268,42.3646038
END:VEVENT
END:VCALENDAR