BEGIN:VCALENDAR
VERSION:2.0
PRODID:-//GO Latin Dance - ECPv6.15.18//NONSGML v1.0//EN
CALSCALE:GREGORIAN
METHOD:PUBLISH
X-ORIGINAL-URL:https://golatindance.com
X-WR-CALDESC:Events for GO Latin Dance
REFRESH-INTERVAL;VALUE=DURATION:PT1H
X-Robots-Tag:noindex
X-PUBLISHED-TTL:PT1H
BEGIN:VTIMEZONE
TZID:America/New_York
BEGIN:DAYLIGHT
TZOFFSETFROM:-0500
TZOFFSETTO:-0400
TZNAME:EDT
DTSTART:20300310T070000
END:DAYLIGHT
BEGIN:STANDARD
TZOFFSETFROM:-0400
TZOFFSETTO:-0500
TZNAME:EST
DTSTART:20301103T060000
END:STANDARD
BEGIN:DAYLIGHT
TZOFFSETFROM:-0500
TZOFFSETTO:-0400
TZNAME:EDT
DTSTART:20310309T070000
END:DAYLIGHT
BEGIN:STANDARD
TZOFFSETFROM:-0400
TZOFFSETTO:-0500
TZNAME:EST
DTSTART:20311102T060000
END:STANDARD
BEGIN:DAYLIGHT
TZOFFSETFROM:-0500
TZOFFSETTO:-0400
TZNAME:EDT
DTSTART:20320314T070000
END:DAYLIGHT
BEGIN:STANDARD
TZOFFSETFROM:-0400
TZOFFSETTO:-0500
TZNAME:EST
DTSTART:20321107T060000
END:STANDARD
END:VTIMEZONE
BEGIN:VEVENT
DTSTART;TZID=America/New_York:20310201T190000
DTEND;TZID=America/New_York:20310201T230000
DTSTAMP:20260426T001811
CREATED:20240301T161505Z
LAST-MODIFIED:20260206T150847Z
UID:10442954-1927738800-1927753200@golatindance.com
SUMMARY:J&L Underground
DESCRIPTION:EACH 1ST SATURDAY OF THE MONTH\nJ&L Underground Social will be bringing you a night of energy\, fun\, and the best mix of Bachata (with some sprinkles of Kizomba\, Salsa\, and Merengue ) to keep you dancing all night!\nLocation: Rumba y Timbal Studio\, 7 Temple Street\, Cambridge (YWCA)\nClass Workshop:\n7pm-8pm\nBachata Footwork Challenge (modified for all levels) OR Bachata for Beginners Crash Course\n8pm-11pm\nSocial Dancing (80% Bachata\, 20% Salsa/Merengue)\nCost:\n$15 (includes J&L Footwork Challenge Class)\nMusic: DJ Lui-G\nParking: Street Parking and Nearby Parking Lots or Central Square T Stop\nCan’t wait to bring that island feel to Boston! See you on the dancefloor!
URL:https://golatindance.com/event/jl-underground-social-2/2031-02-01/
LOCATION:Rumba Y Timbal Dance Studio\, 7 Temple St\, Cambridge\, MA\, 02139\, United States
CATEGORIES:Boston
ATTACH;FMTTYPE=image/png:https://golatindance.com/wp-content/uploads/2024/03/Screenshot-2026-02-06-100756.png
END:VEVENT
BEGIN:VEVENT
DTSTART;TZID=America/New_York:20310214T204500
DTEND;TZID=America/New_York:20310215T010000
DTSTAMP:20260426T001811
CREATED:20241108T154315Z
LAST-MODIFIED:20260227T162914Z
UID:10449962-1928868300-1928883600@golatindance.com
SUMMARY:Tambo Salsa/Bachata Social
DESCRIPTION:One of your favorites places to dance salsa is Dante Alighieri Hall in Cambridge. All the music and friendly environment you like and want. Bring your dance shoes and get ready to dance the night away meeting new friends and having fun. \n– 8:45pm Salsa lesson\n– 9:30pm – 1am Music\n– Performances (on certain events)\n– Cover $20 Lesson + Party\, $15 Party only \nFree parking and full bar.\nPlease RSVP the event and INVITE YOUR friends\n$5 discount for students with ID
URL:https://golatindance.com/event/tambo-salsa-bachata-social/2031-02-14/
LOCATION:Dante Alighieri Society of Massachusetts\, 41 Hampshire Street\, Cambridge\, MA 02139\, Cambridge\, MA\, 02139\, United States
CATEGORIES:Boston
END:VEVENT
END:VCALENDAR