BEGIN:VCALENDAR
VERSION:2.0
PRODID:-//GO Latin Dance - ECPv6.15.18//NONSGML v1.0//EN
CALSCALE:GREGORIAN
METHOD:PUBLISH
X-ORIGINAL-URL:https://golatindance.com
X-WR-CALDESC:Events for GO Latin Dance
REFRESH-INTERVAL;VALUE=DURATION:PT1H
X-Robots-Tag:noindex
X-PUBLISHED-TTL:PT1H
BEGIN:VTIMEZONE
TZID:America/New_York
BEGIN:DAYLIGHT
TZOFFSETFROM:-0500
TZOFFSETTO:-0400
TZNAME:EDT
DTSTART:20240310T070000
END:DAYLIGHT
BEGIN:STANDARD
TZOFFSETFROM:-0400
TZOFFSETTO:-0500
TZNAME:EST
DTSTART:20241103T060000
END:STANDARD
BEGIN:DAYLIGHT
TZOFFSETFROM:-0500
TZOFFSETTO:-0400
TZNAME:EDT
DTSTART:20250309T070000
END:DAYLIGHT
BEGIN:STANDARD
TZOFFSETFROM:-0400
TZOFFSETTO:-0500
TZNAME:EST
DTSTART:20251102T060000
END:STANDARD
BEGIN:DAYLIGHT
TZOFFSETFROM:-0500
TZOFFSETTO:-0400
TZNAME:EDT
DTSTART:20260308T070000
END:DAYLIGHT
BEGIN:STANDARD
TZOFFSETFROM:-0400
TZOFFSETTO:-0500
TZNAME:EST
DTSTART:20261101T060000
END:STANDARD
END:VTIMEZONE
BEGIN:VEVENT
DTSTART;TZID=America/New_York:20251115T203000
DTEND;TZID=America/New_York:20251116T003000
DTSTAMP:20260421T143119
CREATED:20241231T203238Z
LAST-MODIFIED:20241231T203238Z
UID:10324830-1763238600-1763253000@golatindance.com
SUMMARY:Boca Latin Dance Studio Social
DESCRIPTION:Every third Saturday\, join at for our BLDS Studio Social. It’ll be a fun night of Latin dancing at our very own studio.Everyone is welcome\, BYOB and we’ll be providing limited mixers and ice. \n> 8:30pm Free Salsa and Bachata Class \n> Music by DJ Uriel Garcia \n> Social Dancing until 12:30pm \n> $10 cover \n> BYOB \n> Free parking \nLocation: \nBoca Latin Dance Studio \n7600 N Federal Hwy\, Boca Raton\, FL 33487
URL:https://golatindance.com/event/boca-latin-dance-studio-social/2025-11-15/
LOCATION:Boca Latin Dance Studio\, 7600 N Federal Hwy\, Boca Raton\, FL\, 33487\, United States
CATEGORIES:Miami
END:VEVENT
BEGIN:VEVENT
DTSTART;TZID=America/New_York:20251116T170000
DTEND;TZID=America/New_York:20251116T230000
DTSTAMP:20260421T143119
CREATED:20250812T143352Z
LAST-MODIFIED:20250812T143352Z
UID:10385418-1763312400-1763334000@golatindance.com
SUMMARY:Latin Sundays at Gold Coast Ballroom
DESCRIPTION:Every Sunday – MATINEE DANCE (1-4:00 PM!) – SALSA GROUP CLASSES (4-5 PM – Included with Sunday Admission!) – LATIN NIGHT DANCE PARTY (5 PM – 11:00 PM) – $20 Whole Sunday (1 PM – 11 PM)!!
URL:https://golatindance.com/event/latin-sundays-at-gold-coast-ballroom/2025-11-16/
LOCATION:Goldcoast Ballroom\, 1415 Lyons Rd\, Coconut Creek\, FL\, 33063-3929\, United States
CATEGORIES:Miami
ATTACH;FMTTYPE=image/jpeg:https://golatindance.com/wp-content/uploads/2025/08/530410349_24226188167009217_2950933661769044657_n.jpg
GEO:26.2478823;-80.1880568
X-APPLE-STRUCTURED-LOCATION;VALUE=URI;X-ADDRESS=Goldcoast Ballroom 1415 Lyons Rd Coconut Creek FL 33063-3929 United States;X-APPLE-RADIUS=500;X-TITLE=1415 Lyons Rd:geo:-80.1880568,26.2478823
END:VEVENT
BEGIN:VEVENT
DTSTART;TZID=America/New_York:20251116T200000
DTEND;TZID=America/New_York:20251117T010000
DTSTAMP:20260421T143119
CREATED:20221108T020721Z
LAST-MODIFIED:20230530T153945Z
UID:10071252-1763323200-1763341200@golatindance.com
SUMMARY:Salsero Sundays at Ball and Chain
DESCRIPTION:Salsero Sundays\n8:00pm – 1:00am \nSets by DJ Charun\nFree Salsa Class at 9:00pm\n21+ with ID
URL:https://golatindance.com/event/salsero-sundays-at-ball-and-chain/2025-11-16/
LOCATION:Ball & Chain\, 1513 SW 8th St\, Miami\, FL\, 33135\, United States
CATEGORIES:Miami
ATTACH;FMTTYPE=image/jpeg:https://golatindance.com/wp-content/uploads/2022/11/BC_SalseroSunday_MAR12.jpg
GEO:25.765889;-80.2197791
X-APPLE-STRUCTURED-LOCATION;VALUE=URI;X-ADDRESS=Ball & Chain 1513 SW 8th St Miami FL 33135 United States;X-APPLE-RADIUS=500;X-TITLE=1513 SW 8th St:geo:-80.2197791,25.765889
END:VEVENT
BEGIN:VEVENT
DTSTART;TZID=America/New_York:20251117T210000
DTEND;TZID=America/New_York:20251118T010000
DTSTAMP:20260421T143119
CREATED:20230131T164515Z
LAST-MODIFIED:20250128T170153Z
UID:10138606-1763413200-1763427600@golatindance.com
SUMMARY:Mambo Mondays at Ball and Chain
DESCRIPTION:9:00pm – 1:00am\nFree Salsa & Bachata Class @9pm\nSet by Guest DJs\n21+ With Proper Identification
URL:https://golatindance.com/event/mambo-mondays-at-ball-and-chain-2-2/2025-11-17/
LOCATION:Ball & Chain\, 1513 SW 8th St\, Miami\, FL\, 33135\, United States
CATEGORIES:Miami
ATTACH;FMTTYPE=image/jpeg:https://golatindance.com/wp-content/uploads/2023/01/https___cdn.evbuc_.com_images_837586569_2289067094063_1_original.jpg
GEO:25.765889;-80.2197791
X-APPLE-STRUCTURED-LOCATION;VALUE=URI;X-ADDRESS=Ball & Chain 1513 SW 8th St Miami FL 33135 United States;X-APPLE-RADIUS=500;X-TITLE=1513 SW 8th St:geo:-80.2197791,25.765889
END:VEVENT
BEGIN:VEVENT
DTSTART;TZID=America/New_York:20251118T210000
DTEND;TZID=America/New_York:20251119T010000
DTSTAMP:20260421T143119
CREATED:20221108T014857Z
LAST-MODIFIED:20250819T141927Z
UID:10070212-1763499600-1763514000@golatindance.com
SUMMARY:BachaTuesdays at Ball and Chain
DESCRIPTION:¡BACHATUESDAYS at Ball & Chain! Join us for a FREE bachata class at 9 pm and enjoy an all-night Bachata DJ party like no other!
URL:https://golatindance.com/event/bachatuesdays-at-ball-and-chain/2025-11-18/
LOCATION:Ball & Chain\, 1513 SW 8th St\, Miami\, FL\, 33135\, United States
CATEGORIES:Miami
ATTACH;FMTTYPE=image/jpeg:https://golatindance.com/wp-content/uploads/2022/11/https___cdn.evbuc_.com_images_1085525853_2289067094063_1_original.jpg
GEO:25.765889;-80.2197791
X-APPLE-STRUCTURED-LOCATION;VALUE=URI;X-ADDRESS=Ball & Chain 1513 SW 8th St Miami FL 33135 United States;X-APPLE-RADIUS=500;X-TITLE=1513 SW 8th St:geo:-80.2197791,25.765889
END:VEVENT
BEGIN:VEVENT
DTSTART;TZID=America/New_York:20251119T200000
DTEND;TZID=America/New_York:20251120T000000
DTSTAMP:20260421T143119
CREATED:20241231T203010Z
LAST-MODIFIED:20241231T203010Z
UID:10324605-1763582400-1763596800@golatindance.com
SUMMARY:Latin Wednesdays at Cosmos
DESCRIPTION:Every Wednesday | 8pm – Midnight | No Cover\nJoin us for a hot night of dancing at Cosmo’s Nightclub and Lounge. \n> 8:30pm Free Salsa and Bachata Class \n> Music by DJ Uri 8pm – Midnight \n> Social Dancing 8pm-midnight \n> 21+ | Free entry \nLocation: \nCosmo’s Nightclub & Lounge \n99 SE 1st Ave\, Boca Raton\, FL 33432
URL:https://golatindance.com/event/latin-wednesdays-at-cosmos/2025-11-19/
LOCATION:Cosmos Nightclub & Lounge\, 99 SE 1st Ave\, Boca Raton\, FL\, 33432\, United States
CATEGORIES:Miami
ATTACH;FMTTYPE=image/jpeg:https://golatindance.com/wp-content/uploads/2024/12/459755240_122190025730069047_5889918072123980683_n.jpg
END:VEVENT
BEGIN:VEVENT
DTSTART;TZID=America/New_York:20251119T200000
DTEND;TZID=America/New_York:20251120T010000
DTSTAMP:20260421T143119
CREATED:20221108T015110Z
LAST-MODIFIED:20250121T154248Z
UID:10070473-1763582400-1763600400@golatindance.com
SUMMARY:Sabor Wednesday at Ball and Chain
DESCRIPTION:8:00PM – 1:00AM \nDJ set. Periodically with live music.\nFree Salsa Class starting at 9:00pm
URL:https://golatindance.com/event/caramelo-wednesday-at-ball-and-chain/2025-11-19/
LOCATION:Ball & Chain\, 1513 SW 8th St\, Miami\, FL\, 33135\, United States
CATEGORIES:Miami
GEO:25.765889;-80.2197791
X-APPLE-STRUCTURED-LOCATION;VALUE=URI;X-ADDRESS=Ball & Chain 1513 SW 8th St Miami FL 33135 United States;X-APPLE-RADIUS=500;X-TITLE=1513 SW 8th St:geo:-80.2197791,25.765889
END:VEVENT
BEGIN:VEVENT
DTSTART;TZID=America/New_York:20251120T200000
DTEND;TZID=America/New_York:20251121T020000
DTSTAMP:20260421T143119
CREATED:20221108T020350Z
LAST-MODIFIED:20230530T153704Z
UID:10070733-1763668800-1763690400@golatindance.com
SUMMARY:Little Havana Thursdays at Ball and Chain
DESCRIPTION:Little Havana Under the Stars\nSet by DJ EL Russo\n8:00pm – 2:00am\nFree Salsa Class by Casino de Primera at 9:00pm \n21+ with ID
URL:https://golatindance.com/event/little-havana-thursdays-at-ball-and-chain/2025-11-20/
LOCATION:Ball & Chain\, 1513 SW 8th St\, Miami\, FL\, 33135\, United States
CATEGORIES:Miami
ATTACH;FMTTYPE=image/jpeg:https://golatindance.com/wp-content/uploads/2022/11/thursdays-ball-chain.jpg
GEO:25.765889;-80.2197791
X-APPLE-STRUCTURED-LOCATION;VALUE=URI;X-ADDRESS=Ball & Chain 1513 SW 8th St Miami FL 33135 United States;X-APPLE-RADIUS=500;X-TITLE=1513 SW 8th St:geo:-80.2197791,25.765889
END:VEVENT
BEGIN:VEVENT
DTSTART;TZID=America/New_York:20251120T210000
DTEND;TZID=America/New_York:20251121T010000
DTSTAMP:20260421T143119
CREATED:20250527T145909Z
LAST-MODIFIED:20250527T150246Z
UID:10364019-1763672400-1763686800@golatindance.com
SUMMARY:Latin Thursdays at The Casino @ Dania Beach
DESCRIPTION:Get ready to spice up your Thursday nights at Latin Thursdays at The Casino @ Dania Beach! Join us every week for an unforgettable Latin dance experience featuring high-energy music by DJ Charun\, a free salsa class at 9PM\, and non-stop dancing until 1AM. Whether you’re a seasoned dancer or just starting out\, this event is perfect for anyone who loves Latin beats\, great vibes\, and a lively crowd. Best of all — no cover charge and a 21+ atmosphere make this the ultimate Thursday night escape in South Florida.
URL:https://golatindance.com/event/latin-thursdays-at-the-casino-dania-beach/2025-11-20/
LOCATION:Casino Dania Beach\, 301 E Dania Beach Blvd\, Dania Beach\, FL\, 33004\, United States
CATEGORIES:Miami
END:VEVENT
BEGIN:VEVENT
DTSTART;TZID=America/New_York:20251120T210000
DTEND;TZID=America/New_York:20251121T010000
DTSTAMP:20260421T143119
CREATED:20251028T150829Z
LAST-MODIFIED:20251230T201454Z
UID:10408043-1763672400-1763686800@golatindance.com
SUMMARY:Salsa Thursday Nights
DESCRIPTION:Join for Salsa Night every Thursday at Copper Blues! Get ready for a night full of Latin rhythms\, great energy\, and non-stop dancing. \nStart the night with a free salsa lesson at 9:15pm\, then hit the dance floor with music by DJ Charun and guests from 9pm to 1am.
URL:https://golatindance.com/event/salsa-thursday-nights/2025-11-20/
LOCATION:Copper Blues Miami\, 3450 NW 83rd Ave #224\, Doral\, FL\, 33122\, United States
CATEGORIES:Miami
ATTACH;FMTTYPE=image/png:https://golatindance.com/wp-content/uploads/2024/12/CBMIA-Salsa-Night-Thursday-.png
END:VEVENT
BEGIN:VEVENT
DTSTART;TZID=America/New_York:20251121T200000
DTEND;TZID=America/New_York:20251122T030000
DTSTAMP:20260421T143119
CREATED:20221108T015617Z
LAST-MODIFIED:20230530T154539Z
UID:10071771-1763755200-1763780400@golatindance.com
SUMMARY:Miami Boheme Fridays at Ball and Chain
DESCRIPTION:Miami Boheme\nLive Music @ 10pm\n8:00pm – 3:00am \nSet by DJ Ozz\n21+ with ID
URL:https://golatindance.com/event/miami-boheme-fridays-at-ball-and-chain/2025-11-21/
LOCATION:Ball & Chain\, 1513 SW 8th St\, Miami\, FL\, 33135\, United States
CATEGORIES:Miami
ATTACH;FMTTYPE=image/jpeg:https://golatindance.com/wp-content/uploads/2022/11/boheme-thursdays.jpg
GEO:25.765889;-80.2197791
X-APPLE-STRUCTURED-LOCATION;VALUE=URI;X-ADDRESS=Ball & Chain 1513 SW 8th St Miami FL 33135 United States;X-APPLE-RADIUS=500;X-TITLE=1513 SW 8th St:geo:-80.2197791,25.765889
END:VEVENT
BEGIN:VEVENT
DTSTART;TZID=America/New_York:20251121T210000
DTEND;TZID=America/New_York:20251122T020000
DTSTAMP:20260421T143119
CREATED:20221115T171926Z
LAST-MODIFIED:20240416T145152Z
UID:10072031-1763758800-1763776800@golatindance.com
SUMMARY:THE MIAMI BACHATA SOCIAL
DESCRIPTION:See you all this Friday for the best and biggest bachata social in Miami. We can’t wait to see y’all at the dance floor and thanks again for making us a Miami staple for all our local dancers and non local dancers.\nWe are so happy to see people coming from different cities and countries visiting us every week.\nPrice :$15 (in advance)\n$20 (at the door)\n9pm-10:30 Bachata and/or Salsa Classes ( Included with the cover )\nVisit https://www.eventbrite.com/o/the-miami-bachata-overdose-social-41065630183 for the latest class details.\n10:30 pm social starts.\nBring your own refreshments!!\nVK DANCE ARENA\n3129 W Hallandale Beach Blvd\, Hallandale Beach\, FL 33009\nFREE PARKING
URL:https://golatindance.com/event/the-miami-bachata-social/2025-11-21/
LOCATION:VK Dance ARENA\, 3129 West Hallandale Beach Boulevard\, Hallandale Beach\, FL 33009\, Hallandale Beach\, FL\, 33009\, United States
CATEGORIES:Miami
ATTACH;FMTTYPE=image/png:https://golatindance.com/wp-content/uploads/2022/11/MAXI-SOLIS-Instagram-Post-9.png
END:VEVENT
BEGIN:VEVENT
DTSTART;TZID=America/New_York:20251121T210000
DTEND;TZID=America/New_York:20251122T020000
DTSTAMP:20260421T143119
CREATED:20251118T155824Z
LAST-MODIFIED:20251118T160243Z
UID:10415770-1763758800-1763776800@golatindance.com
SUMMARY:Royal y Ritmo-Latin Night at the Easton
DESCRIPTION:Join us this Friday for a great Latin Social @ The Easton — live music\, pool\, bar\, music\, vendors & a free dance class! 💃🪩 \n📅 3rd Friday | ⏰ 9PM–2AM | 📍721 N Federal Hwy\, Fort Lauderdale \n🎟️ RSVP $10 | Door $20 | Free Salsa Class @ 9:30PM
URL:https://golatindance.com/event/royal-y-ritmo-latin-night-at-the-easton-wicked-for-good/2025-11-21/
LOCATION:The Easton\, 721 N Federal Hwy\, Fort Lauderdale\, FL\, 33304\, United States
CATEGORIES:Miami
ATTACH;FMTTYPE=image/jpeg:https://golatindance.com/wp-content/uploads/2025/11/583306633_122105179221107682_8914060450790168650_n.jpg
END:VEVENT
BEGIN:VEVENT
DTSTART;TZID=America/New_York:20251122T200000
DTEND;TZID=America/New_York:20251123T030000
DTSTAMP:20260421T143119
CREATED:20221108T015958Z
LAST-MODIFIED:20230530T153847Z
UID:10070993-1763841600-1763866800@golatindance.com
SUMMARY:La Pachanga at Ball and Chain
DESCRIPTION:La Pachanga\nLive Music at 10pm \n21+ with ID
URL:https://golatindance.com/event/la-pachanga-at-ball-and-chain/2025-11-22/
LOCATION:Ball & Chain\, 1513 SW 8th St\, Miami\, FL\, 33135\, United States
CATEGORIES:Miami
ATTACH;FMTTYPE=image/jpeg:https://golatindance.com/wp-content/uploads/2022/11/pachange-ball-chain.jpg
GEO:25.765889;-80.2197791
X-APPLE-STRUCTURED-LOCATION;VALUE=URI;X-ADDRESS=Ball & Chain 1513 SW 8th St Miami FL 33135 United States;X-APPLE-RADIUS=500;X-TITLE=1513 SW 8th St:geo:-80.2197791,25.765889
END:VEVENT
BEGIN:VEVENT
DTSTART;TZID=America/New_York:20251123T170000
DTEND;TZID=America/New_York:20251123T230000
DTSTAMP:20260421T143119
CREATED:20250812T143352Z
LAST-MODIFIED:20250812T143352Z
UID:10385419-1763917200-1763938800@golatindance.com
SUMMARY:Latin Sundays at Gold Coast Ballroom
DESCRIPTION:Every Sunday – MATINEE DANCE (1-4:00 PM!) – SALSA GROUP CLASSES (4-5 PM – Included with Sunday Admission!) – LATIN NIGHT DANCE PARTY (5 PM – 11:00 PM) – $20 Whole Sunday (1 PM – 11 PM)!!
URL:https://golatindance.com/event/latin-sundays-at-gold-coast-ballroom/2025-11-23/
LOCATION:Goldcoast Ballroom\, 1415 Lyons Rd\, Coconut Creek\, FL\, 33063-3929\, United States
CATEGORIES:Miami
ATTACH;FMTTYPE=image/jpeg:https://golatindance.com/wp-content/uploads/2025/08/530410349_24226188167009217_2950933661769044657_n.jpg
GEO:26.2478823;-80.1880568
X-APPLE-STRUCTURED-LOCATION;VALUE=URI;X-ADDRESS=Goldcoast Ballroom 1415 Lyons Rd Coconut Creek FL 33063-3929 United States;X-APPLE-RADIUS=500;X-TITLE=1415 Lyons Rd:geo:-80.1880568,26.2478823
END:VEVENT
BEGIN:VEVENT
DTSTART;TZID=America/New_York:20251123T200000
DTEND;TZID=America/New_York:20251124T010000
DTSTAMP:20260421T143119
CREATED:20221108T020721Z
LAST-MODIFIED:20230530T153945Z
UID:10071253-1763928000-1763946000@golatindance.com
SUMMARY:Salsero Sundays at Ball and Chain
DESCRIPTION:Salsero Sundays\n8:00pm – 1:00am \nSets by DJ Charun\nFree Salsa Class at 9:00pm\n21+ with ID
URL:https://golatindance.com/event/salsero-sundays-at-ball-and-chain/2025-11-23/
LOCATION:Ball & Chain\, 1513 SW 8th St\, Miami\, FL\, 33135\, United States
CATEGORIES:Miami
ATTACH;FMTTYPE=image/jpeg:https://golatindance.com/wp-content/uploads/2022/11/BC_SalseroSunday_MAR12.jpg
GEO:25.765889;-80.2197791
X-APPLE-STRUCTURED-LOCATION;VALUE=URI;X-ADDRESS=Ball & Chain 1513 SW 8th St Miami FL 33135 United States;X-APPLE-RADIUS=500;X-TITLE=1513 SW 8th St:geo:-80.2197791,25.765889
END:VEVENT
BEGIN:VEVENT
DTSTART;TZID=America/New_York:20251124T210000
DTEND;TZID=America/New_York:20251125T010000
DTSTAMP:20260421T143119
CREATED:20230131T164515Z
LAST-MODIFIED:20250128T170153Z
UID:10138607-1764018000-1764032400@golatindance.com
SUMMARY:Mambo Mondays at Ball and Chain
DESCRIPTION:9:00pm – 1:00am\nFree Salsa & Bachata Class @9pm\nSet by Guest DJs\n21+ With Proper Identification
URL:https://golatindance.com/event/mambo-mondays-at-ball-and-chain-2-2/2025-11-24/
LOCATION:Ball & Chain\, 1513 SW 8th St\, Miami\, FL\, 33135\, United States
CATEGORIES:Miami
ATTACH;FMTTYPE=image/jpeg:https://golatindance.com/wp-content/uploads/2023/01/https___cdn.evbuc_.com_images_837586569_2289067094063_1_original.jpg
GEO:25.765889;-80.2197791
X-APPLE-STRUCTURED-LOCATION;VALUE=URI;X-ADDRESS=Ball & Chain 1513 SW 8th St Miami FL 33135 United States;X-APPLE-RADIUS=500;X-TITLE=1513 SW 8th St:geo:-80.2197791,25.765889
END:VEVENT
BEGIN:VEVENT
DTSTART;TZID=America/New_York:20251125T210000
DTEND;TZID=America/New_York:20251126T010000
DTSTAMP:20260421T143119
CREATED:20221108T014857Z
LAST-MODIFIED:20250819T141927Z
UID:10070213-1764104400-1764118800@golatindance.com
SUMMARY:BachaTuesdays at Ball and Chain
DESCRIPTION:¡BACHATUESDAYS at Ball & Chain! Join us for a FREE bachata class at 9 pm and enjoy an all-night Bachata DJ party like no other!
URL:https://golatindance.com/event/bachatuesdays-at-ball-and-chain/2025-11-25/
LOCATION:Ball & Chain\, 1513 SW 8th St\, Miami\, FL\, 33135\, United States
CATEGORIES:Miami
ATTACH;FMTTYPE=image/jpeg:https://golatindance.com/wp-content/uploads/2022/11/https___cdn.evbuc_.com_images_1085525853_2289067094063_1_original.jpg
GEO:25.765889;-80.2197791
X-APPLE-STRUCTURED-LOCATION;VALUE=URI;X-ADDRESS=Ball & Chain 1513 SW 8th St Miami FL 33135 United States;X-APPLE-RADIUS=500;X-TITLE=1513 SW 8th St:geo:-80.2197791,25.765889
END:VEVENT
BEGIN:VEVENT
DTSTART;TZID=America/New_York:20251126T200000
DTEND;TZID=America/New_York:20251127T000000
DTSTAMP:20260421T143119
CREATED:20241231T203010Z
LAST-MODIFIED:20241231T203010Z
UID:10324606-1764187200-1764201600@golatindance.com
SUMMARY:Latin Wednesdays at Cosmos
DESCRIPTION:Every Wednesday | 8pm – Midnight | No Cover\nJoin us for a hot night of dancing at Cosmo’s Nightclub and Lounge. \n> 8:30pm Free Salsa and Bachata Class \n> Music by DJ Uri 8pm – Midnight \n> Social Dancing 8pm-midnight \n> 21+ | Free entry \nLocation: \nCosmo’s Nightclub & Lounge \n99 SE 1st Ave\, Boca Raton\, FL 33432
URL:https://golatindance.com/event/latin-wednesdays-at-cosmos/2025-11-26/
LOCATION:Cosmos Nightclub & Lounge\, 99 SE 1st Ave\, Boca Raton\, FL\, 33432\, United States
CATEGORIES:Miami
ATTACH;FMTTYPE=image/jpeg:https://golatindance.com/wp-content/uploads/2024/12/459755240_122190025730069047_5889918072123980683_n.jpg
END:VEVENT
BEGIN:VEVENT
DTSTART;TZID=America/New_York:20251126T200000
DTEND;TZID=America/New_York:20251127T010000
DTSTAMP:20260421T143119
CREATED:20221108T015110Z
LAST-MODIFIED:20250121T154248Z
UID:10070474-1764187200-1764205200@golatindance.com
SUMMARY:Sabor Wednesday at Ball and Chain
DESCRIPTION:8:00PM – 1:00AM \nDJ set. Periodically with live music.\nFree Salsa Class starting at 9:00pm
URL:https://golatindance.com/event/caramelo-wednesday-at-ball-and-chain/2025-11-26/
LOCATION:Ball & Chain\, 1513 SW 8th St\, Miami\, FL\, 33135\, United States
CATEGORIES:Miami
GEO:25.765889;-80.2197791
X-APPLE-STRUCTURED-LOCATION;VALUE=URI;X-ADDRESS=Ball & Chain 1513 SW 8th St Miami FL 33135 United States;X-APPLE-RADIUS=500;X-TITLE=1513 SW 8th St:geo:-80.2197791,25.765889
END:VEVENT
BEGIN:VEVENT
DTSTART;TZID=America/New_York:20251127T200000
DTEND;TZID=America/New_York:20251128T020000
DTSTAMP:20260421T143119
CREATED:20221108T020350Z
LAST-MODIFIED:20230530T153704Z
UID:10070734-1764273600-1764295200@golatindance.com
SUMMARY:Little Havana Thursdays at Ball and Chain
DESCRIPTION:Little Havana Under the Stars\nSet by DJ EL Russo\n8:00pm – 2:00am\nFree Salsa Class by Casino de Primera at 9:00pm \n21+ with ID
URL:https://golatindance.com/event/little-havana-thursdays-at-ball-and-chain/2025-11-27/
LOCATION:Ball & Chain\, 1513 SW 8th St\, Miami\, FL\, 33135\, United States
CATEGORIES:Miami
ATTACH;FMTTYPE=image/jpeg:https://golatindance.com/wp-content/uploads/2022/11/thursdays-ball-chain.jpg
GEO:25.765889;-80.2197791
X-APPLE-STRUCTURED-LOCATION;VALUE=URI;X-ADDRESS=Ball & Chain 1513 SW 8th St Miami FL 33135 United States;X-APPLE-RADIUS=500;X-TITLE=1513 SW 8th St:geo:-80.2197791,25.765889
END:VEVENT
BEGIN:VEVENT
DTSTART;TZID=America/New_York:20251127T210000
DTEND;TZID=America/New_York:20251128T010000
DTSTAMP:20260421T143119
CREATED:20250527T145909Z
LAST-MODIFIED:20250527T150246Z
UID:10364020-1764277200-1764291600@golatindance.com
SUMMARY:Latin Thursdays at The Casino @ Dania Beach
DESCRIPTION:Get ready to spice up your Thursday nights at Latin Thursdays at The Casino @ Dania Beach! Join us every week for an unforgettable Latin dance experience featuring high-energy music by DJ Charun\, a free salsa class at 9PM\, and non-stop dancing until 1AM. Whether you’re a seasoned dancer or just starting out\, this event is perfect for anyone who loves Latin beats\, great vibes\, and a lively crowd. Best of all — no cover charge and a 21+ atmosphere make this the ultimate Thursday night escape in South Florida.
URL:https://golatindance.com/event/latin-thursdays-at-the-casino-dania-beach/2025-11-27/
LOCATION:Casino Dania Beach\, 301 E Dania Beach Blvd\, Dania Beach\, FL\, 33004\, United States
CATEGORIES:Miami
END:VEVENT
BEGIN:VEVENT
DTSTART;TZID=America/New_York:20251127T210000
DTEND;TZID=America/New_York:20251128T010000
DTSTAMP:20260421T143119
CREATED:20251028T150829Z
LAST-MODIFIED:20251230T201454Z
UID:10408044-1764277200-1764291600@golatindance.com
SUMMARY:Salsa Thursday Nights
DESCRIPTION:Join for Salsa Night every Thursday at Copper Blues! Get ready for a night full of Latin rhythms\, great energy\, and non-stop dancing. \nStart the night with a free salsa lesson at 9:15pm\, then hit the dance floor with music by DJ Charun and guests from 9pm to 1am.
URL:https://golatindance.com/event/salsa-thursday-nights/2025-11-27/
LOCATION:Copper Blues Miami\, 3450 NW 83rd Ave #224\, Doral\, FL\, 33122\, United States
CATEGORIES:Miami
ATTACH;FMTTYPE=image/png:https://golatindance.com/wp-content/uploads/2024/12/CBMIA-Salsa-Night-Thursday-.png
END:VEVENT
BEGIN:VEVENT
DTSTART;TZID=America/New_York:20251128T200000
DTEND;TZID=America/New_York:20251129T030000
DTSTAMP:20260421T143119
CREATED:20221108T015617Z
LAST-MODIFIED:20230530T154539Z
UID:10071772-1764360000-1764385200@golatindance.com
SUMMARY:Miami Boheme Fridays at Ball and Chain
DESCRIPTION:Miami Boheme\nLive Music @ 10pm\n8:00pm – 3:00am \nSet by DJ Ozz\n21+ with ID
URL:https://golatindance.com/event/miami-boheme-fridays-at-ball-and-chain/2025-11-28/
LOCATION:Ball & Chain\, 1513 SW 8th St\, Miami\, FL\, 33135\, United States
CATEGORIES:Miami
ATTACH;FMTTYPE=image/jpeg:https://golatindance.com/wp-content/uploads/2022/11/boheme-thursdays.jpg
GEO:25.765889;-80.2197791
X-APPLE-STRUCTURED-LOCATION;VALUE=URI;X-ADDRESS=Ball & Chain 1513 SW 8th St Miami FL 33135 United States;X-APPLE-RADIUS=500;X-TITLE=1513 SW 8th St:geo:-80.2197791,25.765889
END:VEVENT
BEGIN:VEVENT
DTSTART;TZID=America/New_York:20251128T210000
DTEND;TZID=America/New_York:20251129T020000
DTSTAMP:20260421T143119
CREATED:20221115T171926Z
LAST-MODIFIED:20240416T145152Z
UID:10072032-1764363600-1764381600@golatindance.com
SUMMARY:THE MIAMI BACHATA SOCIAL
DESCRIPTION:See you all this Friday for the best and biggest bachata social in Miami. We can’t wait to see y’all at the dance floor and thanks again for making us a Miami staple for all our local dancers and non local dancers.\nWe are so happy to see people coming from different cities and countries visiting us every week.\nPrice :$15 (in advance)\n$20 (at the door)\n9pm-10:30 Bachata and/or Salsa Classes ( Included with the cover )\nVisit https://www.eventbrite.com/o/the-miami-bachata-overdose-social-41065630183 for the latest class details.\n10:30 pm social starts.\nBring your own refreshments!!\nVK DANCE ARENA\n3129 W Hallandale Beach Blvd\, Hallandale Beach\, FL 33009\nFREE PARKING
URL:https://golatindance.com/event/the-miami-bachata-social/2025-11-28/
LOCATION:VK Dance ARENA\, 3129 West Hallandale Beach Boulevard\, Hallandale Beach\, FL 33009\, Hallandale Beach\, FL\, 33009\, United States
CATEGORIES:Miami
ATTACH;FMTTYPE=image/png:https://golatindance.com/wp-content/uploads/2022/11/MAXI-SOLIS-Instagram-Post-9.png
END:VEVENT
BEGIN:VEVENT
DTSTART;TZID=America/New_York:20251129T200000
DTEND;TZID=America/New_York:20251130T030000
DTSTAMP:20260421T143119
CREATED:20221108T015958Z
LAST-MODIFIED:20230530T153847Z
UID:10070994-1764446400-1764471600@golatindance.com
SUMMARY:La Pachanga at Ball and Chain
DESCRIPTION:La Pachanga\nLive Music at 10pm \n21+ with ID
URL:https://golatindance.com/event/la-pachanga-at-ball-and-chain/2025-11-29/
LOCATION:Ball & Chain\, 1513 SW 8th St\, Miami\, FL\, 33135\, United States
CATEGORIES:Miami
ATTACH;FMTTYPE=image/jpeg:https://golatindance.com/wp-content/uploads/2022/11/pachange-ball-chain.jpg
GEO:25.765889;-80.2197791
X-APPLE-STRUCTURED-LOCATION;VALUE=URI;X-ADDRESS=Ball & Chain 1513 SW 8th St Miami FL 33135 United States;X-APPLE-RADIUS=500;X-TITLE=1513 SW 8th St:geo:-80.2197791,25.765889
END:VEVENT
BEGIN:VEVENT
DTSTART;TZID=America/New_York:20251130T170000
DTEND;TZID=America/New_York:20251130T230000
DTSTAMP:20260421T143119
CREATED:20250812T143352Z
LAST-MODIFIED:20250812T143352Z
UID:10385420-1764522000-1764543600@golatindance.com
SUMMARY:Latin Sundays at Gold Coast Ballroom
DESCRIPTION:Every Sunday – MATINEE DANCE (1-4:00 PM!) – SALSA GROUP CLASSES (4-5 PM – Included with Sunday Admission!) – LATIN NIGHT DANCE PARTY (5 PM – 11:00 PM) – $20 Whole Sunday (1 PM – 11 PM)!!
URL:https://golatindance.com/event/latin-sundays-at-gold-coast-ballroom/2025-11-30/
LOCATION:Goldcoast Ballroom\, 1415 Lyons Rd\, Coconut Creek\, FL\, 33063-3929\, United States
CATEGORIES:Miami
ATTACH;FMTTYPE=image/jpeg:https://golatindance.com/wp-content/uploads/2025/08/530410349_24226188167009217_2950933661769044657_n.jpg
GEO:26.2478823;-80.1880568
X-APPLE-STRUCTURED-LOCATION;VALUE=URI;X-ADDRESS=Goldcoast Ballroom 1415 Lyons Rd Coconut Creek FL 33063-3929 United States;X-APPLE-RADIUS=500;X-TITLE=1415 Lyons Rd:geo:-80.1880568,26.2478823
END:VEVENT
BEGIN:VEVENT
DTSTART;TZID=America/New_York:20251130T200000
DTEND;TZID=America/New_York:20251201T010000
DTSTAMP:20260421T143119
CREATED:20221108T020721Z
LAST-MODIFIED:20230530T153945Z
UID:10071254-1764532800-1764550800@golatindance.com
SUMMARY:Salsero Sundays at Ball and Chain
DESCRIPTION:Salsero Sundays\n8:00pm – 1:00am \nSets by DJ Charun\nFree Salsa Class at 9:00pm\n21+ with ID
URL:https://golatindance.com/event/salsero-sundays-at-ball-and-chain/2025-11-30/
LOCATION:Ball & Chain\, 1513 SW 8th St\, Miami\, FL\, 33135\, United States
CATEGORIES:Miami
ATTACH;FMTTYPE=image/jpeg:https://golatindance.com/wp-content/uploads/2022/11/BC_SalseroSunday_MAR12.jpg
GEO:25.765889;-80.2197791
X-APPLE-STRUCTURED-LOCATION;VALUE=URI;X-ADDRESS=Ball & Chain 1513 SW 8th St Miami FL 33135 United States;X-APPLE-RADIUS=500;X-TITLE=1513 SW 8th St:geo:-80.2197791,25.765889
END:VEVENT
BEGIN:VEVENT
DTSTART;TZID=America/New_York:20251201T210000
DTEND;TZID=America/New_York:20251202T010000
DTSTAMP:20260421T143119
CREATED:20230131T164515Z
LAST-MODIFIED:20250128T170153Z
UID:10138608-1764622800-1764637200@golatindance.com
SUMMARY:Mambo Mondays at Ball and Chain
DESCRIPTION:9:00pm – 1:00am\nFree Salsa & Bachata Class @9pm\nSet by Guest DJs\n21+ With Proper Identification
URL:https://golatindance.com/event/mambo-mondays-at-ball-and-chain-2-2/2025-12-01/
LOCATION:Ball & Chain\, 1513 SW 8th St\, Miami\, FL\, 33135\, United States
CATEGORIES:Miami
ATTACH;FMTTYPE=image/jpeg:https://golatindance.com/wp-content/uploads/2023/01/https___cdn.evbuc_.com_images_837586569_2289067094063_1_original.jpg
GEO:25.765889;-80.2197791
X-APPLE-STRUCTURED-LOCATION;VALUE=URI;X-ADDRESS=Ball & Chain 1513 SW 8th St Miami FL 33135 United States;X-APPLE-RADIUS=500;X-TITLE=1513 SW 8th St:geo:-80.2197791,25.765889
END:VEVENT
BEGIN:VEVENT
DTSTART;TZID=America/New_York:20251202T210000
DTEND;TZID=America/New_York:20251203T010000
DTSTAMP:20260421T143119
CREATED:20221108T014857Z
LAST-MODIFIED:20250819T141927Z
UID:10070214-1764709200-1764723600@golatindance.com
SUMMARY:BachaTuesdays at Ball and Chain
DESCRIPTION:¡BACHATUESDAYS at Ball & Chain! Join us for a FREE bachata class at 9 pm and enjoy an all-night Bachata DJ party like no other!
URL:https://golatindance.com/event/bachatuesdays-at-ball-and-chain/2025-12-02/
LOCATION:Ball & Chain\, 1513 SW 8th St\, Miami\, FL\, 33135\, United States
CATEGORIES:Miami
ATTACH;FMTTYPE=image/jpeg:https://golatindance.com/wp-content/uploads/2022/11/https___cdn.evbuc_.com_images_1085525853_2289067094063_1_original.jpg
GEO:25.765889;-80.2197791
X-APPLE-STRUCTURED-LOCATION;VALUE=URI;X-ADDRESS=Ball & Chain 1513 SW 8th St Miami FL 33135 United States;X-APPLE-RADIUS=500;X-TITLE=1513 SW 8th St:geo:-80.2197791,25.765889
END:VEVENT
END:VCALENDAR