BEGIN:VCALENDAR
VERSION:2.0
PRODID:-//GO Latin Dance - ECPv6.15.18//NONSGML v1.0//EN
CALSCALE:GREGORIAN
METHOD:PUBLISH
X-WR-CALNAME:GO Latin Dance
X-ORIGINAL-URL:https://golatindance.com
X-WR-CALDESC:Events for GO Latin Dance
REFRESH-INTERVAL;VALUE=DURATION:PT1H
X-Robots-Tag:noindex
X-PUBLISHED-TTL:PT1H
BEGIN:VTIMEZONE
TZID:America/New_York
BEGIN:DAYLIGHT
TZOFFSETFROM:-0500
TZOFFSETTO:-0400
TZNAME:EDT
DTSTART:20240310T070000
END:DAYLIGHT
BEGIN:STANDARD
TZOFFSETFROM:-0400
TZOFFSETTO:-0500
TZNAME:EST
DTSTART:20241103T060000
END:STANDARD
BEGIN:DAYLIGHT
TZOFFSETFROM:-0500
TZOFFSETTO:-0400
TZNAME:EDT
DTSTART:20250309T070000
END:DAYLIGHT
BEGIN:STANDARD
TZOFFSETFROM:-0400
TZOFFSETTO:-0500
TZNAME:EST
DTSTART:20251102T060000
END:STANDARD
BEGIN:DAYLIGHT
TZOFFSETFROM:-0500
TZOFFSETTO:-0400
TZNAME:EDT
DTSTART:20260308T070000
END:DAYLIGHT
BEGIN:STANDARD
TZOFFSETFROM:-0400
TZOFFSETTO:-0500
TZNAME:EST
DTSTART:20261101T060000
END:STANDARD
END:VTIMEZONE
BEGIN:VEVENT
DTSTART;TZID=America/New_York:20251021T210000
DTEND;TZID=America/New_York:20251022T010000
DTSTAMP:20260421T063302
CREATED:20221108T014857Z
LAST-MODIFIED:20250819T141927Z
UID:10070208-1761080400-1761094800@golatindance.com
SUMMARY:BachaTuesdays at Ball and Chain
DESCRIPTION:¡BACHATUESDAYS at Ball & Chain! Join us for a FREE bachata class at 9 pm and enjoy an all-night Bachata DJ party like no other!
URL:https://golatindance.com/event/bachatuesdays-at-ball-and-chain/2025-10-21/
LOCATION:Ball & Chain\, 1513 SW 8th St\, Miami\, FL\, 33135\, United States
CATEGORIES:Miami
ATTACH;FMTTYPE=image/jpeg:https://golatindance.com/wp-content/uploads/2022/11/https___cdn.evbuc_.com_images_1085525853_2289067094063_1_original.jpg
GEO:25.765889;-80.2197791
X-APPLE-STRUCTURED-LOCATION;VALUE=URI;X-ADDRESS=Ball & Chain 1513 SW 8th St Miami FL 33135 United States;X-APPLE-RADIUS=500;X-TITLE=1513 SW 8th St:geo:-80.2197791,25.765889
END:VEVENT
BEGIN:VEVENT
DTSTART;TZID=America/New_York:20251022T200000
DTEND;TZID=America/New_York:20251023T000000
DTSTAMP:20260421T063302
CREATED:20241231T203010Z
LAST-MODIFIED:20241231T203010Z
UID:10324601-1761163200-1761177600@golatindance.com
SUMMARY:Latin Wednesdays at Cosmos
DESCRIPTION:Every Wednesday | 8pm – Midnight | No Cover\nJoin us for a hot night of dancing at Cosmo’s Nightclub and Lounge. \n> 8:30pm Free Salsa and Bachata Class \n> Music by DJ Uri 8pm – Midnight \n> Social Dancing 8pm-midnight \n> 21+ | Free entry \nLocation: \nCosmo’s Nightclub & Lounge \n99 SE 1st Ave\, Boca Raton\, FL 33432
URL:https://golatindance.com/event/latin-wednesdays-at-cosmos/2025-10-22/
LOCATION:Cosmos Nightclub & Lounge\, 99 SE 1st Ave\, Boca Raton\, FL\, 33432\, United States
CATEGORIES:Miami
ATTACH;FMTTYPE=image/jpeg:https://golatindance.com/wp-content/uploads/2024/12/459755240_122190025730069047_5889918072123980683_n.jpg
END:VEVENT
BEGIN:VEVENT
DTSTART;TZID=America/New_York:20251022T200000
DTEND;TZID=America/New_York:20251023T010000
DTSTAMP:20260421T063302
CREATED:20221108T015110Z
LAST-MODIFIED:20250121T154248Z
UID:10070469-1761163200-1761181200@golatindance.com
SUMMARY:Sabor Wednesday at Ball and Chain
DESCRIPTION:8:00PM – 1:00AM \nDJ set. Periodically with live music.\nFree Salsa Class starting at 9:00pm
URL:https://golatindance.com/event/caramelo-wednesday-at-ball-and-chain/2025-10-22/
LOCATION:Ball & Chain\, 1513 SW 8th St\, Miami\, FL\, 33135\, United States
CATEGORIES:Miami
GEO:25.765889;-80.2197791
X-APPLE-STRUCTURED-LOCATION;VALUE=URI;X-ADDRESS=Ball & Chain 1513 SW 8th St Miami FL 33135 United States;X-APPLE-RADIUS=500;X-TITLE=1513 SW 8th St:geo:-80.2197791,25.765889
END:VEVENT
BEGIN:VEVENT
DTSTART;TZID=America/New_York:20251023T200000
DTEND;TZID=America/New_York:20251024T020000
DTSTAMP:20260421T063302
CREATED:20221108T020350Z
LAST-MODIFIED:20230530T153704Z
UID:10070729-1761249600-1761271200@golatindance.com
SUMMARY:Little Havana Thursdays at Ball and Chain
DESCRIPTION:Little Havana Under the Stars\nSet by DJ EL Russo\n8:00pm – 2:00am\nFree Salsa Class by Casino de Primera at 9:00pm \n21+ with ID
URL:https://golatindance.com/event/little-havana-thursdays-at-ball-and-chain/2025-10-23/
LOCATION:Ball & Chain\, 1513 SW 8th St\, Miami\, FL\, 33135\, United States
CATEGORIES:Miami
ATTACH;FMTTYPE=image/jpeg:https://golatindance.com/wp-content/uploads/2022/11/thursdays-ball-chain.jpg
GEO:25.765889;-80.2197791
X-APPLE-STRUCTURED-LOCATION;VALUE=URI;X-ADDRESS=Ball & Chain 1513 SW 8th St Miami FL 33135 United States;X-APPLE-RADIUS=500;X-TITLE=1513 SW 8th St:geo:-80.2197791,25.765889
END:VEVENT
BEGIN:VEVENT
DTSTART;TZID=America/New_York:20251023T210000
DTEND;TZID=America/New_York:20251024T010000
DTSTAMP:20260421T063302
CREATED:20250527T145909Z
LAST-MODIFIED:20250527T150246Z
UID:10364015-1761253200-1761267600@golatindance.com
SUMMARY:Latin Thursdays at The Casino @ Dania Beach
DESCRIPTION:Get ready to spice up your Thursday nights at Latin Thursdays at The Casino @ Dania Beach! Join us every week for an unforgettable Latin dance experience featuring high-energy music by DJ Charun\, a free salsa class at 9PM\, and non-stop dancing until 1AM. Whether you’re a seasoned dancer or just starting out\, this event is perfect for anyone who loves Latin beats\, great vibes\, and a lively crowd. Best of all — no cover charge and a 21+ atmosphere make this the ultimate Thursday night escape in South Florida.
URL:https://golatindance.com/event/latin-thursdays-at-the-casino-dania-beach/2025-10-23/
LOCATION:Casino Dania Beach\, 301 E Dania Beach Blvd\, Dania Beach\, FL\, 33004\, United States
CATEGORIES:Miami
END:VEVENT
BEGIN:VEVENT
DTSTART;TZID=America/New_York:20251024T200000
DTEND;TZID=America/New_York:20251025T030000
DTSTAMP:20260421T063302
CREATED:20221108T015617Z
LAST-MODIFIED:20230530T154539Z
UID:10071767-1761336000-1761361200@golatindance.com
SUMMARY:Miami Boheme Fridays at Ball and Chain
DESCRIPTION:Miami Boheme\nLive Music @ 10pm\n8:00pm – 3:00am \nSet by DJ Ozz\n21+ with ID
URL:https://golatindance.com/event/miami-boheme-fridays-at-ball-and-chain/2025-10-24/
LOCATION:Ball & Chain\, 1513 SW 8th St\, Miami\, FL\, 33135\, United States
CATEGORIES:Miami
ATTACH;FMTTYPE=image/jpeg:https://golatindance.com/wp-content/uploads/2022/11/boheme-thursdays.jpg
GEO:25.765889;-80.2197791
X-APPLE-STRUCTURED-LOCATION;VALUE=URI;X-ADDRESS=Ball & Chain 1513 SW 8th St Miami FL 33135 United States;X-APPLE-RADIUS=500;X-TITLE=1513 SW 8th St:geo:-80.2197791,25.765889
END:VEVENT
BEGIN:VEVENT
DTSTART;TZID=America/New_York:20251024T210000
DTEND;TZID=America/New_York:20251025T020000
DTSTAMP:20260421T063302
CREATED:20221115T171926Z
LAST-MODIFIED:20240416T145152Z
UID:10072027-1761339600-1761357600@golatindance.com
SUMMARY:THE MIAMI BACHATA SOCIAL
DESCRIPTION:See you all this Friday for the best and biggest bachata social in Miami. We can’t wait to see y’all at the dance floor and thanks again for making us a Miami staple for all our local dancers and non local dancers.\nWe are so happy to see people coming from different cities and countries visiting us every week.\nPrice :$15 (in advance)\n$20 (at the door)\n9pm-10:30 Bachata and/or Salsa Classes ( Included with the cover )\nVisit https://www.eventbrite.com/o/the-miami-bachata-overdose-social-41065630183 for the latest class details.\n10:30 pm social starts.\nBring your own refreshments!!\nVK DANCE ARENA\n3129 W Hallandale Beach Blvd\, Hallandale Beach\, FL 33009\nFREE PARKING
URL:https://golatindance.com/event/the-miami-bachata-social/2025-10-24/
LOCATION:VK Dance ARENA\, 3129 West Hallandale Beach Boulevard\, Hallandale Beach\, FL 33009\, Hallandale Beach\, FL\, 33009\, United States
CATEGORIES:Miami
ATTACH;FMTTYPE=image/png:https://golatindance.com/wp-content/uploads/2022/11/MAXI-SOLIS-Instagram-Post-9.png
END:VEVENT
BEGIN:VEVENT
DTSTART;TZID=America/New_York:20251025T200000
DTEND;TZID=America/New_York:20251026T030000
DTSTAMP:20260421T063302
CREATED:20221108T015958Z
LAST-MODIFIED:20230530T153847Z
UID:10070989-1761422400-1761447600@golatindance.com
SUMMARY:La Pachanga at Ball and Chain
DESCRIPTION:La Pachanga\nLive Music at 10pm \n21+ with ID
URL:https://golatindance.com/event/la-pachanga-at-ball-and-chain/2025-10-25/
LOCATION:Ball & Chain\, 1513 SW 8th St\, Miami\, FL\, 33135\, United States
CATEGORIES:Miami
ATTACH;FMTTYPE=image/jpeg:https://golatindance.com/wp-content/uploads/2022/11/pachange-ball-chain.jpg
GEO:25.765889;-80.2197791
X-APPLE-STRUCTURED-LOCATION;VALUE=URI;X-ADDRESS=Ball & Chain 1513 SW 8th St Miami FL 33135 United States;X-APPLE-RADIUS=500;X-TITLE=1513 SW 8th St:geo:-80.2197791,25.765889
END:VEVENT
BEGIN:VEVENT
DTSTART;TZID=America/New_York:20251026T170000
DTEND;TZID=America/New_York:20251026T230000
DTSTAMP:20260421T063302
CREATED:20250812T143352Z
LAST-MODIFIED:20250812T143352Z
UID:10385415-1761498000-1761519600@golatindance.com
SUMMARY:Latin Sundays at Gold Coast Ballroom
DESCRIPTION:Every Sunday – MATINEE DANCE (1-4:00 PM!) – SALSA GROUP CLASSES (4-5 PM – Included with Sunday Admission!) – LATIN NIGHT DANCE PARTY (5 PM – 11:00 PM) – $20 Whole Sunday (1 PM – 11 PM)!!
URL:https://golatindance.com/event/latin-sundays-at-gold-coast-ballroom/2025-10-26/
LOCATION:Goldcoast Ballroom\, 1415 Lyons Rd\, Coconut Creek\, FL\, 33063-3929\, United States
CATEGORIES:Miami
ATTACH;FMTTYPE=image/jpeg:https://golatindance.com/wp-content/uploads/2025/08/530410349_24226188167009217_2950933661769044657_n.jpg
GEO:26.2478823;-80.1880568
X-APPLE-STRUCTURED-LOCATION;VALUE=URI;X-ADDRESS=Goldcoast Ballroom 1415 Lyons Rd Coconut Creek FL 33063-3929 United States;X-APPLE-RADIUS=500;X-TITLE=1415 Lyons Rd:geo:-80.1880568,26.2478823
END:VEVENT
BEGIN:VEVENT
DTSTART;TZID=America/New_York:20251026T200000
DTEND;TZID=America/New_York:20251027T010000
DTSTAMP:20260421T063302
CREATED:20221108T020721Z
LAST-MODIFIED:20230530T153945Z
UID:10071249-1761508800-1761526800@golatindance.com
SUMMARY:Salsero Sundays at Ball and Chain
DESCRIPTION:Salsero Sundays\n8:00pm – 1:00am \nSets by DJ Charun\nFree Salsa Class at 9:00pm\n21+ with ID
URL:https://golatindance.com/event/salsero-sundays-at-ball-and-chain/2025-10-26/
LOCATION:Ball & Chain\, 1513 SW 8th St\, Miami\, FL\, 33135\, United States
CATEGORIES:Miami
ATTACH;FMTTYPE=image/jpeg:https://golatindance.com/wp-content/uploads/2022/11/BC_SalseroSunday_MAR12.jpg
GEO:25.765889;-80.2197791
X-APPLE-STRUCTURED-LOCATION;VALUE=URI;X-ADDRESS=Ball & Chain 1513 SW 8th St Miami FL 33135 United States;X-APPLE-RADIUS=500;X-TITLE=1513 SW 8th St:geo:-80.2197791,25.765889
END:VEVENT
BEGIN:VEVENT
DTSTART;TZID=America/New_York:20251027T210000
DTEND;TZID=America/New_York:20251028T010000
DTSTAMP:20260421T063302
CREATED:20230131T164515Z
LAST-MODIFIED:20250128T170153Z
UID:10138603-1761598800-1761613200@golatindance.com
SUMMARY:Mambo Mondays at Ball and Chain
DESCRIPTION:9:00pm – 1:00am\nFree Salsa & Bachata Class @9pm\nSet by Guest DJs\n21+ With Proper Identification
URL:https://golatindance.com/event/mambo-mondays-at-ball-and-chain-2-2/2025-10-27/
LOCATION:Ball & Chain\, 1513 SW 8th St\, Miami\, FL\, 33135\, United States
CATEGORIES:Miami
ATTACH;FMTTYPE=image/jpeg:https://golatindance.com/wp-content/uploads/2023/01/https___cdn.evbuc_.com_images_837586569_2289067094063_1_original.jpg
GEO:25.765889;-80.2197791
X-APPLE-STRUCTURED-LOCATION;VALUE=URI;X-ADDRESS=Ball & Chain 1513 SW 8th St Miami FL 33135 United States;X-APPLE-RADIUS=500;X-TITLE=1513 SW 8th St:geo:-80.2197791,25.765889
END:VEVENT
BEGIN:VEVENT
DTSTART;TZID=America/New_York:20251028T210000
DTEND;TZID=America/New_York:20251029T010000
DTSTAMP:20260421T063302
CREATED:20221108T014857Z
LAST-MODIFIED:20250819T141927Z
UID:10070209-1761685200-1761699600@golatindance.com
SUMMARY:BachaTuesdays at Ball and Chain
DESCRIPTION:¡BACHATUESDAYS at Ball & Chain! Join us for a FREE bachata class at 9 pm and enjoy an all-night Bachata DJ party like no other!
URL:https://golatindance.com/event/bachatuesdays-at-ball-and-chain/2025-10-28/
LOCATION:Ball & Chain\, 1513 SW 8th St\, Miami\, FL\, 33135\, United States
CATEGORIES:Miami
ATTACH;FMTTYPE=image/jpeg:https://golatindance.com/wp-content/uploads/2022/11/https___cdn.evbuc_.com_images_1085525853_2289067094063_1_original.jpg
GEO:25.765889;-80.2197791
X-APPLE-STRUCTURED-LOCATION;VALUE=URI;X-ADDRESS=Ball & Chain 1513 SW 8th St Miami FL 33135 United States;X-APPLE-RADIUS=500;X-TITLE=1513 SW 8th St:geo:-80.2197791,25.765889
END:VEVENT
BEGIN:VEVENT
DTSTART;TZID=America/New_York:20251029T200000
DTEND;TZID=America/New_York:20251030T000000
DTSTAMP:20260421T063302
CREATED:20241231T203010Z
LAST-MODIFIED:20241231T203010Z
UID:10324602-1761768000-1761782400@golatindance.com
SUMMARY:Latin Wednesdays at Cosmos
DESCRIPTION:Every Wednesday | 8pm – Midnight | No Cover\nJoin us for a hot night of dancing at Cosmo’s Nightclub and Lounge. \n> 8:30pm Free Salsa and Bachata Class \n> Music by DJ Uri 8pm – Midnight \n> Social Dancing 8pm-midnight \n> 21+ | Free entry \nLocation: \nCosmo’s Nightclub & Lounge \n99 SE 1st Ave\, Boca Raton\, FL 33432
URL:https://golatindance.com/event/latin-wednesdays-at-cosmos/2025-10-29/
LOCATION:Cosmos Nightclub & Lounge\, 99 SE 1st Ave\, Boca Raton\, FL\, 33432\, United States
CATEGORIES:Miami
ATTACH;FMTTYPE=image/jpeg:https://golatindance.com/wp-content/uploads/2024/12/459755240_122190025730069047_5889918072123980683_n.jpg
END:VEVENT
BEGIN:VEVENT
DTSTART;TZID=America/New_York:20251029T200000
DTEND;TZID=America/New_York:20251030T010000
DTSTAMP:20260421T063302
CREATED:20221108T015110Z
LAST-MODIFIED:20250121T154248Z
UID:10070470-1761768000-1761786000@golatindance.com
SUMMARY:Sabor Wednesday at Ball and Chain
DESCRIPTION:8:00PM – 1:00AM \nDJ set. Periodically with live music.\nFree Salsa Class starting at 9:00pm
URL:https://golatindance.com/event/caramelo-wednesday-at-ball-and-chain/2025-10-29/
LOCATION:Ball & Chain\, 1513 SW 8th St\, Miami\, FL\, 33135\, United States
CATEGORIES:Miami
GEO:25.765889;-80.2197791
X-APPLE-STRUCTURED-LOCATION;VALUE=URI;X-ADDRESS=Ball & Chain 1513 SW 8th St Miami FL 33135 United States;X-APPLE-RADIUS=500;X-TITLE=1513 SW 8th St:geo:-80.2197791,25.765889
END:VEVENT
BEGIN:VEVENT
DTSTART;TZID=America/New_York:20251030T200000
DTEND;TZID=America/New_York:20251031T020000
DTSTAMP:20260421T063302
CREATED:20221108T020350Z
LAST-MODIFIED:20230530T153704Z
UID:10070730-1761854400-1761876000@golatindance.com
SUMMARY:Little Havana Thursdays at Ball and Chain
DESCRIPTION:Little Havana Under the Stars\nSet by DJ EL Russo\n8:00pm – 2:00am\nFree Salsa Class by Casino de Primera at 9:00pm \n21+ with ID
URL:https://golatindance.com/event/little-havana-thursdays-at-ball-and-chain/2025-10-30/
LOCATION:Ball & Chain\, 1513 SW 8th St\, Miami\, FL\, 33135\, United States
CATEGORIES:Miami
ATTACH;FMTTYPE=image/jpeg:https://golatindance.com/wp-content/uploads/2022/11/thursdays-ball-chain.jpg
GEO:25.765889;-80.2197791
X-APPLE-STRUCTURED-LOCATION;VALUE=URI;X-ADDRESS=Ball & Chain 1513 SW 8th St Miami FL 33135 United States;X-APPLE-RADIUS=500;X-TITLE=1513 SW 8th St:geo:-80.2197791,25.765889
END:VEVENT
BEGIN:VEVENT
DTSTART;TZID=America/New_York:20251030T210000
DTEND;TZID=America/New_York:20251031T010000
DTSTAMP:20260421T063302
CREATED:20250527T145909Z
LAST-MODIFIED:20250527T150246Z
UID:10364016-1761858000-1761872400@golatindance.com
SUMMARY:Latin Thursdays at The Casino @ Dania Beach
DESCRIPTION:Get ready to spice up your Thursday nights at Latin Thursdays at The Casino @ Dania Beach! Join us every week for an unforgettable Latin dance experience featuring high-energy music by DJ Charun\, a free salsa class at 9PM\, and non-stop dancing until 1AM. Whether you’re a seasoned dancer or just starting out\, this event is perfect for anyone who loves Latin beats\, great vibes\, and a lively crowd. Best of all — no cover charge and a 21+ atmosphere make this the ultimate Thursday night escape in South Florida.
URL:https://golatindance.com/event/latin-thursdays-at-the-casino-dania-beach/2025-10-30/
LOCATION:Casino Dania Beach\, 301 E Dania Beach Blvd\, Dania Beach\, FL\, 33004\, United States
CATEGORIES:Miami
END:VEVENT
BEGIN:VEVENT
DTSTART;TZID=America/New_York:20251030T210000
DTEND;TZID=America/New_York:20251031T010000
DTSTAMP:20260421T063302
CREATED:20251028T150829Z
LAST-MODIFIED:20251230T201454Z
UID:10408040-1761858000-1761872400@golatindance.com
SUMMARY:Salsa Thursday Nights
DESCRIPTION:Join for Salsa Night every Thursday at Copper Blues! Get ready for a night full of Latin rhythms\, great energy\, and non-stop dancing. \nStart the night with a free salsa lesson at 9:15pm\, then hit the dance floor with music by DJ Charun and guests from 9pm to 1am.
URL:https://golatindance.com/event/salsa-thursday-nights/2025-10-30/
LOCATION:Copper Blues Miami\, 3450 NW 83rd Ave #224\, Doral\, FL\, 33122\, United States
CATEGORIES:Miami
ATTACH;FMTTYPE=image/png:https://golatindance.com/wp-content/uploads/2024/12/CBMIA-Salsa-Night-Thursday-.png
END:VEVENT
BEGIN:VEVENT
DTSTART;TZID=America/New_York:20251031T200000
DTEND;TZID=America/New_York:20251101T030000
DTSTAMP:20260421T063302
CREATED:20221108T015617Z
LAST-MODIFIED:20230530T154539Z
UID:10071768-1761940800-1761966000@golatindance.com
SUMMARY:Miami Boheme Fridays at Ball and Chain
DESCRIPTION:Miami Boheme\nLive Music @ 10pm\n8:00pm – 3:00am \nSet by DJ Ozz\n21+ with ID
URL:https://golatindance.com/event/miami-boheme-fridays-at-ball-and-chain/2025-10-31/
LOCATION:Ball & Chain\, 1513 SW 8th St\, Miami\, FL\, 33135\, United States
CATEGORIES:Miami
ATTACH;FMTTYPE=image/jpeg:https://golatindance.com/wp-content/uploads/2022/11/boheme-thursdays.jpg
GEO:25.765889;-80.2197791
X-APPLE-STRUCTURED-LOCATION;VALUE=URI;X-ADDRESS=Ball & Chain 1513 SW 8th St Miami FL 33135 United States;X-APPLE-RADIUS=500;X-TITLE=1513 SW 8th St:geo:-80.2197791,25.765889
END:VEVENT
BEGIN:VEVENT
DTSTART;TZID=America/New_York:20251031T210000
DTEND;TZID=America/New_York:20251101T020000
DTSTAMP:20260421T063302
CREATED:20221115T171926Z
LAST-MODIFIED:20240416T145152Z
UID:10072028-1761944400-1761962400@golatindance.com
SUMMARY:THE MIAMI BACHATA SOCIAL
DESCRIPTION:See you all this Friday for the best and biggest bachata social in Miami. We can’t wait to see y’all at the dance floor and thanks again for making us a Miami staple for all our local dancers and non local dancers.\nWe are so happy to see people coming from different cities and countries visiting us every week.\nPrice :$15 (in advance)\n$20 (at the door)\n9pm-10:30 Bachata and/or Salsa Classes ( Included with the cover )\nVisit https://www.eventbrite.com/o/the-miami-bachata-overdose-social-41065630183 for the latest class details.\n10:30 pm social starts.\nBring your own refreshments!!\nVK DANCE ARENA\n3129 W Hallandale Beach Blvd\, Hallandale Beach\, FL 33009\nFREE PARKING
URL:https://golatindance.com/event/the-miami-bachata-social/2025-10-31/
LOCATION:VK Dance ARENA\, 3129 West Hallandale Beach Boulevard\, Hallandale Beach\, FL 33009\, Hallandale Beach\, FL\, 33009\, United States
CATEGORIES:Miami
ATTACH;FMTTYPE=image/png:https://golatindance.com/wp-content/uploads/2022/11/MAXI-SOLIS-Instagram-Post-9.png
END:VEVENT
BEGIN:VEVENT
DTSTART;TZID=America/New_York:20251101T200000
DTEND;TZID=America/New_York:20251102T020000
DTSTAMP:20260421T063302
CREATED:20221108T015958Z
LAST-MODIFIED:20230530T153847Z
UID:10070990-1762027200-1762048800@golatindance.com
SUMMARY:La Pachanga at Ball and Chain
DESCRIPTION:La Pachanga\nLive Music at 10pm \n21+ with ID
URL:https://golatindance.com/event/la-pachanga-at-ball-and-chain/2025-11-01/
LOCATION:Ball & Chain\, 1513 SW 8th St\, Miami\, FL\, 33135\, United States
CATEGORIES:Miami
ATTACH;FMTTYPE=image/jpeg:https://golatindance.com/wp-content/uploads/2022/11/pachange-ball-chain.jpg
GEO:25.765889;-80.2197791
X-APPLE-STRUCTURED-LOCATION;VALUE=URI;X-ADDRESS=Ball & Chain 1513 SW 8th St Miami FL 33135 United States;X-APPLE-RADIUS=500;X-TITLE=1513 SW 8th St:geo:-80.2197791,25.765889
END:VEVENT
BEGIN:VEVENT
DTSTART;TZID=America/New_York:20251101T210000
DTEND;TZID=America/New_York:20251102T010000
DTSTAMP:20260421T063302
CREATED:20240227T171507Z
LAST-MODIFIED:20240325T144316Z
UID:10229305-1762030800-1762045200@golatindance.com
SUMMARY:Born To Salsa Monthly Social
DESCRIPTION:Love to dance? BTS Social is the place to get your dancing with all the best and friendliest dancers\, a large wooden dance floor\, and the Salsa and Bachata favored by seasoned dancers. \nEach month features a top instructor who will be host a workshop @ 9pm\, which is included in the cover price. \nWorkshop starts at 9pm\nSocial starts at 10pm\nShows at Midnight \nMusic by:\nDJ Franky and DJ JLuis \nBachata Room by:TBD \nCover: $20 – Workshop Included\nLots of Free Parking
URL:https://golatindance.com/event/bts-monthly-social/2025-11-01/
LOCATION:VK Dance ARENA\, 3129 West Hallandale Beach Boulevard\, Hallandale Beach\, FL 33009\, Hallandale Beach\, FL\, 33009\, United States
CATEGORIES:Miami
END:VEVENT
BEGIN:VEVENT
DTSTART;TZID=America/New_York:20251102T170000
DTEND;TZID=America/New_York:20251102T230000
DTSTAMP:20260421T063302
CREATED:20250812T143352Z
LAST-MODIFIED:20250812T143352Z
UID:10385416-1762102800-1762124400@golatindance.com
SUMMARY:Latin Sundays at Gold Coast Ballroom
DESCRIPTION:Every Sunday – MATINEE DANCE (1-4:00 PM!) – SALSA GROUP CLASSES (4-5 PM – Included with Sunday Admission!) – LATIN NIGHT DANCE PARTY (5 PM – 11:00 PM) – $20 Whole Sunday (1 PM – 11 PM)!!
URL:https://golatindance.com/event/latin-sundays-at-gold-coast-ballroom/2025-11-02/
LOCATION:Goldcoast Ballroom\, 1415 Lyons Rd\, Coconut Creek\, FL\, 33063-3929\, United States
CATEGORIES:Miami
ATTACH;FMTTYPE=image/jpeg:https://golatindance.com/wp-content/uploads/2025/08/530410349_24226188167009217_2950933661769044657_n.jpg
GEO:26.2478823;-80.1880568
X-APPLE-STRUCTURED-LOCATION;VALUE=URI;X-ADDRESS=Goldcoast Ballroom 1415 Lyons Rd Coconut Creek FL 33063-3929 United States;X-APPLE-RADIUS=500;X-TITLE=1415 Lyons Rd:geo:-80.1880568,26.2478823
END:VEVENT
BEGIN:VEVENT
DTSTART;TZID=America/New_York:20251102T200000
DTEND;TZID=America/New_York:20251103T010000
DTSTAMP:20260421T063302
CREATED:20221108T020721Z
LAST-MODIFIED:20230530T153945Z
UID:10071250-1762113600-1762131600@golatindance.com
SUMMARY:Salsero Sundays at Ball and Chain
DESCRIPTION:Salsero Sundays\n8:00pm – 1:00am \nSets by DJ Charun\nFree Salsa Class at 9:00pm\n21+ with ID
URL:https://golatindance.com/event/salsero-sundays-at-ball-and-chain/2025-11-02/
LOCATION:Ball & Chain\, 1513 SW 8th St\, Miami\, FL\, 33135\, United States
CATEGORIES:Miami
ATTACH;FMTTYPE=image/jpeg:https://golatindance.com/wp-content/uploads/2022/11/BC_SalseroSunday_MAR12.jpg
GEO:25.765889;-80.2197791
X-APPLE-STRUCTURED-LOCATION;VALUE=URI;X-ADDRESS=Ball & Chain 1513 SW 8th St Miami FL 33135 United States;X-APPLE-RADIUS=500;X-TITLE=1513 SW 8th St:geo:-80.2197791,25.765889
END:VEVENT
BEGIN:VEVENT
DTSTART;TZID=America/New_York:20251103T210000
DTEND;TZID=America/New_York:20251104T010000
DTSTAMP:20260421T063302
CREATED:20230131T164515Z
LAST-MODIFIED:20250128T170153Z
UID:10138604-1762203600-1762218000@golatindance.com
SUMMARY:Mambo Mondays at Ball and Chain
DESCRIPTION:9:00pm – 1:00am\nFree Salsa & Bachata Class @9pm\nSet by Guest DJs\n21+ With Proper Identification
URL:https://golatindance.com/event/mambo-mondays-at-ball-and-chain-2-2/2025-11-03/
LOCATION:Ball & Chain\, 1513 SW 8th St\, Miami\, FL\, 33135\, United States
CATEGORIES:Miami
ATTACH;FMTTYPE=image/jpeg:https://golatindance.com/wp-content/uploads/2023/01/https___cdn.evbuc_.com_images_837586569_2289067094063_1_original.jpg
GEO:25.765889;-80.2197791
X-APPLE-STRUCTURED-LOCATION;VALUE=URI;X-ADDRESS=Ball & Chain 1513 SW 8th St Miami FL 33135 United States;X-APPLE-RADIUS=500;X-TITLE=1513 SW 8th St:geo:-80.2197791,25.765889
END:VEVENT
BEGIN:VEVENT
DTSTART;TZID=America/New_York:20251104T210000
DTEND;TZID=America/New_York:20251105T010000
DTSTAMP:20260421T063302
CREATED:20221108T014857Z
LAST-MODIFIED:20250819T141927Z
UID:10070210-1762290000-1762304400@golatindance.com
SUMMARY:BachaTuesdays at Ball and Chain
DESCRIPTION:¡BACHATUESDAYS at Ball & Chain! Join us for a FREE bachata class at 9 pm and enjoy an all-night Bachata DJ party like no other!
URL:https://golatindance.com/event/bachatuesdays-at-ball-and-chain/2025-11-04/
LOCATION:Ball & Chain\, 1513 SW 8th St\, Miami\, FL\, 33135\, United States
CATEGORIES:Miami
ATTACH;FMTTYPE=image/jpeg:https://golatindance.com/wp-content/uploads/2022/11/https___cdn.evbuc_.com_images_1085525853_2289067094063_1_original.jpg
GEO:25.765889;-80.2197791
X-APPLE-STRUCTURED-LOCATION;VALUE=URI;X-ADDRESS=Ball & Chain 1513 SW 8th St Miami FL 33135 United States;X-APPLE-RADIUS=500;X-TITLE=1513 SW 8th St:geo:-80.2197791,25.765889
END:VEVENT
BEGIN:VEVENT
DTSTART;TZID=America/New_York:20251105T200000
DTEND;TZID=America/New_York:20251106T000000
DTSTAMP:20260421T063302
CREATED:20241231T203010Z
LAST-MODIFIED:20241231T203010Z
UID:10324603-1762372800-1762387200@golatindance.com
SUMMARY:Latin Wednesdays at Cosmos
DESCRIPTION:Every Wednesday | 8pm – Midnight | No Cover\nJoin us for a hot night of dancing at Cosmo’s Nightclub and Lounge. \n> 8:30pm Free Salsa and Bachata Class \n> Music by DJ Uri 8pm – Midnight \n> Social Dancing 8pm-midnight \n> 21+ | Free entry \nLocation: \nCosmo’s Nightclub & Lounge \n99 SE 1st Ave\, Boca Raton\, FL 33432
URL:https://golatindance.com/event/latin-wednesdays-at-cosmos/2025-11-05/
LOCATION:Cosmos Nightclub & Lounge\, 99 SE 1st Ave\, Boca Raton\, FL\, 33432\, United States
CATEGORIES:Miami
ATTACH;FMTTYPE=image/jpeg:https://golatindance.com/wp-content/uploads/2024/12/459755240_122190025730069047_5889918072123980683_n.jpg
END:VEVENT
BEGIN:VEVENT
DTSTART;TZID=America/New_York:20251105T200000
DTEND;TZID=America/New_York:20251106T010000
DTSTAMP:20260421T063302
CREATED:20221108T015110Z
LAST-MODIFIED:20250121T154248Z
UID:10070471-1762372800-1762390800@golatindance.com
SUMMARY:Sabor Wednesday at Ball and Chain
DESCRIPTION:8:00PM – 1:00AM \nDJ set. Periodically with live music.\nFree Salsa Class starting at 9:00pm
URL:https://golatindance.com/event/caramelo-wednesday-at-ball-and-chain/2025-11-05/
LOCATION:Ball & Chain\, 1513 SW 8th St\, Miami\, FL\, 33135\, United States
CATEGORIES:Miami
GEO:25.765889;-80.2197791
X-APPLE-STRUCTURED-LOCATION;VALUE=URI;X-ADDRESS=Ball & Chain 1513 SW 8th St Miami FL 33135 United States;X-APPLE-RADIUS=500;X-TITLE=1513 SW 8th St:geo:-80.2197791,25.765889
END:VEVENT
BEGIN:VEVENT
DTSTART;TZID=America/New_York:20251105T210000
DTEND;TZID=America/New_York:20251106T013000
DTSTAMP:20260421T063302
CREATED:20231031T161343Z
LAST-MODIFIED:20240220T151311Z
UID:10181001-1762376400-1762392600@golatindance.com
SUMMARY:Salsa & Bachata Wednesdays
DESCRIPTION:Join us for our monthly (1st Wedn of every month) Salsa & Bachata Social at Hollywood Live 2333 Hollywood Blvd\, Hollywood\, FL 33020\n$10 cover all night includes dance class\n9pm Dance Class\nSocial Dancing 10pm – 1:30am \nFREE PARKING on Hollywood Blvd and behind club.\nDo not parking in other businesses parking lots (no burger king parking)
URL:https://golatindance.com/event/salsa-bachata-wednesdays-2-2/2025-11-05/
LOCATION:Hollywood Live Restaurant & Lounge\, 2333 Hollywood Boulevard\, Hollywood\, FL 33020\, Hollywood\, FL\, 33020\, US
CATEGORIES:Miami
END:VEVENT
BEGIN:VEVENT
DTSTART;TZID=America/New_York:20251106T200000
DTEND;TZID=America/New_York:20251107T020000
DTSTAMP:20260421T063302
CREATED:20221108T020350Z
LAST-MODIFIED:20230530T153704Z
UID:10070731-1762459200-1762480800@golatindance.com
SUMMARY:Little Havana Thursdays at Ball and Chain
DESCRIPTION:Little Havana Under the Stars\nSet by DJ EL Russo\n8:00pm – 2:00am\nFree Salsa Class by Casino de Primera at 9:00pm \n21+ with ID
URL:https://golatindance.com/event/little-havana-thursdays-at-ball-and-chain/2025-11-06/
LOCATION:Ball & Chain\, 1513 SW 8th St\, Miami\, FL\, 33135\, United States
CATEGORIES:Miami
ATTACH;FMTTYPE=image/jpeg:https://golatindance.com/wp-content/uploads/2022/11/thursdays-ball-chain.jpg
GEO:25.765889;-80.2197791
X-APPLE-STRUCTURED-LOCATION;VALUE=URI;X-ADDRESS=Ball & Chain 1513 SW 8th St Miami FL 33135 United States;X-APPLE-RADIUS=500;X-TITLE=1513 SW 8th St:geo:-80.2197791,25.765889
END:VEVENT
BEGIN:VEVENT
DTSTART;TZID=America/New_York:20251106T210000
DTEND;TZID=America/New_York:20251107T010000
DTSTAMP:20260421T063302
CREATED:20250527T145909Z
LAST-MODIFIED:20250527T150246Z
UID:10364017-1762462800-1762477200@golatindance.com
SUMMARY:Latin Thursdays at The Casino @ Dania Beach
DESCRIPTION:Get ready to spice up your Thursday nights at Latin Thursdays at The Casino @ Dania Beach! Join us every week for an unforgettable Latin dance experience featuring high-energy music by DJ Charun\, a free salsa class at 9PM\, and non-stop dancing until 1AM. Whether you’re a seasoned dancer or just starting out\, this event is perfect for anyone who loves Latin beats\, great vibes\, and a lively crowd. Best of all — no cover charge and a 21+ atmosphere make this the ultimate Thursday night escape in South Florida.
URL:https://golatindance.com/event/latin-thursdays-at-the-casino-dania-beach/2025-11-06/
LOCATION:Casino Dania Beach\, 301 E Dania Beach Blvd\, Dania Beach\, FL\, 33004\, United States
CATEGORIES:Miami
END:VEVENT
END:VCALENDAR