BEGIN:VCALENDAR
VERSION:2.0
PRODID:-//GO Latin Dance - ECPv6.15.18//NONSGML v1.0//EN
CALSCALE:GREGORIAN
METHOD:PUBLISH
X-WR-CALNAME:GO Latin Dance
X-ORIGINAL-URL:https://golatindance.com
X-WR-CALDESC:Events for GO Latin Dance
REFRESH-INTERVAL;VALUE=DURATION:PT1H
X-Robots-Tag:noindex
X-PUBLISHED-TTL:PT1H
BEGIN:VTIMEZONE
TZID:America/Los_Angeles
BEGIN:DAYLIGHT
TZOFFSETFROM:-0800
TZOFFSETTO:-0700
TZNAME:PDT
DTSTART:20250309T100000
END:DAYLIGHT
BEGIN:STANDARD
TZOFFSETFROM:-0700
TZOFFSETTO:-0800
TZNAME:PST
DTSTART:20251102T090000
END:STANDARD
BEGIN:DAYLIGHT
TZOFFSETFROM:-0800
TZOFFSETTO:-0700
TZNAME:PDT
DTSTART:20260308T100000
END:DAYLIGHT
BEGIN:STANDARD
TZOFFSETFROM:-0700
TZOFFSETTO:-0800
TZNAME:PST
DTSTART:20261101T090000
END:STANDARD
BEGIN:DAYLIGHT
TZOFFSETFROM:-0800
TZOFFSETTO:-0700
TZNAME:PDT
DTSTART:20270314T100000
END:DAYLIGHT
BEGIN:STANDARD
TZOFFSETFROM:-0700
TZOFFSETTO:-0800
TZNAME:PST
DTSTART:20271107T090000
END:STANDARD
BEGIN:DAYLIGHT
TZOFFSETFROM:-0800
TZOFFSETTO:-0700
TZNAME:PDT
DTSTART:20280312T100000
END:DAYLIGHT
BEGIN:STANDARD
TZOFFSETFROM:-0700
TZOFFSETTO:-0800
TZNAME:PST
DTSTART:20281105T090000
END:STANDARD
BEGIN:DAYLIGHT
TZOFFSETFROM:-0800
TZOFFSETTO:-0700
TZNAME:PDT
DTSTART:20290311T100000
END:DAYLIGHT
BEGIN:STANDARD
TZOFFSETFROM:-0700
TZOFFSETTO:-0800
TZNAME:PST
DTSTART:20291104T090000
END:STANDARD
END:VTIMEZONE
BEGIN:VEVENT
DTSTART;TZID=America/Los_Angeles:20260520T190000
DTEND;TZID=America/Los_Angeles:20260520T220000
DTSTAMP:20260424T115934
CREATED:20250506T164827Z
LAST-MODIFIED:20250506T164928Z
UID:10361655-1779303600-1779314400@golatindance.com
SUMMARY:Salsa and Bachata Wednesdays
DESCRIPTION:Salsa and Bachata Wednesdays. See flyer for details.
URL:https://golatindance.com/event/salsa-and-bachata-wednesdays/2026-05-20/
LOCATION:Tony Pepperoni Pizza\, 1860 University Dr\, Vista\, CA\, 92083\, United States
CATEGORIES:San Diego
ATTACH;FMTTYPE=image/png:https://golatindance.com/wp-content/uploads/2025/05/pizza.png
END:VEVENT
BEGIN:VEVENT
DTSTART;TZID=America/Los_Angeles:20260617T190000
DTEND;TZID=America/Los_Angeles:20260617T220000
DTSTAMP:20260424T115934
CREATED:20250506T164827Z
LAST-MODIFIED:20250506T164928Z
UID:10361656-1781722800-1781733600@golatindance.com
SUMMARY:Salsa and Bachata Wednesdays
DESCRIPTION:Salsa and Bachata Wednesdays. See flyer for details.
URL:https://golatindance.com/event/salsa-and-bachata-wednesdays/2026-06-17/
LOCATION:Tony Pepperoni Pizza\, 1860 University Dr\, Vista\, CA\, 92083\, United States
CATEGORIES:San Diego
ATTACH;FMTTYPE=image/png:https://golatindance.com/wp-content/uploads/2025/05/pizza.png
END:VEVENT
BEGIN:VEVENT
DTSTART;TZID=America/Los_Angeles:20260715T190000
DTEND;TZID=America/Los_Angeles:20260715T220000
DTSTAMP:20260424T115934
CREATED:20250506T164827Z
LAST-MODIFIED:20250506T164928Z
UID:10361657-1784142000-1784152800@golatindance.com
SUMMARY:Salsa and Bachata Wednesdays
DESCRIPTION:Salsa and Bachata Wednesdays. See flyer for details.
URL:https://golatindance.com/event/salsa-and-bachata-wednesdays/2026-07-15/
LOCATION:Tony Pepperoni Pizza\, 1860 University Dr\, Vista\, CA\, 92083\, United States
CATEGORIES:San Diego
ATTACH;FMTTYPE=image/png:https://golatindance.com/wp-content/uploads/2025/05/pizza.png
END:VEVENT
BEGIN:VEVENT
DTSTART;TZID=America/Los_Angeles:20260819T190000
DTEND;TZID=America/Los_Angeles:20260819T220000
DTSTAMP:20260424T115934
CREATED:20250506T164827Z
LAST-MODIFIED:20250506T164928Z
UID:10361658-1787166000-1787176800@golatindance.com
SUMMARY:Salsa and Bachata Wednesdays
DESCRIPTION:Salsa and Bachata Wednesdays. See flyer for details.
URL:https://golatindance.com/event/salsa-and-bachata-wednesdays/2026-08-19/
LOCATION:Tony Pepperoni Pizza\, 1860 University Dr\, Vista\, CA\, 92083\, United States
CATEGORIES:San Diego
ATTACH;FMTTYPE=image/png:https://golatindance.com/wp-content/uploads/2025/05/pizza.png
END:VEVENT
BEGIN:VEVENT
DTSTART;TZID=America/Los_Angeles:20260916T190000
DTEND;TZID=America/Los_Angeles:20260916T220000
DTSTAMP:20260424T115934
CREATED:20250506T164827Z
LAST-MODIFIED:20250506T164928Z
UID:10361659-1789585200-1789596000@golatindance.com
SUMMARY:Salsa and Bachata Wednesdays
DESCRIPTION:Salsa and Bachata Wednesdays. See flyer for details.
URL:https://golatindance.com/event/salsa-and-bachata-wednesdays/2026-09-16/
LOCATION:Tony Pepperoni Pizza\, 1860 University Dr\, Vista\, CA\, 92083\, United States
CATEGORIES:San Diego
ATTACH;FMTTYPE=image/png:https://golatindance.com/wp-content/uploads/2025/05/pizza.png
END:VEVENT
BEGIN:VEVENT
DTSTART;TZID=America/Los_Angeles:20261021T190000
DTEND;TZID=America/Los_Angeles:20261021T220000
DTSTAMP:20260424T115934
CREATED:20250506T164827Z
LAST-MODIFIED:20250506T164928Z
UID:10361660-1792609200-1792620000@golatindance.com
SUMMARY:Salsa and Bachata Wednesdays
DESCRIPTION:Salsa and Bachata Wednesdays. See flyer for details.
URL:https://golatindance.com/event/salsa-and-bachata-wednesdays/2026-10-21/
LOCATION:Tony Pepperoni Pizza\, 1860 University Dr\, Vista\, CA\, 92083\, United States
CATEGORIES:San Diego
ATTACH;FMTTYPE=image/png:https://golatindance.com/wp-content/uploads/2025/05/pizza.png
END:VEVENT
BEGIN:VEVENT
DTSTART;TZID=America/Los_Angeles:20261118T190000
DTEND;TZID=America/Los_Angeles:20261118T220000
DTSTAMP:20260424T115934
CREATED:20250506T164827Z
LAST-MODIFIED:20250506T164928Z
UID:10361661-1795028400-1795039200@golatindance.com
SUMMARY:Salsa and Bachata Wednesdays
DESCRIPTION:Salsa and Bachata Wednesdays. See flyer for details.
URL:https://golatindance.com/event/salsa-and-bachata-wednesdays/2026-11-18/
LOCATION:Tony Pepperoni Pizza\, 1860 University Dr\, Vista\, CA\, 92083\, United States
CATEGORIES:San Diego
ATTACH;FMTTYPE=image/png:https://golatindance.com/wp-content/uploads/2025/05/pizza.png
END:VEVENT
BEGIN:VEVENT
DTSTART;TZID=America/Los_Angeles:20261216T190000
DTEND;TZID=America/Los_Angeles:20261216T220000
DTSTAMP:20260424T115934
CREATED:20250506T164827Z
LAST-MODIFIED:20250506T164928Z
UID:10361662-1797447600-1797458400@golatindance.com
SUMMARY:Salsa and Bachata Wednesdays
DESCRIPTION:Salsa and Bachata Wednesdays. See flyer for details.
URL:https://golatindance.com/event/salsa-and-bachata-wednesdays/2026-12-16/
LOCATION:Tony Pepperoni Pizza\, 1860 University Dr\, Vista\, CA\, 92083\, United States
CATEGORIES:San Diego
ATTACH;FMTTYPE=image/png:https://golatindance.com/wp-content/uploads/2025/05/pizza.png
END:VEVENT
BEGIN:VEVENT
DTSTART;TZID=America/Los_Angeles:20270120T190000
DTEND;TZID=America/Los_Angeles:20270120T220000
DTSTAMP:20260424T115934
CREATED:20250506T164827Z
LAST-MODIFIED:20250506T164928Z
UID:10361663-1800471600-1800482400@golatindance.com
SUMMARY:Salsa and Bachata Wednesdays
DESCRIPTION:Salsa and Bachata Wednesdays. See flyer for details.
URL:https://golatindance.com/event/salsa-and-bachata-wednesdays/2027-01-20/
LOCATION:Tony Pepperoni Pizza\, 1860 University Dr\, Vista\, CA\, 92083\, United States
CATEGORIES:San Diego
ATTACH;FMTTYPE=image/png:https://golatindance.com/wp-content/uploads/2025/05/pizza.png
END:VEVENT
BEGIN:VEVENT
DTSTART;TZID=America/Los_Angeles:20270217T190000
DTEND;TZID=America/Los_Angeles:20270217T220000
DTSTAMP:20260424T115934
CREATED:20250506T164827Z
LAST-MODIFIED:20250506T164928Z
UID:10361664-1802890800-1802901600@golatindance.com
SUMMARY:Salsa and Bachata Wednesdays
DESCRIPTION:Salsa and Bachata Wednesdays. See flyer for details.
URL:https://golatindance.com/event/salsa-and-bachata-wednesdays/2027-02-17/
LOCATION:Tony Pepperoni Pizza\, 1860 University Dr\, Vista\, CA\, 92083\, United States
CATEGORIES:San Diego
ATTACH;FMTTYPE=image/png:https://golatindance.com/wp-content/uploads/2025/05/pizza.png
END:VEVENT
BEGIN:VEVENT
DTSTART;TZID=America/Los_Angeles:20270317T190000
DTEND;TZID=America/Los_Angeles:20270317T220000
DTSTAMP:20260424T115934
CREATED:20250506T164827Z
LAST-MODIFIED:20250506T164928Z
UID:10361665-1805310000-1805320800@golatindance.com
SUMMARY:Salsa and Bachata Wednesdays
DESCRIPTION:Salsa and Bachata Wednesdays. See flyer for details.
URL:https://golatindance.com/event/salsa-and-bachata-wednesdays/2027-03-17/
LOCATION:Tony Pepperoni Pizza\, 1860 University Dr\, Vista\, CA\, 92083\, United States
CATEGORIES:San Diego
ATTACH;FMTTYPE=image/png:https://golatindance.com/wp-content/uploads/2025/05/pizza.png
END:VEVENT
BEGIN:VEVENT
DTSTART;TZID=America/Los_Angeles:20270421T190000
DTEND;TZID=America/Los_Angeles:20270421T220000
DTSTAMP:20260424T115934
CREATED:20250506T164827Z
LAST-MODIFIED:20250506T164928Z
UID:10361666-1808334000-1808344800@golatindance.com
SUMMARY:Salsa and Bachata Wednesdays
DESCRIPTION:Salsa and Bachata Wednesdays. See flyer for details.
URL:https://golatindance.com/event/salsa-and-bachata-wednesdays/2027-04-21/
LOCATION:Tony Pepperoni Pizza\, 1860 University Dr\, Vista\, CA\, 92083\, United States
CATEGORIES:San Diego
ATTACH;FMTTYPE=image/png:https://golatindance.com/wp-content/uploads/2025/05/pizza.png
END:VEVENT
BEGIN:VEVENT
DTSTART;TZID=America/Los_Angeles:20270519T190000
DTEND;TZID=America/Los_Angeles:20270519T220000
DTSTAMP:20260424T115934
CREATED:20250506T164827Z
LAST-MODIFIED:20250506T164928Z
UID:10361667-1810753200-1810764000@golatindance.com
SUMMARY:Salsa and Bachata Wednesdays
DESCRIPTION:Salsa and Bachata Wednesdays. See flyer for details.
URL:https://golatindance.com/event/salsa-and-bachata-wednesdays/2027-05-19/
LOCATION:Tony Pepperoni Pizza\, 1860 University Dr\, Vista\, CA\, 92083\, United States
CATEGORIES:San Diego
ATTACH;FMTTYPE=image/png:https://golatindance.com/wp-content/uploads/2025/05/pizza.png
END:VEVENT
BEGIN:VEVENT
DTSTART;TZID=America/Los_Angeles:20270616T190000
DTEND;TZID=America/Los_Angeles:20270616T220000
DTSTAMP:20260424T115934
CREATED:20250506T164827Z
LAST-MODIFIED:20250506T164928Z
UID:10361668-1813172400-1813183200@golatindance.com
SUMMARY:Salsa and Bachata Wednesdays
DESCRIPTION:Salsa and Bachata Wednesdays. See flyer for details.
URL:https://golatindance.com/event/salsa-and-bachata-wednesdays/2027-06-16/
LOCATION:Tony Pepperoni Pizza\, 1860 University Dr\, Vista\, CA\, 92083\, United States
CATEGORIES:San Diego
ATTACH;FMTTYPE=image/png:https://golatindance.com/wp-content/uploads/2025/05/pizza.png
END:VEVENT
BEGIN:VEVENT
DTSTART;TZID=America/Los_Angeles:20270721T190000
DTEND;TZID=America/Los_Angeles:20270721T220000
DTSTAMP:20260424T115934
CREATED:20250506T164827Z
LAST-MODIFIED:20250506T164928Z
UID:10361669-1816196400-1816207200@golatindance.com
SUMMARY:Salsa and Bachata Wednesdays
DESCRIPTION:Salsa and Bachata Wednesdays. See flyer for details.
URL:https://golatindance.com/event/salsa-and-bachata-wednesdays/2027-07-21/
LOCATION:Tony Pepperoni Pizza\, 1860 University Dr\, Vista\, CA\, 92083\, United States
CATEGORIES:San Diego
ATTACH;FMTTYPE=image/png:https://golatindance.com/wp-content/uploads/2025/05/pizza.png
END:VEVENT
BEGIN:VEVENT
DTSTART;TZID=America/Los_Angeles:20270818T190000
DTEND;TZID=America/Los_Angeles:20270818T220000
DTSTAMP:20260424T115934
CREATED:20250506T164827Z
LAST-MODIFIED:20250506T164928Z
UID:10361670-1818615600-1818626400@golatindance.com
SUMMARY:Salsa and Bachata Wednesdays
DESCRIPTION:Salsa and Bachata Wednesdays. See flyer for details.
URL:https://golatindance.com/event/salsa-and-bachata-wednesdays/2027-08-18/
LOCATION:Tony Pepperoni Pizza\, 1860 University Dr\, Vista\, CA\, 92083\, United States
CATEGORIES:San Diego
ATTACH;FMTTYPE=image/png:https://golatindance.com/wp-content/uploads/2025/05/pizza.png
END:VEVENT
BEGIN:VEVENT
DTSTART;TZID=America/Los_Angeles:20270915T190000
DTEND;TZID=America/Los_Angeles:20270915T220000
DTSTAMP:20260424T115934
CREATED:20250506T164827Z
LAST-MODIFIED:20250506T164928Z
UID:10361671-1821034800-1821045600@golatindance.com
SUMMARY:Salsa and Bachata Wednesdays
DESCRIPTION:Salsa and Bachata Wednesdays. See flyer for details.
URL:https://golatindance.com/event/salsa-and-bachata-wednesdays/2027-09-15/
LOCATION:Tony Pepperoni Pizza\, 1860 University Dr\, Vista\, CA\, 92083\, United States
CATEGORIES:San Diego
ATTACH;FMTTYPE=image/png:https://golatindance.com/wp-content/uploads/2025/05/pizza.png
END:VEVENT
BEGIN:VEVENT
DTSTART;TZID=America/Los_Angeles:20271020T190000
DTEND;TZID=America/Los_Angeles:20271020T220000
DTSTAMP:20260424T115934
CREATED:20250506T164827Z
LAST-MODIFIED:20250506T164928Z
UID:10361672-1824058800-1824069600@golatindance.com
SUMMARY:Salsa and Bachata Wednesdays
DESCRIPTION:Salsa and Bachata Wednesdays. See flyer for details.
URL:https://golatindance.com/event/salsa-and-bachata-wednesdays/2027-10-20/
LOCATION:Tony Pepperoni Pizza\, 1860 University Dr\, Vista\, CA\, 92083\, United States
CATEGORIES:San Diego
ATTACH;FMTTYPE=image/png:https://golatindance.com/wp-content/uploads/2025/05/pizza.png
END:VEVENT
BEGIN:VEVENT
DTSTART;TZID=America/Los_Angeles:20271117T190000
DTEND;TZID=America/Los_Angeles:20271117T220000
DTSTAMP:20260424T115934
CREATED:20250506T164827Z
LAST-MODIFIED:20250506T164928Z
UID:10361673-1826478000-1826488800@golatindance.com
SUMMARY:Salsa and Bachata Wednesdays
DESCRIPTION:Salsa and Bachata Wednesdays. See flyer for details.
URL:https://golatindance.com/event/salsa-and-bachata-wednesdays/2027-11-17/
LOCATION:Tony Pepperoni Pizza\, 1860 University Dr\, Vista\, CA\, 92083\, United States
CATEGORIES:San Diego
ATTACH;FMTTYPE=image/png:https://golatindance.com/wp-content/uploads/2025/05/pizza.png
END:VEVENT
BEGIN:VEVENT
DTSTART;TZID=America/Los_Angeles:20271215T190000
DTEND;TZID=America/Los_Angeles:20271215T220000
DTSTAMP:20260424T115934
CREATED:20250506T164827Z
LAST-MODIFIED:20250506T164928Z
UID:10361674-1828897200-1828908000@golatindance.com
SUMMARY:Salsa and Bachata Wednesdays
DESCRIPTION:Salsa and Bachata Wednesdays. See flyer for details.
URL:https://golatindance.com/event/salsa-and-bachata-wednesdays/2027-12-15/
LOCATION:Tony Pepperoni Pizza\, 1860 University Dr\, Vista\, CA\, 92083\, United States
CATEGORIES:San Diego
ATTACH;FMTTYPE=image/png:https://golatindance.com/wp-content/uploads/2025/05/pizza.png
END:VEVENT
BEGIN:VEVENT
DTSTART;TZID=America/Los_Angeles:20280119T190000
DTEND;TZID=America/Los_Angeles:20280119T220000
DTSTAMP:20260424T115934
CREATED:20250506T164827Z
LAST-MODIFIED:20250506T164928Z
UID:10361675-1831921200-1831932000@golatindance.com
SUMMARY:Salsa and Bachata Wednesdays
DESCRIPTION:Salsa and Bachata Wednesdays. See flyer for details.
URL:https://golatindance.com/event/salsa-and-bachata-wednesdays/2028-01-19/
LOCATION:Tony Pepperoni Pizza\, 1860 University Dr\, Vista\, CA\, 92083\, United States
CATEGORIES:San Diego
ATTACH;FMTTYPE=image/png:https://golatindance.com/wp-content/uploads/2025/05/pizza.png
END:VEVENT
BEGIN:VEVENT
DTSTART;TZID=America/Los_Angeles:20280216T190000
DTEND;TZID=America/Los_Angeles:20280216T220000
DTSTAMP:20260424T115934
CREATED:20250506T164827Z
LAST-MODIFIED:20250506T164928Z
UID:10361676-1834340400-1834351200@golatindance.com
SUMMARY:Salsa and Bachata Wednesdays
DESCRIPTION:Salsa and Bachata Wednesdays. See flyer for details.
URL:https://golatindance.com/event/salsa-and-bachata-wednesdays/2028-02-16/
LOCATION:Tony Pepperoni Pizza\, 1860 University Dr\, Vista\, CA\, 92083\, United States
CATEGORIES:San Diego
ATTACH;FMTTYPE=image/png:https://golatindance.com/wp-content/uploads/2025/05/pizza.png
END:VEVENT
BEGIN:VEVENT
DTSTART;TZID=America/Los_Angeles:20280315T190000
DTEND;TZID=America/Los_Angeles:20280315T220000
DTSTAMP:20260424T115934
CREATED:20250506T164827Z
LAST-MODIFIED:20250506T164928Z
UID:10361677-1836759600-1836770400@golatindance.com
SUMMARY:Salsa and Bachata Wednesdays
DESCRIPTION:Salsa and Bachata Wednesdays. See flyer for details.
URL:https://golatindance.com/event/salsa-and-bachata-wednesdays/2028-03-15/
LOCATION:Tony Pepperoni Pizza\, 1860 University Dr\, Vista\, CA\, 92083\, United States
CATEGORIES:San Diego
ATTACH;FMTTYPE=image/png:https://golatindance.com/wp-content/uploads/2025/05/pizza.png
END:VEVENT
BEGIN:VEVENT
DTSTART;TZID=America/Los_Angeles:20280419T190000
DTEND;TZID=America/Los_Angeles:20280419T220000
DTSTAMP:20260424T115934
CREATED:20250506T164827Z
LAST-MODIFIED:20250506T164928Z
UID:10361678-1839783600-1839794400@golatindance.com
SUMMARY:Salsa and Bachata Wednesdays
DESCRIPTION:Salsa and Bachata Wednesdays. See flyer for details.
URL:https://golatindance.com/event/salsa-and-bachata-wednesdays/2028-04-19/
LOCATION:Tony Pepperoni Pizza\, 1860 University Dr\, Vista\, CA\, 92083\, United States
CATEGORIES:San Diego
ATTACH;FMTTYPE=image/png:https://golatindance.com/wp-content/uploads/2025/05/pizza.png
END:VEVENT
BEGIN:VEVENT
DTSTART;TZID=America/Los_Angeles:20280517T190000
DTEND;TZID=America/Los_Angeles:20280517T220000
DTSTAMP:20260424T115934
CREATED:20250506T164827Z
LAST-MODIFIED:20250506T164928Z
UID:10361679-1842202800-1842213600@golatindance.com
SUMMARY:Salsa and Bachata Wednesdays
DESCRIPTION:Salsa and Bachata Wednesdays. See flyer for details.
URL:https://golatindance.com/event/salsa-and-bachata-wednesdays/2028-05-17/
LOCATION:Tony Pepperoni Pizza\, 1860 University Dr\, Vista\, CA\, 92083\, United States
CATEGORIES:San Diego
ATTACH;FMTTYPE=image/png:https://golatindance.com/wp-content/uploads/2025/05/pizza.png
END:VEVENT
BEGIN:VEVENT
DTSTART;TZID=America/Los_Angeles:20280621T190000
DTEND;TZID=America/Los_Angeles:20280621T220000
DTSTAMP:20260424T115934
CREATED:20250506T164827Z
LAST-MODIFIED:20250506T164928Z
UID:10361680-1845226800-1845237600@golatindance.com
SUMMARY:Salsa and Bachata Wednesdays
DESCRIPTION:Salsa and Bachata Wednesdays. See flyer for details.
URL:https://golatindance.com/event/salsa-and-bachata-wednesdays/2028-06-21/
LOCATION:Tony Pepperoni Pizza\, 1860 University Dr\, Vista\, CA\, 92083\, United States
CATEGORIES:San Diego
ATTACH;FMTTYPE=image/png:https://golatindance.com/wp-content/uploads/2025/05/pizza.png
END:VEVENT
BEGIN:VEVENT
DTSTART;TZID=America/Los_Angeles:20280719T190000
DTEND;TZID=America/Los_Angeles:20280719T220000
DTSTAMP:20260424T115934
CREATED:20250506T164827Z
LAST-MODIFIED:20250506T164928Z
UID:10361681-1847646000-1847656800@golatindance.com
SUMMARY:Salsa and Bachata Wednesdays
DESCRIPTION:Salsa and Bachata Wednesdays. See flyer for details.
URL:https://golatindance.com/event/salsa-and-bachata-wednesdays/2028-07-19/
LOCATION:Tony Pepperoni Pizza\, 1860 University Dr\, Vista\, CA\, 92083\, United States
CATEGORIES:San Diego
ATTACH;FMTTYPE=image/png:https://golatindance.com/wp-content/uploads/2025/05/pizza.png
END:VEVENT
BEGIN:VEVENT
DTSTART;TZID=America/Los_Angeles:20280816T190000
DTEND;TZID=America/Los_Angeles:20280816T220000
DTSTAMP:20260424T115934
CREATED:20250506T164827Z
LAST-MODIFIED:20250506T164928Z
UID:10361682-1850065200-1850076000@golatindance.com
SUMMARY:Salsa and Bachata Wednesdays
DESCRIPTION:Salsa and Bachata Wednesdays. See flyer for details.
URL:https://golatindance.com/event/salsa-and-bachata-wednesdays/2028-08-16/
LOCATION:Tony Pepperoni Pizza\, 1860 University Dr\, Vista\, CA\, 92083\, United States
CATEGORIES:San Diego
ATTACH;FMTTYPE=image/png:https://golatindance.com/wp-content/uploads/2025/05/pizza.png
END:VEVENT
BEGIN:VEVENT
DTSTART;TZID=America/Los_Angeles:20280920T190000
DTEND;TZID=America/Los_Angeles:20280920T220000
DTSTAMP:20260424T115934
CREATED:20250506T164827Z
LAST-MODIFIED:20250506T164928Z
UID:10361683-1853089200-1853100000@golatindance.com
SUMMARY:Salsa and Bachata Wednesdays
DESCRIPTION:Salsa and Bachata Wednesdays. See flyer for details.
URL:https://golatindance.com/event/salsa-and-bachata-wednesdays/2028-09-20/
LOCATION:Tony Pepperoni Pizza\, 1860 University Dr\, Vista\, CA\, 92083\, United States
CATEGORIES:San Diego
ATTACH;FMTTYPE=image/png:https://golatindance.com/wp-content/uploads/2025/05/pizza.png
END:VEVENT
BEGIN:VEVENT
DTSTART;TZID=America/Los_Angeles:20281018T190000
DTEND;TZID=America/Los_Angeles:20281018T220000
DTSTAMP:20260424T115934
CREATED:20250506T164827Z
LAST-MODIFIED:20250506T164928Z
UID:10361684-1855508400-1855519200@golatindance.com
SUMMARY:Salsa and Bachata Wednesdays
DESCRIPTION:Salsa and Bachata Wednesdays. See flyer for details.
URL:https://golatindance.com/event/salsa-and-bachata-wednesdays/2028-10-18/
LOCATION:Tony Pepperoni Pizza\, 1860 University Dr\, Vista\, CA\, 92083\, United States
CATEGORIES:San Diego
ATTACH;FMTTYPE=image/png:https://golatindance.com/wp-content/uploads/2025/05/pizza.png
END:VEVENT
END:VCALENDAR