BEGIN:VCALENDAR
VERSION:2.0
PRODID:-//GO Latin Dance - ECPv6.15.18//NONSGML v1.0//EN
CALSCALE:GREGORIAN
METHOD:PUBLISH
X-WR-CALNAME:GO Latin Dance
X-ORIGINAL-URL:https://golatindance.com
X-WR-CALDESC:Events for GO Latin Dance
REFRESH-INTERVAL;VALUE=DURATION:PT1H
X-Robots-Tag:noindex
X-PUBLISHED-TTL:PT1H
BEGIN:VTIMEZONE
TZID:America/New_York
BEGIN:DAYLIGHT
TZOFFSETFROM:-0500
TZOFFSETTO:-0400
TZNAME:EDT
DTSTART:20250309T070000
END:DAYLIGHT
BEGIN:STANDARD
TZOFFSETFROM:-0400
TZOFFSETTO:-0500
TZNAME:EST
DTSTART:20251102T060000
END:STANDARD
BEGIN:DAYLIGHT
TZOFFSETFROM:-0500
TZOFFSETTO:-0400
TZNAME:EDT
DTSTART:20260308T070000
END:DAYLIGHT
BEGIN:STANDARD
TZOFFSETFROM:-0400
TZOFFSETTO:-0500
TZNAME:EST
DTSTART:20261101T060000
END:STANDARD
BEGIN:DAYLIGHT
TZOFFSETFROM:-0500
TZOFFSETTO:-0400
TZNAME:EDT
DTSTART:20270314T070000
END:DAYLIGHT
BEGIN:STANDARD
TZOFFSETFROM:-0400
TZOFFSETTO:-0500
TZNAME:EST
DTSTART:20271107T060000
END:STANDARD
END:VTIMEZONE
BEGIN:VEVENT
DTSTART;TZID=America/New_York:20260423T200000
DTEND;TZID=America/New_York:20260423T230000
DTSTAMP:20260421T093642
CREATED:20260107T154157Z
LAST-MODIFIED:20260107T154157Z
UID:10430182-1776974400-1776985200@golatindance.com
SUMMARY:Live Salsa at the Rose Gaming Resort
DESCRIPTION:Wednesday nights at The Playbook Sports Bar + Grill are getting spicy! 💃 Join us from 8PM – 11PM for Rhythm & Rose Salsa Nights with live music from Grupo Quimbao latín band\, dance lessons and food & drink specials.
URL:https://golatindance.com/event/live-salsa-at-the-rose-gaming-resort-2-2/2026-04-23/
LOCATION:The Rose Gaming Resort\, 17680 Colonial Street\, Dumfries\, VA\, 22026\, United States
CATEGORIES:Washington DC-Baltimore
ATTACH;FMTTYPE=image/jpeg:https://golatindance.com/wp-content/uploads/2025/10/612204859_25874782055497753_585263275877237438_n.jpg
END:VEVENT
BEGIN:VEVENT
DTSTART;TZID=America/New_York:20260430T200000
DTEND;TZID=America/New_York:20260430T230000
DTSTAMP:20260421T093642
CREATED:20260107T154157Z
LAST-MODIFIED:20260107T154157Z
UID:10430183-1777579200-1777590000@golatindance.com
SUMMARY:Live Salsa at the Rose Gaming Resort
DESCRIPTION:Wednesday nights at The Playbook Sports Bar + Grill are getting spicy! 💃 Join us from 8PM – 11PM for Rhythm & Rose Salsa Nights with live music from Grupo Quimbao latín band\, dance lessons and food & drink specials.
URL:https://golatindance.com/event/live-salsa-at-the-rose-gaming-resort-2-2/2026-04-30/
LOCATION:The Rose Gaming Resort\, 17680 Colonial Street\, Dumfries\, VA\, 22026\, United States
CATEGORIES:Washington DC-Baltimore
ATTACH;FMTTYPE=image/jpeg:https://golatindance.com/wp-content/uploads/2025/10/612204859_25874782055497753_585263275877237438_n.jpg
END:VEVENT
BEGIN:VEVENT
DTSTART;TZID=America/New_York:20260507T200000
DTEND;TZID=America/New_York:20260507T230000
DTSTAMP:20260421T093642
CREATED:20260107T154157Z
LAST-MODIFIED:20260107T154157Z
UID:10430184-1778184000-1778194800@golatindance.com
SUMMARY:Live Salsa at the Rose Gaming Resort
DESCRIPTION:Wednesday nights at The Playbook Sports Bar + Grill are getting spicy! 💃 Join us from 8PM – 11PM for Rhythm & Rose Salsa Nights with live music from Grupo Quimbao latín band\, dance lessons and food & drink specials.
URL:https://golatindance.com/event/live-salsa-at-the-rose-gaming-resort-2-2/2026-05-07/
LOCATION:The Rose Gaming Resort\, 17680 Colonial Street\, Dumfries\, VA\, 22026\, United States
CATEGORIES:Washington DC-Baltimore
ATTACH;FMTTYPE=image/jpeg:https://golatindance.com/wp-content/uploads/2025/10/612204859_25874782055497753_585263275877237438_n.jpg
END:VEVENT
BEGIN:VEVENT
DTSTART;TZID=America/New_York:20260514T200000
DTEND;TZID=America/New_York:20260514T230000
DTSTAMP:20260421T093642
CREATED:20260107T154157Z
LAST-MODIFIED:20260107T154157Z
UID:10430185-1778788800-1778799600@golatindance.com
SUMMARY:Live Salsa at the Rose Gaming Resort
DESCRIPTION:Wednesday nights at The Playbook Sports Bar + Grill are getting spicy! 💃 Join us from 8PM – 11PM for Rhythm & Rose Salsa Nights with live music from Grupo Quimbao latín band\, dance lessons and food & drink specials.
URL:https://golatindance.com/event/live-salsa-at-the-rose-gaming-resort-2-2/2026-05-14/
LOCATION:The Rose Gaming Resort\, 17680 Colonial Street\, Dumfries\, VA\, 22026\, United States
CATEGORIES:Washington DC-Baltimore
ATTACH;FMTTYPE=image/jpeg:https://golatindance.com/wp-content/uploads/2025/10/612204859_25874782055497753_585263275877237438_n.jpg
END:VEVENT
BEGIN:VEVENT
DTSTART;TZID=America/New_York:20260521T200000
DTEND;TZID=America/New_York:20260521T230000
DTSTAMP:20260421T093642
CREATED:20260107T154157Z
LAST-MODIFIED:20260107T154157Z
UID:10430186-1779393600-1779404400@golatindance.com
SUMMARY:Live Salsa at the Rose Gaming Resort
DESCRIPTION:Wednesday nights at The Playbook Sports Bar + Grill are getting spicy! 💃 Join us from 8PM – 11PM for Rhythm & Rose Salsa Nights with live music from Grupo Quimbao latín band\, dance lessons and food & drink specials.
URL:https://golatindance.com/event/live-salsa-at-the-rose-gaming-resort-2-2/2026-05-21/
LOCATION:The Rose Gaming Resort\, 17680 Colonial Street\, Dumfries\, VA\, 22026\, United States
CATEGORIES:Washington DC-Baltimore
ATTACH;FMTTYPE=image/jpeg:https://golatindance.com/wp-content/uploads/2025/10/612204859_25874782055497753_585263275877237438_n.jpg
END:VEVENT
BEGIN:VEVENT
DTSTART;TZID=America/New_York:20260528T200000
DTEND;TZID=America/New_York:20260528T230000
DTSTAMP:20260421T093642
CREATED:20260107T154157Z
LAST-MODIFIED:20260107T154157Z
UID:10430187-1779998400-1780009200@golatindance.com
SUMMARY:Live Salsa at the Rose Gaming Resort
DESCRIPTION:Wednesday nights at The Playbook Sports Bar + Grill are getting spicy! 💃 Join us from 8PM – 11PM for Rhythm & Rose Salsa Nights with live music from Grupo Quimbao latín band\, dance lessons and food & drink specials.
URL:https://golatindance.com/event/live-salsa-at-the-rose-gaming-resort-2-2/2026-05-28/
LOCATION:The Rose Gaming Resort\, 17680 Colonial Street\, Dumfries\, VA\, 22026\, United States
CATEGORIES:Washington DC-Baltimore
ATTACH;FMTTYPE=image/jpeg:https://golatindance.com/wp-content/uploads/2025/10/612204859_25874782055497753_585263275877237438_n.jpg
END:VEVENT
BEGIN:VEVENT
DTSTART;TZID=America/New_York:20260604T200000
DTEND;TZID=America/New_York:20260604T230000
DTSTAMP:20260421T093642
CREATED:20260107T154157Z
LAST-MODIFIED:20260107T154157Z
UID:10430188-1780603200-1780614000@golatindance.com
SUMMARY:Live Salsa at the Rose Gaming Resort
DESCRIPTION:Wednesday nights at The Playbook Sports Bar + Grill are getting spicy! 💃 Join us from 8PM – 11PM for Rhythm & Rose Salsa Nights with live music from Grupo Quimbao latín band\, dance lessons and food & drink specials.
URL:https://golatindance.com/event/live-salsa-at-the-rose-gaming-resort-2-2/2026-06-04/
LOCATION:The Rose Gaming Resort\, 17680 Colonial Street\, Dumfries\, VA\, 22026\, United States
CATEGORIES:Washington DC-Baltimore
ATTACH;FMTTYPE=image/jpeg:https://golatindance.com/wp-content/uploads/2025/10/612204859_25874782055497753_585263275877237438_n.jpg
END:VEVENT
BEGIN:VEVENT
DTSTART;TZID=America/New_York:20260611T200000
DTEND;TZID=America/New_York:20260611T230000
DTSTAMP:20260421T093642
CREATED:20260107T154157Z
LAST-MODIFIED:20260107T154157Z
UID:10430189-1781208000-1781218800@golatindance.com
SUMMARY:Live Salsa at the Rose Gaming Resort
DESCRIPTION:Wednesday nights at The Playbook Sports Bar + Grill are getting spicy! 💃 Join us from 8PM – 11PM for Rhythm & Rose Salsa Nights with live music from Grupo Quimbao latín band\, dance lessons and food & drink specials.
URL:https://golatindance.com/event/live-salsa-at-the-rose-gaming-resort-2-2/2026-06-11/
LOCATION:The Rose Gaming Resort\, 17680 Colonial Street\, Dumfries\, VA\, 22026\, United States
CATEGORIES:Washington DC-Baltimore
ATTACH;FMTTYPE=image/jpeg:https://golatindance.com/wp-content/uploads/2025/10/612204859_25874782055497753_585263275877237438_n.jpg
END:VEVENT
BEGIN:VEVENT
DTSTART;TZID=America/New_York:20260618T200000
DTEND;TZID=America/New_York:20260618T230000
DTSTAMP:20260421T093642
CREATED:20260107T154157Z
LAST-MODIFIED:20260107T154157Z
UID:10430190-1781812800-1781823600@golatindance.com
SUMMARY:Live Salsa at the Rose Gaming Resort
DESCRIPTION:Wednesday nights at The Playbook Sports Bar + Grill are getting spicy! 💃 Join us from 8PM – 11PM for Rhythm & Rose Salsa Nights with live music from Grupo Quimbao latín band\, dance lessons and food & drink specials.
URL:https://golatindance.com/event/live-salsa-at-the-rose-gaming-resort-2-2/2026-06-18/
LOCATION:The Rose Gaming Resort\, 17680 Colonial Street\, Dumfries\, VA\, 22026\, United States
CATEGORIES:Washington DC-Baltimore
ATTACH;FMTTYPE=image/jpeg:https://golatindance.com/wp-content/uploads/2025/10/612204859_25874782055497753_585263275877237438_n.jpg
END:VEVENT
BEGIN:VEVENT
DTSTART;TZID=America/New_York:20260625T200000
DTEND;TZID=America/New_York:20260625T230000
DTSTAMP:20260421T093642
CREATED:20260107T154157Z
LAST-MODIFIED:20260107T154157Z
UID:10430191-1782417600-1782428400@golatindance.com
SUMMARY:Live Salsa at the Rose Gaming Resort
DESCRIPTION:Wednesday nights at The Playbook Sports Bar + Grill are getting spicy! 💃 Join us from 8PM – 11PM for Rhythm & Rose Salsa Nights with live music from Grupo Quimbao latín band\, dance lessons and food & drink specials.
URL:https://golatindance.com/event/live-salsa-at-the-rose-gaming-resort-2-2/2026-06-25/
LOCATION:The Rose Gaming Resort\, 17680 Colonial Street\, Dumfries\, VA\, 22026\, United States
CATEGORIES:Washington DC-Baltimore
ATTACH;FMTTYPE=image/jpeg:https://golatindance.com/wp-content/uploads/2025/10/612204859_25874782055497753_585263275877237438_n.jpg
END:VEVENT
BEGIN:VEVENT
DTSTART;TZID=America/New_York:20260702T200000
DTEND;TZID=America/New_York:20260702T230000
DTSTAMP:20260421T093642
CREATED:20260107T154157Z
LAST-MODIFIED:20260107T154157Z
UID:10430192-1783022400-1783033200@golatindance.com
SUMMARY:Live Salsa at the Rose Gaming Resort
DESCRIPTION:Wednesday nights at The Playbook Sports Bar + Grill are getting spicy! 💃 Join us from 8PM – 11PM for Rhythm & Rose Salsa Nights with live music from Grupo Quimbao latín band\, dance lessons and food & drink specials.
URL:https://golatindance.com/event/live-salsa-at-the-rose-gaming-resort-2-2/2026-07-02/
LOCATION:The Rose Gaming Resort\, 17680 Colonial Street\, Dumfries\, VA\, 22026\, United States
CATEGORIES:Washington DC-Baltimore
ATTACH;FMTTYPE=image/jpeg:https://golatindance.com/wp-content/uploads/2025/10/612204859_25874782055497753_585263275877237438_n.jpg
END:VEVENT
BEGIN:VEVENT
DTSTART;TZID=America/New_York:20260709T200000
DTEND;TZID=America/New_York:20260709T230000
DTSTAMP:20260421T093642
CREATED:20260107T154157Z
LAST-MODIFIED:20260107T154157Z
UID:10430193-1783627200-1783638000@golatindance.com
SUMMARY:Live Salsa at the Rose Gaming Resort
DESCRIPTION:Wednesday nights at The Playbook Sports Bar + Grill are getting spicy! 💃 Join us from 8PM – 11PM for Rhythm & Rose Salsa Nights with live music from Grupo Quimbao latín band\, dance lessons and food & drink specials.
URL:https://golatindance.com/event/live-salsa-at-the-rose-gaming-resort-2-2/2026-07-09/
LOCATION:The Rose Gaming Resort\, 17680 Colonial Street\, Dumfries\, VA\, 22026\, United States
CATEGORIES:Washington DC-Baltimore
ATTACH;FMTTYPE=image/jpeg:https://golatindance.com/wp-content/uploads/2025/10/612204859_25874782055497753_585263275877237438_n.jpg
END:VEVENT
BEGIN:VEVENT
DTSTART;TZID=America/New_York:20260716T200000
DTEND;TZID=America/New_York:20260716T230000
DTSTAMP:20260421T093642
CREATED:20260107T154157Z
LAST-MODIFIED:20260107T154157Z
UID:10430194-1784232000-1784242800@golatindance.com
SUMMARY:Live Salsa at the Rose Gaming Resort
DESCRIPTION:Wednesday nights at The Playbook Sports Bar + Grill are getting spicy! 💃 Join us from 8PM – 11PM for Rhythm & Rose Salsa Nights with live music from Grupo Quimbao latín band\, dance lessons and food & drink specials.
URL:https://golatindance.com/event/live-salsa-at-the-rose-gaming-resort-2-2/2026-07-16/
LOCATION:The Rose Gaming Resort\, 17680 Colonial Street\, Dumfries\, VA\, 22026\, United States
CATEGORIES:Washington DC-Baltimore
ATTACH;FMTTYPE=image/jpeg:https://golatindance.com/wp-content/uploads/2025/10/612204859_25874782055497753_585263275877237438_n.jpg
END:VEVENT
BEGIN:VEVENT
DTSTART;TZID=America/New_York:20260723T200000
DTEND;TZID=America/New_York:20260723T230000
DTSTAMP:20260421T093642
CREATED:20260107T154157Z
LAST-MODIFIED:20260107T154157Z
UID:10430195-1784836800-1784847600@golatindance.com
SUMMARY:Live Salsa at the Rose Gaming Resort
DESCRIPTION:Wednesday nights at The Playbook Sports Bar + Grill are getting spicy! 💃 Join us from 8PM – 11PM for Rhythm & Rose Salsa Nights with live music from Grupo Quimbao latín band\, dance lessons and food & drink specials.
URL:https://golatindance.com/event/live-salsa-at-the-rose-gaming-resort-2-2/2026-07-23/
LOCATION:The Rose Gaming Resort\, 17680 Colonial Street\, Dumfries\, VA\, 22026\, United States
CATEGORIES:Washington DC-Baltimore
ATTACH;FMTTYPE=image/jpeg:https://golatindance.com/wp-content/uploads/2025/10/612204859_25874782055497753_585263275877237438_n.jpg
END:VEVENT
BEGIN:VEVENT
DTSTART;TZID=America/New_York:20260730T200000
DTEND;TZID=America/New_York:20260730T230000
DTSTAMP:20260421T093642
CREATED:20260107T154157Z
LAST-MODIFIED:20260107T154157Z
UID:10430196-1785441600-1785452400@golatindance.com
SUMMARY:Live Salsa at the Rose Gaming Resort
DESCRIPTION:Wednesday nights at The Playbook Sports Bar + Grill are getting spicy! 💃 Join us from 8PM – 11PM for Rhythm & Rose Salsa Nights with live music from Grupo Quimbao latín band\, dance lessons and food & drink specials.
URL:https://golatindance.com/event/live-salsa-at-the-rose-gaming-resort-2-2/2026-07-30/
LOCATION:The Rose Gaming Resort\, 17680 Colonial Street\, Dumfries\, VA\, 22026\, United States
CATEGORIES:Washington DC-Baltimore
ATTACH;FMTTYPE=image/jpeg:https://golatindance.com/wp-content/uploads/2025/10/612204859_25874782055497753_585263275877237438_n.jpg
END:VEVENT
BEGIN:VEVENT
DTSTART;TZID=America/New_York:20260806T200000
DTEND;TZID=America/New_York:20260806T230000
DTSTAMP:20260421T093642
CREATED:20260107T154157Z
LAST-MODIFIED:20260107T154157Z
UID:10430197-1786046400-1786057200@golatindance.com
SUMMARY:Live Salsa at the Rose Gaming Resort
DESCRIPTION:Wednesday nights at The Playbook Sports Bar + Grill are getting spicy! 💃 Join us from 8PM – 11PM for Rhythm & Rose Salsa Nights with live music from Grupo Quimbao latín band\, dance lessons and food & drink specials.
URL:https://golatindance.com/event/live-salsa-at-the-rose-gaming-resort-2-2/2026-08-06/
LOCATION:The Rose Gaming Resort\, 17680 Colonial Street\, Dumfries\, VA\, 22026\, United States
CATEGORIES:Washington DC-Baltimore
ATTACH;FMTTYPE=image/jpeg:https://golatindance.com/wp-content/uploads/2025/10/612204859_25874782055497753_585263275877237438_n.jpg
END:VEVENT
BEGIN:VEVENT
DTSTART;TZID=America/New_York:20260813T200000
DTEND;TZID=America/New_York:20260813T230000
DTSTAMP:20260421T093642
CREATED:20260107T154157Z
LAST-MODIFIED:20260107T154157Z
UID:10430198-1786651200-1786662000@golatindance.com
SUMMARY:Live Salsa at the Rose Gaming Resort
DESCRIPTION:Wednesday nights at The Playbook Sports Bar + Grill are getting spicy! 💃 Join us from 8PM – 11PM for Rhythm & Rose Salsa Nights with live music from Grupo Quimbao latín band\, dance lessons and food & drink specials.
URL:https://golatindance.com/event/live-salsa-at-the-rose-gaming-resort-2-2/2026-08-13/
LOCATION:The Rose Gaming Resort\, 17680 Colonial Street\, Dumfries\, VA\, 22026\, United States
CATEGORIES:Washington DC-Baltimore
ATTACH;FMTTYPE=image/jpeg:https://golatindance.com/wp-content/uploads/2025/10/612204859_25874782055497753_585263275877237438_n.jpg
END:VEVENT
BEGIN:VEVENT
DTSTART;TZID=America/New_York:20260820T200000
DTEND;TZID=America/New_York:20260820T230000
DTSTAMP:20260421T093642
CREATED:20260107T154157Z
LAST-MODIFIED:20260107T154157Z
UID:10430199-1787256000-1787266800@golatindance.com
SUMMARY:Live Salsa at the Rose Gaming Resort
DESCRIPTION:Wednesday nights at The Playbook Sports Bar + Grill are getting spicy! 💃 Join us from 8PM – 11PM for Rhythm & Rose Salsa Nights with live music from Grupo Quimbao latín band\, dance lessons and food & drink specials.
URL:https://golatindance.com/event/live-salsa-at-the-rose-gaming-resort-2-2/2026-08-20/
LOCATION:The Rose Gaming Resort\, 17680 Colonial Street\, Dumfries\, VA\, 22026\, United States
CATEGORIES:Washington DC-Baltimore
ATTACH;FMTTYPE=image/jpeg:https://golatindance.com/wp-content/uploads/2025/10/612204859_25874782055497753_585263275877237438_n.jpg
END:VEVENT
BEGIN:VEVENT
DTSTART;TZID=America/New_York:20260827T200000
DTEND;TZID=America/New_York:20260827T230000
DTSTAMP:20260421T093642
CREATED:20260107T154157Z
LAST-MODIFIED:20260107T154157Z
UID:10430200-1787860800-1787871600@golatindance.com
SUMMARY:Live Salsa at the Rose Gaming Resort
DESCRIPTION:Wednesday nights at The Playbook Sports Bar + Grill are getting spicy! 💃 Join us from 8PM – 11PM for Rhythm & Rose Salsa Nights with live music from Grupo Quimbao latín band\, dance lessons and food & drink specials.
URL:https://golatindance.com/event/live-salsa-at-the-rose-gaming-resort-2-2/2026-08-27/
LOCATION:The Rose Gaming Resort\, 17680 Colonial Street\, Dumfries\, VA\, 22026\, United States
CATEGORIES:Washington DC-Baltimore
ATTACH;FMTTYPE=image/jpeg:https://golatindance.com/wp-content/uploads/2025/10/612204859_25874782055497753_585263275877237438_n.jpg
END:VEVENT
BEGIN:VEVENT
DTSTART;TZID=America/New_York:20260903T200000
DTEND;TZID=America/New_York:20260903T230000
DTSTAMP:20260421T093642
CREATED:20260107T154157Z
LAST-MODIFIED:20260107T154157Z
UID:10430201-1788465600-1788476400@golatindance.com
SUMMARY:Live Salsa at the Rose Gaming Resort
DESCRIPTION:Wednesday nights at The Playbook Sports Bar + Grill are getting spicy! 💃 Join us from 8PM – 11PM for Rhythm & Rose Salsa Nights with live music from Grupo Quimbao latín band\, dance lessons and food & drink specials.
URL:https://golatindance.com/event/live-salsa-at-the-rose-gaming-resort-2-2/2026-09-03/
LOCATION:The Rose Gaming Resort\, 17680 Colonial Street\, Dumfries\, VA\, 22026\, United States
CATEGORIES:Washington DC-Baltimore
ATTACH;FMTTYPE=image/jpeg:https://golatindance.com/wp-content/uploads/2025/10/612204859_25874782055497753_585263275877237438_n.jpg
END:VEVENT
BEGIN:VEVENT
DTSTART;TZID=America/New_York:20260910T200000
DTEND;TZID=America/New_York:20260910T230000
DTSTAMP:20260421T093642
CREATED:20260107T154157Z
LAST-MODIFIED:20260107T154157Z
UID:10430202-1789070400-1789081200@golatindance.com
SUMMARY:Live Salsa at the Rose Gaming Resort
DESCRIPTION:Wednesday nights at The Playbook Sports Bar + Grill are getting spicy! 💃 Join us from 8PM – 11PM for Rhythm & Rose Salsa Nights with live music from Grupo Quimbao latín band\, dance lessons and food & drink specials.
URL:https://golatindance.com/event/live-salsa-at-the-rose-gaming-resort-2-2/2026-09-10/
LOCATION:The Rose Gaming Resort\, 17680 Colonial Street\, Dumfries\, VA\, 22026\, United States
CATEGORIES:Washington DC-Baltimore
ATTACH;FMTTYPE=image/jpeg:https://golatindance.com/wp-content/uploads/2025/10/612204859_25874782055497753_585263275877237438_n.jpg
END:VEVENT
BEGIN:VEVENT
DTSTART;TZID=America/New_York:20260917T200000
DTEND;TZID=America/New_York:20260917T230000
DTSTAMP:20260421T093642
CREATED:20260107T154157Z
LAST-MODIFIED:20260107T154157Z
UID:10430203-1789675200-1789686000@golatindance.com
SUMMARY:Live Salsa at the Rose Gaming Resort
DESCRIPTION:Wednesday nights at The Playbook Sports Bar + Grill are getting spicy! 💃 Join us from 8PM – 11PM for Rhythm & Rose Salsa Nights with live music from Grupo Quimbao latín band\, dance lessons and food & drink specials.
URL:https://golatindance.com/event/live-salsa-at-the-rose-gaming-resort-2-2/2026-09-17/
LOCATION:The Rose Gaming Resort\, 17680 Colonial Street\, Dumfries\, VA\, 22026\, United States
CATEGORIES:Washington DC-Baltimore
ATTACH;FMTTYPE=image/jpeg:https://golatindance.com/wp-content/uploads/2025/10/612204859_25874782055497753_585263275877237438_n.jpg
END:VEVENT
BEGIN:VEVENT
DTSTART;TZID=America/New_York:20260924T200000
DTEND;TZID=America/New_York:20260924T230000
DTSTAMP:20260421T093642
CREATED:20260107T154157Z
LAST-MODIFIED:20260107T154157Z
UID:10430204-1790280000-1790290800@golatindance.com
SUMMARY:Live Salsa at the Rose Gaming Resort
DESCRIPTION:Wednesday nights at The Playbook Sports Bar + Grill are getting spicy! 💃 Join us from 8PM – 11PM for Rhythm & Rose Salsa Nights with live music from Grupo Quimbao latín band\, dance lessons and food & drink specials.
URL:https://golatindance.com/event/live-salsa-at-the-rose-gaming-resort-2-2/2026-09-24/
LOCATION:The Rose Gaming Resort\, 17680 Colonial Street\, Dumfries\, VA\, 22026\, United States
CATEGORIES:Washington DC-Baltimore
ATTACH;FMTTYPE=image/jpeg:https://golatindance.com/wp-content/uploads/2025/10/612204859_25874782055497753_585263275877237438_n.jpg
END:VEVENT
BEGIN:VEVENT
DTSTART;TZID=America/New_York:20261001T200000
DTEND;TZID=America/New_York:20261001T230000
DTSTAMP:20260421T093642
CREATED:20260107T154157Z
LAST-MODIFIED:20260107T154157Z
UID:10430205-1790884800-1790895600@golatindance.com
SUMMARY:Live Salsa at the Rose Gaming Resort
DESCRIPTION:Wednesday nights at The Playbook Sports Bar + Grill are getting spicy! 💃 Join us from 8PM – 11PM for Rhythm & Rose Salsa Nights with live music from Grupo Quimbao latín band\, dance lessons and food & drink specials.
URL:https://golatindance.com/event/live-salsa-at-the-rose-gaming-resort-2-2/2026-10-01/
LOCATION:The Rose Gaming Resort\, 17680 Colonial Street\, Dumfries\, VA\, 22026\, United States
CATEGORIES:Washington DC-Baltimore
ATTACH;FMTTYPE=image/jpeg:https://golatindance.com/wp-content/uploads/2025/10/612204859_25874782055497753_585263275877237438_n.jpg
END:VEVENT
BEGIN:VEVENT
DTSTART;TZID=America/New_York:20261008T200000
DTEND;TZID=America/New_York:20261008T230000
DTSTAMP:20260421T093642
CREATED:20260107T154157Z
LAST-MODIFIED:20260107T154157Z
UID:10430206-1791489600-1791500400@golatindance.com
SUMMARY:Live Salsa at the Rose Gaming Resort
DESCRIPTION:Wednesday nights at The Playbook Sports Bar + Grill are getting spicy! 💃 Join us from 8PM – 11PM for Rhythm & Rose Salsa Nights with live music from Grupo Quimbao latín band\, dance lessons and food & drink specials.
URL:https://golatindance.com/event/live-salsa-at-the-rose-gaming-resort-2-2/2026-10-08/
LOCATION:The Rose Gaming Resort\, 17680 Colonial Street\, Dumfries\, VA\, 22026\, United States
CATEGORIES:Washington DC-Baltimore
ATTACH;FMTTYPE=image/jpeg:https://golatindance.com/wp-content/uploads/2025/10/612204859_25874782055497753_585263275877237438_n.jpg
END:VEVENT
BEGIN:VEVENT
DTSTART;TZID=America/New_York:20261015T200000
DTEND;TZID=America/New_York:20261015T230000
DTSTAMP:20260421T093642
CREATED:20260107T154157Z
LAST-MODIFIED:20260107T154157Z
UID:10430207-1792094400-1792105200@golatindance.com
SUMMARY:Live Salsa at the Rose Gaming Resort
DESCRIPTION:Wednesday nights at The Playbook Sports Bar + Grill are getting spicy! 💃 Join us from 8PM – 11PM for Rhythm & Rose Salsa Nights with live music from Grupo Quimbao latín band\, dance lessons and food & drink specials.
URL:https://golatindance.com/event/live-salsa-at-the-rose-gaming-resort-2-2/2026-10-15/
LOCATION:The Rose Gaming Resort\, 17680 Colonial Street\, Dumfries\, VA\, 22026\, United States
CATEGORIES:Washington DC-Baltimore
ATTACH;FMTTYPE=image/jpeg:https://golatindance.com/wp-content/uploads/2025/10/612204859_25874782055497753_585263275877237438_n.jpg
END:VEVENT
BEGIN:VEVENT
DTSTART;TZID=America/New_York:20261022T200000
DTEND;TZID=America/New_York:20261022T230000
DTSTAMP:20260421T093642
CREATED:20260107T154157Z
LAST-MODIFIED:20260107T154157Z
UID:10430208-1792699200-1792710000@golatindance.com
SUMMARY:Live Salsa at the Rose Gaming Resort
DESCRIPTION:Wednesday nights at The Playbook Sports Bar + Grill are getting spicy! 💃 Join us from 8PM – 11PM for Rhythm & Rose Salsa Nights with live music from Grupo Quimbao latín band\, dance lessons and food & drink specials.
URL:https://golatindance.com/event/live-salsa-at-the-rose-gaming-resort-2-2/2026-10-22/
LOCATION:The Rose Gaming Resort\, 17680 Colonial Street\, Dumfries\, VA\, 22026\, United States
CATEGORIES:Washington DC-Baltimore
ATTACH;FMTTYPE=image/jpeg:https://golatindance.com/wp-content/uploads/2025/10/612204859_25874782055497753_585263275877237438_n.jpg
END:VEVENT
BEGIN:VEVENT
DTSTART;TZID=America/New_York:20261029T200000
DTEND;TZID=America/New_York:20261029T230000
DTSTAMP:20260421T093642
CREATED:20260107T154157Z
LAST-MODIFIED:20260107T154157Z
UID:10430209-1793304000-1793314800@golatindance.com
SUMMARY:Live Salsa at the Rose Gaming Resort
DESCRIPTION:Wednesday nights at The Playbook Sports Bar + Grill are getting spicy! 💃 Join us from 8PM – 11PM for Rhythm & Rose Salsa Nights with live music from Grupo Quimbao latín band\, dance lessons and food & drink specials.
URL:https://golatindance.com/event/live-salsa-at-the-rose-gaming-resort-2-2/2026-10-29/
LOCATION:The Rose Gaming Resort\, 17680 Colonial Street\, Dumfries\, VA\, 22026\, United States
CATEGORIES:Washington DC-Baltimore
ATTACH;FMTTYPE=image/jpeg:https://golatindance.com/wp-content/uploads/2025/10/612204859_25874782055497753_585263275877237438_n.jpg
END:VEVENT
BEGIN:VEVENT
DTSTART;TZID=America/New_York:20261105T200000
DTEND;TZID=America/New_York:20261105T230000
DTSTAMP:20260421T093642
CREATED:20260107T154157Z
LAST-MODIFIED:20260107T154157Z
UID:10430210-1793908800-1793919600@golatindance.com
SUMMARY:Live Salsa at the Rose Gaming Resort
DESCRIPTION:Wednesday nights at The Playbook Sports Bar + Grill are getting spicy! 💃 Join us from 8PM – 11PM for Rhythm & Rose Salsa Nights with live music from Grupo Quimbao latín band\, dance lessons and food & drink specials.
URL:https://golatindance.com/event/live-salsa-at-the-rose-gaming-resort-2-2/2026-11-05/
LOCATION:The Rose Gaming Resort\, 17680 Colonial Street\, Dumfries\, VA\, 22026\, United States
CATEGORIES:Washington DC-Baltimore
ATTACH;FMTTYPE=image/jpeg:https://golatindance.com/wp-content/uploads/2025/10/612204859_25874782055497753_585263275877237438_n.jpg
END:VEVENT
BEGIN:VEVENT
DTSTART;TZID=America/New_York:20261112T200000
DTEND;TZID=America/New_York:20261112T230000
DTSTAMP:20260421T093642
CREATED:20260107T154157Z
LAST-MODIFIED:20260107T154157Z
UID:10430211-1794513600-1794524400@golatindance.com
SUMMARY:Live Salsa at the Rose Gaming Resort
DESCRIPTION:Wednesday nights at The Playbook Sports Bar + Grill are getting spicy! 💃 Join us from 8PM – 11PM for Rhythm & Rose Salsa Nights with live music from Grupo Quimbao latín band\, dance lessons and food & drink specials.
URL:https://golatindance.com/event/live-salsa-at-the-rose-gaming-resort-2-2/2026-11-12/
LOCATION:The Rose Gaming Resort\, 17680 Colonial Street\, Dumfries\, VA\, 22026\, United States
CATEGORIES:Washington DC-Baltimore
ATTACH;FMTTYPE=image/jpeg:https://golatindance.com/wp-content/uploads/2025/10/612204859_25874782055497753_585263275877237438_n.jpg
END:VEVENT
END:VCALENDAR