BEGIN:VCALENDAR
VERSION:2.0
PRODID:-//GO Latin Dance - ECPv6.15.18//NONSGML v1.0//EN
CALSCALE:GREGORIAN
METHOD:PUBLISH
X-ORIGINAL-URL:https://golatindance.com
X-WR-CALDESC:Events for GO Latin Dance
REFRESH-INTERVAL;VALUE=DURATION:PT1H
X-Robots-Tag:noindex
X-PUBLISHED-TTL:PT1H
BEGIN:VTIMEZONE
TZID:America/New_York
BEGIN:DAYLIGHT
TZOFFSETFROM:-0500
TZOFFSETTO:-0400
TZNAME:EDT
DTSTART:20260308T070000
END:DAYLIGHT
BEGIN:STANDARD
TZOFFSETFROM:-0400
TZOFFSETTO:-0500
TZNAME:EST
DTSTART:20261101T060000
END:STANDARD
BEGIN:DAYLIGHT
TZOFFSETFROM:-0500
TZOFFSETTO:-0400
TZNAME:EDT
DTSTART:20270314T070000
END:DAYLIGHT
BEGIN:STANDARD
TZOFFSETFROM:-0400
TZOFFSETTO:-0500
TZNAME:EST
DTSTART:20271107T060000
END:STANDARD
BEGIN:DAYLIGHT
TZOFFSETFROM:-0500
TZOFFSETTO:-0400
TZNAME:EDT
DTSTART:20280312T070000
END:DAYLIGHT
BEGIN:STANDARD
TZOFFSETFROM:-0400
TZOFFSETTO:-0500
TZNAME:EST
DTSTART:20281105T060000
END:STANDARD
END:VTIMEZONE
BEGIN:VEVENT
DTSTART;TZID=America/New_York:20270630T180000
DTEND;TZID=America/New_York:20270630T210000
DTSTAMP:20260421T065121
CREATED:20260420T175804Z
LAST-MODIFIED:20260420T175804Z
UID:10450547-1814378400-1814389200@golatindance.com
SUMMARY:Mi Salsa Dura Baile in the park!
DESCRIPTION:Join us Wednesday nights for salsa\, dance\, and community under the stars at Washington Square Park\, NY from 6:00 PM to 9:00 PM! Let’s create a more inclusive and vibrant community together. Thank you for your support!!\n#salsanight #outdoor #summer #washingtonsquarepark #danceparty #nyc #meetup #free #vibes #thingstodo #music #dance #followers #everyone #mambo #salsaon1 #salsaon2 #inclusion #diversity #eastvillage #fun #salsa #bachata #highlights #thread #follower #donate #freeclass #6PM
URL:https://golatindance.com/event/mi-salsa-dura-baile-in-the-park/2027-06-30/
LOCATION:Washington Square Park\, Ny\, NY\, 10012\, United States
CATEGORIES:New York City
ATTACH;FMTTYPE=image/jpeg:https://golatindance.com/wp-content/uploads/2026/04/26390.jpg
GEO:40.730116;-73.9979578
END:VEVENT
BEGIN:VEVENT
DTSTART;TZID=America/New_York:20270707T180000
DTEND;TZID=America/New_York:20270707T210000
DTSTAMP:20260421T065121
CREATED:20260420T175804Z
LAST-MODIFIED:20260420T175804Z
UID:10450548-1814983200-1814994000@golatindance.com
SUMMARY:Mi Salsa Dura Baile in the park!
DESCRIPTION:Join us Wednesday nights for salsa\, dance\, and community under the stars at Washington Square Park\, NY from 6:00 PM to 9:00 PM! Let’s create a more inclusive and vibrant community together. Thank you for your support!!\n#salsanight #outdoor #summer #washingtonsquarepark #danceparty #nyc #meetup #free #vibes #thingstodo #music #dance #followers #everyone #mambo #salsaon1 #salsaon2 #inclusion #diversity #eastvillage #fun #salsa #bachata #highlights #thread #follower #donate #freeclass #6PM
URL:https://golatindance.com/event/mi-salsa-dura-baile-in-the-park/2027-07-07/
LOCATION:Washington Square Park\, Ny\, NY\, 10012\, United States
CATEGORIES:New York City
ATTACH;FMTTYPE=image/jpeg:https://golatindance.com/wp-content/uploads/2026/04/26390.jpg
GEO:40.730116;-73.9979578
END:VEVENT
BEGIN:VEVENT
DTSTART;TZID=America/New_York:20270714T180000
DTEND;TZID=America/New_York:20270714T210000
DTSTAMP:20260421T065121
CREATED:20260420T175804Z
LAST-MODIFIED:20260420T175804Z
UID:10450549-1815588000-1815598800@golatindance.com
SUMMARY:Mi Salsa Dura Baile in the park!
DESCRIPTION:Join us Wednesday nights for salsa\, dance\, and community under the stars at Washington Square Park\, NY from 6:00 PM to 9:00 PM! Let’s create a more inclusive and vibrant community together. Thank you for your support!!\n#salsanight #outdoor #summer #washingtonsquarepark #danceparty #nyc #meetup #free #vibes #thingstodo #music #dance #followers #everyone #mambo #salsaon1 #salsaon2 #inclusion #diversity #eastvillage #fun #salsa #bachata #highlights #thread #follower #donate #freeclass #6PM
URL:https://golatindance.com/event/mi-salsa-dura-baile-in-the-park/2027-07-14/
LOCATION:Washington Square Park\, Ny\, NY\, 10012\, United States
CATEGORIES:New York City
ATTACH;FMTTYPE=image/jpeg:https://golatindance.com/wp-content/uploads/2026/04/26390.jpg
GEO:40.730116;-73.9979578
END:VEVENT
BEGIN:VEVENT
DTSTART;TZID=America/New_York:20270721T180000
DTEND;TZID=America/New_York:20270721T210000
DTSTAMP:20260421T065121
CREATED:20260420T175804Z
LAST-MODIFIED:20260420T175804Z
UID:10450550-1816192800-1816203600@golatindance.com
SUMMARY:Mi Salsa Dura Baile in the park!
DESCRIPTION:Join us Wednesday nights for salsa\, dance\, and community under the stars at Washington Square Park\, NY from 6:00 PM to 9:00 PM! Let’s create a more inclusive and vibrant community together. Thank you for your support!!\n#salsanight #outdoor #summer #washingtonsquarepark #danceparty #nyc #meetup #free #vibes #thingstodo #music #dance #followers #everyone #mambo #salsaon1 #salsaon2 #inclusion #diversity #eastvillage #fun #salsa #bachata #highlights #thread #follower #donate #freeclass #6PM
URL:https://golatindance.com/event/mi-salsa-dura-baile-in-the-park/2027-07-21/
LOCATION:Washington Square Park\, Ny\, NY\, 10012\, United States
CATEGORIES:New York City
ATTACH;FMTTYPE=image/jpeg:https://golatindance.com/wp-content/uploads/2026/04/26390.jpg
GEO:40.730116;-73.9979578
END:VEVENT
BEGIN:VEVENT
DTSTART;TZID=America/New_York:20270728T180000
DTEND;TZID=America/New_York:20270728T210000
DTSTAMP:20260421T065122
CREATED:20260420T175804Z
LAST-MODIFIED:20260420T175804Z
UID:10450551-1816797600-1816808400@golatindance.com
SUMMARY:Mi Salsa Dura Baile in the park!
DESCRIPTION:Join us Wednesday nights for salsa\, dance\, and community under the stars at Washington Square Park\, NY from 6:00 PM to 9:00 PM! Let’s create a more inclusive and vibrant community together. Thank you for your support!!\n#salsanight #outdoor #summer #washingtonsquarepark #danceparty #nyc #meetup #free #vibes #thingstodo #music #dance #followers #everyone #mambo #salsaon1 #salsaon2 #inclusion #diversity #eastvillage #fun #salsa #bachata #highlights #thread #follower #donate #freeclass #6PM
URL:https://golatindance.com/event/mi-salsa-dura-baile-in-the-park/2027-07-28/
LOCATION:Washington Square Park\, Ny\, NY\, 10012\, United States
CATEGORIES:New York City
ATTACH;FMTTYPE=image/jpeg:https://golatindance.com/wp-content/uploads/2026/04/26390.jpg
GEO:40.730116;-73.9979578
END:VEVENT
BEGIN:VEVENT
DTSTART;TZID=America/New_York:20270804T180000
DTEND;TZID=America/New_York:20270804T210000
DTSTAMP:20260421T065122
CREATED:20260420T175804Z
LAST-MODIFIED:20260420T175804Z
UID:10450552-1817402400-1817413200@golatindance.com
SUMMARY:Mi Salsa Dura Baile in the park!
DESCRIPTION:Join us Wednesday nights for salsa\, dance\, and community under the stars at Washington Square Park\, NY from 6:00 PM to 9:00 PM! Let’s create a more inclusive and vibrant community together. Thank you for your support!!\n#salsanight #outdoor #summer #washingtonsquarepark #danceparty #nyc #meetup #free #vibes #thingstodo #music #dance #followers #everyone #mambo #salsaon1 #salsaon2 #inclusion #diversity #eastvillage #fun #salsa #bachata #highlights #thread #follower #donate #freeclass #6PM
URL:https://golatindance.com/event/mi-salsa-dura-baile-in-the-park/2027-08-04/
LOCATION:Washington Square Park\, Ny\, NY\, 10012\, United States
CATEGORIES:New York City
ATTACH;FMTTYPE=image/jpeg:https://golatindance.com/wp-content/uploads/2026/04/26390.jpg
GEO:40.730116;-73.9979578
END:VEVENT
BEGIN:VEVENT
DTSTART;TZID=America/New_York:20270811T180000
DTEND;TZID=America/New_York:20270811T210000
DTSTAMP:20260421T065122
CREATED:20260420T175804Z
LAST-MODIFIED:20260420T175804Z
UID:10450553-1818007200-1818018000@golatindance.com
SUMMARY:Mi Salsa Dura Baile in the park!
DESCRIPTION:Join us Wednesday nights for salsa\, dance\, and community under the stars at Washington Square Park\, NY from 6:00 PM to 9:00 PM! Let’s create a more inclusive and vibrant community together. Thank you for your support!!\n#salsanight #outdoor #summer #washingtonsquarepark #danceparty #nyc #meetup #free #vibes #thingstodo #music #dance #followers #everyone #mambo #salsaon1 #salsaon2 #inclusion #diversity #eastvillage #fun #salsa #bachata #highlights #thread #follower #donate #freeclass #6PM
URL:https://golatindance.com/event/mi-salsa-dura-baile-in-the-park/2027-08-11/
LOCATION:Washington Square Park\, Ny\, NY\, 10012\, United States
CATEGORIES:New York City
ATTACH;FMTTYPE=image/jpeg:https://golatindance.com/wp-content/uploads/2026/04/26390.jpg
GEO:40.730116;-73.9979578
END:VEVENT
BEGIN:VEVENT
DTSTART;TZID=America/New_York:20270818T180000
DTEND;TZID=America/New_York:20270818T210000
DTSTAMP:20260421T065122
CREATED:20260420T175804Z
LAST-MODIFIED:20260420T175804Z
UID:10450554-1818612000-1818622800@golatindance.com
SUMMARY:Mi Salsa Dura Baile in the park!
DESCRIPTION:Join us Wednesday nights for salsa\, dance\, and community under the stars at Washington Square Park\, NY from 6:00 PM to 9:00 PM! Let’s create a more inclusive and vibrant community together. Thank you for your support!!\n#salsanight #outdoor #summer #washingtonsquarepark #danceparty #nyc #meetup #free #vibes #thingstodo #music #dance #followers #everyone #mambo #salsaon1 #salsaon2 #inclusion #diversity #eastvillage #fun #salsa #bachata #highlights #thread #follower #donate #freeclass #6PM
URL:https://golatindance.com/event/mi-salsa-dura-baile-in-the-park/2027-08-18/
LOCATION:Washington Square Park\, Ny\, NY\, 10012\, United States
CATEGORIES:New York City
ATTACH;FMTTYPE=image/jpeg:https://golatindance.com/wp-content/uploads/2026/04/26390.jpg
GEO:40.730116;-73.9979578
END:VEVENT
BEGIN:VEVENT
DTSTART;TZID=America/New_York:20270825T180000
DTEND;TZID=America/New_York:20270825T210000
DTSTAMP:20260421T065122
CREATED:20260420T175804Z
LAST-MODIFIED:20260420T175804Z
UID:10450555-1819216800-1819227600@golatindance.com
SUMMARY:Mi Salsa Dura Baile in the park!
DESCRIPTION:Join us Wednesday nights for salsa\, dance\, and community under the stars at Washington Square Park\, NY from 6:00 PM to 9:00 PM! Let’s create a more inclusive and vibrant community together. Thank you for your support!!\n#salsanight #outdoor #summer #washingtonsquarepark #danceparty #nyc #meetup #free #vibes #thingstodo #music #dance #followers #everyone #mambo #salsaon1 #salsaon2 #inclusion #diversity #eastvillage #fun #salsa #bachata #highlights #thread #follower #donate #freeclass #6PM
URL:https://golatindance.com/event/mi-salsa-dura-baile-in-the-park/2027-08-25/
LOCATION:Washington Square Park\, Ny\, NY\, 10012\, United States
CATEGORIES:New York City
ATTACH;FMTTYPE=image/jpeg:https://golatindance.com/wp-content/uploads/2026/04/26390.jpg
GEO:40.730116;-73.9979578
END:VEVENT
BEGIN:VEVENT
DTSTART;TZID=America/New_York:20270901T180000
DTEND;TZID=America/New_York:20270901T210000
DTSTAMP:20260421T065122
CREATED:20260420T175804Z
LAST-MODIFIED:20260420T175804Z
UID:10450556-1819821600-1819832400@golatindance.com
SUMMARY:Mi Salsa Dura Baile in the park!
DESCRIPTION:Join us Wednesday nights for salsa\, dance\, and community under the stars at Washington Square Park\, NY from 6:00 PM to 9:00 PM! Let’s create a more inclusive and vibrant community together. Thank you for your support!!\n#salsanight #outdoor #summer #washingtonsquarepark #danceparty #nyc #meetup #free #vibes #thingstodo #music #dance #followers #everyone #mambo #salsaon1 #salsaon2 #inclusion #diversity #eastvillage #fun #salsa #bachata #highlights #thread #follower #donate #freeclass #6PM
URL:https://golatindance.com/event/mi-salsa-dura-baile-in-the-park/2027-09-01/
LOCATION:Washington Square Park\, Ny\, NY\, 10012\, United States
CATEGORIES:New York City
ATTACH;FMTTYPE=image/jpeg:https://golatindance.com/wp-content/uploads/2026/04/26390.jpg
GEO:40.730116;-73.9979578
END:VEVENT
BEGIN:VEVENT
DTSTART;TZID=America/New_York:20270908T180000
DTEND;TZID=America/New_York:20270908T210000
DTSTAMP:20260421T065122
CREATED:20260420T175804Z
LAST-MODIFIED:20260420T175804Z
UID:10450557-1820426400-1820437200@golatindance.com
SUMMARY:Mi Salsa Dura Baile in the park!
DESCRIPTION:Join us Wednesday nights for salsa\, dance\, and community under the stars at Washington Square Park\, NY from 6:00 PM to 9:00 PM! Let’s create a more inclusive and vibrant community together. Thank you for your support!!\n#salsanight #outdoor #summer #washingtonsquarepark #danceparty #nyc #meetup #free #vibes #thingstodo #music #dance #followers #everyone #mambo #salsaon1 #salsaon2 #inclusion #diversity #eastvillage #fun #salsa #bachata #highlights #thread #follower #donate #freeclass #6PM
URL:https://golatindance.com/event/mi-salsa-dura-baile-in-the-park/2027-09-08/
LOCATION:Washington Square Park\, Ny\, NY\, 10012\, United States
CATEGORIES:New York City
ATTACH;FMTTYPE=image/jpeg:https://golatindance.com/wp-content/uploads/2026/04/26390.jpg
GEO:40.730116;-73.9979578
END:VEVENT
BEGIN:VEVENT
DTSTART;TZID=America/New_York:20270915T180000
DTEND;TZID=America/New_York:20270915T210000
DTSTAMP:20260421T065122
CREATED:20260420T175804Z
LAST-MODIFIED:20260420T175804Z
UID:10450558-1821031200-1821042000@golatindance.com
SUMMARY:Mi Salsa Dura Baile in the park!
DESCRIPTION:Join us Wednesday nights for salsa\, dance\, and community under the stars at Washington Square Park\, NY from 6:00 PM to 9:00 PM! Let’s create a more inclusive and vibrant community together. Thank you for your support!!\n#salsanight #outdoor #summer #washingtonsquarepark #danceparty #nyc #meetup #free #vibes #thingstodo #music #dance #followers #everyone #mambo #salsaon1 #salsaon2 #inclusion #diversity #eastvillage #fun #salsa #bachata #highlights #thread #follower #donate #freeclass #6PM
URL:https://golatindance.com/event/mi-salsa-dura-baile-in-the-park/2027-09-15/
LOCATION:Washington Square Park\, Ny\, NY\, 10012\, United States
CATEGORIES:New York City
ATTACH;FMTTYPE=image/jpeg:https://golatindance.com/wp-content/uploads/2026/04/26390.jpg
GEO:40.730116;-73.9979578
END:VEVENT
BEGIN:VEVENT
DTSTART;TZID=America/New_York:20270922T180000
DTEND;TZID=America/New_York:20270922T210000
DTSTAMP:20260421T065122
CREATED:20260420T175804Z
LAST-MODIFIED:20260420T175804Z
UID:10450559-1821636000-1821646800@golatindance.com
SUMMARY:Mi Salsa Dura Baile in the park!
DESCRIPTION:Join us Wednesday nights for salsa\, dance\, and community under the stars at Washington Square Park\, NY from 6:00 PM to 9:00 PM! Let’s create a more inclusive and vibrant community together. Thank you for your support!!\n#salsanight #outdoor #summer #washingtonsquarepark #danceparty #nyc #meetup #free #vibes #thingstodo #music #dance #followers #everyone #mambo #salsaon1 #salsaon2 #inclusion #diversity #eastvillage #fun #salsa #bachata #highlights #thread #follower #donate #freeclass #6PM
URL:https://golatindance.com/event/mi-salsa-dura-baile-in-the-park/2027-09-22/
LOCATION:Washington Square Park\, Ny\, NY\, 10012\, United States
CATEGORIES:New York City
ATTACH;FMTTYPE=image/jpeg:https://golatindance.com/wp-content/uploads/2026/04/26390.jpg
GEO:40.730116;-73.9979578
END:VEVENT
BEGIN:VEVENT
DTSTART;TZID=America/New_York:20270929T180000
DTEND;TZID=America/New_York:20270929T210000
DTSTAMP:20260421T065122
CREATED:20260420T175804Z
LAST-MODIFIED:20260420T175804Z
UID:10450560-1822240800-1822251600@golatindance.com
SUMMARY:Mi Salsa Dura Baile in the park!
DESCRIPTION:Join us Wednesday nights for salsa\, dance\, and community under the stars at Washington Square Park\, NY from 6:00 PM to 9:00 PM! Let’s create a more inclusive and vibrant community together. Thank you for your support!!\n#salsanight #outdoor #summer #washingtonsquarepark #danceparty #nyc #meetup #free #vibes #thingstodo #music #dance #followers #everyone #mambo #salsaon1 #salsaon2 #inclusion #diversity #eastvillage #fun #salsa #bachata #highlights #thread #follower #donate #freeclass #6PM
URL:https://golatindance.com/event/mi-salsa-dura-baile-in-the-park/2027-09-29/
LOCATION:Washington Square Park\, Ny\, NY\, 10012\, United States
CATEGORIES:New York City
ATTACH;FMTTYPE=image/jpeg:https://golatindance.com/wp-content/uploads/2026/04/26390.jpg
GEO:40.730116;-73.9979578
END:VEVENT
BEGIN:VEVENT
DTSTART;TZID=America/New_York:20271006T180000
DTEND;TZID=America/New_York:20271006T210000
DTSTAMP:20260421T065122
CREATED:20260420T175804Z
LAST-MODIFIED:20260420T175804Z
UID:10450561-1822845600-1822856400@golatindance.com
SUMMARY:Mi Salsa Dura Baile in the park!
DESCRIPTION:Join us Wednesday nights for salsa\, dance\, and community under the stars at Washington Square Park\, NY from 6:00 PM to 9:00 PM! Let’s create a more inclusive and vibrant community together. Thank you for your support!!\n#salsanight #outdoor #summer #washingtonsquarepark #danceparty #nyc #meetup #free #vibes #thingstodo #music #dance #followers #everyone #mambo #salsaon1 #salsaon2 #inclusion #diversity #eastvillage #fun #salsa #bachata #highlights #thread #follower #donate #freeclass #6PM
URL:https://golatindance.com/event/mi-salsa-dura-baile-in-the-park/2027-10-06/
LOCATION:Washington Square Park\, Ny\, NY\, 10012\, United States
CATEGORIES:New York City
ATTACH;FMTTYPE=image/jpeg:https://golatindance.com/wp-content/uploads/2026/04/26390.jpg
GEO:40.730116;-73.9979578
END:VEVENT
BEGIN:VEVENT
DTSTART;TZID=America/New_York:20271013T180000
DTEND;TZID=America/New_York:20271013T210000
DTSTAMP:20260421T065122
CREATED:20260420T175804Z
LAST-MODIFIED:20260420T175804Z
UID:10450562-1823450400-1823461200@golatindance.com
SUMMARY:Mi Salsa Dura Baile in the park!
DESCRIPTION:Join us Wednesday nights for salsa\, dance\, and community under the stars at Washington Square Park\, NY from 6:00 PM to 9:00 PM! Let’s create a more inclusive and vibrant community together. Thank you for your support!!\n#salsanight #outdoor #summer #washingtonsquarepark #danceparty #nyc #meetup #free #vibes #thingstodo #music #dance #followers #everyone #mambo #salsaon1 #salsaon2 #inclusion #diversity #eastvillage #fun #salsa #bachata #highlights #thread #follower #donate #freeclass #6PM
URL:https://golatindance.com/event/mi-salsa-dura-baile-in-the-park/2027-10-13/
LOCATION:Washington Square Park\, Ny\, NY\, 10012\, United States
CATEGORIES:New York City
ATTACH;FMTTYPE=image/jpeg:https://golatindance.com/wp-content/uploads/2026/04/26390.jpg
GEO:40.730116;-73.9979578
END:VEVENT
BEGIN:VEVENT
DTSTART;TZID=America/New_York:20271020T180000
DTEND;TZID=America/New_York:20271020T210000
DTSTAMP:20260421T065122
CREATED:20260420T175804Z
LAST-MODIFIED:20260420T175804Z
UID:10450563-1824055200-1824066000@golatindance.com
SUMMARY:Mi Salsa Dura Baile in the park!
DESCRIPTION:Join us Wednesday nights for salsa\, dance\, and community under the stars at Washington Square Park\, NY from 6:00 PM to 9:00 PM! Let’s create a more inclusive and vibrant community together. Thank you for your support!!\n#salsanight #outdoor #summer #washingtonsquarepark #danceparty #nyc #meetup #free #vibes #thingstodo #music #dance #followers #everyone #mambo #salsaon1 #salsaon2 #inclusion #diversity #eastvillage #fun #salsa #bachata #highlights #thread #follower #donate #freeclass #6PM
URL:https://golatindance.com/event/mi-salsa-dura-baile-in-the-park/2027-10-20/
LOCATION:Washington Square Park\, Ny\, NY\, 10012\, United States
CATEGORIES:New York City
ATTACH;FMTTYPE=image/jpeg:https://golatindance.com/wp-content/uploads/2026/04/26390.jpg
GEO:40.730116;-73.9979578
END:VEVENT
BEGIN:VEVENT
DTSTART;TZID=America/New_York:20271027T180000
DTEND;TZID=America/New_York:20271027T210000
DTSTAMP:20260421T065122
CREATED:20260420T175804Z
LAST-MODIFIED:20260420T175804Z
UID:10450564-1824660000-1824670800@golatindance.com
SUMMARY:Mi Salsa Dura Baile in the park!
DESCRIPTION:Join us Wednesday nights for salsa\, dance\, and community under the stars at Washington Square Park\, NY from 6:00 PM to 9:00 PM! Let’s create a more inclusive and vibrant community together. Thank you for your support!!\n#salsanight #outdoor #summer #washingtonsquarepark #danceparty #nyc #meetup #free #vibes #thingstodo #music #dance #followers #everyone #mambo #salsaon1 #salsaon2 #inclusion #diversity #eastvillage #fun #salsa #bachata #highlights #thread #follower #donate #freeclass #6PM
URL:https://golatindance.com/event/mi-salsa-dura-baile-in-the-park/2027-10-27/
LOCATION:Washington Square Park\, Ny\, NY\, 10012\, United States
CATEGORIES:New York City
ATTACH;FMTTYPE=image/jpeg:https://golatindance.com/wp-content/uploads/2026/04/26390.jpg
GEO:40.730116;-73.9979578
END:VEVENT
END:VCALENDAR