BEGIN:VCALENDAR
VERSION:2.0
PRODID:-//GO Latin Dance - ECPv6.15.18//NONSGML v1.0//EN
CALSCALE:GREGORIAN
METHOD:PUBLISH
X-WR-CALNAME:GO Latin Dance
X-ORIGINAL-URL:https://golatindance.com
X-WR-CALDESC:Events for GO Latin Dance
REFRESH-INTERVAL;VALUE=DURATION:PT1H
X-Robots-Tag:noindex
X-PUBLISHED-TTL:PT1H
BEGIN:VTIMEZONE
TZID:America/New_York
BEGIN:DAYLIGHT
TZOFFSETFROM:-0500
TZOFFSETTO:-0400
TZNAME:EDT
DTSTART:20250309T070000
END:DAYLIGHT
BEGIN:STANDARD
TZOFFSETFROM:-0400
TZOFFSETTO:-0500
TZNAME:EST
DTSTART:20251102T060000
END:STANDARD
BEGIN:DAYLIGHT
TZOFFSETFROM:-0500
TZOFFSETTO:-0400
TZNAME:EDT
DTSTART:20260308T070000
END:DAYLIGHT
BEGIN:STANDARD
TZOFFSETFROM:-0400
TZOFFSETTO:-0500
TZNAME:EST
DTSTART:20261101T060000
END:STANDARD
BEGIN:DAYLIGHT
TZOFFSETFROM:-0500
TZOFFSETTO:-0400
TZNAME:EDT
DTSTART:20270314T070000
END:DAYLIGHT
BEGIN:STANDARD
TZOFFSETFROM:-0400
TZOFFSETTO:-0500
TZNAME:EST
DTSTART:20271107T060000
END:STANDARD
END:VTIMEZONE
BEGIN:VEVENT
DTSTART;TZID=America/New_York:20260701T180000
DTEND;TZID=America/New_York:20260701T210000
DTSTAMP:20260421T001657
CREATED:20260420T175804Z
LAST-MODIFIED:20260420T175804Z
UID:10450495-1782928800-1782939600@golatindance.com
SUMMARY:Mi Salsa Dura Baile in the park!
DESCRIPTION:Join us Wednesday nights for salsa\, dance\, and community under the stars at Washington Square Park\, NY from 6:00 PM to 9:00 PM! Let’s create a more inclusive and vibrant community together. Thank you for your support!!\n#salsanight #outdoor #summer #washingtonsquarepark #danceparty #nyc #meetup #free #vibes #thingstodo #music #dance #followers #everyone #mambo #salsaon1 #salsaon2 #inclusion #diversity #eastvillage #fun #salsa #bachata #highlights #thread #follower #donate #freeclass #6PM
URL:https://golatindance.com/event/mi-salsa-dura-baile-in-the-park/2026-07-01/
LOCATION:Washington Square Park\, Ny\, NY\, 10012\, United States
CATEGORIES:New York City
ATTACH;FMTTYPE=image/jpeg:https://golatindance.com/wp-content/uploads/2026/04/26390.jpg
GEO:40.730116;-73.9979578
END:VEVENT
BEGIN:VEVENT
DTSTART;TZID=America/New_York:20260708T180000
DTEND;TZID=America/New_York:20260708T210000
DTSTAMP:20260421T001657
CREATED:20260420T175804Z
LAST-MODIFIED:20260420T175804Z
UID:10450496-1783533600-1783544400@golatindance.com
SUMMARY:Mi Salsa Dura Baile in the park!
DESCRIPTION:Join us Wednesday nights for salsa\, dance\, and community under the stars at Washington Square Park\, NY from 6:00 PM to 9:00 PM! Let’s create a more inclusive and vibrant community together. Thank you for your support!!\n#salsanight #outdoor #summer #washingtonsquarepark #danceparty #nyc #meetup #free #vibes #thingstodo #music #dance #followers #everyone #mambo #salsaon1 #salsaon2 #inclusion #diversity #eastvillage #fun #salsa #bachata #highlights #thread #follower #donate #freeclass #6PM
URL:https://golatindance.com/event/mi-salsa-dura-baile-in-the-park/2026-07-08/
LOCATION:Washington Square Park\, Ny\, NY\, 10012\, United States
CATEGORIES:New York City
ATTACH;FMTTYPE=image/jpeg:https://golatindance.com/wp-content/uploads/2026/04/26390.jpg
GEO:40.730116;-73.9979578
END:VEVENT
BEGIN:VEVENT
DTSTART;TZID=America/New_York:20260715T180000
DTEND;TZID=America/New_York:20260715T210000
DTSTAMP:20260421T001657
CREATED:20260420T175804Z
LAST-MODIFIED:20260420T175804Z
UID:10450497-1784138400-1784149200@golatindance.com
SUMMARY:Mi Salsa Dura Baile in the park!
DESCRIPTION:Join us Wednesday nights for salsa\, dance\, and community under the stars at Washington Square Park\, NY from 6:00 PM to 9:00 PM! Let’s create a more inclusive and vibrant community together. Thank you for your support!!\n#salsanight #outdoor #summer #washingtonsquarepark #danceparty #nyc #meetup #free #vibes #thingstodo #music #dance #followers #everyone #mambo #salsaon1 #salsaon2 #inclusion #diversity #eastvillage #fun #salsa #bachata #highlights #thread #follower #donate #freeclass #6PM
URL:https://golatindance.com/event/mi-salsa-dura-baile-in-the-park/2026-07-15/
LOCATION:Washington Square Park\, Ny\, NY\, 10012\, United States
CATEGORIES:New York City
ATTACH;FMTTYPE=image/jpeg:https://golatindance.com/wp-content/uploads/2026/04/26390.jpg
GEO:40.730116;-73.9979578
END:VEVENT
BEGIN:VEVENT
DTSTART;TZID=America/New_York:20260722T180000
DTEND;TZID=America/New_York:20260722T210000
DTSTAMP:20260421T001657
CREATED:20260420T175804Z
LAST-MODIFIED:20260420T175804Z
UID:10450498-1784743200-1784754000@golatindance.com
SUMMARY:Mi Salsa Dura Baile in the park!
DESCRIPTION:Join us Wednesday nights for salsa\, dance\, and community under the stars at Washington Square Park\, NY from 6:00 PM to 9:00 PM! Let’s create a more inclusive and vibrant community together. Thank you for your support!!\n#salsanight #outdoor #summer #washingtonsquarepark #danceparty #nyc #meetup #free #vibes #thingstodo #music #dance #followers #everyone #mambo #salsaon1 #salsaon2 #inclusion #diversity #eastvillage #fun #salsa #bachata #highlights #thread #follower #donate #freeclass #6PM
URL:https://golatindance.com/event/mi-salsa-dura-baile-in-the-park/2026-07-22/
LOCATION:Washington Square Park\, Ny\, NY\, 10012\, United States
CATEGORIES:New York City
ATTACH;FMTTYPE=image/jpeg:https://golatindance.com/wp-content/uploads/2026/04/26390.jpg
GEO:40.730116;-73.9979578
END:VEVENT
BEGIN:VEVENT
DTSTART;TZID=America/New_York:20260729T180000
DTEND;TZID=America/New_York:20260729T210000
DTSTAMP:20260421T001657
CREATED:20260420T175804Z
LAST-MODIFIED:20260420T175804Z
UID:10450499-1785348000-1785358800@golatindance.com
SUMMARY:Mi Salsa Dura Baile in the park!
DESCRIPTION:Join us Wednesday nights for salsa\, dance\, and community under the stars at Washington Square Park\, NY from 6:00 PM to 9:00 PM! Let’s create a more inclusive and vibrant community together. Thank you for your support!!\n#salsanight #outdoor #summer #washingtonsquarepark #danceparty #nyc #meetup #free #vibes #thingstodo #music #dance #followers #everyone #mambo #salsaon1 #salsaon2 #inclusion #diversity #eastvillage #fun #salsa #bachata #highlights #thread #follower #donate #freeclass #6PM
URL:https://golatindance.com/event/mi-salsa-dura-baile-in-the-park/2026-07-29/
LOCATION:Washington Square Park\, Ny\, NY\, 10012\, United States
CATEGORIES:New York City
ATTACH;FMTTYPE=image/jpeg:https://golatindance.com/wp-content/uploads/2026/04/26390.jpg
GEO:40.730116;-73.9979578
END:VEVENT
END:VCALENDAR