BEGIN:VCALENDAR
VERSION:2.0
PRODID:-//GO Latin Dance - ECPv6.15.18//NONSGML v1.0//EN
CALSCALE:GREGORIAN
METHOD:PUBLISH
X-WR-CALNAME:GO Latin Dance
X-ORIGINAL-URL:https://golatindance.com
X-WR-CALDESC:Events for GO Latin Dance
REFRESH-INTERVAL;VALUE=DURATION:PT1H
X-Robots-Tag:noindex
X-PUBLISHED-TTL:PT1H
BEGIN:VTIMEZONE
TZID:America/New_York
BEGIN:DAYLIGHT
TZOFFSETFROM:-0500
TZOFFSETTO:-0400
TZNAME:EDT
DTSTART:20260308T070000
END:DAYLIGHT
BEGIN:STANDARD
TZOFFSETFROM:-0400
TZOFFSETTO:-0500
TZNAME:EST
DTSTART:20261101T060000
END:STANDARD
BEGIN:DAYLIGHT
TZOFFSETFROM:-0500
TZOFFSETTO:-0400
TZNAME:EDT
DTSTART:20270314T070000
END:DAYLIGHT
BEGIN:STANDARD
TZOFFSETFROM:-0400
TZOFFSETTO:-0500
TZNAME:EST
DTSTART:20271107T060000
END:STANDARD
BEGIN:DAYLIGHT
TZOFFSETFROM:-0500
TZOFFSETTO:-0400
TZNAME:EDT
DTSTART:20280312T070000
END:DAYLIGHT
BEGIN:STANDARD
TZOFFSETFROM:-0400
TZOFFSETTO:-0500
TZNAME:EST
DTSTART:20281105T060000
END:STANDARD
END:VTIMEZONE
BEGIN:VEVENT
DTSTART;TZID=America/New_York:20270804T180000
DTEND;TZID=America/New_York:20270804T210000
DTSTAMP:20260421T181905
CREATED:20260420T175804Z
LAST-MODIFIED:20260420T175804Z
UID:10450552-1817402400-1817413200@golatindance.com
SUMMARY:Mi Salsa Dura Baile in the park!
DESCRIPTION:Join us Wednesday nights for salsa\, dance\, and community under the stars at Washington Square Park\, NY from 6:00 PM to 9:00 PM! Let’s create a more inclusive and vibrant community together. Thank you for your support!!\n#salsanight #outdoor #summer #washingtonsquarepark #danceparty #nyc #meetup #free #vibes #thingstodo #music #dance #followers #everyone #mambo #salsaon1 #salsaon2 #inclusion #diversity #eastvillage #fun #salsa #bachata #highlights #thread #follower #donate #freeclass #6PM
URL:https://golatindance.com/event/mi-salsa-dura-baile-in-the-park/2027-08-04/
LOCATION:Washington Square Park\, Ny\, NY\, 10012\, United States
CATEGORIES:New York City
ATTACH;FMTTYPE=image/jpeg:https://golatindance.com/wp-content/uploads/2026/04/26390.jpg
GEO:40.730116;-73.9979578
END:VEVENT
BEGIN:VEVENT
DTSTART;TZID=America/New_York:20270811T180000
DTEND;TZID=America/New_York:20270811T210000
DTSTAMP:20260421T181905
CREATED:20260420T175804Z
LAST-MODIFIED:20260420T175804Z
UID:10450553-1818007200-1818018000@golatindance.com
SUMMARY:Mi Salsa Dura Baile in the park!
DESCRIPTION:Join us Wednesday nights for salsa\, dance\, and community under the stars at Washington Square Park\, NY from 6:00 PM to 9:00 PM! Let’s create a more inclusive and vibrant community together. Thank you for your support!!\n#salsanight #outdoor #summer #washingtonsquarepark #danceparty #nyc #meetup #free #vibes #thingstodo #music #dance #followers #everyone #mambo #salsaon1 #salsaon2 #inclusion #diversity #eastvillage #fun #salsa #bachata #highlights #thread #follower #donate #freeclass #6PM
URL:https://golatindance.com/event/mi-salsa-dura-baile-in-the-park/2027-08-11/
LOCATION:Washington Square Park\, Ny\, NY\, 10012\, United States
CATEGORIES:New York City
ATTACH;FMTTYPE=image/jpeg:https://golatindance.com/wp-content/uploads/2026/04/26390.jpg
GEO:40.730116;-73.9979578
END:VEVENT
BEGIN:VEVENT
DTSTART;TZID=America/New_York:20270818T180000
DTEND;TZID=America/New_York:20270818T210000
DTSTAMP:20260421T181905
CREATED:20260420T175804Z
LAST-MODIFIED:20260420T175804Z
UID:10450554-1818612000-1818622800@golatindance.com
SUMMARY:Mi Salsa Dura Baile in the park!
DESCRIPTION:Join us Wednesday nights for salsa\, dance\, and community under the stars at Washington Square Park\, NY from 6:00 PM to 9:00 PM! Let’s create a more inclusive and vibrant community together. Thank you for your support!!\n#salsanight #outdoor #summer #washingtonsquarepark #danceparty #nyc #meetup #free #vibes #thingstodo #music #dance #followers #everyone #mambo #salsaon1 #salsaon2 #inclusion #diversity #eastvillage #fun #salsa #bachata #highlights #thread #follower #donate #freeclass #6PM
URL:https://golatindance.com/event/mi-salsa-dura-baile-in-the-park/2027-08-18/
LOCATION:Washington Square Park\, Ny\, NY\, 10012\, United States
CATEGORIES:New York City
ATTACH;FMTTYPE=image/jpeg:https://golatindance.com/wp-content/uploads/2026/04/26390.jpg
GEO:40.730116;-73.9979578
END:VEVENT
BEGIN:VEVENT
DTSTART;TZID=America/New_York:20270825T180000
DTEND;TZID=America/New_York:20270825T210000
DTSTAMP:20260421T181905
CREATED:20260420T175804Z
LAST-MODIFIED:20260420T175804Z
UID:10450555-1819216800-1819227600@golatindance.com
SUMMARY:Mi Salsa Dura Baile in the park!
DESCRIPTION:Join us Wednesday nights for salsa\, dance\, and community under the stars at Washington Square Park\, NY from 6:00 PM to 9:00 PM! Let’s create a more inclusive and vibrant community together. Thank you for your support!!\n#salsanight #outdoor #summer #washingtonsquarepark #danceparty #nyc #meetup #free #vibes #thingstodo #music #dance #followers #everyone #mambo #salsaon1 #salsaon2 #inclusion #diversity #eastvillage #fun #salsa #bachata #highlights #thread #follower #donate #freeclass #6PM
URL:https://golatindance.com/event/mi-salsa-dura-baile-in-the-park/2027-08-25/
LOCATION:Washington Square Park\, Ny\, NY\, 10012\, United States
CATEGORIES:New York City
ATTACH;FMTTYPE=image/jpeg:https://golatindance.com/wp-content/uploads/2026/04/26390.jpg
GEO:40.730116;-73.9979578
END:VEVENT
END:VCALENDAR