BEGIN:VCALENDAR
VERSION:2.0
PRODID:-//GO Latin Dance - ECPv6.15.18//NONSGML v1.0//EN
CALSCALE:GREGORIAN
METHOD:PUBLISH
X-WR-CALNAME:GO Latin Dance
X-ORIGINAL-URL:https://golatindance.com
X-WR-CALDESC:Events for GO Latin Dance
REFRESH-INTERVAL;VALUE=DURATION:PT1H
X-Robots-Tag:noindex
X-PUBLISHED-TTL:PT1H
BEGIN:VTIMEZONE
TZID:America/New_York
BEGIN:DAYLIGHT
TZOFFSETFROM:-0500
TZOFFSETTO:-0400
TZNAME:EDT
DTSTART:20290311T070000
END:DAYLIGHT
BEGIN:STANDARD
TZOFFSETFROM:-0400
TZOFFSETTO:-0500
TZNAME:EST
DTSTART:20291104T060000
END:STANDARD
BEGIN:DAYLIGHT
TZOFFSETFROM:-0500
TZOFFSETTO:-0400
TZNAME:EDT
DTSTART:20300310T070000
END:DAYLIGHT
BEGIN:STANDARD
TZOFFSETFROM:-0400
TZOFFSETTO:-0500
TZNAME:EST
DTSTART:20301103T060000
END:STANDARD
BEGIN:DAYLIGHT
TZOFFSETFROM:-0500
TZOFFSETTO:-0400
TZNAME:EDT
DTSTART:20310309T070000
END:DAYLIGHT
BEGIN:STANDARD
TZOFFSETFROM:-0400
TZOFFSETTO:-0500
TZNAME:EST
DTSTART:20311102T060000
END:STANDARD
BEGIN:DAYLIGHT
TZOFFSETFROM:-0500
TZOFFSETTO:-0400
TZNAME:EDT
DTSTART:20320314T070000
END:DAYLIGHT
BEGIN:STANDARD
TZOFFSETFROM:-0400
TZOFFSETTO:-0500
TZNAME:EST
DTSTART:20321107T060000
END:STANDARD
END:VTIMEZONE
BEGIN:VTIMEZONE
TZID:America/Los_Angeles
BEGIN:DAYLIGHT
TZOFFSETFROM:-0800
TZOFFSETTO:-0700
TZNAME:PDT
DTSTART:20290311T100000
END:DAYLIGHT
BEGIN:STANDARD
TZOFFSETFROM:-0700
TZOFFSETTO:-0800
TZNAME:PST
DTSTART:20291104T090000
END:STANDARD
BEGIN:DAYLIGHT
TZOFFSETFROM:-0800
TZOFFSETTO:-0700
TZNAME:PDT
DTSTART:20300310T100000
END:DAYLIGHT
BEGIN:STANDARD
TZOFFSETFROM:-0700
TZOFFSETTO:-0800
TZNAME:PST
DTSTART:20301103T090000
END:STANDARD
BEGIN:DAYLIGHT
TZOFFSETFROM:-0800
TZOFFSETTO:-0700
TZNAME:PDT
DTSTART:20310309T100000
END:DAYLIGHT
BEGIN:STANDARD
TZOFFSETFROM:-0700
TZOFFSETTO:-0800
TZNAME:PST
DTSTART:20311102T090000
END:STANDARD
END:VTIMEZONE
BEGIN:VEVENT
DTSTART;TZID=America/New_York:20301016T180000
DTEND;TZID=America/New_York:20301016T220000
DTSTAMP:20260421T194611
CREATED:20260217T184832Z
LAST-MODIFIED:20260217T184832Z
UID:10446163-1918404000-1918418400@golatindance.com
SUMMARY:Salsa Bajo Techo!
DESCRIPTION:Salsa Bajo Techo – Indoor Salsa Social \nHosted by Mi Salsa Dura Baile at Negril Village \n• 1st & 3rd Wednesdays\n• 6:00 PM – 10:00 PM\n• Free beginner salsa class\n• Open social dancing\n• Happy Hour all night\n• Kitchen open until 11 PM\n• Food & drinks available\n• 21+ with valid ID \nLocation: 70 W 3rd St\, Manhattan \nFree entry all night..
URL:https://golatindance.com/event/salsa-bajo-techo-2/2030-10-16/
LOCATION:Negril Village\, 70 W 3rd St\, Manhattan\,\, NY\, 10012\, United States
CATEGORIES:New York City
ATTACH;FMTTYPE=image/jpeg:https://golatindance.com/wp-content/uploads/2026/02/38958.jpg
END:VEVENT
BEGIN:VEVENT
DTSTART;TZID=America/Los_Angeles:20301109T190000
DTEND;TZID=America/Los_Angeles:20301109T230000
DTSTAMP:20260421T194611
CREATED:20251121T163605Z
LAST-MODIFIED:20251121T163605Z
UID:10416906-1920481200-1920495600@golatindance.com
SUMMARY:Saturday Night Social Dancing! Salsa EDITION
DESCRIPTION:Join us for Saturday Night Social Dancing! Salsa EDITION \nEvery 2nd Saturday of the month \nSCHEDULE: \n7:00 PM – Class\nStart the night with an engaging dance class led by our instructors. Perfect for both beginners and experienced dancers looking to improve their skills. \n8:00 PM – Guided Practice & Social Dancing\nPut your new moves into action! Our guided practice smoothly transitions into a lively social dance party\, where you can dance\, mingle\, and enjoy the music. \nPRICING:\n– Class: $25 drop-in or $200 for a 10-class package (part of the studio package)\n– Social Dancing: $15 \nWhether you’re here to learn\, practice\, or just enjoy a fun night of dancing\, Saturday Night Social Dancing is the perfect way to spend your evening!
URL:https://golatindance.com/event/saturday-night-social-dancing-salsa-edition/2030-11-09/
LOCATION:Luna Del Soul – House of Dance\, 822 Cassia Street\, Redwood City\, CA\, 94063\, United States
CATEGORIES:San Francisco
ATTACH;FMTTYPE=image/png:https://golatindance.com/wp-content/uploads/2025/11/SNS-Post-2.png
ORGANIZER;CN="Luna Del Soul - House of Dance":MAILTO:info@lunadelsoul.com
END:VEVENT
BEGIN:VEVENT
DTSTART;TZID=America/New_York:20301120T180000
DTEND;TZID=America/New_York:20301120T220000
DTSTAMP:20260421T194611
CREATED:20260217T184832Z
LAST-MODIFIED:20260217T184832Z
UID:10446164-1921428000-1921442400@golatindance.com
SUMMARY:Salsa Bajo Techo!
DESCRIPTION:Salsa Bajo Techo – Indoor Salsa Social \nHosted by Mi Salsa Dura Baile at Negril Village \n• 1st & 3rd Wednesdays\n• 6:00 PM – 10:00 PM\n• Free beginner salsa class\n• Open social dancing\n• Happy Hour all night\n• Kitchen open until 11 PM\n• Food & drinks available\n• 21+ with valid ID \nLocation: 70 W 3rd St\, Manhattan \nFree entry all night..
URL:https://golatindance.com/event/salsa-bajo-techo-2/2030-11-20/
LOCATION:Negril Village\, 70 W 3rd St\, Manhattan\,\, NY\, 10012\, United States
CATEGORIES:New York City
ATTACH;FMTTYPE=image/jpeg:https://golatindance.com/wp-content/uploads/2026/02/38958.jpg
END:VEVENT
BEGIN:VEVENT
DTSTART;TZID=America/New_York:20301218T180000
DTEND;TZID=America/New_York:20301218T220000
DTSTAMP:20260421T194611
CREATED:20260217T184832Z
LAST-MODIFIED:20260217T184832Z
UID:10446165-1923847200-1923861600@golatindance.com
SUMMARY:Salsa Bajo Techo!
DESCRIPTION:Salsa Bajo Techo – Indoor Salsa Social \nHosted by Mi Salsa Dura Baile at Negril Village \n• 1st & 3rd Wednesdays\n• 6:00 PM – 10:00 PM\n• Free beginner salsa class\n• Open social dancing\n• Happy Hour all night\n• Kitchen open until 11 PM\n• Food & drinks available\n• 21+ with valid ID \nLocation: 70 W 3rd St\, Manhattan \nFree entry all night..
URL:https://golatindance.com/event/salsa-bajo-techo-2/2030-12-18/
LOCATION:Negril Village\, 70 W 3rd St\, Manhattan\,\, NY\, 10012\, United States
CATEGORIES:New York City
ATTACH;FMTTYPE=image/jpeg:https://golatindance.com/wp-content/uploads/2026/02/38958.jpg
END:VEVENT
BEGIN:VEVENT
DTSTART;TZID=America/New_York:20310115T180000
DTEND;TZID=America/New_York:20310115T220000
DTSTAMP:20260421T194611
CREATED:20260217T184832Z
LAST-MODIFIED:20260217T184832Z
UID:10446166-1926266400-1926280800@golatindance.com
SUMMARY:Salsa Bajo Techo!
DESCRIPTION:Salsa Bajo Techo – Indoor Salsa Social \nHosted by Mi Salsa Dura Baile at Negril Village \n• 1st & 3rd Wednesdays\n• 6:00 PM – 10:00 PM\n• Free beginner salsa class\n• Open social dancing\n• Happy Hour all night\n• Kitchen open until 11 PM\n• Food & drinks available\n• 21+ with valid ID \nLocation: 70 W 3rd St\, Manhattan \nFree entry all night..
URL:https://golatindance.com/event/salsa-bajo-techo-2/2031-01-15/
LOCATION:Negril Village\, 70 W 3rd St\, Manhattan\,\, NY\, 10012\, United States
CATEGORIES:New York City
ATTACH;FMTTYPE=image/jpeg:https://golatindance.com/wp-content/uploads/2026/02/38958.jpg
END:VEVENT
END:VCALENDAR