BEGIN:VCALENDAR
VERSION:2.0
PRODID:-//GO Latin Dance - ECPv6.15.18//NONSGML v1.0//EN
CALSCALE:GREGORIAN
METHOD:PUBLISH
X-ORIGINAL-URL:https://golatindance.com
X-WR-CALDESC:Events for GO Latin Dance
REFRESH-INTERVAL;VALUE=DURATION:PT1H
X-Robots-Tag:noindex
X-PUBLISHED-TTL:PT1H
BEGIN:VTIMEZONE
TZID:America/New_York
BEGIN:DAYLIGHT
TZOFFSETFROM:-0500
TZOFFSETTO:-0400
TZNAME:EDT
DTSTART:20250309T070000
END:DAYLIGHT
BEGIN:STANDARD
TZOFFSETFROM:-0400
TZOFFSETTO:-0500
TZNAME:EST
DTSTART:20251102T060000
END:STANDARD
BEGIN:DAYLIGHT
TZOFFSETFROM:-0500
TZOFFSETTO:-0400
TZNAME:EDT
DTSTART:20260308T070000
END:DAYLIGHT
BEGIN:STANDARD
TZOFFSETFROM:-0400
TZOFFSETTO:-0500
TZNAME:EST
DTSTART:20261101T060000
END:STANDARD
BEGIN:DAYLIGHT
TZOFFSETFROM:-0500
TZOFFSETTO:-0400
TZNAME:EDT
DTSTART:20270314T070000
END:DAYLIGHT
BEGIN:STANDARD
TZOFFSETFROM:-0400
TZOFFSETTO:-0500
TZNAME:EST
DTSTART:20271107T060000
END:STANDARD
END:VTIMEZONE
BEGIN:VEVENT
DTSTART;TZID=America/New_York:20260321T200000
DTEND;TZID=America/New_York:20260322T000000
DTSTAMP:20260424T201014
CREATED:20260305T004325Z
LAST-MODIFIED:20260305T004325Z
UID:10450027-1774123200-1774137600@golatindance.com
SUMMARY:Salsa Latin Dance Social
DESCRIPTION:SALSA LATIN DANCE SOCIAL in BROOKLYN at Dance Fever Studios 159 20th St location. Dance to the best Salsa\, Bachata & Latin: Oscar D’Leon\, Aventura\, Celia Cruz\, El Gran Combo\, Frankie Ruiz\, Prince Royce and More. ALL ARE WELCOME. Large\, Real Oak wood dance floor\, Great AC\, Easy Parking\, Near public transportation. Refreshments and Snacks included. $15 cash only at the door. No performances. Just 4 hours of non stop dancing. Watch our past Salsa Latin Dance Social by clicking the following link: https://www.youtube.com/watch?v=XhpdTfSu5zw
URL:https://golatindance.com/event/salsa-latin-dance-social-2/
LOCATION:Dance Fever Studios\, 159 20th street\, Brooklyn\, NY\, 11232\, United States
CATEGORIES:New York City
ATTACH;FMTTYPE=image/png:https://golatindance.com/wp-content/uploads/2026/03/Bright-Pink-Birthday-Greeting-Instagram-Post-1.png
ORGANIZER;CN="Francis Teri":MAILTO:info@dancefeverstudios.com
GEO:40.6638293;-73.9955368
X-APPLE-STRUCTURED-LOCATION;VALUE=URI;X-ADDRESS=Dance Fever Studios 159 20th street Brooklyn NY 11232 United States;X-APPLE-RADIUS=500;X-TITLE=159 20th street:geo:-73.9955368,40.6638293
END:VEVENT
END:VCALENDAR