BEGIN:VCALENDAR
VERSION:2.0
PRODID:-//GO Latin Dance - ECPv6.15.18//NONSGML v1.0//EN
CALSCALE:GREGORIAN
METHOD:PUBLISH
X-WR-CALNAME:GO Latin Dance
X-ORIGINAL-URL:https://golatindance.com
X-WR-CALDESC:Events for GO Latin Dance
REFRESH-INTERVAL;VALUE=DURATION:PT1H
X-Robots-Tag:noindex
X-PUBLISHED-TTL:PT1H
BEGIN:VTIMEZONE
TZID:America/New_York
BEGIN:DAYLIGHT
TZOFFSETFROM:-0500
TZOFFSETTO:-0400
TZNAME:EDT
DTSTART:20250309T070000
END:DAYLIGHT
BEGIN:STANDARD
TZOFFSETFROM:-0400
TZOFFSETTO:-0500
TZNAME:EST
DTSTART:20251102T060000
END:STANDARD
BEGIN:DAYLIGHT
TZOFFSETFROM:-0500
TZOFFSETTO:-0400
TZNAME:EDT
DTSTART:20260308T070000
END:DAYLIGHT
BEGIN:STANDARD
TZOFFSETFROM:-0400
TZOFFSETTO:-0500
TZNAME:EST
DTSTART:20261101T060000
END:STANDARD
BEGIN:DAYLIGHT
TZOFFSETFROM:-0500
TZOFFSETTO:-0400
TZNAME:EDT
DTSTART:20270314T070000
END:DAYLIGHT
BEGIN:STANDARD
TZOFFSETFROM:-0400
TZOFFSETTO:-0500
TZNAME:EST
DTSTART:20271107T060000
END:STANDARD
END:VTIMEZONE
BEGIN:VEVENT
DTSTART;TZID=America/New_York:20260506T200000
DTEND;TZID=America/New_York:20260506T213000
DTSTAMP:20260424T150657
CREATED:20260225T161930Z
LAST-MODIFIED:20260225T161930Z
UID:10449620-1778097600-1778103000@golatindance.com
SUMMARY:Absolute Beginner Salsa - 6 Week Series
DESCRIPTION:This is the introduction to salsa dancing. Salsa has been a popular social dance since the mid-1970s. The use of the term for the dance started in New York. It evolved from earlier Cuban dance forms such as Son\, Son Montuno\, Cha Cha Cha and Mambo which were popular in the Caribbean\, Latin America and the Latino communities in New York since the 1940s. Salsa\, like most music genres has gone through a lot of variation through the years and incorporated elements of Afro-Cuban and Afro-Caribbean dances such as Guaguanco and Pachanga. This is one of the most important classes for your study. We will learn a specific vocabulary of dance communication between partners and the basic individual footwork required to move forward with salsa dancing. It’s recommended to every salsa dancer without an exception.
URL:https://golatindance.com/event/absolute-beginner-salsa-6-week-series/2026-05-06/
LOCATION:salsa Secrets\, 2800 Lafayette Road\, Portsmouth\, NH\, 03801\, United States
CATEGORIES:Portsmouth
ATTACH;FMTTYPE=image/png:https://golatindance.com/wp-content/uploads/2026/02/abs500.png
ORGANIZER;CN="salsasecrets":MAILTO:dance@salsasecrets-portsmouth.com
END:VEVENT
BEGIN:VEVENT
DTSTART;TZID=America/New_York:20260507T190000
DTEND;TZID=America/New_York:20260507T190000
DTSTAMP:20260424T150657
CREATED:20240111T152229Z
LAST-MODIFIED:20251218T162037Z
UID:10200344-1778180400-1778180400@golatindance.com
SUMMARY:Latin Night @ Time Out on Pine
DESCRIPTION:The night starts at 7pm\, free 1 hour Salsa lesson at 7:30 with guest DJs every week spinning Salsa\, Bachata\, Merengue y mas!
URL:https://golatindance.com/event/latin-night-time-out-on-pine/2026-05-07/
LOCATION:Time Out on Pine\, 2840 Pine Rd\, Huntington Valley\, PA\, 19006\, United States
CATEGORIES:Philadelphia
ATTACH;FMTTYPE=image/jpeg:https://golatindance.com/wp-content/uploads/2024/01/Latin-Night.jpg
END:VEVENT
BEGIN:VEVENT
DTSTART;TZID=America/New_York:20260513T200000
DTEND;TZID=America/New_York:20260513T213000
DTSTAMP:20260424T150657
CREATED:20260225T161930Z
LAST-MODIFIED:20260225T161930Z
UID:10449621-1778702400-1778707800@golatindance.com
SUMMARY:Absolute Beginner Salsa - 6 Week Series
DESCRIPTION:This is the introduction to salsa dancing. Salsa has been a popular social dance since the mid-1970s. The use of the term for the dance started in New York. It evolved from earlier Cuban dance forms such as Son\, Son Montuno\, Cha Cha Cha and Mambo which were popular in the Caribbean\, Latin America and the Latino communities in New York since the 1940s. Salsa\, like most music genres has gone through a lot of variation through the years and incorporated elements of Afro-Cuban and Afro-Caribbean dances such as Guaguanco and Pachanga. This is one of the most important classes for your study. We will learn a specific vocabulary of dance communication between partners and the basic individual footwork required to move forward with salsa dancing. It’s recommended to every salsa dancer without an exception.
URL:https://golatindance.com/event/absolute-beginner-salsa-6-week-series/2026-05-13/
LOCATION:salsa Secrets\, 2800 Lafayette Road\, Portsmouth\, NH\, 03801\, United States
CATEGORIES:Portsmouth
ATTACH;FMTTYPE=image/png:https://golatindance.com/wp-content/uploads/2026/02/abs500.png
ORGANIZER;CN="salsasecrets":MAILTO:dance@salsasecrets-portsmouth.com
END:VEVENT
BEGIN:VEVENT
DTSTART;TZID=America/New_York:20260514T190000
DTEND;TZID=America/New_York:20260514T190000
DTSTAMP:20260424T150657
CREATED:20240111T152229Z
LAST-MODIFIED:20251218T162037Z
UID:10200345-1778785200-1778785200@golatindance.com
SUMMARY:Latin Night @ Time Out on Pine
DESCRIPTION:The night starts at 7pm\, free 1 hour Salsa lesson at 7:30 with guest DJs every week spinning Salsa\, Bachata\, Merengue y mas!
URL:https://golatindance.com/event/latin-night-time-out-on-pine/2026-05-14/
LOCATION:Time Out on Pine\, 2840 Pine Rd\, Huntington Valley\, PA\, 19006\, United States
CATEGORIES:Philadelphia
ATTACH;FMTTYPE=image/jpeg:https://golatindance.com/wp-content/uploads/2024/01/Latin-Night.jpg
END:VEVENT
BEGIN:VEVENT
DTSTART;TZID=America/New_York:20260520T200000
DTEND;TZID=America/New_York:20260520T213000
DTSTAMP:20260424T150657
CREATED:20260225T161930Z
LAST-MODIFIED:20260225T161930Z
UID:10449622-1779307200-1779312600@golatindance.com
SUMMARY:Absolute Beginner Salsa - 6 Week Series
DESCRIPTION:This is the introduction to salsa dancing. Salsa has been a popular social dance since the mid-1970s. The use of the term for the dance started in New York. It evolved from earlier Cuban dance forms such as Son\, Son Montuno\, Cha Cha Cha and Mambo which were popular in the Caribbean\, Latin America and the Latino communities in New York since the 1940s. Salsa\, like most music genres has gone through a lot of variation through the years and incorporated elements of Afro-Cuban and Afro-Caribbean dances such as Guaguanco and Pachanga. This is one of the most important classes for your study. We will learn a specific vocabulary of dance communication between partners and the basic individual footwork required to move forward with salsa dancing. It’s recommended to every salsa dancer without an exception.
URL:https://golatindance.com/event/absolute-beginner-salsa-6-week-series/2026-05-20/
LOCATION:salsa Secrets\, 2800 Lafayette Road\, Portsmouth\, NH\, 03801\, United States
CATEGORIES:Portsmouth
ATTACH;FMTTYPE=image/png:https://golatindance.com/wp-content/uploads/2026/02/abs500.png
ORGANIZER;CN="salsasecrets":MAILTO:dance@salsasecrets-portsmouth.com
END:VEVENT
BEGIN:VEVENT
DTSTART;TZID=America/New_York:20260521T190000
DTEND;TZID=America/New_York:20260521T190000
DTSTAMP:20260424T150657
CREATED:20240111T152229Z
LAST-MODIFIED:20251218T162037Z
UID:10200346-1779390000-1779390000@golatindance.com
SUMMARY:Latin Night @ Time Out on Pine
DESCRIPTION:The night starts at 7pm\, free 1 hour Salsa lesson at 7:30 with guest DJs every week spinning Salsa\, Bachata\, Merengue y mas!
URL:https://golatindance.com/event/latin-night-time-out-on-pine/2026-05-21/
LOCATION:Time Out on Pine\, 2840 Pine Rd\, Huntington Valley\, PA\, 19006\, United States
CATEGORIES:Philadelphia
ATTACH;FMTTYPE=image/jpeg:https://golatindance.com/wp-content/uploads/2024/01/Latin-Night.jpg
END:VEVENT
BEGIN:VEVENT
DTSTART;TZID=America/New_York:20260528T190000
DTEND;TZID=America/New_York:20260528T190000
DTSTAMP:20260424T150657
CREATED:20240111T152229Z
LAST-MODIFIED:20251218T162037Z
UID:10200347-1779994800-1779994800@golatindance.com
SUMMARY:Latin Night @ Time Out on Pine
DESCRIPTION:The night starts at 7pm\, free 1 hour Salsa lesson at 7:30 with guest DJs every week spinning Salsa\, Bachata\, Merengue y mas!
URL:https://golatindance.com/event/latin-night-time-out-on-pine/2026-05-28/
LOCATION:Time Out on Pine\, 2840 Pine Rd\, Huntington Valley\, PA\, 19006\, United States
CATEGORIES:Philadelphia
ATTACH;FMTTYPE=image/jpeg:https://golatindance.com/wp-content/uploads/2024/01/Latin-Night.jpg
END:VEVENT
END:VCALENDAR