BEGIN:VCALENDAR
VERSION:2.0
PRODID:-//GO Latin Dance - ECPv6.15.18//NONSGML v1.0//EN
CALSCALE:GREGORIAN
METHOD:PUBLISH
X-ORIGINAL-URL:https://golatindance.com
X-WR-CALDESC:Events for GO Latin Dance
REFRESH-INTERVAL;VALUE=DURATION:PT1H
X-Robots-Tag:noindex
X-PUBLISHED-TTL:PT1H
BEGIN:VTIMEZONE
TZID:America/New_York
BEGIN:DAYLIGHT
TZOFFSETFROM:-0500
TZOFFSETTO:-0400
TZNAME:EDT
DTSTART:20250309T070000
END:DAYLIGHT
BEGIN:STANDARD
TZOFFSETFROM:-0400
TZOFFSETTO:-0500
TZNAME:EST
DTSTART:20251102T060000
END:STANDARD
BEGIN:DAYLIGHT
TZOFFSETFROM:-0500
TZOFFSETTO:-0400
TZNAME:EDT
DTSTART:20260308T070000
END:DAYLIGHT
BEGIN:STANDARD
TZOFFSETFROM:-0400
TZOFFSETTO:-0500
TZNAME:EST
DTSTART:20261101T060000
END:STANDARD
BEGIN:DAYLIGHT
TZOFFSETFROM:-0500
TZOFFSETTO:-0400
TZNAME:EDT
DTSTART:20270314T070000
END:DAYLIGHT
BEGIN:STANDARD
TZOFFSETFROM:-0400
TZOFFSETTO:-0500
TZNAME:EST
DTSTART:20271107T060000
END:STANDARD
END:VTIMEZONE
BEGIN:VEVENT
DTSTART;TZID=America/New_York:20260702T190000
DTEND;TZID=America/New_York:20260702T190000
DTSTAMP:20260424T174127
CREATED:20240111T152229Z
LAST-MODIFIED:20251218T162037Z
UID:10200352-1783018800-1783018800@golatindance.com
SUMMARY:Latin Night @ Time Out on Pine
DESCRIPTION:The night starts at 7pm\, free 1 hour Salsa lesson at 7:30 with guest DJs every week spinning Salsa\, Bachata\, Merengue y mas!
URL:https://golatindance.com/event/latin-night-time-out-on-pine/2026-07-02/
LOCATION:Time Out on Pine\, 2840 Pine Rd\, Huntington Valley\, PA\, 19006\, United States
CATEGORIES:Philadelphia
ATTACH;FMTTYPE=image/jpeg:https://golatindance.com/wp-content/uploads/2024/01/Latin-Night.jpg
END:VEVENT
BEGIN:VEVENT
DTSTART;TZID=America/New_York:20260709T190000
DTEND;TZID=America/New_York:20260709T190000
DTSTAMP:20260424T174127
CREATED:20240111T152229Z
LAST-MODIFIED:20251218T162037Z
UID:10200353-1783623600-1783623600@golatindance.com
SUMMARY:Latin Night @ Time Out on Pine
DESCRIPTION:The night starts at 7pm\, free 1 hour Salsa lesson at 7:30 with guest DJs every week spinning Salsa\, Bachata\, Merengue y mas!
URL:https://golatindance.com/event/latin-night-time-out-on-pine/2026-07-09/
LOCATION:Time Out on Pine\, 2840 Pine Rd\, Huntington Valley\, PA\, 19006\, United States
CATEGORIES:Philadelphia
ATTACH;FMTTYPE=image/jpeg:https://golatindance.com/wp-content/uploads/2024/01/Latin-Night.jpg
END:VEVENT
BEGIN:VEVENT
DTSTART;TZID=America/New_York:20260716T190000
DTEND;TZID=America/New_York:20260716T190000
DTSTAMP:20260424T174127
CREATED:20240111T152229Z
LAST-MODIFIED:20251218T162037Z
UID:10200354-1784228400-1784228400@golatindance.com
SUMMARY:Latin Night @ Time Out on Pine
DESCRIPTION:The night starts at 7pm\, free 1 hour Salsa lesson at 7:30 with guest DJs every week spinning Salsa\, Bachata\, Merengue y mas!
URL:https://golatindance.com/event/latin-night-time-out-on-pine/2026-07-16/
LOCATION:Time Out on Pine\, 2840 Pine Rd\, Huntington Valley\, PA\, 19006\, United States
CATEGORIES:Philadelphia
ATTACH;FMTTYPE=image/jpeg:https://golatindance.com/wp-content/uploads/2024/01/Latin-Night.jpg
END:VEVENT
BEGIN:VEVENT
DTSTART;TZID=America/New_York:20260723T190000
DTEND;TZID=America/New_York:20260723T190000
DTSTAMP:20260424T174127
CREATED:20240111T152229Z
LAST-MODIFIED:20251218T162037Z
UID:10200355-1784833200-1784833200@golatindance.com
SUMMARY:Latin Night @ Time Out on Pine
DESCRIPTION:The night starts at 7pm\, free 1 hour Salsa lesson at 7:30 with guest DJs every week spinning Salsa\, Bachata\, Merengue y mas!
URL:https://golatindance.com/event/latin-night-time-out-on-pine/2026-07-23/
LOCATION:Time Out on Pine\, 2840 Pine Rd\, Huntington Valley\, PA\, 19006\, United States
CATEGORIES:Philadelphia
ATTACH;FMTTYPE=image/jpeg:https://golatindance.com/wp-content/uploads/2024/01/Latin-Night.jpg
END:VEVENT
BEGIN:VEVENT
DTSTART;TZID=America/New_York:20260730T190000
DTEND;TZID=America/New_York:20260730T190000
DTSTAMP:20260424T174127
CREATED:20240111T152229Z
LAST-MODIFIED:20251218T162037Z
UID:10200356-1785438000-1785438000@golatindance.com
SUMMARY:Latin Night @ Time Out on Pine
DESCRIPTION:The night starts at 7pm\, free 1 hour Salsa lesson at 7:30 with guest DJs every week spinning Salsa\, Bachata\, Merengue y mas!
URL:https://golatindance.com/event/latin-night-time-out-on-pine/2026-07-30/
LOCATION:Time Out on Pine\, 2840 Pine Rd\, Huntington Valley\, PA\, 19006\, United States
CATEGORIES:Philadelphia
ATTACH;FMTTYPE=image/jpeg:https://golatindance.com/wp-content/uploads/2024/01/Latin-Night.jpg
END:VEVENT
END:VCALENDAR