BEGIN:VCALENDAR
VERSION:2.0
PRODID:-//GO Latin Dance - ECPv6.15.18//NONSGML v1.0//EN
CALSCALE:GREGORIAN
METHOD:PUBLISH
X-WR-CALNAME:GO Latin Dance
X-ORIGINAL-URL:https://golatindance.com
X-WR-CALDESC:Events for GO Latin Dance
REFRESH-INTERVAL;VALUE=DURATION:PT1H
X-Robots-Tag:noindex
X-PUBLISHED-TTL:PT1H
BEGIN:VTIMEZONE
TZID:America/New_York
BEGIN:DAYLIGHT
TZOFFSETFROM:-0500
TZOFFSETTO:-0400
TZNAME:EDT
DTSTART:20260308T070000
END:DAYLIGHT
BEGIN:STANDARD
TZOFFSETFROM:-0400
TZOFFSETTO:-0500
TZNAME:EST
DTSTART:20261101T060000
END:STANDARD
BEGIN:DAYLIGHT
TZOFFSETFROM:-0500
TZOFFSETTO:-0400
TZNAME:EDT
DTSTART:20270314T070000
END:DAYLIGHT
BEGIN:STANDARD
TZOFFSETFROM:-0400
TZOFFSETTO:-0500
TZNAME:EST
DTSTART:20271107T060000
END:STANDARD
BEGIN:DAYLIGHT
TZOFFSETFROM:-0500
TZOFFSETTO:-0400
TZNAME:EDT
DTSTART:20280312T070000
END:DAYLIGHT
BEGIN:STANDARD
TZOFFSETFROM:-0400
TZOFFSETTO:-0500
TZNAME:EST
DTSTART:20281105T060000
END:STANDARD
END:VTIMEZONE
BEGIN:VEVENT
DTSTART;TZID=America/New_York:20270506T190000
DTEND;TZID=America/New_York:20270506T190000
DTSTAMP:20260425T062010
CREATED:20240111T152229Z
LAST-MODIFIED:20251218T162037Z
UID:10200396-1809630000-1809630000@golatindance.com
SUMMARY:Latin Night @ Time Out on Pine
DESCRIPTION:The night starts at 7pm\, free 1 hour Salsa lesson at 7:30 with guest DJs every week spinning Salsa\, Bachata\, Merengue y mas!
URL:https://golatindance.com/event/latin-night-time-out-on-pine/2027-05-06/
LOCATION:Time Out on Pine\, 2840 Pine Rd\, Huntington Valley\, PA\, 19006\, United States
CATEGORIES:Philadelphia
ATTACH;FMTTYPE=image/jpeg:https://golatindance.com/wp-content/uploads/2024/01/Latin-Night.jpg
END:VEVENT
BEGIN:VEVENT
DTSTART;TZID=America/New_York:20270513T190000
DTEND;TZID=America/New_York:20270513T190000
DTSTAMP:20260425T062010
CREATED:20240111T152229Z
LAST-MODIFIED:20251218T162037Z
UID:10200397-1810234800-1810234800@golatindance.com
SUMMARY:Latin Night @ Time Out on Pine
DESCRIPTION:The night starts at 7pm\, free 1 hour Salsa lesson at 7:30 with guest DJs every week spinning Salsa\, Bachata\, Merengue y mas!
URL:https://golatindance.com/event/latin-night-time-out-on-pine/2027-05-13/
LOCATION:Time Out on Pine\, 2840 Pine Rd\, Huntington Valley\, PA\, 19006\, United States
CATEGORIES:Philadelphia
ATTACH;FMTTYPE=image/jpeg:https://golatindance.com/wp-content/uploads/2024/01/Latin-Night.jpg
END:VEVENT
BEGIN:VEVENT
DTSTART;TZID=America/New_York:20270520T190000
DTEND;TZID=America/New_York:20270520T190000
DTSTAMP:20260425T062010
CREATED:20240111T152229Z
LAST-MODIFIED:20251218T162037Z
UID:10200398-1810839600-1810839600@golatindance.com
SUMMARY:Latin Night @ Time Out on Pine
DESCRIPTION:The night starts at 7pm\, free 1 hour Salsa lesson at 7:30 with guest DJs every week spinning Salsa\, Bachata\, Merengue y mas!
URL:https://golatindance.com/event/latin-night-time-out-on-pine/2027-05-20/
LOCATION:Time Out on Pine\, 2840 Pine Rd\, Huntington Valley\, PA\, 19006\, United States
CATEGORIES:Philadelphia
ATTACH;FMTTYPE=image/jpeg:https://golatindance.com/wp-content/uploads/2024/01/Latin-Night.jpg
END:VEVENT
BEGIN:VEVENT
DTSTART;TZID=America/New_York:20270527T190000
DTEND;TZID=America/New_York:20270527T190000
DTSTAMP:20260425T062010
CREATED:20240111T152229Z
LAST-MODIFIED:20251218T162037Z
UID:10200399-1811444400-1811444400@golatindance.com
SUMMARY:Latin Night @ Time Out on Pine
DESCRIPTION:The night starts at 7pm\, free 1 hour Salsa lesson at 7:30 with guest DJs every week spinning Salsa\, Bachata\, Merengue y mas!
URL:https://golatindance.com/event/latin-night-time-out-on-pine/2027-05-27/
LOCATION:Time Out on Pine\, 2840 Pine Rd\, Huntington Valley\, PA\, 19006\, United States
CATEGORIES:Philadelphia
ATTACH;FMTTYPE=image/jpeg:https://golatindance.com/wp-content/uploads/2024/01/Latin-Night.jpg
END:VEVENT
END:VCALENDAR