BEGIN:VCALENDAR
VERSION:2.0
PRODID:-//GO Latin Dance - ECPv6.15.18//NONSGML v1.0//EN
CALSCALE:GREGORIAN
METHOD:PUBLISH
X-WR-CALNAME:GO Latin Dance
X-ORIGINAL-URL:https://golatindance.com
X-WR-CALDESC:Events for GO Latin Dance
REFRESH-INTERVAL;VALUE=DURATION:PT1H
X-Robots-Tag:noindex
X-PUBLISHED-TTL:PT1H
BEGIN:VTIMEZONE
TZID:America/New_York
BEGIN:DAYLIGHT
TZOFFSETFROM:-0500
TZOFFSETTO:-0400
TZNAME:EDT
DTSTART:20250309T070000
END:DAYLIGHT
BEGIN:STANDARD
TZOFFSETFROM:-0400
TZOFFSETTO:-0500
TZNAME:EST
DTSTART:20251102T060000
END:STANDARD
BEGIN:DAYLIGHT
TZOFFSETFROM:-0500
TZOFFSETTO:-0400
TZNAME:EDT
DTSTART:20260308T070000
END:DAYLIGHT
BEGIN:STANDARD
TZOFFSETFROM:-0400
TZOFFSETTO:-0500
TZNAME:EST
DTSTART:20261101T060000
END:STANDARD
BEGIN:DAYLIGHT
TZOFFSETFROM:-0500
TZOFFSETTO:-0400
TZNAME:EDT
DTSTART:20270314T070000
END:DAYLIGHT
BEGIN:STANDARD
TZOFFSETFROM:-0400
TZOFFSETTO:-0500
TZNAME:EST
DTSTART:20271107T060000
END:STANDARD
END:VTIMEZONE
BEGIN:VEVENT
DTSTART;TZID=America/New_York:20260213T200000
DTEND;TZID=America/New_York:20260214T020000
DTSTAMP:20260424T192428
CREATED:20260114T150059Z
LAST-MODIFIED:20260114T150059Z
UID:10432011-1771012800-1771034400@golatindance.com
SUMMARY:"Amor y Salsa Valentine's Night with "Los Ex- Adolecentes"
DESCRIPTION:Celebrate Valentine’s Day with a one-of-a-kind Live Latin Concert and Dance Night featuring Los Ex- Adolecentes bringing their iconic sound back to the stage for an unforgettable evening of love and rhythm. \nEnjoy a full night of Salsa\, Bachata\, English\, and classic Latin hits while dancing the night away in a beautiful\, energetic atmosphere. Whether you’re coming out with friends\, this is the ultimate way to celebrate Valentine’s Day. \nMusic* Romance* Dancing* \nOne night. One legendary band. \nOne unforgettable experience.
URL:https://golatindance.com/event/amor-y-salsa-valentines-night-with-los-ex-adolecentes/
LOCATION:7C Lounge\, 11630 CAROLINE RD\, Philadelphia\, PA\, 19154\, United States
CATEGORIES:Philadelphia
ATTACH;FMTTYPE=image/png:https://golatindance.com/wp-content/uploads/2026/01/2026-Feb.-Latin-Night-Flyer-1-3.png
ORGANIZER;CN="SALEA":MAILTO:saleappd@gmail.com
GEO:40.0989302;-75.003245
X-APPLE-STRUCTURED-LOCATION;VALUE=URI;X-ADDRESS=7C Lounge 11630 CAROLINE RD Philadelphia PA 19154 United States;X-APPLE-RADIUS=500;X-TITLE=11630 CAROLINE RD:geo:-75.003245,40.0989302
END:VEVENT
END:VCALENDAR