BEGIN:VCALENDAR
VERSION:2.0
PRODID:-//GO Latin Dance - ECPv6.15.18//NONSGML v1.0//EN
CALSCALE:GREGORIAN
METHOD:PUBLISH
X-WR-CALNAME:GO Latin Dance
X-ORIGINAL-URL:https://golatindance.com
X-WR-CALDESC:Events for GO Latin Dance
REFRESH-INTERVAL;VALUE=DURATION:PT1H
X-Robots-Tag:noindex
X-PUBLISHED-TTL:PT1H
BEGIN:VTIMEZONE
TZID:America/New_York
BEGIN:DAYLIGHT
TZOFFSETFROM:-0500
TZOFFSETTO:-0400
TZNAME:EDT
DTSTART:20250309T070000
END:DAYLIGHT
BEGIN:STANDARD
TZOFFSETFROM:-0400
TZOFFSETTO:-0500
TZNAME:EST
DTSTART:20251102T060000
END:STANDARD
BEGIN:DAYLIGHT
TZOFFSETFROM:-0500
TZOFFSETTO:-0400
TZNAME:EDT
DTSTART:20260308T070000
END:DAYLIGHT
BEGIN:STANDARD
TZOFFSETFROM:-0400
TZOFFSETTO:-0500
TZNAME:EST
DTSTART:20261101T060000
END:STANDARD
BEGIN:DAYLIGHT
TZOFFSETFROM:-0500
TZOFFSETTO:-0400
TZNAME:EDT
DTSTART:20270314T070000
END:DAYLIGHT
BEGIN:STANDARD
TZOFFSETFROM:-0400
TZOFFSETTO:-0500
TZNAME:EST
DTSTART:20271107T060000
END:STANDARD
END:VTIMEZONE
BEGIN:VTIMEZONE
TZID:America/Phoenix
BEGIN:STANDARD
TZOFFSETFROM:-0700
TZOFFSETTO:-0700
TZNAME:MST
DTSTART:20250101T000000
END:STANDARD
END:VTIMEZONE
BEGIN:VEVENT
DTSTART;TZID=America/New_York:20260304T200000
DTEND;TZID=America/New_York:20260304T220000
DTSTAMP:20260424T075958
CREATED:20260106T160605Z
LAST-MODIFIED:20260204T181353Z
UID:10429216-1772654400-1772661600@golatindance.com
SUMMARY:Newmarket Latin Dance Wednesday
DESCRIPTION:Location: Lions and Sun Bar and Lounge ( 18947 Woodbine Ave\, Sharon\, ON L0G 1V0 )\n8:00- 8:30 Dance lesson for beginners.\n8:30-10:00 Social Dancing (Salsa\, Bachata\, Merengue & more).\nCover: $10\nParking: Free
URL:https://golatindance.com/event/newmarket-latin-dance-wednesday/2026-03-04/
LOCATION:Lions and Sun Bar and Lounge\, 18947 Woodbine Ave\, Sharon\, Ontario\, L0G 1V0\, Canada
CATEGORIES:Toronto
ATTACH;FMTTYPE=image/jpeg:https://golatindance.com/wp-content/uploads/2026/01/1080x1080-wednesdays-dance-2025.jpg
END:VEVENT
BEGIN:VEVENT
DTSTART;TZID=America/New_York:20260305T200000
DTEND;TZID=America/New_York:20260319T010000
DTSTAMP:20260424T075958
CREATED:20260305T004110Z
LAST-MODIFIED:20260305T004110Z
UID:10449971-1772740800-1773882000@golatindance.com
SUMMARY:SALSA Society Thursdays at Thrōw Social Miami Wynwood!
DESCRIPTION:Miami Salsa Events and Thrōw Social Miami proudly present: \nSALSA Society Thursdays!!\nMarch 5th\nMarch 12th\nMarch 19th \nGet your dance shoes ready and come join us at Wynwood’s hottest and newest open venue! Fully remodeled and beautiful! Invite your friends and families for our grand opening of Salsa Society as we take you on a musical journey of Salsa while you dance the night away\, socialize and mingle\, enjoy the amazing drinks and food\, and have an amazing Salsa Night in the heart of Wynwood! \n8pm: Free Salsa Class by none ohter than Mel In Motion! \nMusic by:\nDJ Mike Caldero Y Sus Bravos!\nCongas: Eduardo Cano\nTimbales: Joseph Watts \nFREE COVER ALL NIGHT! \nFor more info visit us on www.miamisalsaevents.com
URL:https://golatindance.com/event/salsa-society-thursdays-at-throw-social-miami-wynwood/2026-03-05/
LOCATION:THRōW Social Miami Wynwood\, 2335 North Miami Avenue\, Miami\, FL 33127\, Miami\, FL\, 33127\, US
CATEGORIES:Miami
ATTACH;FMTTYPE=image/png:https://golatindance.com/wp-content/uploads/2026/03/TSM_Salsa-Society-Thursdays_FB.png
END:VEVENT
BEGIN:VEVENT
DTSTART;TZID=America/Phoenix:20260306T210000
DTEND;TZID=America/Phoenix:20260307T020000
DTSTAMP:20260424T075958
CREATED:20260219T233653Z
LAST-MODIFIED:20260219T233653Z
UID:10446190-1772830800-1772848800@golatindance.com
SUMMARY:Latin Glow at Walter Studios
DESCRIPTION:On Friday\, March 6\, fire melts ice 🔥 Latin Night at the Duce is expanding to become Latin Nights AZ\, and we are beyond excited to announce our first brand new\, all ages 18+ event at Walter Studios! \n❤️‍🔥 Wear fiery red\, orange\, and yellow to show support for our community whose resilience cannot be extinguished. Upscale attire is encouraged for this event; dress to impress! Glow sticks will be provided for all attendees. \n“The liberating act of dancing is beautifully expressed in a popular Venezuelan saying\, ‘Y quién me quita lo bailao’ (and who can take away what I have danced). For groups of people under the bondage of colonialism this feeling of freedom is particularly intense\, and often becomes a matter of survival.”\n– Marisol Berríos-Miranda \n📌 SCHEDULE:\n9pm: Salsa lesson with Brandon & Skye (no partner or experience required)\n10pm: Latin social dancing with DJ D-Lo\, DJ Calidad\, and DJ Finesse\n11:30pm: Dance performances ft. Stilo Dance and more TBA\n12am: DJ Azukar joins the mix with kizomba and zouk sets to complement our three Latin DJs\n2am: Event end time \n🚗 Parking is available for free onsite but may be limited if we sell out! Please consider arriving early\, carpooling\, or using ride share. We encourage attendees to carpool or use ride share if planning to consume alcoholic beverages. \n🍹 Full bar and food menu available all night including alcoholic and non-alcoholic beverages. Please drink responsibly. \n📣 CALL FOR SPONSORS!\nDo you own a business or represent a brand you’d like to promote to our community? You can purchase a Sponsorship Tier ticket for $75 in lieu of general admission to help support us. In exchange for your generous support we will feature your brand name and logo as a sponsor on our social media and give a shout out in person the night of the event! After purchasing your Sponsorship Tier ticket\, we will reach out to you within 48 hours to collect the information we need to shout out your brand. \n❤️ CODE OF CONDUCT:\nThis is an inclusive\, consent-first environment. Safe and respectful conduct is required at all times. We reserve the right to remove anyone engaging in misconduct from the premises without a refund. If you feel unsafe at any time\, please report your concerns to venue security or our emcee hostess Sam.
URL:https://golatindance.com/event/latin-glow-at-walter-studios/
LOCATION:Walter Studios\, 747 W Roosevelt St\, Phoenix\, AZ\, 85007\, United States
CATEGORIES:Phoenix
ATTACH;FMTTYPE=image/png:https://golatindance.com/wp-content/uploads/2026/02/UPDATED-Latin-Glow-at-Walter-Studios-poster-11-x-17-in.png
ORGANIZER;CN="Latin Nights AZ":MAILTO:latinnightsarizona@proton.me
END:VEVENT
BEGIN:VEVENT
DTSTART;TZID=America/New_York:20260311T200000
DTEND;TZID=America/New_York:20260311T220000
DTSTAMP:20260424T075958
CREATED:20260106T160605Z
LAST-MODIFIED:20260204T181353Z
UID:10429217-1773259200-1773266400@golatindance.com
SUMMARY:Newmarket Latin Dance Wednesday
DESCRIPTION:Location: Lions and Sun Bar and Lounge ( 18947 Woodbine Ave\, Sharon\, ON L0G 1V0 )\n8:00- 8:30 Dance lesson for beginners.\n8:30-10:00 Social Dancing (Salsa\, Bachata\, Merengue & more).\nCover: $10\nParking: Free
URL:https://golatindance.com/event/newmarket-latin-dance-wednesday/2026-03-11/
LOCATION:Lions and Sun Bar and Lounge\, 18947 Woodbine Ave\, Sharon\, Ontario\, L0G 1V0\, Canada
CATEGORIES:Toronto
ATTACH;FMTTYPE=image/jpeg:https://golatindance.com/wp-content/uploads/2026/01/1080x1080-wednesdays-dance-2025.jpg
END:VEVENT
BEGIN:VEVENT
DTSTART;TZID=America/New_York:20260312T200000
DTEND;TZID=America/New_York:20260326T000000
DTSTAMP:20260424T075958
CREATED:20260305T004110Z
LAST-MODIFIED:20260305T004110Z
UID:10449972-1773345600-1774483200@golatindance.com
SUMMARY:SALSA Society Thursdays at Thrōw Social Miami Wynwood!
DESCRIPTION:Miami Salsa Events and Thrōw Social Miami proudly present: \nSALSA Society Thursdays!!\nMarch 5th\nMarch 12th\nMarch 19th \nGet your dance shoes ready and come join us at Wynwood’s hottest and newest open venue! Fully remodeled and beautiful! Invite your friends and families for our grand opening of Salsa Society as we take you on a musical journey of Salsa while you dance the night away\, socialize and mingle\, enjoy the amazing drinks and food\, and have an amazing Salsa Night in the heart of Wynwood! \n8pm: Free Salsa Class by none ohter than Mel In Motion! \nMusic by:\nDJ Mike Caldero Y Sus Bravos!\nCongas: Eduardo Cano\nTimbales: Joseph Watts \nFREE COVER ALL NIGHT! \nFor more info visit us on www.miamisalsaevents.com
URL:https://golatindance.com/event/salsa-society-thursdays-at-throw-social-miami-wynwood/2026-03-12/
LOCATION:THRōW Social Miami Wynwood\, 2335 North Miami Avenue\, Miami\, FL 33127\, Miami\, FL\, 33127\, US
CATEGORIES:Miami
ATTACH;FMTTYPE=image/png:https://golatindance.com/wp-content/uploads/2026/03/TSM_Salsa-Society-Thursdays_FB.png
END:VEVENT
BEGIN:VEVENT
DTSTART;TZID=America/New_York:20260318T200000
DTEND;TZID=America/New_York:20260318T220000
DTSTAMP:20260424T075958
CREATED:20260106T160605Z
LAST-MODIFIED:20260204T181353Z
UID:10429218-1773864000-1773871200@golatindance.com
SUMMARY:Newmarket Latin Dance Wednesday
DESCRIPTION:Location: Lions and Sun Bar and Lounge ( 18947 Woodbine Ave\, Sharon\, ON L0G 1V0 )\n8:00- 8:30 Dance lesson for beginners.\n8:30-10:00 Social Dancing (Salsa\, Bachata\, Merengue & more).\nCover: $10\nParking: Free
URL:https://golatindance.com/event/newmarket-latin-dance-wednesday/2026-03-18/
LOCATION:Lions and Sun Bar and Lounge\, 18947 Woodbine Ave\, Sharon\, Ontario\, L0G 1V0\, Canada
CATEGORIES:Toronto
ATTACH;FMTTYPE=image/jpeg:https://golatindance.com/wp-content/uploads/2026/01/1080x1080-wednesdays-dance-2025.jpg
END:VEVENT
BEGIN:VEVENT
DTSTART;TZID=America/New_York:20260319T200000
DTEND;TZID=America/New_York:20260402T000000
DTSTAMP:20260424T075958
CREATED:20260305T004110Z
LAST-MODIFIED:20260305T004110Z
UID:10449973-1773950400-1775088000@golatindance.com
SUMMARY:SALSA Society Thursdays at Thrōw Social Miami Wynwood!
DESCRIPTION:Miami Salsa Events and Thrōw Social Miami proudly present: \nSALSA Society Thursdays!!\nMarch 5th\nMarch 12th\nMarch 19th \nGet your dance shoes ready and come join us at Wynwood’s hottest and newest open venue! Fully remodeled and beautiful! Invite your friends and families for our grand opening of Salsa Society as we take you on a musical journey of Salsa while you dance the night away\, socialize and mingle\, enjoy the amazing drinks and food\, and have an amazing Salsa Night in the heart of Wynwood! \n8pm: Free Salsa Class by none ohter than Mel In Motion! \nMusic by:\nDJ Mike Caldero Y Sus Bravos!\nCongas: Eduardo Cano\nTimbales: Joseph Watts \nFREE COVER ALL NIGHT! \nFor more info visit us on www.miamisalsaevents.com
URL:https://golatindance.com/event/salsa-society-thursdays-at-throw-social-miami-wynwood/2026-03-19/
LOCATION:THRōW Social Miami Wynwood\, 2335 North Miami Avenue\, Miami\, FL 33127\, Miami\, FL\, 33127\, US
CATEGORIES:Miami
ATTACH;FMTTYPE=image/png:https://golatindance.com/wp-content/uploads/2026/03/TSM_Salsa-Society-Thursdays_FB.png
END:VEVENT
BEGIN:VEVENT
DTSTART;TZID=America/New_York:20260325T200000
DTEND;TZID=America/New_York:20260325T220000
DTSTAMP:20260424T075958
CREATED:20260106T160605Z
LAST-MODIFIED:20260204T181353Z
UID:10429219-1774468800-1774476000@golatindance.com
SUMMARY:Newmarket Latin Dance Wednesday
DESCRIPTION:Location: Lions and Sun Bar and Lounge ( 18947 Woodbine Ave\, Sharon\, ON L0G 1V0 )\n8:00- 8:30 Dance lesson for beginners.\n8:30-10:00 Social Dancing (Salsa\, Bachata\, Merengue & more).\nCover: $10\nParking: Free
URL:https://golatindance.com/event/newmarket-latin-dance-wednesday/2026-03-25/
LOCATION:Lions and Sun Bar and Lounge\, 18947 Woodbine Ave\, Sharon\, Ontario\, L0G 1V0\, Canada
CATEGORIES:Toronto
ATTACH;FMTTYPE=image/jpeg:https://golatindance.com/wp-content/uploads/2026/01/1080x1080-wednesdays-dance-2025.jpg
END:VEVENT
BEGIN:VEVENT
DTSTART;TZID=America/New_York:20260326T200000
DTEND;TZID=America/New_York:20260409T000000
DTSTAMP:20260424T075958
CREATED:20260305T004110Z
LAST-MODIFIED:20260305T004110Z
UID:10449974-1774555200-1775692800@golatindance.com
SUMMARY:SALSA Society Thursdays at Thrōw Social Miami Wynwood!
DESCRIPTION:Miami Salsa Events and Thrōw Social Miami proudly present: \nSALSA Society Thursdays!!\nMarch 5th\nMarch 12th\nMarch 19th \nGet your dance shoes ready and come join us at Wynwood’s hottest and newest open venue! Fully remodeled and beautiful! Invite your friends and families for our grand opening of Salsa Society as we take you on a musical journey of Salsa while you dance the night away\, socialize and mingle\, enjoy the amazing drinks and food\, and have an amazing Salsa Night in the heart of Wynwood! \n8pm: Free Salsa Class by none ohter than Mel In Motion! \nMusic by:\nDJ Mike Caldero Y Sus Bravos!\nCongas: Eduardo Cano\nTimbales: Joseph Watts \nFREE COVER ALL NIGHT! \nFor more info visit us on www.miamisalsaevents.com
URL:https://golatindance.com/event/salsa-society-thursdays-at-throw-social-miami-wynwood/2026-03-26/
LOCATION:THRōW Social Miami Wynwood\, 2335 North Miami Avenue\, Miami\, FL 33127\, Miami\, FL\, 33127\, US
CATEGORIES:Miami
ATTACH;FMTTYPE=image/png:https://golatindance.com/wp-content/uploads/2026/03/TSM_Salsa-Society-Thursdays_FB.png
END:VEVENT
END:VCALENDAR