BEGIN:VCALENDAR
VERSION:2.0
PRODID:-//GO Latin Dance - ECPv6.15.18//NONSGML v1.0//EN
CALSCALE:GREGORIAN
METHOD:PUBLISH
X-WR-CALNAME:GO Latin Dance
X-ORIGINAL-URL:https://golatindance.com
X-WR-CALDESC:Events for GO Latin Dance
REFRESH-INTERVAL;VALUE=DURATION:PT1H
X-Robots-Tag:noindex
X-PUBLISHED-TTL:PT1H
BEGIN:VTIMEZONE
TZID:Europe/London
BEGIN:DAYLIGHT
TZOFFSETFROM:+0000
TZOFFSETTO:+0100
TZNAME:BST
DTSTART:20260329T010000
END:DAYLIGHT
BEGIN:STANDARD
TZOFFSETFROM:+0100
TZOFFSETTO:+0000
TZNAME:GMT
DTSTART:20261025T010000
END:STANDARD
BEGIN:DAYLIGHT
TZOFFSETFROM:+0000
TZOFFSETTO:+0100
TZNAME:BST
DTSTART:20270328T010000
END:DAYLIGHT
BEGIN:STANDARD
TZOFFSETFROM:+0100
TZOFFSETTO:+0000
TZNAME:GMT
DTSTART:20271031T010000
END:STANDARD
BEGIN:DAYLIGHT
TZOFFSETFROM:+0000
TZOFFSETTO:+0100
TZNAME:BST
DTSTART:20280326T010000
END:DAYLIGHT
BEGIN:STANDARD
TZOFFSETFROM:+0100
TZOFFSETTO:+0000
TZNAME:GMT
DTSTART:20281029T010000
END:STANDARD
BEGIN:DAYLIGHT
TZOFFSETFROM:+0000
TZOFFSETTO:+0100
TZNAME:BST
DTSTART:20290325T010000
END:DAYLIGHT
BEGIN:STANDARD
TZOFFSETFROM:+0100
TZOFFSETTO:+0000
TZNAME:GMT
DTSTART:20291028T010000
END:STANDARD
END:VTIMEZONE
BEGIN:VEVENT
DTSTART;TZID=Europe/London:20270618T200000
DTEND;TZID=Europe/London:20270619T010000
DTSTAMP:20260421T043238
CREATED:20221205T174418Z
LAST-MODIFIED:20250413T221836Z
UID:10355978-1813348800-1813366800@golatindance.com
SUMMARY:All Stars Salsa Fridays
DESCRIPTION:Start your weekend off with the best North London dancing in 2 rooms.\nNo congestion – Free parking Loads of it\nAll Stars Invite you to join us\, Come join us for what we do best “FUN”\nDoors open lessons from 8pm – 10pm\nSocial from 10pm – 1am \n2 rooms\nSalsa & Bachata\, kizomba Hall with wooden sprung dance floor.\nParty room\nEach room has the best sound systems.\nFree snack table\n£10
URL:https://golatindance.com/event/all-stars-salsa-fridays-9/2027-06-18/
LOCATION:All Stars Salsa\, 122 Oakleigh road north\, London\, N20 9EZ\, United Kingdom
CATEGORIES:London
END:VEVENT
BEGIN:VEVENT
DTSTART;TZID=Europe/London:20270625T200000
DTEND;TZID=Europe/London:20270626T010000
DTSTAMP:20260421T043238
CREATED:20221205T174418Z
LAST-MODIFIED:20250413T221836Z
UID:10355979-1813953600-1813971600@golatindance.com
SUMMARY:All Stars Salsa Fridays
DESCRIPTION:Start your weekend off with the best North London dancing in 2 rooms.\nNo congestion – Free parking Loads of it\nAll Stars Invite you to join us\, Come join us for what we do best “FUN”\nDoors open lessons from 8pm – 10pm\nSocial from 10pm – 1am \n2 rooms\nSalsa & Bachata\, kizomba Hall with wooden sprung dance floor.\nParty room\nEach room has the best sound systems.\nFree snack table\n£10
URL:https://golatindance.com/event/all-stars-salsa-fridays-9/2027-06-25/
LOCATION:All Stars Salsa\, 122 Oakleigh road north\, London\, N20 9EZ\, United Kingdom
CATEGORIES:London
END:VEVENT
BEGIN:VEVENT
DTSTART;TZID=Europe/London:20270702T200000
DTEND;TZID=Europe/London:20270703T010000
DTSTAMP:20260421T043238
CREATED:20221205T174418Z
LAST-MODIFIED:20250413T221836Z
UID:10355980-1814558400-1814576400@golatindance.com
SUMMARY:All Stars Salsa Fridays
DESCRIPTION:Start your weekend off with the best North London dancing in 2 rooms.\nNo congestion – Free parking Loads of it\nAll Stars Invite you to join us\, Come join us for what we do best “FUN”\nDoors open lessons from 8pm – 10pm\nSocial from 10pm – 1am \n2 rooms\nSalsa & Bachata\, kizomba Hall with wooden sprung dance floor.\nParty room\nEach room has the best sound systems.\nFree snack table\n£10
URL:https://golatindance.com/event/all-stars-salsa-fridays-9/2027-07-02/
LOCATION:All Stars Salsa\, 122 Oakleigh road north\, London\, N20 9EZ\, United Kingdom
CATEGORIES:London
END:VEVENT
BEGIN:VEVENT
DTSTART;TZID=Europe/London:20270709T200000
DTEND;TZID=Europe/London:20270710T010000
DTSTAMP:20260421T043238
CREATED:20221205T174418Z
LAST-MODIFIED:20250413T221836Z
UID:10355981-1815163200-1815181200@golatindance.com
SUMMARY:All Stars Salsa Fridays
DESCRIPTION:Start your weekend off with the best North London dancing in 2 rooms.\nNo congestion – Free parking Loads of it\nAll Stars Invite you to join us\, Come join us for what we do best “FUN”\nDoors open lessons from 8pm – 10pm\nSocial from 10pm – 1am \n2 rooms\nSalsa & Bachata\, kizomba Hall with wooden sprung dance floor.\nParty room\nEach room has the best sound systems.\nFree snack table\n£10
URL:https://golatindance.com/event/all-stars-salsa-fridays-9/2027-07-09/
LOCATION:All Stars Salsa\, 122 Oakleigh road north\, London\, N20 9EZ\, United Kingdom
CATEGORIES:London
END:VEVENT
BEGIN:VEVENT
DTSTART;TZID=Europe/London:20270716T200000
DTEND;TZID=Europe/London:20270717T010000
DTSTAMP:20260421T043238
CREATED:20221205T174418Z
LAST-MODIFIED:20250413T221836Z
UID:10355982-1815768000-1815786000@golatindance.com
SUMMARY:All Stars Salsa Fridays
DESCRIPTION:Start your weekend off with the best North London dancing in 2 rooms.\nNo congestion – Free parking Loads of it\nAll Stars Invite you to join us\, Come join us for what we do best “FUN”\nDoors open lessons from 8pm – 10pm\nSocial from 10pm – 1am \n2 rooms\nSalsa & Bachata\, kizomba Hall with wooden sprung dance floor.\nParty room\nEach room has the best sound systems.\nFree snack table\n£10
URL:https://golatindance.com/event/all-stars-salsa-fridays-9/2027-07-16/
LOCATION:All Stars Salsa\, 122 Oakleigh road north\, London\, N20 9EZ\, United Kingdom
CATEGORIES:London
END:VEVENT
BEGIN:VEVENT
DTSTART;TZID=Europe/London:20270723T200000
DTEND;TZID=Europe/London:20270724T010000
DTSTAMP:20260421T043238
CREATED:20221205T174418Z
LAST-MODIFIED:20250413T221836Z
UID:10355983-1816372800-1816390800@golatindance.com
SUMMARY:All Stars Salsa Fridays
DESCRIPTION:Start your weekend off with the best North London dancing in 2 rooms.\nNo congestion – Free parking Loads of it\nAll Stars Invite you to join us\, Come join us for what we do best “FUN”\nDoors open lessons from 8pm – 10pm\nSocial from 10pm – 1am \n2 rooms\nSalsa & Bachata\, kizomba Hall with wooden sprung dance floor.\nParty room\nEach room has the best sound systems.\nFree snack table\n£10
URL:https://golatindance.com/event/all-stars-salsa-fridays-9/2027-07-23/
LOCATION:All Stars Salsa\, 122 Oakleigh road north\, London\, N20 9EZ\, United Kingdom
CATEGORIES:London
END:VEVENT
BEGIN:VEVENT
DTSTART;TZID=Europe/London:20270730T200000
DTEND;TZID=Europe/London:20270731T010000
DTSTAMP:20260421T043238
CREATED:20221205T174418Z
LAST-MODIFIED:20250413T221836Z
UID:10355984-1816977600-1816995600@golatindance.com
SUMMARY:All Stars Salsa Fridays
DESCRIPTION:Start your weekend off with the best North London dancing in 2 rooms.\nNo congestion – Free parking Loads of it\nAll Stars Invite you to join us\, Come join us for what we do best “FUN”\nDoors open lessons from 8pm – 10pm\nSocial from 10pm – 1am \n2 rooms\nSalsa & Bachata\, kizomba Hall with wooden sprung dance floor.\nParty room\nEach room has the best sound systems.\nFree snack table\n£10
URL:https://golatindance.com/event/all-stars-salsa-fridays-9/2027-07-30/
LOCATION:All Stars Salsa\, 122 Oakleigh road north\, London\, N20 9EZ\, United Kingdom
CATEGORIES:London
END:VEVENT
BEGIN:VEVENT
DTSTART;TZID=Europe/London:20270806T200000
DTEND;TZID=Europe/London:20270807T010000
DTSTAMP:20260421T043238
CREATED:20221205T174418Z
LAST-MODIFIED:20250413T221836Z
UID:10355985-1817582400-1817600400@golatindance.com
SUMMARY:All Stars Salsa Fridays
DESCRIPTION:Start your weekend off with the best North London dancing in 2 rooms.\nNo congestion – Free parking Loads of it\nAll Stars Invite you to join us\, Come join us for what we do best “FUN”\nDoors open lessons from 8pm – 10pm\nSocial from 10pm – 1am \n2 rooms\nSalsa & Bachata\, kizomba Hall with wooden sprung dance floor.\nParty room\nEach room has the best sound systems.\nFree snack table\n£10
URL:https://golatindance.com/event/all-stars-salsa-fridays-9/2027-08-06/
LOCATION:All Stars Salsa\, 122 Oakleigh road north\, London\, N20 9EZ\, United Kingdom
CATEGORIES:London
END:VEVENT
BEGIN:VEVENT
DTSTART;TZID=Europe/London:20270813T200000
DTEND;TZID=Europe/London:20270814T010000
DTSTAMP:20260421T043238
CREATED:20221205T174418Z
LAST-MODIFIED:20250413T221836Z
UID:10355986-1818187200-1818205200@golatindance.com
SUMMARY:All Stars Salsa Fridays
DESCRIPTION:Start your weekend off with the best North London dancing in 2 rooms.\nNo congestion – Free parking Loads of it\nAll Stars Invite you to join us\, Come join us for what we do best “FUN”\nDoors open lessons from 8pm – 10pm\nSocial from 10pm – 1am \n2 rooms\nSalsa & Bachata\, kizomba Hall with wooden sprung dance floor.\nParty room\nEach room has the best sound systems.\nFree snack table\n£10
URL:https://golatindance.com/event/all-stars-salsa-fridays-9/2027-08-13/
LOCATION:All Stars Salsa\, 122 Oakleigh road north\, London\, N20 9EZ\, United Kingdom
CATEGORIES:London
END:VEVENT
BEGIN:VEVENT
DTSTART;TZID=Europe/London:20270820T200000
DTEND;TZID=Europe/London:20270821T010000
DTSTAMP:20260421T043238
CREATED:20221205T174418Z
LAST-MODIFIED:20250413T221836Z
UID:10355987-1818792000-1818810000@golatindance.com
SUMMARY:All Stars Salsa Fridays
DESCRIPTION:Start your weekend off with the best North London dancing in 2 rooms.\nNo congestion – Free parking Loads of it\nAll Stars Invite you to join us\, Come join us for what we do best “FUN”\nDoors open lessons from 8pm – 10pm\nSocial from 10pm – 1am \n2 rooms\nSalsa & Bachata\, kizomba Hall with wooden sprung dance floor.\nParty room\nEach room has the best sound systems.\nFree snack table\n£10
URL:https://golatindance.com/event/all-stars-salsa-fridays-9/2027-08-20/
LOCATION:All Stars Salsa\, 122 Oakleigh road north\, London\, N20 9EZ\, United Kingdom
CATEGORIES:London
END:VEVENT
BEGIN:VEVENT
DTSTART;TZID=Europe/London:20270827T200000
DTEND;TZID=Europe/London:20270828T010000
DTSTAMP:20260421T043238
CREATED:20221205T174418Z
LAST-MODIFIED:20250413T221836Z
UID:10355988-1819396800-1819414800@golatindance.com
SUMMARY:All Stars Salsa Fridays
DESCRIPTION:Start your weekend off with the best North London dancing in 2 rooms.\nNo congestion – Free parking Loads of it\nAll Stars Invite you to join us\, Come join us for what we do best “FUN”\nDoors open lessons from 8pm – 10pm\nSocial from 10pm – 1am \n2 rooms\nSalsa & Bachata\, kizomba Hall with wooden sprung dance floor.\nParty room\nEach room has the best sound systems.\nFree snack table\n£10
URL:https://golatindance.com/event/all-stars-salsa-fridays-9/2027-08-27/
LOCATION:All Stars Salsa\, 122 Oakleigh road north\, London\, N20 9EZ\, United Kingdom
CATEGORIES:London
END:VEVENT
BEGIN:VEVENT
DTSTART;TZID=Europe/London:20270903T200000
DTEND;TZID=Europe/London:20270904T010000
DTSTAMP:20260421T043238
CREATED:20221205T174418Z
LAST-MODIFIED:20250413T221836Z
UID:10355989-1820001600-1820019600@golatindance.com
SUMMARY:All Stars Salsa Fridays
DESCRIPTION:Start your weekend off with the best North London dancing in 2 rooms.\nNo congestion – Free parking Loads of it\nAll Stars Invite you to join us\, Come join us for what we do best “FUN”\nDoors open lessons from 8pm – 10pm\nSocial from 10pm – 1am \n2 rooms\nSalsa & Bachata\, kizomba Hall with wooden sprung dance floor.\nParty room\nEach room has the best sound systems.\nFree snack table\n£10
URL:https://golatindance.com/event/all-stars-salsa-fridays-9/2027-09-03/
LOCATION:All Stars Salsa\, 122 Oakleigh road north\, London\, N20 9EZ\, United Kingdom
CATEGORIES:London
END:VEVENT
BEGIN:VEVENT
DTSTART;TZID=Europe/London:20270910T200000
DTEND;TZID=Europe/London:20270911T010000
DTSTAMP:20260421T043238
CREATED:20221205T174418Z
LAST-MODIFIED:20250413T221836Z
UID:10355990-1820606400-1820624400@golatindance.com
SUMMARY:All Stars Salsa Fridays
DESCRIPTION:Start your weekend off with the best North London dancing in 2 rooms.\nNo congestion – Free parking Loads of it\nAll Stars Invite you to join us\, Come join us for what we do best “FUN”\nDoors open lessons from 8pm – 10pm\nSocial from 10pm – 1am \n2 rooms\nSalsa & Bachata\, kizomba Hall with wooden sprung dance floor.\nParty room\nEach room has the best sound systems.\nFree snack table\n£10
URL:https://golatindance.com/event/all-stars-salsa-fridays-9/2027-09-10/
LOCATION:All Stars Salsa\, 122 Oakleigh road north\, London\, N20 9EZ\, United Kingdom
CATEGORIES:London
END:VEVENT
BEGIN:VEVENT
DTSTART;TZID=Europe/London:20270917T200000
DTEND;TZID=Europe/London:20270918T010000
DTSTAMP:20260421T043238
CREATED:20221205T174418Z
LAST-MODIFIED:20250413T221836Z
UID:10355991-1821211200-1821229200@golatindance.com
SUMMARY:All Stars Salsa Fridays
DESCRIPTION:Start your weekend off with the best North London dancing in 2 rooms.\nNo congestion – Free parking Loads of it\nAll Stars Invite you to join us\, Come join us for what we do best “FUN”\nDoors open lessons from 8pm – 10pm\nSocial from 10pm – 1am \n2 rooms\nSalsa & Bachata\, kizomba Hall with wooden sprung dance floor.\nParty room\nEach room has the best sound systems.\nFree snack table\n£10
URL:https://golatindance.com/event/all-stars-salsa-fridays-9/2027-09-17/
LOCATION:All Stars Salsa\, 122 Oakleigh road north\, London\, N20 9EZ\, United Kingdom
CATEGORIES:London
END:VEVENT
BEGIN:VEVENT
DTSTART;TZID=Europe/London:20270924T200000
DTEND;TZID=Europe/London:20270925T010000
DTSTAMP:20260421T043238
CREATED:20221205T174418Z
LAST-MODIFIED:20250413T221836Z
UID:10355992-1821816000-1821834000@golatindance.com
SUMMARY:All Stars Salsa Fridays
DESCRIPTION:Start your weekend off with the best North London dancing in 2 rooms.\nNo congestion – Free parking Loads of it\nAll Stars Invite you to join us\, Come join us for what we do best “FUN”\nDoors open lessons from 8pm – 10pm\nSocial from 10pm – 1am \n2 rooms\nSalsa & Bachata\, kizomba Hall with wooden sprung dance floor.\nParty room\nEach room has the best sound systems.\nFree snack table\n£10
URL:https://golatindance.com/event/all-stars-salsa-fridays-9/2027-09-24/
LOCATION:All Stars Salsa\, 122 Oakleigh road north\, London\, N20 9EZ\, United Kingdom
CATEGORIES:London
END:VEVENT
BEGIN:VEVENT
DTSTART;TZID=Europe/London:20271001T200000
DTEND;TZID=Europe/London:20271002T010000
DTSTAMP:20260421T043239
CREATED:20221205T174418Z
LAST-MODIFIED:20250413T221836Z
UID:10355993-1822420800-1822438800@golatindance.com
SUMMARY:All Stars Salsa Fridays
DESCRIPTION:Start your weekend off with the best North London dancing in 2 rooms.\nNo congestion – Free parking Loads of it\nAll Stars Invite you to join us\, Come join us for what we do best “FUN”\nDoors open lessons from 8pm – 10pm\nSocial from 10pm – 1am \n2 rooms\nSalsa & Bachata\, kizomba Hall with wooden sprung dance floor.\nParty room\nEach room has the best sound systems.\nFree snack table\n£10
URL:https://golatindance.com/event/all-stars-salsa-fridays-9/2027-10-01/
LOCATION:All Stars Salsa\, 122 Oakleigh road north\, London\, N20 9EZ\, United Kingdom
CATEGORIES:London
END:VEVENT
BEGIN:VEVENT
DTSTART;TZID=Europe/London:20271008T200000
DTEND;TZID=Europe/London:20271009T010000
DTSTAMP:20260421T043239
CREATED:20221205T174418Z
LAST-MODIFIED:20250413T221836Z
UID:10355994-1823025600-1823043600@golatindance.com
SUMMARY:All Stars Salsa Fridays
DESCRIPTION:Start your weekend off with the best North London dancing in 2 rooms.\nNo congestion – Free parking Loads of it\nAll Stars Invite you to join us\, Come join us for what we do best “FUN”\nDoors open lessons from 8pm – 10pm\nSocial from 10pm – 1am \n2 rooms\nSalsa & Bachata\, kizomba Hall with wooden sprung dance floor.\nParty room\nEach room has the best sound systems.\nFree snack table\n£10
URL:https://golatindance.com/event/all-stars-salsa-fridays-9/2027-10-08/
LOCATION:All Stars Salsa\, 122 Oakleigh road north\, London\, N20 9EZ\, United Kingdom
CATEGORIES:London
END:VEVENT
BEGIN:VEVENT
DTSTART;TZID=Europe/London:20271015T200000
DTEND;TZID=Europe/London:20271016T010000
DTSTAMP:20260421T043239
CREATED:20221205T174418Z
LAST-MODIFIED:20250413T221836Z
UID:10355995-1823630400-1823648400@golatindance.com
SUMMARY:All Stars Salsa Fridays
DESCRIPTION:Start your weekend off with the best North London dancing in 2 rooms.\nNo congestion – Free parking Loads of it\nAll Stars Invite you to join us\, Come join us for what we do best “FUN”\nDoors open lessons from 8pm – 10pm\nSocial from 10pm – 1am \n2 rooms\nSalsa & Bachata\, kizomba Hall with wooden sprung dance floor.\nParty room\nEach room has the best sound systems.\nFree snack table\n£10
URL:https://golatindance.com/event/all-stars-salsa-fridays-9/2027-10-15/
LOCATION:All Stars Salsa\, 122 Oakleigh road north\, London\, N20 9EZ\, United Kingdom
CATEGORIES:London
END:VEVENT
BEGIN:VEVENT
DTSTART;TZID=Europe/London:20271022T200000
DTEND;TZID=Europe/London:20271023T010000
DTSTAMP:20260421T043239
CREATED:20221205T174418Z
LAST-MODIFIED:20250413T221836Z
UID:10355996-1824235200-1824253200@golatindance.com
SUMMARY:All Stars Salsa Fridays
DESCRIPTION:Start your weekend off with the best North London dancing in 2 rooms.\nNo congestion – Free parking Loads of it\nAll Stars Invite you to join us\, Come join us for what we do best “FUN”\nDoors open lessons from 8pm – 10pm\nSocial from 10pm – 1am \n2 rooms\nSalsa & Bachata\, kizomba Hall with wooden sprung dance floor.\nParty room\nEach room has the best sound systems.\nFree snack table\n£10
URL:https://golatindance.com/event/all-stars-salsa-fridays-9/2027-10-22/
LOCATION:All Stars Salsa\, 122 Oakleigh road north\, London\, N20 9EZ\, United Kingdom
CATEGORIES:London
END:VEVENT
BEGIN:VEVENT
DTSTART;TZID=Europe/London:20271029T200000
DTEND;TZID=Europe/London:20271030T010000
DTSTAMP:20260421T043239
CREATED:20221205T174418Z
LAST-MODIFIED:20250413T221836Z
UID:10355997-1824840000-1824858000@golatindance.com
SUMMARY:All Stars Salsa Fridays
DESCRIPTION:Start your weekend off with the best North London dancing in 2 rooms.\nNo congestion – Free parking Loads of it\nAll Stars Invite you to join us\, Come join us for what we do best “FUN”\nDoors open lessons from 8pm – 10pm\nSocial from 10pm – 1am \n2 rooms\nSalsa & Bachata\, kizomba Hall with wooden sprung dance floor.\nParty room\nEach room has the best sound systems.\nFree snack table\n£10
URL:https://golatindance.com/event/all-stars-salsa-fridays-9/2027-10-29/
LOCATION:All Stars Salsa\, 122 Oakleigh road north\, London\, N20 9EZ\, United Kingdom
CATEGORIES:London
END:VEVENT
BEGIN:VEVENT
DTSTART;TZID=Europe/London:20271105T200000
DTEND;TZID=Europe/London:20271106T010000
DTSTAMP:20260421T043239
CREATED:20221205T174418Z
LAST-MODIFIED:20250413T221836Z
UID:10355998-1825444800-1825462800@golatindance.com
SUMMARY:All Stars Salsa Fridays
DESCRIPTION:Start your weekend off with the best North London dancing in 2 rooms.\nNo congestion – Free parking Loads of it\nAll Stars Invite you to join us\, Come join us for what we do best “FUN”\nDoors open lessons from 8pm – 10pm\nSocial from 10pm – 1am \n2 rooms\nSalsa & Bachata\, kizomba Hall with wooden sprung dance floor.\nParty room\nEach room has the best sound systems.\nFree snack table\n£10
URL:https://golatindance.com/event/all-stars-salsa-fridays-9/2027-11-05/
LOCATION:All Stars Salsa\, 122 Oakleigh road north\, London\, N20 9EZ\, United Kingdom
CATEGORIES:London
END:VEVENT
BEGIN:VEVENT
DTSTART;TZID=Europe/London:20271112T200000
DTEND;TZID=Europe/London:20271113T010000
DTSTAMP:20260421T043239
CREATED:20221205T174418Z
LAST-MODIFIED:20250413T221836Z
UID:10355999-1826049600-1826067600@golatindance.com
SUMMARY:All Stars Salsa Fridays
DESCRIPTION:Start your weekend off with the best North London dancing in 2 rooms.\nNo congestion – Free parking Loads of it\nAll Stars Invite you to join us\, Come join us for what we do best “FUN”\nDoors open lessons from 8pm – 10pm\nSocial from 10pm – 1am \n2 rooms\nSalsa & Bachata\, kizomba Hall with wooden sprung dance floor.\nParty room\nEach room has the best sound systems.\nFree snack table\n£10
URL:https://golatindance.com/event/all-stars-salsa-fridays-9/2027-11-12/
LOCATION:All Stars Salsa\, 122 Oakleigh road north\, London\, N20 9EZ\, United Kingdom
CATEGORIES:London
END:VEVENT
BEGIN:VEVENT
DTSTART;TZID=Europe/London:20271119T200000
DTEND;TZID=Europe/London:20271120T010000
DTSTAMP:20260421T043239
CREATED:20221205T174418Z
LAST-MODIFIED:20250413T221836Z
UID:10356000-1826654400-1826672400@golatindance.com
SUMMARY:All Stars Salsa Fridays
DESCRIPTION:Start your weekend off with the best North London dancing in 2 rooms.\nNo congestion – Free parking Loads of it\nAll Stars Invite you to join us\, Come join us for what we do best “FUN”\nDoors open lessons from 8pm – 10pm\nSocial from 10pm – 1am \n2 rooms\nSalsa & Bachata\, kizomba Hall with wooden sprung dance floor.\nParty room\nEach room has the best sound systems.\nFree snack table\n£10
URL:https://golatindance.com/event/all-stars-salsa-fridays-9/2027-11-19/
LOCATION:All Stars Salsa\, 122 Oakleigh road north\, London\, N20 9EZ\, United Kingdom
CATEGORIES:London
END:VEVENT
BEGIN:VEVENT
DTSTART;TZID=Europe/London:20271126T200000
DTEND;TZID=Europe/London:20271127T010000
DTSTAMP:20260421T043239
CREATED:20221205T174418Z
LAST-MODIFIED:20250413T221836Z
UID:10356001-1827259200-1827277200@golatindance.com
SUMMARY:All Stars Salsa Fridays
DESCRIPTION:Start your weekend off with the best North London dancing in 2 rooms.\nNo congestion – Free parking Loads of it\nAll Stars Invite you to join us\, Come join us for what we do best “FUN”\nDoors open lessons from 8pm – 10pm\nSocial from 10pm – 1am \n2 rooms\nSalsa & Bachata\, kizomba Hall with wooden sprung dance floor.\nParty room\nEach room has the best sound systems.\nFree snack table\n£10
URL:https://golatindance.com/event/all-stars-salsa-fridays-9/2027-11-26/
LOCATION:All Stars Salsa\, 122 Oakleigh road north\, London\, N20 9EZ\, United Kingdom
CATEGORIES:London
END:VEVENT
BEGIN:VEVENT
DTSTART;TZID=Europe/London:20271203T200000
DTEND;TZID=Europe/London:20271204T010000
DTSTAMP:20260421T043239
CREATED:20221205T174418Z
LAST-MODIFIED:20250413T221836Z
UID:10356002-1827864000-1827882000@golatindance.com
SUMMARY:All Stars Salsa Fridays
DESCRIPTION:Start your weekend off with the best North London dancing in 2 rooms.\nNo congestion – Free parking Loads of it\nAll Stars Invite you to join us\, Come join us for what we do best “FUN”\nDoors open lessons from 8pm – 10pm\nSocial from 10pm – 1am \n2 rooms\nSalsa & Bachata\, kizomba Hall with wooden sprung dance floor.\nParty room\nEach room has the best sound systems.\nFree snack table\n£10
URL:https://golatindance.com/event/all-stars-salsa-fridays-9/2027-12-03/
LOCATION:All Stars Salsa\, 122 Oakleigh road north\, London\, N20 9EZ\, United Kingdom
CATEGORIES:London
END:VEVENT
BEGIN:VEVENT
DTSTART;TZID=Europe/London:20271210T200000
DTEND;TZID=Europe/London:20271211T010000
DTSTAMP:20260421T043239
CREATED:20221205T174418Z
LAST-MODIFIED:20250413T221836Z
UID:10356003-1828468800-1828486800@golatindance.com
SUMMARY:All Stars Salsa Fridays
DESCRIPTION:Start your weekend off with the best North London dancing in 2 rooms.\nNo congestion – Free parking Loads of it\nAll Stars Invite you to join us\, Come join us for what we do best “FUN”\nDoors open lessons from 8pm – 10pm\nSocial from 10pm – 1am \n2 rooms\nSalsa & Bachata\, kizomba Hall with wooden sprung dance floor.\nParty room\nEach room has the best sound systems.\nFree snack table\n£10
URL:https://golatindance.com/event/all-stars-salsa-fridays-9/2027-12-10/
LOCATION:All Stars Salsa\, 122 Oakleigh road north\, London\, N20 9EZ\, United Kingdom
CATEGORIES:London
END:VEVENT
BEGIN:VEVENT
DTSTART;TZID=Europe/London:20271217T200000
DTEND;TZID=Europe/London:20271218T010000
DTSTAMP:20260421T043239
CREATED:20221205T174418Z
LAST-MODIFIED:20250413T221836Z
UID:10356004-1829073600-1829091600@golatindance.com
SUMMARY:All Stars Salsa Fridays
DESCRIPTION:Start your weekend off with the best North London dancing in 2 rooms.\nNo congestion – Free parking Loads of it\nAll Stars Invite you to join us\, Come join us for what we do best “FUN”\nDoors open lessons from 8pm – 10pm\nSocial from 10pm – 1am \n2 rooms\nSalsa & Bachata\, kizomba Hall with wooden sprung dance floor.\nParty room\nEach room has the best sound systems.\nFree snack table\n£10
URL:https://golatindance.com/event/all-stars-salsa-fridays-9/2027-12-17/
LOCATION:All Stars Salsa\, 122 Oakleigh road north\, London\, N20 9EZ\, United Kingdom
CATEGORIES:London
END:VEVENT
BEGIN:VEVENT
DTSTART;TZID=Europe/London:20271224T200000
DTEND;TZID=Europe/London:20271225T010000
DTSTAMP:20260421T043239
CREATED:20221205T174418Z
LAST-MODIFIED:20250413T221836Z
UID:10356005-1829678400-1829696400@golatindance.com
SUMMARY:All Stars Salsa Fridays
DESCRIPTION:Start your weekend off with the best North London dancing in 2 rooms.\nNo congestion – Free parking Loads of it\nAll Stars Invite you to join us\, Come join us for what we do best “FUN”\nDoors open lessons from 8pm – 10pm\nSocial from 10pm – 1am \n2 rooms\nSalsa & Bachata\, kizomba Hall with wooden sprung dance floor.\nParty room\nEach room has the best sound systems.\nFree snack table\n£10
URL:https://golatindance.com/event/all-stars-salsa-fridays-9/2027-12-24/
LOCATION:All Stars Salsa\, 122 Oakleigh road north\, London\, N20 9EZ\, United Kingdom
CATEGORIES:London
END:VEVENT
BEGIN:VEVENT
DTSTART;TZID=Europe/London:20271231T200000
DTEND;TZID=Europe/London:20280101T010000
DTSTAMP:20260421T043239
CREATED:20221205T174418Z
LAST-MODIFIED:20250413T221836Z
UID:10356006-1830283200-1830301200@golatindance.com
SUMMARY:All Stars Salsa Fridays
DESCRIPTION:Start your weekend off with the best North London dancing in 2 rooms.\nNo congestion – Free parking Loads of it\nAll Stars Invite you to join us\, Come join us for what we do best “FUN”\nDoors open lessons from 8pm – 10pm\nSocial from 10pm – 1am \n2 rooms\nSalsa & Bachata\, kizomba Hall with wooden sprung dance floor.\nParty room\nEach room has the best sound systems.\nFree snack table\n£10
URL:https://golatindance.com/event/all-stars-salsa-fridays-9/2027-12-31/
LOCATION:All Stars Salsa\, 122 Oakleigh road north\, London\, N20 9EZ\, United Kingdom
CATEGORIES:London
END:VEVENT
BEGIN:VEVENT
DTSTART;TZID=Europe/London:20280107T200000
DTEND;TZID=Europe/London:20280108T010000
DTSTAMP:20260421T043239
CREATED:20221205T174418Z
LAST-MODIFIED:20250413T221836Z
UID:10356007-1830888000-1830906000@golatindance.com
SUMMARY:All Stars Salsa Fridays
DESCRIPTION:Start your weekend off with the best North London dancing in 2 rooms.\nNo congestion – Free parking Loads of it\nAll Stars Invite you to join us\, Come join us for what we do best “FUN”\nDoors open lessons from 8pm – 10pm\nSocial from 10pm – 1am \n2 rooms\nSalsa & Bachata\, kizomba Hall with wooden sprung dance floor.\nParty room\nEach room has the best sound systems.\nFree snack table\n£10
URL:https://golatindance.com/event/all-stars-salsa-fridays-9/2028-01-07/
LOCATION:All Stars Salsa\, 122 Oakleigh road north\, London\, N20 9EZ\, United Kingdom
CATEGORIES:London
END:VEVENT
END:VCALENDAR