BEGIN:VCALENDAR
VERSION:2.0
PRODID:-//GO Latin Dance - ECPv6.15.18//NONSGML v1.0//EN
CALSCALE:GREGORIAN
METHOD:PUBLISH
X-WR-CALNAME:GO Latin Dance
X-ORIGINAL-URL:https://golatindance.com
X-WR-CALDESC:Events for GO Latin Dance
REFRESH-INTERVAL;VALUE=DURATION:PT1H
X-Robots-Tag:noindex
X-PUBLISHED-TTL:PT1H
BEGIN:VTIMEZONE
TZID:America/Los_Angeles
BEGIN:DAYLIGHT
TZOFFSETFROM:-0800
TZOFFSETTO:-0700
TZNAME:PDT
DTSTART:20270314T100000
END:DAYLIGHT
BEGIN:STANDARD
TZOFFSETFROM:-0700
TZOFFSETTO:-0800
TZNAME:PST
DTSTART:20271107T090000
END:STANDARD
BEGIN:DAYLIGHT
TZOFFSETFROM:-0800
TZOFFSETTO:-0700
TZNAME:PDT
DTSTART:20280312T100000
END:DAYLIGHT
BEGIN:STANDARD
TZOFFSETFROM:-0700
TZOFFSETTO:-0800
TZNAME:PST
DTSTART:20281105T090000
END:STANDARD
BEGIN:DAYLIGHT
TZOFFSETFROM:-0800
TZOFFSETTO:-0700
TZNAME:PDT
DTSTART:20290311T100000
END:DAYLIGHT
BEGIN:STANDARD
TZOFFSETFROM:-0700
TZOFFSETTO:-0800
TZNAME:PST
DTSTART:20291104T090000
END:STANDARD
END:VTIMEZONE
BEGIN:VEVENT
DTSTART;TZID=America/Los_Angeles:20280601T203000
DTEND;TZID=America/Los_Angeles:20280602T000000
DTSTAMP:20260421T123504
CREATED:20221110T161144Z
LAST-MODIFIED:20251218T161830Z
UID:10106493-1843504200-1843516800@golatindance.com
SUMMARY:Latin Dance & DJ Thursday Nights
DESCRIPTION:Join us for social dancing at the Aurora Borealis Event Center in Shoreline with rotating guest DJs.\n8:30 – 9:30 pm – Class with Maestro Papa Sergio. No partner required.\nDancing until midnight\n$10 cover at the door\nAges 21+ after 10 pm\nFree Parking\nLadies enjoy 1/2 price drinks all night!
URL:https://golatindance.com/event/latin-dance-dj-thursday-nights/2028-06-01/
LOCATION:Aurora Borealis Restaurant\, 16708 Aurora Ave N\, Shoreline\, WA\, 98133\, United States
CATEGORIES:Seattle
ATTACH;FMTTYPE=image/png:https://golatindance.com/wp-content/uploads/2022/11/Thursday-Flyer-new.png
END:VEVENT
BEGIN:VEVENT
DTSTART;TZID=America/Los_Angeles:20280608T203000
DTEND;TZID=America/Los_Angeles:20280609T000000
DTSTAMP:20260421T123504
CREATED:20221110T161144Z
LAST-MODIFIED:20251218T161830Z
UID:10106494-1844109000-1844121600@golatindance.com
SUMMARY:Latin Dance & DJ Thursday Nights
DESCRIPTION:Join us for social dancing at the Aurora Borealis Event Center in Shoreline with rotating guest DJs.\n8:30 – 9:30 pm – Class with Maestro Papa Sergio. No partner required.\nDancing until midnight\n$10 cover at the door\nAges 21+ after 10 pm\nFree Parking\nLadies enjoy 1/2 price drinks all night!
URL:https://golatindance.com/event/latin-dance-dj-thursday-nights/2028-06-08/
LOCATION:Aurora Borealis Restaurant\, 16708 Aurora Ave N\, Shoreline\, WA\, 98133\, United States
CATEGORIES:Seattle
ATTACH;FMTTYPE=image/png:https://golatindance.com/wp-content/uploads/2022/11/Thursday-Flyer-new.png
END:VEVENT
BEGIN:VEVENT
DTSTART;TZID=America/Los_Angeles:20280615T203000
DTEND;TZID=America/Los_Angeles:20280616T000000
DTSTAMP:20260421T123504
CREATED:20221110T161144Z
LAST-MODIFIED:20251218T161830Z
UID:10106495-1844713800-1844726400@golatindance.com
SUMMARY:Latin Dance & DJ Thursday Nights
DESCRIPTION:Join us for social dancing at the Aurora Borealis Event Center in Shoreline with rotating guest DJs.\n8:30 – 9:30 pm – Class with Maestro Papa Sergio. No partner required.\nDancing until midnight\n$10 cover at the door\nAges 21+ after 10 pm\nFree Parking\nLadies enjoy 1/2 price drinks all night!
URL:https://golatindance.com/event/latin-dance-dj-thursday-nights/2028-06-15/
LOCATION:Aurora Borealis Restaurant\, 16708 Aurora Ave N\, Shoreline\, WA\, 98133\, United States
CATEGORIES:Seattle
ATTACH;FMTTYPE=image/png:https://golatindance.com/wp-content/uploads/2022/11/Thursday-Flyer-new.png
END:VEVENT
BEGIN:VEVENT
DTSTART;TZID=America/Los_Angeles:20280622T203000
DTEND;TZID=America/Los_Angeles:20280623T000000
DTSTAMP:20260421T123504
CREATED:20221110T161144Z
LAST-MODIFIED:20251218T161830Z
UID:10174676-1845318600-1845331200@golatindance.com
SUMMARY:Latin Dance & DJ Thursday Nights
DESCRIPTION:Join us for social dancing at the Aurora Borealis Event Center in Shoreline with rotating guest DJs.\n8:30 – 9:30 pm – Class with Maestro Papa Sergio. No partner required.\nDancing until midnight\n$10 cover at the door\nAges 21+ after 10 pm\nFree Parking\nLadies enjoy 1/2 price drinks all night!
URL:https://golatindance.com/event/latin-dance-dj-thursday-nights/2028-06-22/
LOCATION:Aurora Borealis Restaurant\, 16708 Aurora Ave N\, Shoreline\, WA\, 98133\, United States
CATEGORIES:Seattle
ATTACH;FMTTYPE=image/png:https://golatindance.com/wp-content/uploads/2022/11/Thursday-Flyer-new.png
END:VEVENT
BEGIN:VEVENT
DTSTART;TZID=America/Los_Angeles:20280629T203000
DTEND;TZID=America/Los_Angeles:20280630T000000
DTSTAMP:20260421T123504
CREATED:20221110T161144Z
LAST-MODIFIED:20251218T161830Z
UID:10174677-1845923400-1845936000@golatindance.com
SUMMARY:Latin Dance & DJ Thursday Nights
DESCRIPTION:Join us for social dancing at the Aurora Borealis Event Center in Shoreline with rotating guest DJs.\n8:30 – 9:30 pm – Class with Maestro Papa Sergio. No partner required.\nDancing until midnight\n$10 cover at the door\nAges 21+ after 10 pm\nFree Parking\nLadies enjoy 1/2 price drinks all night!
URL:https://golatindance.com/event/latin-dance-dj-thursday-nights/2028-06-29/
LOCATION:Aurora Borealis Restaurant\, 16708 Aurora Ave N\, Shoreline\, WA\, 98133\, United States
CATEGORIES:Seattle
ATTACH;FMTTYPE=image/png:https://golatindance.com/wp-content/uploads/2022/11/Thursday-Flyer-new.png
END:VEVENT
BEGIN:VEVENT
DTSTART;TZID=America/Los_Angeles:20280706T203000
DTEND;TZID=America/Los_Angeles:20280707T000000
DTSTAMP:20260421T123504
CREATED:20221110T161144Z
LAST-MODIFIED:20251218T161830Z
UID:10174678-1846528200-1846540800@golatindance.com
SUMMARY:Latin Dance & DJ Thursday Nights
DESCRIPTION:Join us for social dancing at the Aurora Borealis Event Center in Shoreline with rotating guest DJs.\n8:30 – 9:30 pm – Class with Maestro Papa Sergio. No partner required.\nDancing until midnight\n$10 cover at the door\nAges 21+ after 10 pm\nFree Parking\nLadies enjoy 1/2 price drinks all night!
URL:https://golatindance.com/event/latin-dance-dj-thursday-nights/2028-07-06/
LOCATION:Aurora Borealis Restaurant\, 16708 Aurora Ave N\, Shoreline\, WA\, 98133\, United States
CATEGORIES:Seattle
ATTACH;FMTTYPE=image/png:https://golatindance.com/wp-content/uploads/2022/11/Thursday-Flyer-new.png
END:VEVENT
BEGIN:VEVENT
DTSTART;TZID=America/Los_Angeles:20280713T203000
DTEND;TZID=America/Los_Angeles:20280714T000000
DTSTAMP:20260421T123504
CREATED:20221110T161144Z
LAST-MODIFIED:20251218T161830Z
UID:10174679-1847133000-1847145600@golatindance.com
SUMMARY:Latin Dance & DJ Thursday Nights
DESCRIPTION:Join us for social dancing at the Aurora Borealis Event Center in Shoreline with rotating guest DJs.\n8:30 – 9:30 pm – Class with Maestro Papa Sergio. No partner required.\nDancing until midnight\n$10 cover at the door\nAges 21+ after 10 pm\nFree Parking\nLadies enjoy 1/2 price drinks all night!
URL:https://golatindance.com/event/latin-dance-dj-thursday-nights/2028-07-13/
LOCATION:Aurora Borealis Restaurant\, 16708 Aurora Ave N\, Shoreline\, WA\, 98133\, United States
CATEGORIES:Seattle
ATTACH;FMTTYPE=image/png:https://golatindance.com/wp-content/uploads/2022/11/Thursday-Flyer-new.png
END:VEVENT
BEGIN:VEVENT
DTSTART;TZID=America/Los_Angeles:20280720T203000
DTEND;TZID=America/Los_Angeles:20280721T000000
DTSTAMP:20260421T123504
CREATED:20221110T161144Z
LAST-MODIFIED:20251218T161830Z
UID:10174680-1847737800-1847750400@golatindance.com
SUMMARY:Latin Dance & DJ Thursday Nights
DESCRIPTION:Join us for social dancing at the Aurora Borealis Event Center in Shoreline with rotating guest DJs.\n8:30 – 9:30 pm – Class with Maestro Papa Sergio. No partner required.\nDancing until midnight\n$10 cover at the door\nAges 21+ after 10 pm\nFree Parking\nLadies enjoy 1/2 price drinks all night!
URL:https://golatindance.com/event/latin-dance-dj-thursday-nights/2028-07-20/
LOCATION:Aurora Borealis Restaurant\, 16708 Aurora Ave N\, Shoreline\, WA\, 98133\, United States
CATEGORIES:Seattle
ATTACH;FMTTYPE=image/png:https://golatindance.com/wp-content/uploads/2022/11/Thursday-Flyer-new.png
END:VEVENT
BEGIN:VEVENT
DTSTART;TZID=America/Los_Angeles:20280727T203000
DTEND;TZID=America/Los_Angeles:20280728T000000
DTSTAMP:20260421T123504
CREATED:20221110T161144Z
LAST-MODIFIED:20251218T161830Z
UID:10174681-1848342600-1848355200@golatindance.com
SUMMARY:Latin Dance & DJ Thursday Nights
DESCRIPTION:Join us for social dancing at the Aurora Borealis Event Center in Shoreline with rotating guest DJs.\n8:30 – 9:30 pm – Class with Maestro Papa Sergio. No partner required.\nDancing until midnight\n$10 cover at the door\nAges 21+ after 10 pm\nFree Parking\nLadies enjoy 1/2 price drinks all night!
URL:https://golatindance.com/event/latin-dance-dj-thursday-nights/2028-07-27/
LOCATION:Aurora Borealis Restaurant\, 16708 Aurora Ave N\, Shoreline\, WA\, 98133\, United States
CATEGORIES:Seattle
ATTACH;FMTTYPE=image/png:https://golatindance.com/wp-content/uploads/2022/11/Thursday-Flyer-new.png
END:VEVENT
BEGIN:VEVENT
DTSTART;TZID=America/Los_Angeles:20280803T203000
DTEND;TZID=America/Los_Angeles:20280804T000000
DTSTAMP:20260421T123504
CREATED:20221110T161144Z
LAST-MODIFIED:20251218T161830Z
UID:10174682-1848947400-1848960000@golatindance.com
SUMMARY:Latin Dance & DJ Thursday Nights
DESCRIPTION:Join us for social dancing at the Aurora Borealis Event Center in Shoreline with rotating guest DJs.\n8:30 – 9:30 pm – Class with Maestro Papa Sergio. No partner required.\nDancing until midnight\n$10 cover at the door\nAges 21+ after 10 pm\nFree Parking\nLadies enjoy 1/2 price drinks all night!
URL:https://golatindance.com/event/latin-dance-dj-thursday-nights/2028-08-03/
LOCATION:Aurora Borealis Restaurant\, 16708 Aurora Ave N\, Shoreline\, WA\, 98133\, United States
CATEGORIES:Seattle
ATTACH;FMTTYPE=image/png:https://golatindance.com/wp-content/uploads/2022/11/Thursday-Flyer-new.png
END:VEVENT
BEGIN:VEVENT
DTSTART;TZID=America/Los_Angeles:20280810T203000
DTEND;TZID=America/Los_Angeles:20280811T000000
DTSTAMP:20260421T123504
CREATED:20221110T161144Z
LAST-MODIFIED:20251218T161830Z
UID:10174683-1849552200-1849564800@golatindance.com
SUMMARY:Latin Dance & DJ Thursday Nights
DESCRIPTION:Join us for social dancing at the Aurora Borealis Event Center in Shoreline with rotating guest DJs.\n8:30 – 9:30 pm – Class with Maestro Papa Sergio. No partner required.\nDancing until midnight\n$10 cover at the door\nAges 21+ after 10 pm\nFree Parking\nLadies enjoy 1/2 price drinks all night!
URL:https://golatindance.com/event/latin-dance-dj-thursday-nights/2028-08-10/
LOCATION:Aurora Borealis Restaurant\, 16708 Aurora Ave N\, Shoreline\, WA\, 98133\, United States
CATEGORIES:Seattle
ATTACH;FMTTYPE=image/png:https://golatindance.com/wp-content/uploads/2022/11/Thursday-Flyer-new.png
END:VEVENT
BEGIN:VEVENT
DTSTART;TZID=America/Los_Angeles:20280817T203000
DTEND;TZID=America/Los_Angeles:20280818T000000
DTSTAMP:20260421T123504
CREATED:20221110T161144Z
LAST-MODIFIED:20251218T161830Z
UID:10174684-1850157000-1850169600@golatindance.com
SUMMARY:Latin Dance & DJ Thursday Nights
DESCRIPTION:Join us for social dancing at the Aurora Borealis Event Center in Shoreline with rotating guest DJs.\n8:30 – 9:30 pm – Class with Maestro Papa Sergio. No partner required.\nDancing until midnight\n$10 cover at the door\nAges 21+ after 10 pm\nFree Parking\nLadies enjoy 1/2 price drinks all night!
URL:https://golatindance.com/event/latin-dance-dj-thursday-nights/2028-08-17/
LOCATION:Aurora Borealis Restaurant\, 16708 Aurora Ave N\, Shoreline\, WA\, 98133\, United States
CATEGORIES:Seattle
ATTACH;FMTTYPE=image/png:https://golatindance.com/wp-content/uploads/2022/11/Thursday-Flyer-new.png
END:VEVENT
BEGIN:VEVENT
DTSTART;TZID=America/Los_Angeles:20280824T203000
DTEND;TZID=America/Los_Angeles:20280825T000000
DTSTAMP:20260421T123504
CREATED:20221110T161144Z
LAST-MODIFIED:20251218T161830Z
UID:10174685-1850761800-1850774400@golatindance.com
SUMMARY:Latin Dance & DJ Thursday Nights
DESCRIPTION:Join us for social dancing at the Aurora Borealis Event Center in Shoreline with rotating guest DJs.\n8:30 – 9:30 pm – Class with Maestro Papa Sergio. No partner required.\nDancing until midnight\n$10 cover at the door\nAges 21+ after 10 pm\nFree Parking\nLadies enjoy 1/2 price drinks all night!
URL:https://golatindance.com/event/latin-dance-dj-thursday-nights/2028-08-24/
LOCATION:Aurora Borealis Restaurant\, 16708 Aurora Ave N\, Shoreline\, WA\, 98133\, United States
CATEGORIES:Seattle
ATTACH;FMTTYPE=image/png:https://golatindance.com/wp-content/uploads/2022/11/Thursday-Flyer-new.png
END:VEVENT
BEGIN:VEVENT
DTSTART;TZID=America/Los_Angeles:20280831T203000
DTEND;TZID=America/Los_Angeles:20280901T000000
DTSTAMP:20260421T123504
CREATED:20221110T161144Z
LAST-MODIFIED:20251218T161830Z
UID:10174686-1851366600-1851379200@golatindance.com
SUMMARY:Latin Dance & DJ Thursday Nights
DESCRIPTION:Join us for social dancing at the Aurora Borealis Event Center in Shoreline with rotating guest DJs.\n8:30 – 9:30 pm – Class with Maestro Papa Sergio. No partner required.\nDancing until midnight\n$10 cover at the door\nAges 21+ after 10 pm\nFree Parking\nLadies enjoy 1/2 price drinks all night!
URL:https://golatindance.com/event/latin-dance-dj-thursday-nights/2028-08-31/
LOCATION:Aurora Borealis Restaurant\, 16708 Aurora Ave N\, Shoreline\, WA\, 98133\, United States
CATEGORIES:Seattle
ATTACH;FMTTYPE=image/png:https://golatindance.com/wp-content/uploads/2022/11/Thursday-Flyer-new.png
END:VEVENT
BEGIN:VEVENT
DTSTART;TZID=America/Los_Angeles:20280907T203000
DTEND;TZID=America/Los_Angeles:20280908T000000
DTSTAMP:20260421T123504
CREATED:20221110T161144Z
LAST-MODIFIED:20251218T161830Z
UID:10174687-1851971400-1851984000@golatindance.com
SUMMARY:Latin Dance & DJ Thursday Nights
DESCRIPTION:Join us for social dancing at the Aurora Borealis Event Center in Shoreline with rotating guest DJs.\n8:30 – 9:30 pm – Class with Maestro Papa Sergio. No partner required.\nDancing until midnight\n$10 cover at the door\nAges 21+ after 10 pm\nFree Parking\nLadies enjoy 1/2 price drinks all night!
URL:https://golatindance.com/event/latin-dance-dj-thursday-nights/2028-09-07/
LOCATION:Aurora Borealis Restaurant\, 16708 Aurora Ave N\, Shoreline\, WA\, 98133\, United States
CATEGORIES:Seattle
ATTACH;FMTTYPE=image/png:https://golatindance.com/wp-content/uploads/2022/11/Thursday-Flyer-new.png
END:VEVENT
BEGIN:VEVENT
DTSTART;TZID=America/Los_Angeles:20280914T203000
DTEND;TZID=America/Los_Angeles:20280915T000000
DTSTAMP:20260421T123504
CREATED:20221110T161144Z
LAST-MODIFIED:20251218T161830Z
UID:10174688-1852576200-1852588800@golatindance.com
SUMMARY:Latin Dance & DJ Thursday Nights
DESCRIPTION:Join us for social dancing at the Aurora Borealis Event Center in Shoreline with rotating guest DJs.\n8:30 – 9:30 pm – Class with Maestro Papa Sergio. No partner required.\nDancing until midnight\n$10 cover at the door\nAges 21+ after 10 pm\nFree Parking\nLadies enjoy 1/2 price drinks all night!
URL:https://golatindance.com/event/latin-dance-dj-thursday-nights/2028-09-14/
LOCATION:Aurora Borealis Restaurant\, 16708 Aurora Ave N\, Shoreline\, WA\, 98133\, United States
CATEGORIES:Seattle
ATTACH;FMTTYPE=image/png:https://golatindance.com/wp-content/uploads/2022/11/Thursday-Flyer-new.png
END:VEVENT
BEGIN:VEVENT
DTSTART;TZID=America/Los_Angeles:20280921T203000
DTEND;TZID=America/Los_Angeles:20280922T000000
DTSTAMP:20260421T123504
CREATED:20221110T161144Z
LAST-MODIFIED:20251218T161830Z
UID:10174689-1853181000-1853193600@golatindance.com
SUMMARY:Latin Dance & DJ Thursday Nights
DESCRIPTION:Join us for social dancing at the Aurora Borealis Event Center in Shoreline with rotating guest DJs.\n8:30 – 9:30 pm – Class with Maestro Papa Sergio. No partner required.\nDancing until midnight\n$10 cover at the door\nAges 21+ after 10 pm\nFree Parking\nLadies enjoy 1/2 price drinks all night!
URL:https://golatindance.com/event/latin-dance-dj-thursday-nights/2028-09-21/
LOCATION:Aurora Borealis Restaurant\, 16708 Aurora Ave N\, Shoreline\, WA\, 98133\, United States
CATEGORIES:Seattle
ATTACH;FMTTYPE=image/png:https://golatindance.com/wp-content/uploads/2022/11/Thursday-Flyer-new.png
END:VEVENT
BEGIN:VEVENT
DTSTART;TZID=America/Los_Angeles:20280928T203000
DTEND;TZID=America/Los_Angeles:20280929T000000
DTSTAMP:20260421T123504
CREATED:20221110T161144Z
LAST-MODIFIED:20251218T161830Z
UID:10174690-1853785800-1853798400@golatindance.com
SUMMARY:Latin Dance & DJ Thursday Nights
DESCRIPTION:Join us for social dancing at the Aurora Borealis Event Center in Shoreline with rotating guest DJs.\n8:30 – 9:30 pm – Class with Maestro Papa Sergio. No partner required.\nDancing until midnight\n$10 cover at the door\nAges 21+ after 10 pm\nFree Parking\nLadies enjoy 1/2 price drinks all night!
URL:https://golatindance.com/event/latin-dance-dj-thursday-nights/2028-09-28/
LOCATION:Aurora Borealis Restaurant\, 16708 Aurora Ave N\, Shoreline\, WA\, 98133\, United States
CATEGORIES:Seattle
ATTACH;FMTTYPE=image/png:https://golatindance.com/wp-content/uploads/2022/11/Thursday-Flyer-new.png
END:VEVENT
BEGIN:VEVENT
DTSTART;TZID=America/Los_Angeles:20281005T203000
DTEND;TZID=America/Los_Angeles:20281006T000000
DTSTAMP:20260421T123504
CREATED:20221110T161144Z
LAST-MODIFIED:20251218T161830Z
UID:10174691-1854390600-1854403200@golatindance.com
SUMMARY:Latin Dance & DJ Thursday Nights
DESCRIPTION:Join us for social dancing at the Aurora Borealis Event Center in Shoreline with rotating guest DJs.\n8:30 – 9:30 pm – Class with Maestro Papa Sergio. No partner required.\nDancing until midnight\n$10 cover at the door\nAges 21+ after 10 pm\nFree Parking\nLadies enjoy 1/2 price drinks all night!
URL:https://golatindance.com/event/latin-dance-dj-thursday-nights/2028-10-05/
LOCATION:Aurora Borealis Restaurant\, 16708 Aurora Ave N\, Shoreline\, WA\, 98133\, United States
CATEGORIES:Seattle
ATTACH;FMTTYPE=image/png:https://golatindance.com/wp-content/uploads/2022/11/Thursday-Flyer-new.png
END:VEVENT
BEGIN:VEVENT
DTSTART;TZID=America/Los_Angeles:20281012T203000
DTEND;TZID=America/Los_Angeles:20281013T000000
DTSTAMP:20260421T123504
CREATED:20221110T161144Z
LAST-MODIFIED:20251218T161830Z
UID:10174692-1854995400-1855008000@golatindance.com
SUMMARY:Latin Dance & DJ Thursday Nights
DESCRIPTION:Join us for social dancing at the Aurora Borealis Event Center in Shoreline with rotating guest DJs.\n8:30 – 9:30 pm – Class with Maestro Papa Sergio. No partner required.\nDancing until midnight\n$10 cover at the door\nAges 21+ after 10 pm\nFree Parking\nLadies enjoy 1/2 price drinks all night!
URL:https://golatindance.com/event/latin-dance-dj-thursday-nights/2028-10-12/
LOCATION:Aurora Borealis Restaurant\, 16708 Aurora Ave N\, Shoreline\, WA\, 98133\, United States
CATEGORIES:Seattle
ATTACH;FMTTYPE=image/png:https://golatindance.com/wp-content/uploads/2022/11/Thursday-Flyer-new.png
END:VEVENT
BEGIN:VEVENT
DTSTART;TZID=America/Los_Angeles:20281019T203000
DTEND;TZID=America/Los_Angeles:20281020T000000
DTSTAMP:20260421T123504
CREATED:20221110T161144Z
LAST-MODIFIED:20251218T161830Z
UID:10174693-1855600200-1855612800@golatindance.com
SUMMARY:Latin Dance & DJ Thursday Nights
DESCRIPTION:Join us for social dancing at the Aurora Borealis Event Center in Shoreline with rotating guest DJs.\n8:30 – 9:30 pm – Class with Maestro Papa Sergio. No partner required.\nDancing until midnight\n$10 cover at the door\nAges 21+ after 10 pm\nFree Parking\nLadies enjoy 1/2 price drinks all night!
URL:https://golatindance.com/event/latin-dance-dj-thursday-nights/2028-10-19/
LOCATION:Aurora Borealis Restaurant\, 16708 Aurora Ave N\, Shoreline\, WA\, 98133\, United States
CATEGORIES:Seattle
ATTACH;FMTTYPE=image/png:https://golatindance.com/wp-content/uploads/2022/11/Thursday-Flyer-new.png
END:VEVENT
BEGIN:VEVENT
DTSTART;TZID=America/Los_Angeles:20281026T203000
DTEND;TZID=America/Los_Angeles:20281027T000000
DTSTAMP:20260421T123504
CREATED:20221110T161144Z
LAST-MODIFIED:20251218T161830Z
UID:10179955-1856205000-1856217600@golatindance.com
SUMMARY:Latin Dance & DJ Thursday Nights
DESCRIPTION:Join us for social dancing at the Aurora Borealis Event Center in Shoreline with rotating guest DJs.\n8:30 – 9:30 pm – Class with Maestro Papa Sergio. No partner required.\nDancing until midnight\n$10 cover at the door\nAges 21+ after 10 pm\nFree Parking\nLadies enjoy 1/2 price drinks all night!
URL:https://golatindance.com/event/latin-dance-dj-thursday-nights/2028-10-26/
LOCATION:Aurora Borealis Restaurant\, 16708 Aurora Ave N\, Shoreline\, WA\, 98133\, United States
CATEGORIES:Seattle
ATTACH;FMTTYPE=image/png:https://golatindance.com/wp-content/uploads/2022/11/Thursday-Flyer-new.png
END:VEVENT
BEGIN:VEVENT
DTSTART;TZID=America/Los_Angeles:20281102T203000
DTEND;TZID=America/Los_Angeles:20281103T000000
DTSTAMP:20260421T123504
CREATED:20221110T161144Z
LAST-MODIFIED:20251218T161830Z
UID:10179956-1856809800-1856822400@golatindance.com
SUMMARY:Latin Dance & DJ Thursday Nights
DESCRIPTION:Join us for social dancing at the Aurora Borealis Event Center in Shoreline with rotating guest DJs.\n8:30 – 9:30 pm – Class with Maestro Papa Sergio. No partner required.\nDancing until midnight\n$10 cover at the door\nAges 21+ after 10 pm\nFree Parking\nLadies enjoy 1/2 price drinks all night!
URL:https://golatindance.com/event/latin-dance-dj-thursday-nights/2028-11-02/
LOCATION:Aurora Borealis Restaurant\, 16708 Aurora Ave N\, Shoreline\, WA\, 98133\, United States
CATEGORIES:Seattle
ATTACH;FMTTYPE=image/png:https://golatindance.com/wp-content/uploads/2022/11/Thursday-Flyer-new.png
END:VEVENT
BEGIN:VEVENT
DTSTART;TZID=America/Los_Angeles:20281109T203000
DTEND;TZID=America/Los_Angeles:20281110T000000
DTSTAMP:20260421T123504
CREATED:20221110T161144Z
LAST-MODIFIED:20251218T161830Z
UID:10179957-1857414600-1857427200@golatindance.com
SUMMARY:Latin Dance & DJ Thursday Nights
DESCRIPTION:Join us for social dancing at the Aurora Borealis Event Center in Shoreline with rotating guest DJs.\n8:30 – 9:30 pm – Class with Maestro Papa Sergio. No partner required.\nDancing until midnight\n$10 cover at the door\nAges 21+ after 10 pm\nFree Parking\nLadies enjoy 1/2 price drinks all night!
URL:https://golatindance.com/event/latin-dance-dj-thursday-nights/2028-11-09/
LOCATION:Aurora Borealis Restaurant\, 16708 Aurora Ave N\, Shoreline\, WA\, 98133\, United States
CATEGORIES:Seattle
ATTACH;FMTTYPE=image/png:https://golatindance.com/wp-content/uploads/2022/11/Thursday-Flyer-new.png
END:VEVENT
BEGIN:VEVENT
DTSTART;TZID=America/Los_Angeles:20281116T203000
DTEND;TZID=America/Los_Angeles:20281117T000000
DTSTAMP:20260421T123504
CREATED:20221110T161144Z
LAST-MODIFIED:20251218T161830Z
UID:10230894-1858019400-1858032000@golatindance.com
SUMMARY:Latin Dance & DJ Thursday Nights
DESCRIPTION:Join us for social dancing at the Aurora Borealis Event Center in Shoreline with rotating guest DJs.\n8:30 – 9:30 pm – Class with Maestro Papa Sergio. No partner required.\nDancing until midnight\n$10 cover at the door\nAges 21+ after 10 pm\nFree Parking\nLadies enjoy 1/2 price drinks all night!
URL:https://golatindance.com/event/latin-dance-dj-thursday-nights/2028-11-16/
LOCATION:Aurora Borealis Restaurant\, 16708 Aurora Ave N\, Shoreline\, WA\, 98133\, United States
CATEGORIES:Seattle
ATTACH;FMTTYPE=image/png:https://golatindance.com/wp-content/uploads/2022/11/Thursday-Flyer-new.png
END:VEVENT
BEGIN:VEVENT
DTSTART;TZID=America/Los_Angeles:20281123T203000
DTEND;TZID=America/Los_Angeles:20281124T000000
DTSTAMP:20260421T123504
CREATED:20221110T161144Z
LAST-MODIFIED:20251218T161830Z
UID:10230895-1858624200-1858636800@golatindance.com
SUMMARY:Latin Dance & DJ Thursday Nights
DESCRIPTION:Join us for social dancing at the Aurora Borealis Event Center in Shoreline with rotating guest DJs.\n8:30 – 9:30 pm – Class with Maestro Papa Sergio. No partner required.\nDancing until midnight\n$10 cover at the door\nAges 21+ after 10 pm\nFree Parking\nLadies enjoy 1/2 price drinks all night!
URL:https://golatindance.com/event/latin-dance-dj-thursday-nights/2028-11-23/
LOCATION:Aurora Borealis Restaurant\, 16708 Aurora Ave N\, Shoreline\, WA\, 98133\, United States
CATEGORIES:Seattle
ATTACH;FMTTYPE=image/png:https://golatindance.com/wp-content/uploads/2022/11/Thursday-Flyer-new.png
END:VEVENT
BEGIN:VEVENT
DTSTART;TZID=America/Los_Angeles:20281130T203000
DTEND;TZID=America/Los_Angeles:20281201T000000
DTSTAMP:20260421T123504
CREATED:20221110T161144Z
LAST-MODIFIED:20251218T161830Z
UID:10230896-1859229000-1859241600@golatindance.com
SUMMARY:Latin Dance & DJ Thursday Nights
DESCRIPTION:Join us for social dancing at the Aurora Borealis Event Center in Shoreline with rotating guest DJs.\n8:30 – 9:30 pm – Class with Maestro Papa Sergio. No partner required.\nDancing until midnight\n$10 cover at the door\nAges 21+ after 10 pm\nFree Parking\nLadies enjoy 1/2 price drinks all night!
URL:https://golatindance.com/event/latin-dance-dj-thursday-nights/2028-11-30/
LOCATION:Aurora Borealis Restaurant\, 16708 Aurora Ave N\, Shoreline\, WA\, 98133\, United States
CATEGORIES:Seattle
ATTACH;FMTTYPE=image/png:https://golatindance.com/wp-content/uploads/2022/11/Thursday-Flyer-new.png
END:VEVENT
BEGIN:VEVENT
DTSTART;TZID=America/Los_Angeles:20281207T203000
DTEND;TZID=America/Los_Angeles:20281208T000000
DTSTAMP:20260421T123504
CREATED:20221110T161144Z
LAST-MODIFIED:20251218T161830Z
UID:10230897-1859833800-1859846400@golatindance.com
SUMMARY:Latin Dance & DJ Thursday Nights
DESCRIPTION:Join us for social dancing at the Aurora Borealis Event Center in Shoreline with rotating guest DJs.\n8:30 – 9:30 pm – Class with Maestro Papa Sergio. No partner required.\nDancing until midnight\n$10 cover at the door\nAges 21+ after 10 pm\nFree Parking\nLadies enjoy 1/2 price drinks all night!
URL:https://golatindance.com/event/latin-dance-dj-thursday-nights/2028-12-07/
LOCATION:Aurora Borealis Restaurant\, 16708 Aurora Ave N\, Shoreline\, WA\, 98133\, United States
CATEGORIES:Seattle
ATTACH;FMTTYPE=image/png:https://golatindance.com/wp-content/uploads/2022/11/Thursday-Flyer-new.png
END:VEVENT
BEGIN:VEVENT
DTSTART;TZID=America/Los_Angeles:20281214T203000
DTEND;TZID=America/Los_Angeles:20281215T000000
DTSTAMP:20260421T123504
CREATED:20221110T161144Z
LAST-MODIFIED:20251218T161830Z
UID:10230898-1860438600-1860451200@golatindance.com
SUMMARY:Latin Dance & DJ Thursday Nights
DESCRIPTION:Join us for social dancing at the Aurora Borealis Event Center in Shoreline with rotating guest DJs.\n8:30 – 9:30 pm – Class with Maestro Papa Sergio. No partner required.\nDancing until midnight\n$10 cover at the door\nAges 21+ after 10 pm\nFree Parking\nLadies enjoy 1/2 price drinks all night!
URL:https://golatindance.com/event/latin-dance-dj-thursday-nights/2028-12-14/
LOCATION:Aurora Borealis Restaurant\, 16708 Aurora Ave N\, Shoreline\, WA\, 98133\, United States
CATEGORIES:Seattle
ATTACH;FMTTYPE=image/png:https://golatindance.com/wp-content/uploads/2022/11/Thursday-Flyer-new.png
END:VEVENT
BEGIN:VEVENT
DTSTART;TZID=America/Los_Angeles:20281221T203000
DTEND;TZID=America/Los_Angeles:20281222T000000
DTSTAMP:20260421T123504
CREATED:20221110T161144Z
LAST-MODIFIED:20251218T161830Z
UID:10230899-1861043400-1861056000@golatindance.com
SUMMARY:Latin Dance & DJ Thursday Nights
DESCRIPTION:Join us for social dancing at the Aurora Borealis Event Center in Shoreline with rotating guest DJs.\n8:30 – 9:30 pm – Class with Maestro Papa Sergio. No partner required.\nDancing until midnight\n$10 cover at the door\nAges 21+ after 10 pm\nFree Parking\nLadies enjoy 1/2 price drinks all night!
URL:https://golatindance.com/event/latin-dance-dj-thursday-nights/2028-12-21/
LOCATION:Aurora Borealis Restaurant\, 16708 Aurora Ave N\, Shoreline\, WA\, 98133\, United States
CATEGORIES:Seattle
ATTACH;FMTTYPE=image/png:https://golatindance.com/wp-content/uploads/2022/11/Thursday-Flyer-new.png
END:VEVENT
END:VCALENDAR