BEGIN:VCALENDAR
VERSION:2.0
PRODID:-//GO Latin Dance - ECPv6.15.18//NONSGML v1.0//EN
CALSCALE:GREGORIAN
METHOD:PUBLISH
X-ORIGINAL-URL:https://golatindance.com
X-WR-CALDESC:Events for GO Latin Dance
REFRESH-INTERVAL;VALUE=DURATION:PT1H
X-Robots-Tag:noindex
X-PUBLISHED-TTL:PT1H
BEGIN:VTIMEZONE
TZID:America/Los_Angeles
BEGIN:DAYLIGHT
TZOFFSETFROM:-0800
TZOFFSETTO:-0700
TZNAME:PDT
DTSTART:20280312T100000
END:DAYLIGHT
BEGIN:STANDARD
TZOFFSETFROM:-0700
TZOFFSETTO:-0800
TZNAME:PST
DTSTART:20281105T090000
END:STANDARD
BEGIN:DAYLIGHT
TZOFFSETFROM:-0800
TZOFFSETTO:-0700
TZNAME:PDT
DTSTART:20290311T100000
END:DAYLIGHT
BEGIN:STANDARD
TZOFFSETFROM:-0700
TZOFFSETTO:-0800
TZNAME:PST
DTSTART:20291104T090000
END:STANDARD
BEGIN:DAYLIGHT
TZOFFSETFROM:-0800
TZOFFSETTO:-0700
TZNAME:PDT
DTSTART:20300310T100000
END:DAYLIGHT
BEGIN:STANDARD
TZOFFSETFROM:-0700
TZOFFSETTO:-0800
TZNAME:PST
DTSTART:20301103T090000
END:STANDARD
END:VTIMEZONE
BEGIN:VEVENT
DTSTART;TZID=America/Los_Angeles:20290308T203000
DTEND;TZID=America/Los_Angeles:20290309T000000
DTSTAMP:20260421T182442
CREATED:20221110T161144Z
LAST-MODIFIED:20251218T161830Z
UID:10230910-1867696200-1867708800@golatindance.com
SUMMARY:Latin Dance & DJ Thursday Nights
DESCRIPTION:Join us for social dancing at the Aurora Borealis Event Center in Shoreline with rotating guest DJs.\n8:30 – 9:30 pm – Class with Maestro Papa Sergio. No partner required.\nDancing until midnight\n$10 cover at the door\nAges 21+ after 10 pm\nFree Parking\nLadies enjoy 1/2 price drinks all night!
URL:https://golatindance.com/event/latin-dance-dj-thursday-nights/2029-03-08/
LOCATION:Aurora Borealis Restaurant\, 16708 Aurora Ave N\, Shoreline\, WA\, 98133\, United States
CATEGORIES:Seattle
ATTACH;FMTTYPE=image/png:https://golatindance.com/wp-content/uploads/2022/11/Thursday-Flyer-new.png
END:VEVENT
BEGIN:VEVENT
DTSTART;TZID=America/Los_Angeles:20290315T203000
DTEND;TZID=America/Los_Angeles:20290316T000000
DTSTAMP:20260421T182442
CREATED:20221110T161144Z
LAST-MODIFIED:20251218T161830Z
UID:10230911-1868301000-1868313600@golatindance.com
SUMMARY:Latin Dance & DJ Thursday Nights
DESCRIPTION:Join us for social dancing at the Aurora Borealis Event Center in Shoreline with rotating guest DJs.\n8:30 – 9:30 pm – Class with Maestro Papa Sergio. No partner required.\nDancing until midnight\n$10 cover at the door\nAges 21+ after 10 pm\nFree Parking\nLadies enjoy 1/2 price drinks all night!
URL:https://golatindance.com/event/latin-dance-dj-thursday-nights/2029-03-15/
LOCATION:Aurora Borealis Restaurant\, 16708 Aurora Ave N\, Shoreline\, WA\, 98133\, United States
CATEGORIES:Seattle
ATTACH;FMTTYPE=image/png:https://golatindance.com/wp-content/uploads/2022/11/Thursday-Flyer-new.png
END:VEVENT
BEGIN:VEVENT
DTSTART;TZID=America/Los_Angeles:20290322T203000
DTEND;TZID=America/Los_Angeles:20290323T000000
DTSTAMP:20260421T182442
CREATED:20221110T161144Z
LAST-MODIFIED:20251218T161830Z
UID:10230912-1868905800-1868918400@golatindance.com
SUMMARY:Latin Dance & DJ Thursday Nights
DESCRIPTION:Join us for social dancing at the Aurora Borealis Event Center in Shoreline with rotating guest DJs.\n8:30 – 9:30 pm – Class with Maestro Papa Sergio. No partner required.\nDancing until midnight\n$10 cover at the door\nAges 21+ after 10 pm\nFree Parking\nLadies enjoy 1/2 price drinks all night!
URL:https://golatindance.com/event/latin-dance-dj-thursday-nights/2029-03-22/
LOCATION:Aurora Borealis Restaurant\, 16708 Aurora Ave N\, Shoreline\, WA\, 98133\, United States
CATEGORIES:Seattle
ATTACH;FMTTYPE=image/png:https://golatindance.com/wp-content/uploads/2022/11/Thursday-Flyer-new.png
END:VEVENT
BEGIN:VEVENT
DTSTART;TZID=America/Los_Angeles:20290329T203000
DTEND;TZID=America/Los_Angeles:20290330T000000
DTSTAMP:20260421T182442
CREATED:20221110T161144Z
LAST-MODIFIED:20251218T161830Z
UID:10357914-1869510600-1869523200@golatindance.com
SUMMARY:Latin Dance & DJ Thursday Nights
DESCRIPTION:Join us for social dancing at the Aurora Borealis Event Center in Shoreline with rotating guest DJs.\n8:30 – 9:30 pm – Class with Maestro Papa Sergio. No partner required.\nDancing until midnight\n$10 cover at the door\nAges 21+ after 10 pm\nFree Parking\nLadies enjoy 1/2 price drinks all night!
URL:https://golatindance.com/event/latin-dance-dj-thursday-nights/2029-03-29/
LOCATION:Aurora Borealis Restaurant\, 16708 Aurora Ave N\, Shoreline\, WA\, 98133\, United States
CATEGORIES:Seattle
ATTACH;FMTTYPE=image/png:https://golatindance.com/wp-content/uploads/2022/11/Thursday-Flyer-new.png
END:VEVENT
BEGIN:VEVENT
DTSTART;TZID=America/Los_Angeles:20290405T203000
DTEND;TZID=America/Los_Angeles:20290406T000000
DTSTAMP:20260421T182442
CREATED:20221110T161144Z
LAST-MODIFIED:20251218T161830Z
UID:10357915-1870115400-1870128000@golatindance.com
SUMMARY:Latin Dance & DJ Thursday Nights
DESCRIPTION:Join us for social dancing at the Aurora Borealis Event Center in Shoreline with rotating guest DJs.\n8:30 – 9:30 pm – Class with Maestro Papa Sergio. No partner required.\nDancing until midnight\n$10 cover at the door\nAges 21+ after 10 pm\nFree Parking\nLadies enjoy 1/2 price drinks all night!
URL:https://golatindance.com/event/latin-dance-dj-thursday-nights/2029-04-05/
LOCATION:Aurora Borealis Restaurant\, 16708 Aurora Ave N\, Shoreline\, WA\, 98133\, United States
CATEGORIES:Seattle
ATTACH;FMTTYPE=image/png:https://golatindance.com/wp-content/uploads/2022/11/Thursday-Flyer-new.png
END:VEVENT
BEGIN:VEVENT
DTSTART;TZID=America/Los_Angeles:20290412T203000
DTEND;TZID=America/Los_Angeles:20290413T000000
DTSTAMP:20260421T182442
CREATED:20221110T161144Z
LAST-MODIFIED:20251218T161830Z
UID:10357916-1870720200-1870732800@golatindance.com
SUMMARY:Latin Dance & DJ Thursday Nights
DESCRIPTION:Join us for social dancing at the Aurora Borealis Event Center in Shoreline with rotating guest DJs.\n8:30 – 9:30 pm – Class with Maestro Papa Sergio. No partner required.\nDancing until midnight\n$10 cover at the door\nAges 21+ after 10 pm\nFree Parking\nLadies enjoy 1/2 price drinks all night!
URL:https://golatindance.com/event/latin-dance-dj-thursday-nights/2029-04-12/
LOCATION:Aurora Borealis Restaurant\, 16708 Aurora Ave N\, Shoreline\, WA\, 98133\, United States
CATEGORIES:Seattle
ATTACH;FMTTYPE=image/png:https://golatindance.com/wp-content/uploads/2022/11/Thursday-Flyer-new.png
END:VEVENT
BEGIN:VEVENT
DTSTART;TZID=America/Los_Angeles:20290419T203000
DTEND;TZID=America/Los_Angeles:20290420T000000
DTSTAMP:20260421T182442
CREATED:20221110T161144Z
LAST-MODIFIED:20251218T161830Z
UID:10357917-1871325000-1871337600@golatindance.com
SUMMARY:Latin Dance & DJ Thursday Nights
DESCRIPTION:Join us for social dancing at the Aurora Borealis Event Center in Shoreline with rotating guest DJs.\n8:30 – 9:30 pm – Class with Maestro Papa Sergio. No partner required.\nDancing until midnight\n$10 cover at the door\nAges 21+ after 10 pm\nFree Parking\nLadies enjoy 1/2 price drinks all night!
URL:https://golatindance.com/event/latin-dance-dj-thursday-nights/2029-04-19/
LOCATION:Aurora Borealis Restaurant\, 16708 Aurora Ave N\, Shoreline\, WA\, 98133\, United States
CATEGORIES:Seattle
ATTACH;FMTTYPE=image/png:https://golatindance.com/wp-content/uploads/2022/11/Thursday-Flyer-new.png
END:VEVENT
BEGIN:VEVENT
DTSTART;TZID=America/Los_Angeles:20290426T203000
DTEND;TZID=America/Los_Angeles:20290427T000000
DTSTAMP:20260421T182442
CREATED:20221110T161144Z
LAST-MODIFIED:20251218T161830Z
UID:10357918-1871929800-1871942400@golatindance.com
SUMMARY:Latin Dance & DJ Thursday Nights
DESCRIPTION:Join us for social dancing at the Aurora Borealis Event Center in Shoreline with rotating guest DJs.\n8:30 – 9:30 pm – Class with Maestro Papa Sergio. No partner required.\nDancing until midnight\n$10 cover at the door\nAges 21+ after 10 pm\nFree Parking\nLadies enjoy 1/2 price drinks all night!
URL:https://golatindance.com/event/latin-dance-dj-thursday-nights/2029-04-26/
LOCATION:Aurora Borealis Restaurant\, 16708 Aurora Ave N\, Shoreline\, WA\, 98133\, United States
CATEGORIES:Seattle
ATTACH;FMTTYPE=image/png:https://golatindance.com/wp-content/uploads/2022/11/Thursday-Flyer-new.png
END:VEVENT
BEGIN:VEVENT
DTSTART;TZID=America/Los_Angeles:20290503T203000
DTEND;TZID=America/Los_Angeles:20290504T000000
DTSTAMP:20260421T182442
CREATED:20221110T161144Z
LAST-MODIFIED:20251218T161830Z
UID:10357919-1872534600-1872547200@golatindance.com
SUMMARY:Latin Dance & DJ Thursday Nights
DESCRIPTION:Join us for social dancing at the Aurora Borealis Event Center in Shoreline with rotating guest DJs.\n8:30 – 9:30 pm – Class with Maestro Papa Sergio. No partner required.\nDancing until midnight\n$10 cover at the door\nAges 21+ after 10 pm\nFree Parking\nLadies enjoy 1/2 price drinks all night!
URL:https://golatindance.com/event/latin-dance-dj-thursday-nights/2029-05-03/
LOCATION:Aurora Borealis Restaurant\, 16708 Aurora Ave N\, Shoreline\, WA\, 98133\, United States
CATEGORIES:Seattle
ATTACH;FMTTYPE=image/png:https://golatindance.com/wp-content/uploads/2022/11/Thursday-Flyer-new.png
END:VEVENT
BEGIN:VEVENT
DTSTART;TZID=America/Los_Angeles:20290510T203000
DTEND;TZID=America/Los_Angeles:20290511T000000
DTSTAMP:20260421T182442
CREATED:20221110T161144Z
LAST-MODIFIED:20251218T161830Z
UID:10357920-1873139400-1873152000@golatindance.com
SUMMARY:Latin Dance & DJ Thursday Nights
DESCRIPTION:Join us for social dancing at the Aurora Borealis Event Center in Shoreline with rotating guest DJs.\n8:30 – 9:30 pm – Class with Maestro Papa Sergio. No partner required.\nDancing until midnight\n$10 cover at the door\nAges 21+ after 10 pm\nFree Parking\nLadies enjoy 1/2 price drinks all night!
URL:https://golatindance.com/event/latin-dance-dj-thursday-nights/2029-05-10/
LOCATION:Aurora Borealis Restaurant\, 16708 Aurora Ave N\, Shoreline\, WA\, 98133\, United States
CATEGORIES:Seattle
ATTACH;FMTTYPE=image/png:https://golatindance.com/wp-content/uploads/2022/11/Thursday-Flyer-new.png
END:VEVENT
BEGIN:VEVENT
DTSTART;TZID=America/Los_Angeles:20290517T203000
DTEND;TZID=America/Los_Angeles:20290518T000000
DTSTAMP:20260421T182442
CREATED:20221110T161144Z
LAST-MODIFIED:20251218T161830Z
UID:10357921-1873744200-1873756800@golatindance.com
SUMMARY:Latin Dance & DJ Thursday Nights
DESCRIPTION:Join us for social dancing at the Aurora Borealis Event Center in Shoreline with rotating guest DJs.\n8:30 – 9:30 pm – Class with Maestro Papa Sergio. No partner required.\nDancing until midnight\n$10 cover at the door\nAges 21+ after 10 pm\nFree Parking\nLadies enjoy 1/2 price drinks all night!
URL:https://golatindance.com/event/latin-dance-dj-thursday-nights/2029-05-17/
LOCATION:Aurora Borealis Restaurant\, 16708 Aurora Ave N\, Shoreline\, WA\, 98133\, United States
CATEGORIES:Seattle
ATTACH;FMTTYPE=image/png:https://golatindance.com/wp-content/uploads/2022/11/Thursday-Flyer-new.png
END:VEVENT
BEGIN:VEVENT
DTSTART;TZID=America/Los_Angeles:20290524T203000
DTEND;TZID=America/Los_Angeles:20290525T000000
DTSTAMP:20260421T182442
CREATED:20221110T161144Z
LAST-MODIFIED:20251218T161830Z
UID:10357922-1874349000-1874361600@golatindance.com
SUMMARY:Latin Dance & DJ Thursday Nights
DESCRIPTION:Join us for social dancing at the Aurora Borealis Event Center in Shoreline with rotating guest DJs.\n8:30 – 9:30 pm – Class with Maestro Papa Sergio. No partner required.\nDancing until midnight\n$10 cover at the door\nAges 21+ after 10 pm\nFree Parking\nLadies enjoy 1/2 price drinks all night!
URL:https://golatindance.com/event/latin-dance-dj-thursday-nights/2029-05-24/
LOCATION:Aurora Borealis Restaurant\, 16708 Aurora Ave N\, Shoreline\, WA\, 98133\, United States
CATEGORIES:Seattle
ATTACH;FMTTYPE=image/png:https://golatindance.com/wp-content/uploads/2022/11/Thursday-Flyer-new.png
END:VEVENT
BEGIN:VEVENT
DTSTART;TZID=America/Los_Angeles:20290531T203000
DTEND;TZID=America/Los_Angeles:20290601T000000
DTSTAMP:20260421T182442
CREATED:20221110T161144Z
LAST-MODIFIED:20251218T161830Z
UID:10357923-1874953800-1874966400@golatindance.com
SUMMARY:Latin Dance & DJ Thursday Nights
DESCRIPTION:Join us for social dancing at the Aurora Borealis Event Center in Shoreline with rotating guest DJs.\n8:30 – 9:30 pm – Class with Maestro Papa Sergio. No partner required.\nDancing until midnight\n$10 cover at the door\nAges 21+ after 10 pm\nFree Parking\nLadies enjoy 1/2 price drinks all night!
URL:https://golatindance.com/event/latin-dance-dj-thursday-nights/2029-05-31/
LOCATION:Aurora Borealis Restaurant\, 16708 Aurora Ave N\, Shoreline\, WA\, 98133\, United States
CATEGORIES:Seattle
ATTACH;FMTTYPE=image/png:https://golatindance.com/wp-content/uploads/2022/11/Thursday-Flyer-new.png
END:VEVENT
BEGIN:VEVENT
DTSTART;TZID=America/Los_Angeles:20290607T203000
DTEND;TZID=America/Los_Angeles:20290608T000000
DTSTAMP:20260421T182442
CREATED:20221110T161144Z
LAST-MODIFIED:20251218T161830Z
UID:10357924-1875558600-1875571200@golatindance.com
SUMMARY:Latin Dance & DJ Thursday Nights
DESCRIPTION:Join us for social dancing at the Aurora Borealis Event Center in Shoreline with rotating guest DJs.\n8:30 – 9:30 pm – Class with Maestro Papa Sergio. No partner required.\nDancing until midnight\n$10 cover at the door\nAges 21+ after 10 pm\nFree Parking\nLadies enjoy 1/2 price drinks all night!
URL:https://golatindance.com/event/latin-dance-dj-thursday-nights/2029-06-07/
LOCATION:Aurora Borealis Restaurant\, 16708 Aurora Ave N\, Shoreline\, WA\, 98133\, United States
CATEGORIES:Seattle
ATTACH;FMTTYPE=image/png:https://golatindance.com/wp-content/uploads/2022/11/Thursday-Flyer-new.png
END:VEVENT
BEGIN:VEVENT
DTSTART;TZID=America/Los_Angeles:20290614T203000
DTEND;TZID=America/Los_Angeles:20290615T000000
DTSTAMP:20260421T182442
CREATED:20221110T161144Z
LAST-MODIFIED:20251218T161830Z
UID:10357925-1876163400-1876176000@golatindance.com
SUMMARY:Latin Dance & DJ Thursday Nights
DESCRIPTION:Join us for social dancing at the Aurora Borealis Event Center in Shoreline with rotating guest DJs.\n8:30 – 9:30 pm – Class with Maestro Papa Sergio. No partner required.\nDancing until midnight\n$10 cover at the door\nAges 21+ after 10 pm\nFree Parking\nLadies enjoy 1/2 price drinks all night!
URL:https://golatindance.com/event/latin-dance-dj-thursday-nights/2029-06-14/
LOCATION:Aurora Borealis Restaurant\, 16708 Aurora Ave N\, Shoreline\, WA\, 98133\, United States
CATEGORIES:Seattle
ATTACH;FMTTYPE=image/png:https://golatindance.com/wp-content/uploads/2022/11/Thursday-Flyer-new.png
END:VEVENT
BEGIN:VEVENT
DTSTART;TZID=America/Los_Angeles:20290621T203000
DTEND;TZID=America/Los_Angeles:20290622T000000
DTSTAMP:20260421T182442
CREATED:20221110T161144Z
LAST-MODIFIED:20251218T161830Z
UID:10357926-1876768200-1876780800@golatindance.com
SUMMARY:Latin Dance & DJ Thursday Nights
DESCRIPTION:Join us for social dancing at the Aurora Borealis Event Center in Shoreline with rotating guest DJs.\n8:30 – 9:30 pm – Class with Maestro Papa Sergio. No partner required.\nDancing until midnight\n$10 cover at the door\nAges 21+ after 10 pm\nFree Parking\nLadies enjoy 1/2 price drinks all night!
URL:https://golatindance.com/event/latin-dance-dj-thursday-nights/2029-06-21/
LOCATION:Aurora Borealis Restaurant\, 16708 Aurora Ave N\, Shoreline\, WA\, 98133\, United States
CATEGORIES:Seattle
ATTACH;FMTTYPE=image/png:https://golatindance.com/wp-content/uploads/2022/11/Thursday-Flyer-new.png
END:VEVENT
BEGIN:VEVENT
DTSTART;TZID=America/Los_Angeles:20290628T203000
DTEND;TZID=America/Los_Angeles:20290629T000000
DTSTAMP:20260421T182442
CREATED:20221110T161144Z
LAST-MODIFIED:20251218T161830Z
UID:10357927-1877373000-1877385600@golatindance.com
SUMMARY:Latin Dance & DJ Thursday Nights
DESCRIPTION:Join us for social dancing at the Aurora Borealis Event Center in Shoreline with rotating guest DJs.\n8:30 – 9:30 pm – Class with Maestro Papa Sergio. No partner required.\nDancing until midnight\n$10 cover at the door\nAges 21+ after 10 pm\nFree Parking\nLadies enjoy 1/2 price drinks all night!
URL:https://golatindance.com/event/latin-dance-dj-thursday-nights/2029-06-28/
LOCATION:Aurora Borealis Restaurant\, 16708 Aurora Ave N\, Shoreline\, WA\, 98133\, United States
CATEGORIES:Seattle
ATTACH;FMTTYPE=image/png:https://golatindance.com/wp-content/uploads/2022/11/Thursday-Flyer-new.png
END:VEVENT
BEGIN:VEVENT
DTSTART;TZID=America/Los_Angeles:20290705T203000
DTEND;TZID=America/Los_Angeles:20290706T000000
DTSTAMP:20260421T182442
CREATED:20221110T161144Z
LAST-MODIFIED:20251218T161830Z
UID:10357928-1877977800-1877990400@golatindance.com
SUMMARY:Latin Dance & DJ Thursday Nights
DESCRIPTION:Join us for social dancing at the Aurora Borealis Event Center in Shoreline with rotating guest DJs.\n8:30 – 9:30 pm – Class with Maestro Papa Sergio. No partner required.\nDancing until midnight\n$10 cover at the door\nAges 21+ after 10 pm\nFree Parking\nLadies enjoy 1/2 price drinks all night!
URL:https://golatindance.com/event/latin-dance-dj-thursday-nights/2029-07-05/
LOCATION:Aurora Borealis Restaurant\, 16708 Aurora Ave N\, Shoreline\, WA\, 98133\, United States
CATEGORIES:Seattle
ATTACH;FMTTYPE=image/png:https://golatindance.com/wp-content/uploads/2022/11/Thursday-Flyer-new.png
END:VEVENT
BEGIN:VEVENT
DTSTART;TZID=America/Los_Angeles:20290712T203000
DTEND;TZID=America/Los_Angeles:20290713T000000
DTSTAMP:20260421T182442
CREATED:20221110T161144Z
LAST-MODIFIED:20251218T161830Z
UID:10357929-1878582600-1878595200@golatindance.com
SUMMARY:Latin Dance & DJ Thursday Nights
DESCRIPTION:Join us for social dancing at the Aurora Borealis Event Center in Shoreline with rotating guest DJs.\n8:30 – 9:30 pm – Class with Maestro Papa Sergio. No partner required.\nDancing until midnight\n$10 cover at the door\nAges 21+ after 10 pm\nFree Parking\nLadies enjoy 1/2 price drinks all night!
URL:https://golatindance.com/event/latin-dance-dj-thursday-nights/2029-07-12/
LOCATION:Aurora Borealis Restaurant\, 16708 Aurora Ave N\, Shoreline\, WA\, 98133\, United States
CATEGORIES:Seattle
ATTACH;FMTTYPE=image/png:https://golatindance.com/wp-content/uploads/2022/11/Thursday-Flyer-new.png
END:VEVENT
BEGIN:VEVENT
DTSTART;TZID=America/Los_Angeles:20290719T203000
DTEND;TZID=America/Los_Angeles:20290720T000000
DTSTAMP:20260421T182442
CREATED:20221110T161144Z
LAST-MODIFIED:20251218T161830Z
UID:10357930-1879187400-1879200000@golatindance.com
SUMMARY:Latin Dance & DJ Thursday Nights
DESCRIPTION:Join us for social dancing at the Aurora Borealis Event Center in Shoreline with rotating guest DJs.\n8:30 – 9:30 pm – Class with Maestro Papa Sergio. No partner required.\nDancing until midnight\n$10 cover at the door\nAges 21+ after 10 pm\nFree Parking\nLadies enjoy 1/2 price drinks all night!
URL:https://golatindance.com/event/latin-dance-dj-thursday-nights/2029-07-19/
LOCATION:Aurora Borealis Restaurant\, 16708 Aurora Ave N\, Shoreline\, WA\, 98133\, United States
CATEGORIES:Seattle
ATTACH;FMTTYPE=image/png:https://golatindance.com/wp-content/uploads/2022/11/Thursday-Flyer-new.png
END:VEVENT
BEGIN:VEVENT
DTSTART;TZID=America/Los_Angeles:20290726T203000
DTEND;TZID=America/Los_Angeles:20290727T000000
DTSTAMP:20260421T182442
CREATED:20221110T161144Z
LAST-MODIFIED:20251218T161830Z
UID:10357931-1879792200-1879804800@golatindance.com
SUMMARY:Latin Dance & DJ Thursday Nights
DESCRIPTION:Join us for social dancing at the Aurora Borealis Event Center in Shoreline with rotating guest DJs.\n8:30 – 9:30 pm – Class with Maestro Papa Sergio. No partner required.\nDancing until midnight\n$10 cover at the door\nAges 21+ after 10 pm\nFree Parking\nLadies enjoy 1/2 price drinks all night!
URL:https://golatindance.com/event/latin-dance-dj-thursday-nights/2029-07-26/
LOCATION:Aurora Borealis Restaurant\, 16708 Aurora Ave N\, Shoreline\, WA\, 98133\, United States
CATEGORIES:Seattle
ATTACH;FMTTYPE=image/png:https://golatindance.com/wp-content/uploads/2022/11/Thursday-Flyer-new.png
END:VEVENT
BEGIN:VEVENT
DTSTART;TZID=America/Los_Angeles:20290802T203000
DTEND;TZID=America/Los_Angeles:20290803T000000
DTSTAMP:20260421T182442
CREATED:20221110T161144Z
LAST-MODIFIED:20251218T161830Z
UID:10357932-1880397000-1880409600@golatindance.com
SUMMARY:Latin Dance & DJ Thursday Nights
DESCRIPTION:Join us for social dancing at the Aurora Borealis Event Center in Shoreline with rotating guest DJs.\n8:30 – 9:30 pm – Class with Maestro Papa Sergio. No partner required.\nDancing until midnight\n$10 cover at the door\nAges 21+ after 10 pm\nFree Parking\nLadies enjoy 1/2 price drinks all night!
URL:https://golatindance.com/event/latin-dance-dj-thursday-nights/2029-08-02/
LOCATION:Aurora Borealis Restaurant\, 16708 Aurora Ave N\, Shoreline\, WA\, 98133\, United States
CATEGORIES:Seattle
ATTACH;FMTTYPE=image/png:https://golatindance.com/wp-content/uploads/2022/11/Thursday-Flyer-new.png
END:VEVENT
BEGIN:VEVENT
DTSTART;TZID=America/Los_Angeles:20290809T203000
DTEND;TZID=America/Los_Angeles:20290810T000000
DTSTAMP:20260421T182442
CREATED:20221110T161144Z
LAST-MODIFIED:20251218T161830Z
UID:10357933-1881001800-1881014400@golatindance.com
SUMMARY:Latin Dance & DJ Thursday Nights
DESCRIPTION:Join us for social dancing at the Aurora Borealis Event Center in Shoreline with rotating guest DJs.\n8:30 – 9:30 pm – Class with Maestro Papa Sergio. No partner required.\nDancing until midnight\n$10 cover at the door\nAges 21+ after 10 pm\nFree Parking\nLadies enjoy 1/2 price drinks all night!
URL:https://golatindance.com/event/latin-dance-dj-thursday-nights/2029-08-09/
LOCATION:Aurora Borealis Restaurant\, 16708 Aurora Ave N\, Shoreline\, WA\, 98133\, United States
CATEGORIES:Seattle
ATTACH;FMTTYPE=image/png:https://golatindance.com/wp-content/uploads/2022/11/Thursday-Flyer-new.png
END:VEVENT
BEGIN:VEVENT
DTSTART;TZID=America/Los_Angeles:20290816T203000
DTEND;TZID=America/Los_Angeles:20290817T000000
DTSTAMP:20260421T182442
CREATED:20221110T161144Z
LAST-MODIFIED:20251218T161830Z
UID:10357934-1881606600-1881619200@golatindance.com
SUMMARY:Latin Dance & DJ Thursday Nights
DESCRIPTION:Join us for social dancing at the Aurora Borealis Event Center in Shoreline with rotating guest DJs.\n8:30 – 9:30 pm – Class with Maestro Papa Sergio. No partner required.\nDancing until midnight\n$10 cover at the door\nAges 21+ after 10 pm\nFree Parking\nLadies enjoy 1/2 price drinks all night!
URL:https://golatindance.com/event/latin-dance-dj-thursday-nights/2029-08-16/
LOCATION:Aurora Borealis Restaurant\, 16708 Aurora Ave N\, Shoreline\, WA\, 98133\, United States
CATEGORIES:Seattle
ATTACH;FMTTYPE=image/png:https://golatindance.com/wp-content/uploads/2022/11/Thursday-Flyer-new.png
END:VEVENT
BEGIN:VEVENT
DTSTART;TZID=America/Los_Angeles:20290823T203000
DTEND;TZID=America/Los_Angeles:20290824T000000
DTSTAMP:20260421T182442
CREATED:20221110T161144Z
LAST-MODIFIED:20251218T161830Z
UID:10357935-1882211400-1882224000@golatindance.com
SUMMARY:Latin Dance & DJ Thursday Nights
DESCRIPTION:Join us for social dancing at the Aurora Borealis Event Center in Shoreline with rotating guest DJs.\n8:30 – 9:30 pm – Class with Maestro Papa Sergio. No partner required.\nDancing until midnight\n$10 cover at the door\nAges 21+ after 10 pm\nFree Parking\nLadies enjoy 1/2 price drinks all night!
URL:https://golatindance.com/event/latin-dance-dj-thursday-nights/2029-08-23/
LOCATION:Aurora Borealis Restaurant\, 16708 Aurora Ave N\, Shoreline\, WA\, 98133\, United States
CATEGORIES:Seattle
ATTACH;FMTTYPE=image/png:https://golatindance.com/wp-content/uploads/2022/11/Thursday-Flyer-new.png
END:VEVENT
BEGIN:VEVENT
DTSTART;TZID=America/Los_Angeles:20290830T203000
DTEND;TZID=America/Los_Angeles:20290831T000000
DTSTAMP:20260421T182442
CREATED:20221110T161144Z
LAST-MODIFIED:20251218T161830Z
UID:10357936-1882816200-1882828800@golatindance.com
SUMMARY:Latin Dance & DJ Thursday Nights
DESCRIPTION:Join us for social dancing at the Aurora Borealis Event Center in Shoreline with rotating guest DJs.\n8:30 – 9:30 pm – Class with Maestro Papa Sergio. No partner required.\nDancing until midnight\n$10 cover at the door\nAges 21+ after 10 pm\nFree Parking\nLadies enjoy 1/2 price drinks all night!
URL:https://golatindance.com/event/latin-dance-dj-thursday-nights/2029-08-30/
LOCATION:Aurora Borealis Restaurant\, 16708 Aurora Ave N\, Shoreline\, WA\, 98133\, United States
CATEGORIES:Seattle
ATTACH;FMTTYPE=image/png:https://golatindance.com/wp-content/uploads/2022/11/Thursday-Flyer-new.png
END:VEVENT
BEGIN:VEVENT
DTSTART;TZID=America/Los_Angeles:20290906T203000
DTEND;TZID=America/Los_Angeles:20290907T000000
DTSTAMP:20260421T182442
CREATED:20221110T161144Z
LAST-MODIFIED:20251218T161830Z
UID:10357937-1883421000-1883433600@golatindance.com
SUMMARY:Latin Dance & DJ Thursday Nights
DESCRIPTION:Join us for social dancing at the Aurora Borealis Event Center in Shoreline with rotating guest DJs.\n8:30 – 9:30 pm – Class with Maestro Papa Sergio. No partner required.\nDancing until midnight\n$10 cover at the door\nAges 21+ after 10 pm\nFree Parking\nLadies enjoy 1/2 price drinks all night!
URL:https://golatindance.com/event/latin-dance-dj-thursday-nights/2029-09-06/
LOCATION:Aurora Borealis Restaurant\, 16708 Aurora Ave N\, Shoreline\, WA\, 98133\, United States
CATEGORIES:Seattle
ATTACH;FMTTYPE=image/png:https://golatindance.com/wp-content/uploads/2022/11/Thursday-Flyer-new.png
END:VEVENT
BEGIN:VEVENT
DTSTART;TZID=America/Los_Angeles:20290913T203000
DTEND;TZID=America/Los_Angeles:20290914T000000
DTSTAMP:20260421T182442
CREATED:20221110T161144Z
LAST-MODIFIED:20251218T161830Z
UID:10357938-1884025800-1884038400@golatindance.com
SUMMARY:Latin Dance & DJ Thursday Nights
DESCRIPTION:Join us for social dancing at the Aurora Borealis Event Center in Shoreline with rotating guest DJs.\n8:30 – 9:30 pm – Class with Maestro Papa Sergio. No partner required.\nDancing until midnight\n$10 cover at the door\nAges 21+ after 10 pm\nFree Parking\nLadies enjoy 1/2 price drinks all night!
URL:https://golatindance.com/event/latin-dance-dj-thursday-nights/2029-09-13/
LOCATION:Aurora Borealis Restaurant\, 16708 Aurora Ave N\, Shoreline\, WA\, 98133\, United States
CATEGORIES:Seattle
ATTACH;FMTTYPE=image/png:https://golatindance.com/wp-content/uploads/2022/11/Thursday-Flyer-new.png
END:VEVENT
BEGIN:VEVENT
DTSTART;TZID=America/Los_Angeles:20290920T203000
DTEND;TZID=America/Los_Angeles:20290921T000000
DTSTAMP:20260421T182442
CREATED:20221110T161144Z
LAST-MODIFIED:20251218T161830Z
UID:10357939-1884630600-1884643200@golatindance.com
SUMMARY:Latin Dance & DJ Thursday Nights
DESCRIPTION:Join us for social dancing at the Aurora Borealis Event Center in Shoreline with rotating guest DJs.\n8:30 – 9:30 pm – Class with Maestro Papa Sergio. No partner required.\nDancing until midnight\n$10 cover at the door\nAges 21+ after 10 pm\nFree Parking\nLadies enjoy 1/2 price drinks all night!
URL:https://golatindance.com/event/latin-dance-dj-thursday-nights/2029-09-20/
LOCATION:Aurora Borealis Restaurant\, 16708 Aurora Ave N\, Shoreline\, WA\, 98133\, United States
CATEGORIES:Seattle
ATTACH;FMTTYPE=image/png:https://golatindance.com/wp-content/uploads/2022/11/Thursday-Flyer-new.png
END:VEVENT
BEGIN:VEVENT
DTSTART;TZID=America/Los_Angeles:20290927T203000
DTEND;TZID=America/Los_Angeles:20290928T000000
DTSTAMP:20260421T182442
CREATED:20221110T161144Z
LAST-MODIFIED:20251218T161830Z
UID:10357940-1885235400-1885248000@golatindance.com
SUMMARY:Latin Dance & DJ Thursday Nights
DESCRIPTION:Join us for social dancing at the Aurora Borealis Event Center in Shoreline with rotating guest DJs.\n8:30 – 9:30 pm – Class with Maestro Papa Sergio. No partner required.\nDancing until midnight\n$10 cover at the door\nAges 21+ after 10 pm\nFree Parking\nLadies enjoy 1/2 price drinks all night!
URL:https://golatindance.com/event/latin-dance-dj-thursday-nights/2029-09-27/
LOCATION:Aurora Borealis Restaurant\, 16708 Aurora Ave N\, Shoreline\, WA\, 98133\, United States
CATEGORIES:Seattle
ATTACH;FMTTYPE=image/png:https://golatindance.com/wp-content/uploads/2022/11/Thursday-Flyer-new.png
END:VEVENT
END:VCALENDAR