BEGIN:VCALENDAR
VERSION:2.0
PRODID:-//GO Latin Dance - ECPv6.15.18//NONSGML v1.0//EN
CALSCALE:GREGORIAN
METHOD:PUBLISH
X-WR-CALNAME:GO Latin Dance
X-ORIGINAL-URL:https://golatindance.com
X-WR-CALDESC:Events for GO Latin Dance
REFRESH-INTERVAL;VALUE=DURATION:PT1H
X-Robots-Tag:noindex
X-PUBLISHED-TTL:PT1H
BEGIN:VTIMEZONE
TZID:America/Los_Angeles
BEGIN:DAYLIGHT
TZOFFSETFROM:-0800
TZOFFSETTO:-0700
TZNAME:PDT
DTSTART:20290311T100000
END:DAYLIGHT
BEGIN:STANDARD
TZOFFSETFROM:-0700
TZOFFSETTO:-0800
TZNAME:PST
DTSTART:20291104T090000
END:STANDARD
BEGIN:DAYLIGHT
TZOFFSETFROM:-0800
TZOFFSETTO:-0700
TZNAME:PDT
DTSTART:20300310T100000
END:DAYLIGHT
BEGIN:STANDARD
TZOFFSETFROM:-0700
TZOFFSETTO:-0800
TZNAME:PST
DTSTART:20301103T090000
END:STANDARD
BEGIN:DAYLIGHT
TZOFFSETFROM:-0800
TZOFFSETTO:-0700
TZNAME:PDT
DTSTART:20310309T100000
END:DAYLIGHT
BEGIN:STANDARD
TZOFFSETFROM:-0700
TZOFFSETTO:-0800
TZNAME:PST
DTSTART:20311102T090000
END:STANDARD
END:VTIMEZONE
BEGIN:VEVENT
DTSTART;TZID=America/Los_Angeles:20301205T203000
DTEND;TZID=America/Los_Angeles:20301206T000000
DTSTAMP:20260424T062828
CREATED:20221110T161144Z
LAST-MODIFIED:20251218T161830Z
UID:10424928-1922733000-1922745600@golatindance.com
SUMMARY:Latin Dance & DJ Thursday Nights
DESCRIPTION:Join us for social dancing at the Aurora Borealis Event Center in Shoreline with rotating guest DJs.\n8:30 – 9:30 pm – Class with Maestro Papa Sergio. No partner required.\nDancing until midnight\n$10 cover at the door\nAges 21+ after 10 pm\nFree Parking\nLadies enjoy 1/2 price drinks all night!
URL:https://golatindance.com/event/latin-dance-dj-thursday-nights/2030-12-05/
LOCATION:Aurora Borealis Restaurant\, 16708 Aurora Ave N\, Shoreline\, WA\, 98133\, United States
CATEGORIES:Seattle
ATTACH;FMTTYPE=image/png:https://golatindance.com/wp-content/uploads/2022/11/Thursday-Flyer-new.png
END:VEVENT
BEGIN:VEVENT
DTSTART;TZID=America/Los_Angeles:20301212T203000
DTEND;TZID=America/Los_Angeles:20301213T000000
DTSTAMP:20260424T062828
CREATED:20221110T161144Z
LAST-MODIFIED:20251218T161830Z
UID:10424929-1923337800-1923350400@golatindance.com
SUMMARY:Latin Dance & DJ Thursday Nights
DESCRIPTION:Join us for social dancing at the Aurora Borealis Event Center in Shoreline with rotating guest DJs.\n8:30 – 9:30 pm – Class with Maestro Papa Sergio. No partner required.\nDancing until midnight\n$10 cover at the door\nAges 21+ after 10 pm\nFree Parking\nLadies enjoy 1/2 price drinks all night!
URL:https://golatindance.com/event/latin-dance-dj-thursday-nights/2030-12-12/
LOCATION:Aurora Borealis Restaurant\, 16708 Aurora Ave N\, Shoreline\, WA\, 98133\, United States
CATEGORIES:Seattle
ATTACH;FMTTYPE=image/png:https://golatindance.com/wp-content/uploads/2022/11/Thursday-Flyer-new.png
END:VEVENT
END:VCALENDAR