BEGIN:VCALENDAR
VERSION:2.0
PRODID:-//GO Latin Dance - ECPv6.15.18//NONSGML v1.0//EN
CALSCALE:GREGORIAN
METHOD:PUBLISH
X-ORIGINAL-URL:https://golatindance.com
X-WR-CALDESC:Events for GO Latin Dance
REFRESH-INTERVAL;VALUE=DURATION:PT1H
X-Robots-Tag:noindex
X-PUBLISHED-TTL:PT1H
BEGIN:VTIMEZONE
TZID:America/Phoenix
BEGIN:STANDARD
TZOFFSETFROM:-0700
TZOFFSETTO:-0700
TZNAME:MST
DTSTART:20240101T000000
END:STANDARD
END:VTIMEZONE
BEGIN:VEVENT
DTSTART;TZID=America/Phoenix:20250726T210000
DTEND;TZID=America/Phoenix:20250727T020000
DTSTAMP:20260424T110825
CREATED:20250414T144506Z
LAST-MODIFIED:20250922T191151Z
UID:10363447-1753563600-1753581600@golatindance.com
SUMMARY:Monthly Salsa Bachata Saturday at Dave & Busters
DESCRIPTION:Bachata Addiction® presents Salsa Bachata Saturday – Monthly Edition at D&B – going late! ⭐️⭐️⭐️⭐️⭐️\n​\n⚠️ IMPORTANT: We WILL hit capacity just like last time! ​ If you don’t want to wait in line for 30-60 minutes please arrive prior to 10pm!\n​\n​\n🏆 The Vibe //\n9-10pm: All levels Bachata class with Brandon & Skye. ​ No Partner Required!\n10pm-2am: Dancing to 50/50 Salsa & Bachata with DJ’s Calidad & Papi Chulo! 💃🏻\n​\nDrinks & food available!\n​\n​\n💸 Cost //\n$10 cover all night. ​ Ages 21+.\n​\n​\n📍 Location //\nDave & Buster’s Tempe Marketplace 2000 E Rio Salado Pkwy Suite 1100\, Tempe\, AZ 85281\n.\n​\nJoin our group 👇\nhttps://www.facebook.com/groups/phoenixbachata
URL:https://golatindance.com/event/salsa-bachata-saturday-at-db-april-edition-only-once-a-month/2025-07-26/
LOCATION:Dave & Buster’s – Tempe\, 2000 E Rio Salado Pky\, Suite 1100\, Tempe\, AZ\, United States
CATEGORIES:Phoenix
END:VEVENT
BEGIN:VEVENT
DTSTART;TZID=America/Phoenix:20250628T210000
DTEND;TZID=America/Phoenix:20250629T020000
DTSTAMP:20260424T110825
CREATED:20250414T144506Z
LAST-MODIFIED:20250922T191151Z
UID:10363446-1751144400-1751162400@golatindance.com
SUMMARY:Monthly Salsa Bachata Saturday at Dave & Busters
DESCRIPTION:Bachata Addiction® presents Salsa Bachata Saturday – Monthly Edition at D&B – going late! ⭐️⭐️⭐️⭐️⭐️\n​\n⚠️ IMPORTANT: We WILL hit capacity just like last time! ​ If you don’t want to wait in line for 30-60 minutes please arrive prior to 10pm!\n​\n​\n🏆 The Vibe //\n9-10pm: All levels Bachata class with Brandon & Skye. ​ No Partner Required!\n10pm-2am: Dancing to 50/50 Salsa & Bachata with DJ’s Calidad & Papi Chulo! 💃🏻\n​\nDrinks & food available!\n​\n​\n💸 Cost //\n$10 cover all night. ​ Ages 21+.\n​\n​\n📍 Location //\nDave & Buster’s Tempe Marketplace 2000 E Rio Salado Pkwy Suite 1100\, Tempe\, AZ 85281\n.\n​\nJoin our group 👇\nhttps://www.facebook.com/groups/phoenixbachata
URL:https://golatindance.com/event/salsa-bachata-saturday-at-db-april-edition-only-once-a-month/2025-06-28/
LOCATION:Dave & Buster’s – Tempe\, 2000 E Rio Salado Pky\, Suite 1100\, Tempe\, AZ\, United States
CATEGORIES:Phoenix
END:VEVENT
BEGIN:VEVENT
DTSTART;TZID=America/Phoenix:20250531T210000
DTEND;TZID=America/Phoenix:20250601T020000
DTSTAMP:20260424T110825
CREATED:20250414T144506Z
LAST-MODIFIED:20250922T191151Z
UID:10363445-1748725200-1748743200@golatindance.com
SUMMARY:Monthly Salsa Bachata Saturday at Dave & Busters
DESCRIPTION:Bachata Addiction® presents Salsa Bachata Saturday – Monthly Edition at D&B – going late! ⭐️⭐️⭐️⭐️⭐️\n​\n⚠️ IMPORTANT: We WILL hit capacity just like last time! ​ If you don’t want to wait in line for 30-60 minutes please arrive prior to 10pm!\n​\n​\n🏆 The Vibe //\n9-10pm: All levels Bachata class with Brandon & Skye. ​ No Partner Required!\n10pm-2am: Dancing to 50/50 Salsa & Bachata with DJ’s Calidad & Papi Chulo! 💃🏻\n​\nDrinks & food available!\n​\n​\n💸 Cost //\n$10 cover all night. ​ Ages 21+.\n​\n​\n📍 Location //\nDave & Buster’s Tempe Marketplace 2000 E Rio Salado Pkwy Suite 1100\, Tempe\, AZ 85281\n.\n​\nJoin our group 👇\nhttps://www.facebook.com/groups/phoenixbachata
URL:https://golatindance.com/event/salsa-bachata-saturday-at-db-april-edition-only-once-a-month/2025-05-31/
LOCATION:Dave & Buster’s – Tempe\, 2000 E Rio Salado Pky\, Suite 1100\, Tempe\, AZ\, United States
CATEGORIES:Phoenix
END:VEVENT
BEGIN:VEVENT
DTSTART;TZID=America/Phoenix:20250426T210000
DTEND;TZID=America/Phoenix:20250427T020000
DTSTAMP:20260424T110825
CREATED:20250414T144506Z
LAST-MODIFIED:20250922T191151Z
UID:10356226-1745701200-1745719200@golatindance.com
SUMMARY:Monthly Salsa Bachata Saturday at Dave & Busters
DESCRIPTION:Bachata Addiction® presents Salsa Bachata Saturday – Monthly Edition at D&B – going late! ⭐️⭐️⭐️⭐️⭐️\n​\n⚠️ IMPORTANT: We WILL hit capacity just like last time! ​ If you don’t want to wait in line for 30-60 minutes please arrive prior to 10pm!\n​\n​\n🏆 The Vibe //\n9-10pm: All levels Bachata class with Brandon & Skye. ​ No Partner Required!\n10pm-2am: Dancing to 50/50 Salsa & Bachata with DJ’s Calidad & Papi Chulo! 💃🏻\n​\nDrinks & food available!\n​\n​\n💸 Cost //\n$10 cover all night. ​ Ages 21+.\n​\n​\n📍 Location //\nDave & Buster’s Tempe Marketplace 2000 E Rio Salado Pkwy Suite 1100\, Tempe\, AZ 85281\n.\n​\nJoin our group 👇\nhttps://www.facebook.com/groups/phoenixbachata
URL:https://golatindance.com/event/salsa-bachata-saturday-at-db-april-edition-only-once-a-month/2025-04-26/
LOCATION:Dave & Buster’s – Tempe\, 2000 E Rio Salado Pky\, Suite 1100\, Tempe\, AZ\, United States
CATEGORIES:Phoenix
END:VEVENT
END:VCALENDAR