BEGIN:VCALENDAR
VERSION:2.0
PRODID:-//GO Latin Dance - ECPv6.15.18//NONSGML v1.0//EN
CALSCALE:GREGORIAN
METHOD:PUBLISH
X-ORIGINAL-URL:https://golatindance.com
X-WR-CALDESC:Events for GO Latin Dance
REFRESH-INTERVAL;VALUE=DURATION:PT1H
X-Robots-Tag:noindex
X-PUBLISHED-TTL:PT1H
BEGIN:VTIMEZONE
TZID:America/Phoenix
BEGIN:STANDARD
TZOFFSETFROM:-0700
TZOFFSETTO:-0700
TZNAME:MST
DTSTART:20280101T000000
END:STANDARD
END:VTIMEZONE
BEGIN:VEVENT
DTSTART;TZID=America/Phoenix:20290825T210000
DTEND;TZID=America/Phoenix:20290826T020000
DTSTAMP:20260424T135902
CREATED:20250414T144506Z
LAST-MODIFIED:20250922T191151Z
UID:10363496-1882386000-1882404000@golatindance.com
SUMMARY:Monthly Salsa Bachata Saturday at Dave & Busters
DESCRIPTION:Bachata Addiction® presents Salsa Bachata Saturday – Monthly Edition at D&B – going late! ⭐️⭐️⭐️⭐️⭐️\n​\n⚠️ IMPORTANT: We WILL hit capacity just like last time! ​ If you don’t want to wait in line for 30-60 minutes please arrive prior to 10pm!\n​\n​\n🏆 The Vibe //\n9-10pm: All levels Bachata class with Brandon & Skye. ​ No Partner Required!\n10pm-2am: Dancing to 50/50 Salsa & Bachata with DJ’s Calidad & Papi Chulo! 💃🏻\n​\nDrinks & food available!\n​\n​\n💸 Cost //\n$10 cover all night. ​ Ages 21+.\n​\n​\n📍 Location //\nDave & Buster’s Tempe Marketplace 2000 E Rio Salado Pkwy Suite 1100\, Tempe\, AZ 85281\n.\n​\nJoin our group 👇\nhttps://www.facebook.com/groups/phoenixbachata
URL:https://golatindance.com/event/salsa-bachata-saturday-at-db-april-edition-only-once-a-month/2029-08-25/
LOCATION:Dave & Buster’s – Tempe\, 2000 E Rio Salado Pky\, Suite 1100\, Tempe\, AZ\, United States
CATEGORIES:Phoenix
END:VEVENT
BEGIN:VEVENT
DTSTART;TZID=America/Phoenix:20290929T210000
DTEND;TZID=America/Phoenix:20290930T020000
DTSTAMP:20260424T135902
CREATED:20250414T144506Z
LAST-MODIFIED:20250922T191151Z
UID:10363497-1885410000-1885428000@golatindance.com
SUMMARY:Monthly Salsa Bachata Saturday at Dave & Busters
DESCRIPTION:Bachata Addiction® presents Salsa Bachata Saturday – Monthly Edition at D&B – going late! ⭐️⭐️⭐️⭐️⭐️\n​\n⚠️ IMPORTANT: We WILL hit capacity just like last time! ​ If you don’t want to wait in line for 30-60 minutes please arrive prior to 10pm!\n​\n​\n🏆 The Vibe //\n9-10pm: All levels Bachata class with Brandon & Skye. ​ No Partner Required!\n10pm-2am: Dancing to 50/50 Salsa & Bachata with DJ’s Calidad & Papi Chulo! 💃🏻\n​\nDrinks & food available!\n​\n​\n💸 Cost //\n$10 cover all night. ​ Ages 21+.\n​\n​\n📍 Location //\nDave & Buster’s Tempe Marketplace 2000 E Rio Salado Pkwy Suite 1100\, Tempe\, AZ 85281\n.\n​\nJoin our group 👇\nhttps://www.facebook.com/groups/phoenixbachata
URL:https://golatindance.com/event/salsa-bachata-saturday-at-db-april-edition-only-once-a-month/2029-09-29/
LOCATION:Dave & Buster’s – Tempe\, 2000 E Rio Salado Pky\, Suite 1100\, Tempe\, AZ\, United States
CATEGORIES:Phoenix
END:VEVENT
BEGIN:VEVENT
DTSTART;TZID=America/Phoenix:20291027T210000
DTEND;TZID=America/Phoenix:20291028T020000
DTSTAMP:20260424T135902
CREATED:20250414T144506Z
LAST-MODIFIED:20250922T191151Z
UID:10363498-1887829200-1887847200@golatindance.com
SUMMARY:Monthly Salsa Bachata Saturday at Dave & Busters
DESCRIPTION:Bachata Addiction® presents Salsa Bachata Saturday – Monthly Edition at D&B – going late! ⭐️⭐️⭐️⭐️⭐️\n​\n⚠️ IMPORTANT: We WILL hit capacity just like last time! ​ If you don’t want to wait in line for 30-60 minutes please arrive prior to 10pm!\n​\n​\n🏆 The Vibe //\n9-10pm: All levels Bachata class with Brandon & Skye. ​ No Partner Required!\n10pm-2am: Dancing to 50/50 Salsa & Bachata with DJ’s Calidad & Papi Chulo! 💃🏻\n​\nDrinks & food available!\n​\n​\n💸 Cost //\n$10 cover all night. ​ Ages 21+.\n​\n​\n📍 Location //\nDave & Buster’s Tempe Marketplace 2000 E Rio Salado Pkwy Suite 1100\, Tempe\, AZ 85281\n.\n​\nJoin our group 👇\nhttps://www.facebook.com/groups/phoenixbachata
URL:https://golatindance.com/event/salsa-bachata-saturday-at-db-april-edition-only-once-a-month/2029-10-27/
LOCATION:Dave & Buster’s – Tempe\, 2000 E Rio Salado Pky\, Suite 1100\, Tempe\, AZ\, United States
CATEGORIES:Phoenix
END:VEVENT
BEGIN:VEVENT
DTSTART;TZID=America/Phoenix:20291124T210000
DTEND;TZID=America/Phoenix:20291125T020000
DTSTAMP:20260424T135902
CREATED:20250414T144506Z
LAST-MODIFIED:20250922T191151Z
UID:10363499-1890248400-1890266400@golatindance.com
SUMMARY:Monthly Salsa Bachata Saturday at Dave & Busters
DESCRIPTION:Bachata Addiction® presents Salsa Bachata Saturday – Monthly Edition at D&B – going late! ⭐️⭐️⭐️⭐️⭐️\n​\n⚠️ IMPORTANT: We WILL hit capacity just like last time! ​ If you don’t want to wait in line for 30-60 minutes please arrive prior to 10pm!\n​\n​\n🏆 The Vibe //\n9-10pm: All levels Bachata class with Brandon & Skye. ​ No Partner Required!\n10pm-2am: Dancing to 50/50 Salsa & Bachata with DJ’s Calidad & Papi Chulo! 💃🏻\n​\nDrinks & food available!\n​\n​\n💸 Cost //\n$10 cover all night. ​ Ages 21+.\n​\n​\n📍 Location //\nDave & Buster’s Tempe Marketplace 2000 E Rio Salado Pkwy Suite 1100\, Tempe\, AZ 85281\n.\n​\nJoin our group 👇\nhttps://www.facebook.com/groups/phoenixbachata
URL:https://golatindance.com/event/salsa-bachata-saturday-at-db-april-edition-only-once-a-month/2029-11-24/
LOCATION:Dave & Buster’s – Tempe\, 2000 E Rio Salado Pky\, Suite 1100\, Tempe\, AZ\, United States
CATEGORIES:Phoenix
END:VEVENT
BEGIN:VEVENT
DTSTART;TZID=America/Phoenix:20291229T210000
DTEND;TZID=America/Phoenix:20291230T020000
DTSTAMP:20260424T135902
CREATED:20250414T144506Z
LAST-MODIFIED:20250922T191151Z
UID:10363500-1893272400-1893290400@golatindance.com
SUMMARY:Monthly Salsa Bachata Saturday at Dave & Busters
DESCRIPTION:Bachata Addiction® presents Salsa Bachata Saturday – Monthly Edition at D&B – going late! ⭐️⭐️⭐️⭐️⭐️\n​\n⚠️ IMPORTANT: We WILL hit capacity just like last time! ​ If you don’t want to wait in line for 30-60 minutes please arrive prior to 10pm!\n​\n​\n🏆 The Vibe //\n9-10pm: All levels Bachata class with Brandon & Skye. ​ No Partner Required!\n10pm-2am: Dancing to 50/50 Salsa & Bachata with DJ’s Calidad & Papi Chulo! 💃🏻\n​\nDrinks & food available!\n​\n​\n💸 Cost //\n$10 cover all night. ​ Ages 21+.\n​\n​\n📍 Location //\nDave & Buster’s Tempe Marketplace 2000 E Rio Salado Pkwy Suite 1100\, Tempe\, AZ 85281\n.\n​\nJoin our group 👇\nhttps://www.facebook.com/groups/phoenixbachata
URL:https://golatindance.com/event/salsa-bachata-saturday-at-db-april-edition-only-once-a-month/2029-12-29/
LOCATION:Dave & Buster’s – Tempe\, 2000 E Rio Salado Pky\, Suite 1100\, Tempe\, AZ\, United States
CATEGORIES:Phoenix
END:VEVENT
BEGIN:VEVENT
DTSTART;TZID=America/Phoenix:20300126T210000
DTEND;TZID=America/Phoenix:20300127T020000
DTSTAMP:20260424T135902
CREATED:20250414T144506Z
LAST-MODIFIED:20250922T191151Z
UID:10363501-1895691600-1895709600@golatindance.com
SUMMARY:Monthly Salsa Bachata Saturday at Dave & Busters
DESCRIPTION:Bachata Addiction® presents Salsa Bachata Saturday – Monthly Edition at D&B – going late! ⭐️⭐️⭐️⭐️⭐️\n​\n⚠️ IMPORTANT: We WILL hit capacity just like last time! ​ If you don’t want to wait in line for 30-60 minutes please arrive prior to 10pm!\n​\n​\n🏆 The Vibe //\n9-10pm: All levels Bachata class with Brandon & Skye. ​ No Partner Required!\n10pm-2am: Dancing to 50/50 Salsa & Bachata with DJ’s Calidad & Papi Chulo! 💃🏻\n​\nDrinks & food available!\n​\n​\n💸 Cost //\n$10 cover all night. ​ Ages 21+.\n​\n​\n📍 Location //\nDave & Buster’s Tempe Marketplace 2000 E Rio Salado Pkwy Suite 1100\, Tempe\, AZ 85281\n.\n​\nJoin our group 👇\nhttps://www.facebook.com/groups/phoenixbachata
URL:https://golatindance.com/event/salsa-bachata-saturday-at-db-april-edition-only-once-a-month/2030-01-26/
LOCATION:Dave & Buster’s – Tempe\, 2000 E Rio Salado Pky\, Suite 1100\, Tempe\, AZ\, United States
CATEGORIES:Phoenix
END:VEVENT
BEGIN:VEVENT
DTSTART;TZID=America/Phoenix:20300223T210000
DTEND;TZID=America/Phoenix:20300224T020000
DTSTAMP:20260424T135902
CREATED:20250414T144506Z
LAST-MODIFIED:20250922T191151Z
UID:10363502-1898110800-1898128800@golatindance.com
SUMMARY:Monthly Salsa Bachata Saturday at Dave & Busters
DESCRIPTION:Bachata Addiction® presents Salsa Bachata Saturday – Monthly Edition at D&B – going late! ⭐️⭐️⭐️⭐️⭐️\n​\n⚠️ IMPORTANT: We WILL hit capacity just like last time! ​ If you don’t want to wait in line for 30-60 minutes please arrive prior to 10pm!\n​\n​\n🏆 The Vibe //\n9-10pm: All levels Bachata class with Brandon & Skye. ​ No Partner Required!\n10pm-2am: Dancing to 50/50 Salsa & Bachata with DJ’s Calidad & Papi Chulo! 💃🏻\n​\nDrinks & food available!\n​\n​\n💸 Cost //\n$10 cover all night. ​ Ages 21+.\n​\n​\n📍 Location //\nDave & Buster’s Tempe Marketplace 2000 E Rio Salado Pkwy Suite 1100\, Tempe\, AZ 85281\n.\n​\nJoin our group 👇\nhttps://www.facebook.com/groups/phoenixbachata
URL:https://golatindance.com/event/salsa-bachata-saturday-at-db-april-edition-only-once-a-month/2030-02-23/
LOCATION:Dave & Buster’s – Tempe\, 2000 E Rio Salado Pky\, Suite 1100\, Tempe\, AZ\, United States
CATEGORIES:Phoenix
END:VEVENT
BEGIN:VEVENT
DTSTART;TZID=America/Phoenix:20300330T210000
DTEND;TZID=America/Phoenix:20300331T020000
DTSTAMP:20260424T135902
CREATED:20250414T144506Z
LAST-MODIFIED:20250922T191151Z
UID:10363503-1901134800-1901152800@golatindance.com
SUMMARY:Monthly Salsa Bachata Saturday at Dave & Busters
DESCRIPTION:Bachata Addiction® presents Salsa Bachata Saturday – Monthly Edition at D&B – going late! ⭐️⭐️⭐️⭐️⭐️\n​\n⚠️ IMPORTANT: We WILL hit capacity just like last time! ​ If you don’t want to wait in line for 30-60 minutes please arrive prior to 10pm!\n​\n​\n🏆 The Vibe //\n9-10pm: All levels Bachata class with Brandon & Skye. ​ No Partner Required!\n10pm-2am: Dancing to 50/50 Salsa & Bachata with DJ’s Calidad & Papi Chulo! 💃🏻\n​\nDrinks & food available!\n​\n​\n💸 Cost //\n$10 cover all night. ​ Ages 21+.\n​\n​\n📍 Location //\nDave & Buster’s Tempe Marketplace 2000 E Rio Salado Pkwy Suite 1100\, Tempe\, AZ 85281\n.\n​\nJoin our group 👇\nhttps://www.facebook.com/groups/phoenixbachata
URL:https://golatindance.com/event/salsa-bachata-saturday-at-db-april-edition-only-once-a-month/2030-03-30/
LOCATION:Dave & Buster’s – Tempe\, 2000 E Rio Salado Pky\, Suite 1100\, Tempe\, AZ\, United States
CATEGORIES:Phoenix
END:VEVENT
BEGIN:VEVENT
DTSTART;TZID=America/Phoenix:20300427T210000
DTEND;TZID=America/Phoenix:20300428T020000
DTSTAMP:20260424T135902
CREATED:20250414T144506Z
LAST-MODIFIED:20250922T191151Z
UID:10363504-1903554000-1903572000@golatindance.com
SUMMARY:Monthly Salsa Bachata Saturday at Dave & Busters
DESCRIPTION:Bachata Addiction® presents Salsa Bachata Saturday – Monthly Edition at D&B – going late! ⭐️⭐️⭐️⭐️⭐️\n​\n⚠️ IMPORTANT: We WILL hit capacity just like last time! ​ If you don’t want to wait in line for 30-60 minutes please arrive prior to 10pm!\n​\n​\n🏆 The Vibe //\n9-10pm: All levels Bachata class with Brandon & Skye. ​ No Partner Required!\n10pm-2am: Dancing to 50/50 Salsa & Bachata with DJ’s Calidad & Papi Chulo! 💃🏻\n​\nDrinks & food available!\n​\n​\n💸 Cost //\n$10 cover all night. ​ Ages 21+.\n​\n​\n📍 Location //\nDave & Buster’s Tempe Marketplace 2000 E Rio Salado Pkwy Suite 1100\, Tempe\, AZ 85281\n.\n​\nJoin our group 👇\nhttps://www.facebook.com/groups/phoenixbachata
URL:https://golatindance.com/event/salsa-bachata-saturday-at-db-april-edition-only-once-a-month/2030-04-27/
LOCATION:Dave & Buster’s – Tempe\, 2000 E Rio Salado Pky\, Suite 1100\, Tempe\, AZ\, United States
CATEGORIES:Phoenix
END:VEVENT
BEGIN:VEVENT
DTSTART;TZID=America/Phoenix:20300525T210000
DTEND;TZID=America/Phoenix:20300526T020000
DTSTAMP:20260424T135902
CREATED:20250414T144506Z
LAST-MODIFIED:20250922T191151Z
UID:10363505-1905973200-1905991200@golatindance.com
SUMMARY:Monthly Salsa Bachata Saturday at Dave & Busters
DESCRIPTION:Bachata Addiction® presents Salsa Bachata Saturday – Monthly Edition at D&B – going late! ⭐️⭐️⭐️⭐️⭐️\n​\n⚠️ IMPORTANT: We WILL hit capacity just like last time! ​ If you don’t want to wait in line for 30-60 minutes please arrive prior to 10pm!\n​\n​\n🏆 The Vibe //\n9-10pm: All levels Bachata class with Brandon & Skye. ​ No Partner Required!\n10pm-2am: Dancing to 50/50 Salsa & Bachata with DJ’s Calidad & Papi Chulo! 💃🏻\n​\nDrinks & food available!\n​\n​\n💸 Cost //\n$10 cover all night. ​ Ages 21+.\n​\n​\n📍 Location //\nDave & Buster’s Tempe Marketplace 2000 E Rio Salado Pkwy Suite 1100\, Tempe\, AZ 85281\n.\n​\nJoin our group 👇\nhttps://www.facebook.com/groups/phoenixbachata
URL:https://golatindance.com/event/salsa-bachata-saturday-at-db-april-edition-only-once-a-month/2030-05-25/
LOCATION:Dave & Buster’s – Tempe\, 2000 E Rio Salado Pky\, Suite 1100\, Tempe\, AZ\, United States
CATEGORIES:Phoenix
END:VEVENT
BEGIN:VEVENT
DTSTART;TZID=America/Phoenix:20300629T210000
DTEND;TZID=America/Phoenix:20300630T020000
DTSTAMP:20260424T135902
CREATED:20250414T144506Z
LAST-MODIFIED:20250922T191151Z
UID:10396387-1908997200-1909015200@golatindance.com
SUMMARY:Monthly Salsa Bachata Saturday at Dave & Busters
DESCRIPTION:Bachata Addiction® presents Salsa Bachata Saturday – Monthly Edition at D&B – going late! ⭐️⭐️⭐️⭐️⭐️\n​\n⚠️ IMPORTANT: We WILL hit capacity just like last time! ​ If you don’t want to wait in line for 30-60 minutes please arrive prior to 10pm!\n​\n​\n🏆 The Vibe //\n9-10pm: All levels Bachata class with Brandon & Skye. ​ No Partner Required!\n10pm-2am: Dancing to 50/50 Salsa & Bachata with DJ’s Calidad & Papi Chulo! 💃🏻\n​\nDrinks & food available!\n​\n​\n💸 Cost //\n$10 cover all night. ​ Ages 21+.\n​\n​\n📍 Location //\nDave & Buster’s Tempe Marketplace 2000 E Rio Salado Pkwy Suite 1100\, Tempe\, AZ 85281\n.\n​\nJoin our group 👇\nhttps://www.facebook.com/groups/phoenixbachata
URL:https://golatindance.com/event/salsa-bachata-saturday-at-db-april-edition-only-once-a-month/2030-06-29/
LOCATION:Dave & Buster’s – Tempe\, 2000 E Rio Salado Pky\, Suite 1100\, Tempe\, AZ\, United States
CATEGORIES:Phoenix
END:VEVENT
BEGIN:VEVENT
DTSTART;TZID=America/Phoenix:20300727T210000
DTEND;TZID=America/Phoenix:20300728T020000
DTSTAMP:20260424T135902
CREATED:20250414T144506Z
LAST-MODIFIED:20250922T191151Z
UID:10396388-1911416400-1911434400@golatindance.com
SUMMARY:Monthly Salsa Bachata Saturday at Dave & Busters
DESCRIPTION:Bachata Addiction® presents Salsa Bachata Saturday – Monthly Edition at D&B – going late! ⭐️⭐️⭐️⭐️⭐️\n​\n⚠️ IMPORTANT: We WILL hit capacity just like last time! ​ If you don’t want to wait in line for 30-60 minutes please arrive prior to 10pm!\n​\n​\n🏆 The Vibe //\n9-10pm: All levels Bachata class with Brandon & Skye. ​ No Partner Required!\n10pm-2am: Dancing to 50/50 Salsa & Bachata with DJ’s Calidad & Papi Chulo! 💃🏻\n​\nDrinks & food available!\n​\n​\n💸 Cost //\n$10 cover all night. ​ Ages 21+.\n​\n​\n📍 Location //\nDave & Buster’s Tempe Marketplace 2000 E Rio Salado Pkwy Suite 1100\, Tempe\, AZ 85281\n.\n​\nJoin our group 👇\nhttps://www.facebook.com/groups/phoenixbachata
URL:https://golatindance.com/event/salsa-bachata-saturday-at-db-april-edition-only-once-a-month/2030-07-27/
LOCATION:Dave & Buster’s – Tempe\, 2000 E Rio Salado Pky\, Suite 1100\, Tempe\, AZ\, United States
CATEGORIES:Phoenix
END:VEVENT
BEGIN:VEVENT
DTSTART;TZID=America/Phoenix:20300831T210000
DTEND;TZID=America/Phoenix:20300901T020000
DTSTAMP:20260424T135902
CREATED:20250414T144506Z
LAST-MODIFIED:20250922T191151Z
UID:10396389-1914440400-1914458400@golatindance.com
SUMMARY:Monthly Salsa Bachata Saturday at Dave & Busters
DESCRIPTION:Bachata Addiction® presents Salsa Bachata Saturday – Monthly Edition at D&B – going late! ⭐️⭐️⭐️⭐️⭐️\n​\n⚠️ IMPORTANT: We WILL hit capacity just like last time! ​ If you don’t want to wait in line for 30-60 minutes please arrive prior to 10pm!\n​\n​\n🏆 The Vibe //\n9-10pm: All levels Bachata class with Brandon & Skye. ​ No Partner Required!\n10pm-2am: Dancing to 50/50 Salsa & Bachata with DJ’s Calidad & Papi Chulo! 💃🏻\n​\nDrinks & food available!\n​\n​\n💸 Cost //\n$10 cover all night. ​ Ages 21+.\n​\n​\n📍 Location //\nDave & Buster’s Tempe Marketplace 2000 E Rio Salado Pkwy Suite 1100\, Tempe\, AZ 85281\n.\n​\nJoin our group 👇\nhttps://www.facebook.com/groups/phoenixbachata
URL:https://golatindance.com/event/salsa-bachata-saturday-at-db-april-edition-only-once-a-month/2030-08-31/
LOCATION:Dave & Buster’s – Tempe\, 2000 E Rio Salado Pky\, Suite 1100\, Tempe\, AZ\, United States
CATEGORIES:Phoenix
END:VEVENT
END:VCALENDAR