BEGIN:VCALENDAR
VERSION:2.0
PRODID:-//GO Latin Dance - ECPv6.15.18//NONSGML v1.0//EN
CALSCALE:GREGORIAN
METHOD:PUBLISH
X-ORIGINAL-URL:https://golatindance.com
X-WR-CALDESC:Events for GO Latin Dance
REFRESH-INTERVAL;VALUE=DURATION:PT1H
X-Robots-Tag:noindex
X-PUBLISHED-TTL:PT1H
BEGIN:VTIMEZONE
TZID:America/Chicago
BEGIN:DAYLIGHT
TZOFFSETFROM:-0600
TZOFFSETTO:-0500
TZNAME:CDT
DTSTART:20250309T080000
END:DAYLIGHT
BEGIN:STANDARD
TZOFFSETFROM:-0500
TZOFFSETTO:-0600
TZNAME:CST
DTSTART:20251102T070000
END:STANDARD
BEGIN:DAYLIGHT
TZOFFSETFROM:-0600
TZOFFSETTO:-0500
TZNAME:CDT
DTSTART:20260308T080000
END:DAYLIGHT
BEGIN:STANDARD
TZOFFSETFROM:-0500
TZOFFSETTO:-0600
TZNAME:CST
DTSTART:20261101T070000
END:STANDARD
BEGIN:DAYLIGHT
TZOFFSETFROM:-0600
TZOFFSETTO:-0500
TZNAME:CDT
DTSTART:20270314T080000
END:DAYLIGHT
BEGIN:STANDARD
TZOFFSETFROM:-0500
TZOFFSETTO:-0600
TZNAME:CST
DTSTART:20271107T070000
END:STANDARD
END:VTIMEZONE
BEGIN:VEVENT
DTSTART;TZID=America/Chicago:20260214T213000
DTEND;TZID=America/Chicago:20260215T003000
DTSTAMP:20260424T054452
CREATED:20260204T195549Z
LAST-MODIFIED:20260204T195706Z
UID:10442220-1771104600-1771115400@golatindance.com
SUMMARY:Con Ritmo - Valentine's Edition Stoplight Party!
DESCRIPTION:Join us for Con Ritmo\, Alpha Midway’s signature social\, now co-hosted by BAILART! With two dance floors –100% salsa and 100% bachata– you can create your perfect mix of salsa and bachata as you feel the music on each floor. NEW this year: PURE SOCIAL DANCING – featuring some of your favorite DFW social dancers! This month we’re highlighting Eduardo\, Michelle\, Maria\, & Bryan who will be dancing all night! Since our social falls on Valentine’s Day this year\, the theme of the night is STOPLIGHT – wear green to signal that you’re single and ready to mingle\, yellow if it’s complicated\, or red if you’re taken! 🚦 \n💸 Cover: $17 ONLINE PRESALE – ends 6 pm on Saturday 2/14 || $20 at the door (includes class & social) – NO REFUNDS \nBYOB 🥂 (21+ only) \n🎶 2 rooms/dancefloors 🎵\nSalsa with DJ Icon\nBachata with DJ Jose \nDoors open at 9:15 pm\n💃🏻 ConRi Style Bachata class @ 9:30 pm by Orlando & Mayra\n📍 Alpha Midway Dance Studio 13740 Midway Rd\, #710\, Dallas\, TX \nLIMITED TABLE RESERVATIONS AVAILABLE – now only $25! https://square.link/u/T3Rp3o8w \nBy attending this event\, attendees are agreeing to abide by our code of conduct\, which can be found on BAILART’s website. If you are ever the subject of or witness to harassment at one of our events\, please notify event staff or report the incident via our website. Any violators of said code of conduct will be removed from the event and may be banned from future events hosted by BAILART Dance Company. \nPresale tickets are non-refundable and non-transferrable. Presale pricing will end by 6 pm on the day of the event. After presale pricing ends\, tickets must be purchased at the door price for $20. At the door\, both cash and credit are accepted. \n 
URL:https://golatindance.com/event/con-ritmo-valentines-edition-stoplight-party/
LOCATION:Alpha Midway Dance Studio Dallas\, 13740 Midway Rd #714\, Dallas\, TX\, 75244\, United States
CATEGORIES:Dallas-Fort Worth
ATTACH;FMTTYPE=image/jpeg:https://golatindance.com/wp-content/uploads/2026/02/299973_image_622963778_1466670962130939_1445876613904215819_n.jpg
END:VEVENT
BEGIN:VEVENT
DTSTART;TZID=America/Chicago:20260110T213000
DTEND;TZID=America/Chicago:20260111T003000
DTSTAMP:20260424T054452
CREATED:20260107T212904Z
LAST-MODIFIED:20260107T213151Z
UID:10430818-1768080600-1768091400@golatindance.com
SUMMARY:Con Ritmo! Salsa & Bachata
DESCRIPTION:Join us for Con Ritmo\, Alpha Midway’s signature social\, now co-hosted by BAILART! With two dance floors –100% salsa and 100% bachata– you can create your perfect mix of salsa and bachata as you feel the music on each floor. NEW this year: PURE SOCIAL DANCING – featuring some of your favorite DFW social dancers! This month we’re highlighting Captain\, Davis\, Marlene\, & Andi who will be dancing all night! Theme of the night: DECADES – new year\, old style; wear an outfit with fashion inspired by your favorite decade past. \n💸 Cover: $17 ONLINE PRESALE – ends 6 pm on Saturday 1/10 || $20 at the door (includes class & social) – NO REFUNDS \nBYOB 🥂 (21+ only) \n🎶 2 rooms/dancefloors 🎵\nSalsa with DJ Marlon\nBachata with DJ Salvattore \nDoors open at 9:15 pm\n💃🏻 Salsa class @ 9:30 pm by Salsa with Jo\n📍 Alpha Midway Dance Studio 13740 Midway Rd\, #710\, Dallas\, TX \nLIMITED TABLE RESERVATIONS AVAILABLE – now only $25! https://square.link/u/T3Rp3o8w \nBy attending this event\, attendees are agreeing to abide by our code of conduct\, which can be found on BAILART’s website. If you are ever the subject of or witness to harassment at one of our events\, please notify event staff or report the incident via our website. Any violators of said code of conduct will be removed from the event and may be banned from future events hosted by BAILART Dance Company. \nPresale tickets are non-refundable and non-transferrable. Presale pricing will end by 6 pm on the day of the event. After presale pricing ends\, tickets must be purchased at the door price for $20. At the door\, both cash and credit are accepted. \n 
URL:https://golatindance.com/event/con-ritmo-salsa-bachata-100-social-dance/
LOCATION:Alpha Midway Dance Studio Dallas\, 13740 Midway Rd #714\, Dallas\, TX\, 75244\, United States
CATEGORIES:Dallas-Fort Worth
ATTACH;FMTTYPE=image/jpeg:https://golatindance.com/wp-content/uploads/2026/01/608957455_1444513047680064_4204546195401372694_n.jpg
END:VEVENT
END:VCALENDAR