BEGIN:VCALENDAR
VERSION:2.0
PRODID:-//GO Latin Dance - ECPv6.15.18//NONSGML v1.0//EN
CALSCALE:GREGORIAN
METHOD:PUBLISH
X-WR-CALNAME:GO Latin Dance
X-ORIGINAL-URL:https://golatindance.com
X-WR-CALDESC:Events for GO Latin Dance
REFRESH-INTERVAL;VALUE=DURATION:PT1H
X-Robots-Tag:noindex
X-PUBLISHED-TTL:PT1H
BEGIN:VTIMEZONE
TZID:America/Chicago
BEGIN:DAYLIGHT
TZOFFSETFROM:-0600
TZOFFSETTO:-0500
TZNAME:CDT
DTSTART:20210314T080000
END:DAYLIGHT
BEGIN:STANDARD
TZOFFSETFROM:-0500
TZOFFSETTO:-0600
TZNAME:CST
DTSTART:20211107T070000
END:STANDARD
BEGIN:DAYLIGHT
TZOFFSETFROM:-0600
TZOFFSETTO:-0500
TZNAME:CDT
DTSTART:20220313T080000
END:DAYLIGHT
BEGIN:STANDARD
TZOFFSETFROM:-0500
TZOFFSETTO:-0600
TZNAME:CST
DTSTART:20221106T070000
END:STANDARD
BEGIN:DAYLIGHT
TZOFFSETFROM:-0600
TZOFFSETTO:-0500
TZNAME:CDT
DTSTART:20230312T080000
END:DAYLIGHT
BEGIN:STANDARD
TZOFFSETFROM:-0500
TZOFFSETTO:-0600
TZNAME:CST
DTSTART:20231105T070000
END:STANDARD
BEGIN:DAYLIGHT
TZOFFSETFROM:-0600
TZOFFSETTO:-0500
TZNAME:CDT
DTSTART:20240310T080000
END:DAYLIGHT
BEGIN:STANDARD
TZOFFSETFROM:-0500
TZOFFSETTO:-0600
TZNAME:CST
DTSTART:20241103T070000
END:STANDARD
END:VTIMEZONE
BEGIN:VEVENT
DTSTART;TZID=America/Chicago:20230111T210000
DTEND;TZID=America/Chicago:20230112T020000
DTSTAMP:20260421T074323
CREATED:20221108T004403Z
LAST-MODIFIED:20250414T150834Z
UID:10031435-1673470800-1673488800@golatindance.com
SUMMARY:Tropical Wednesdays at Drink
DESCRIPTION:Get ready to groove at LATIN WEDNESDAYS\, the hottest dance night in the suburbs. Don’t miss out on this exciting event. \nAt LATIN WEDNESDAYS @ DRINK NIGHTCLUB\, we’ve curated an incredible night filled with entertainment and dancing pleasure. The highlights of the night include an exhilarating Salsa lesson by the talented Cinnamon in the main room\, along with guest instructors to spice up your moves. \nWith three fantastic rooms of music\, our amazing DJs will keep you on your feet all night long.  In the Main room\, enjoy a mix of Salsa\, Bachata\, Merengue\, and Cha Cha\, while the Absolutely room offers Cumbia\, Guaracha\, Retro\, and Rock Pop. And in the Garden Bar\, groove to the beats of Hip Hop\, Reggaeton\, Top 40s\, and R&B. Our Garden Bar is the largest in the suburbs and offers a unique opportunity to dance under the stas. \nMark your calendars and be part of this unforgettable night. Doors open at 7pm and the class starts at 9pm. The cover charge is only $10. \nLocation: Drink Nightclub 871 E. Algonquin Rd. Schaumburg\, IL \nDon’t miss out on this incredible dance night—save the date and get ready to move to the rhythm of LATIN WEDNESDAYS @ DRINK NIGHTCLUB in Schaumburg\, IL.
URL:https://golatindance.com/event/tropical-wednesdays-at-drink/2023-01-11/
LOCATION:Drink\, 871 E Algonquin Rd\, Schaumburg\, IL\, 60173\, US
CATEGORIES:Chicago
END:VEVENT
BEGIN:VEVENT
DTSTART;TZID=America/Chicago:20230104T210000
DTEND;TZID=America/Chicago:20230105T020000
DTSTAMP:20260421T074323
CREATED:20221108T004403Z
LAST-MODIFIED:20250414T150834Z
UID:10031434-1672866000-1672884000@golatindance.com
SUMMARY:Tropical Wednesdays at Drink
DESCRIPTION:Get ready to groove at LATIN WEDNESDAYS\, the hottest dance night in the suburbs. Don’t miss out on this exciting event. \nAt LATIN WEDNESDAYS @ DRINK NIGHTCLUB\, we’ve curated an incredible night filled with entertainment and dancing pleasure. The highlights of the night include an exhilarating Salsa lesson by the talented Cinnamon in the main room\, along with guest instructors to spice up your moves. \nWith three fantastic rooms of music\, our amazing DJs will keep you on your feet all night long.  In the Main room\, enjoy a mix of Salsa\, Bachata\, Merengue\, and Cha Cha\, while the Absolutely room offers Cumbia\, Guaracha\, Retro\, and Rock Pop. And in the Garden Bar\, groove to the beats of Hip Hop\, Reggaeton\, Top 40s\, and R&B. Our Garden Bar is the largest in the suburbs and offers a unique opportunity to dance under the stas. \nMark your calendars and be part of this unforgettable night. Doors open at 7pm and the class starts at 9pm. The cover charge is only $10. \nLocation: Drink Nightclub 871 E. Algonquin Rd. Schaumburg\, IL \nDon’t miss out on this incredible dance night—save the date and get ready to move to the rhythm of LATIN WEDNESDAYS @ DRINK NIGHTCLUB in Schaumburg\, IL.
URL:https://golatindance.com/event/tropical-wednesdays-at-drink/2023-01-04/
LOCATION:Drink\, 871 E Algonquin Rd\, Schaumburg\, IL\, 60173\, US
CATEGORIES:Chicago
END:VEVENT
BEGIN:VEVENT
DTSTART;TZID=America/Chicago:20221228T210000
DTEND;TZID=America/Chicago:20221229T020000
DTSTAMP:20260421T074323
CREATED:20221108T004403Z
LAST-MODIFIED:20250414T150834Z
UID:10031433-1672261200-1672279200@golatindance.com
SUMMARY:Tropical Wednesdays at Drink
DESCRIPTION:Get ready to groove at LATIN WEDNESDAYS\, the hottest dance night in the suburbs. Don’t miss out on this exciting event. \nAt LATIN WEDNESDAYS @ DRINK NIGHTCLUB\, we’ve curated an incredible night filled with entertainment and dancing pleasure. The highlights of the night include an exhilarating Salsa lesson by the talented Cinnamon in the main room\, along with guest instructors to spice up your moves. \nWith three fantastic rooms of music\, our amazing DJs will keep you on your feet all night long.  In the Main room\, enjoy a mix of Salsa\, Bachata\, Merengue\, and Cha Cha\, while the Absolutely room offers Cumbia\, Guaracha\, Retro\, and Rock Pop. And in the Garden Bar\, groove to the beats of Hip Hop\, Reggaeton\, Top 40s\, and R&B. Our Garden Bar is the largest in the suburbs and offers a unique opportunity to dance under the stas. \nMark your calendars and be part of this unforgettable night. Doors open at 7pm and the class starts at 9pm. The cover charge is only $10. \nLocation: Drink Nightclub 871 E. Algonquin Rd. Schaumburg\, IL \nDon’t miss out on this incredible dance night—save the date and get ready to move to the rhythm of LATIN WEDNESDAYS @ DRINK NIGHTCLUB in Schaumburg\, IL.
URL:https://golatindance.com/event/tropical-wednesdays-at-drink/2022-12-28/
LOCATION:Drink\, 871 E Algonquin Rd\, Schaumburg\, IL\, 60173\, US
CATEGORIES:Chicago
END:VEVENT
BEGIN:VEVENT
DTSTART;TZID=America/Chicago:20221221T210000
DTEND;TZID=America/Chicago:20221222T020000
DTSTAMP:20260421T074323
CREATED:20221108T004403Z
LAST-MODIFIED:20250414T150834Z
UID:10031432-1671656400-1671674400@golatindance.com
SUMMARY:Tropical Wednesdays at Drink
DESCRIPTION:Get ready to groove at LATIN WEDNESDAYS\, the hottest dance night in the suburbs. Don’t miss out on this exciting event. \nAt LATIN WEDNESDAYS @ DRINK NIGHTCLUB\, we’ve curated an incredible night filled with entertainment and dancing pleasure. The highlights of the night include an exhilarating Salsa lesson by the talented Cinnamon in the main room\, along with guest instructors to spice up your moves. \nWith three fantastic rooms of music\, our amazing DJs will keep you on your feet all night long.  In the Main room\, enjoy a mix of Salsa\, Bachata\, Merengue\, and Cha Cha\, while the Absolutely room offers Cumbia\, Guaracha\, Retro\, and Rock Pop. And in the Garden Bar\, groove to the beats of Hip Hop\, Reggaeton\, Top 40s\, and R&B. Our Garden Bar is the largest in the suburbs and offers a unique opportunity to dance under the stas. \nMark your calendars and be part of this unforgettable night. Doors open at 7pm and the class starts at 9pm. The cover charge is only $10. \nLocation: Drink Nightclub 871 E. Algonquin Rd. Schaumburg\, IL \nDon’t miss out on this incredible dance night—save the date and get ready to move to the rhythm of LATIN WEDNESDAYS @ DRINK NIGHTCLUB in Schaumburg\, IL.
URL:https://golatindance.com/event/tropical-wednesdays-at-drink/2022-12-21/
LOCATION:Drink\, 871 E Algonquin Rd\, Schaumburg\, IL\, 60173\, US
CATEGORIES:Chicago
END:VEVENT
BEGIN:VEVENT
DTSTART;TZID=America/Chicago:20221214T210000
DTEND;TZID=America/Chicago:20221215T020000
DTSTAMP:20260421T074323
CREATED:20221108T004403Z
LAST-MODIFIED:20250414T150834Z
UID:10031431-1671051600-1671069600@golatindance.com
SUMMARY:Tropical Wednesdays at Drink
DESCRIPTION:Get ready to groove at LATIN WEDNESDAYS\, the hottest dance night in the suburbs. Don’t miss out on this exciting event. \nAt LATIN WEDNESDAYS @ DRINK NIGHTCLUB\, we’ve curated an incredible night filled with entertainment and dancing pleasure. The highlights of the night include an exhilarating Salsa lesson by the talented Cinnamon in the main room\, along with guest instructors to spice up your moves. \nWith three fantastic rooms of music\, our amazing DJs will keep you on your feet all night long.  In the Main room\, enjoy a mix of Salsa\, Bachata\, Merengue\, and Cha Cha\, while the Absolutely room offers Cumbia\, Guaracha\, Retro\, and Rock Pop. And in the Garden Bar\, groove to the beats of Hip Hop\, Reggaeton\, Top 40s\, and R&B. Our Garden Bar is the largest in the suburbs and offers a unique opportunity to dance under the stas. \nMark your calendars and be part of this unforgettable night. Doors open at 7pm and the class starts at 9pm. The cover charge is only $10. \nLocation: Drink Nightclub 871 E. Algonquin Rd. Schaumburg\, IL \nDon’t miss out on this incredible dance night—save the date and get ready to move to the rhythm of LATIN WEDNESDAYS @ DRINK NIGHTCLUB in Schaumburg\, IL.
URL:https://golatindance.com/event/tropical-wednesdays-at-drink/2022-12-14/
LOCATION:Drink\, 871 E Algonquin Rd\, Schaumburg\, IL\, 60173\, US
CATEGORIES:Chicago
END:VEVENT
BEGIN:VEVENT
DTSTART;TZID=America/Chicago:20221207T210000
DTEND;TZID=America/Chicago:20221208T020000
DTSTAMP:20260421T074323
CREATED:20221108T004403Z
LAST-MODIFIED:20250414T150834Z
UID:10031430-1670446800-1670464800@golatindance.com
SUMMARY:Tropical Wednesdays at Drink
DESCRIPTION:Get ready to groove at LATIN WEDNESDAYS\, the hottest dance night in the suburbs. Don’t miss out on this exciting event. \nAt LATIN WEDNESDAYS @ DRINK NIGHTCLUB\, we’ve curated an incredible night filled with entertainment and dancing pleasure. The highlights of the night include an exhilarating Salsa lesson by the talented Cinnamon in the main room\, along with guest instructors to spice up your moves. \nWith three fantastic rooms of music\, our amazing DJs will keep you on your feet all night long.  In the Main room\, enjoy a mix of Salsa\, Bachata\, Merengue\, and Cha Cha\, while the Absolutely room offers Cumbia\, Guaracha\, Retro\, and Rock Pop. And in the Garden Bar\, groove to the beats of Hip Hop\, Reggaeton\, Top 40s\, and R&B. Our Garden Bar is the largest in the suburbs and offers a unique opportunity to dance under the stas. \nMark your calendars and be part of this unforgettable night. Doors open at 7pm and the class starts at 9pm. The cover charge is only $10. \nLocation: Drink Nightclub 871 E. Algonquin Rd. Schaumburg\, IL \nDon’t miss out on this incredible dance night—save the date and get ready to move to the rhythm of LATIN WEDNESDAYS @ DRINK NIGHTCLUB in Schaumburg\, IL.
URL:https://golatindance.com/event/tropical-wednesdays-at-drink/2022-12-07/
LOCATION:Drink\, 871 E Algonquin Rd\, Schaumburg\, IL\, 60173\, US
CATEGORIES:Chicago
END:VEVENT
BEGIN:VEVENT
DTSTART;TZID=America/Chicago:20221130T210000
DTEND;TZID=America/Chicago:20221201T020000
DTSTAMP:20260421T074323
CREATED:20221108T004403Z
LAST-MODIFIED:20250414T150834Z
UID:10026965-1669842000-1669860000@golatindance.com
SUMMARY:Tropical Wednesdays at Drink
DESCRIPTION:Get ready to groove at LATIN WEDNESDAYS\, the hottest dance night in the suburbs. Don’t miss out on this exciting event. \nAt LATIN WEDNESDAYS @ DRINK NIGHTCLUB\, we’ve curated an incredible night filled with entertainment and dancing pleasure. The highlights of the night include an exhilarating Salsa lesson by the talented Cinnamon in the main room\, along with guest instructors to spice up your moves. \nWith three fantastic rooms of music\, our amazing DJs will keep you on your feet all night long.  In the Main room\, enjoy a mix of Salsa\, Bachata\, Merengue\, and Cha Cha\, while the Absolutely room offers Cumbia\, Guaracha\, Retro\, and Rock Pop. And in the Garden Bar\, groove to the beats of Hip Hop\, Reggaeton\, Top 40s\, and R&B. Our Garden Bar is the largest in the suburbs and offers a unique opportunity to dance under the stas. \nMark your calendars and be part of this unforgettable night. Doors open at 7pm and the class starts at 9pm. The cover charge is only $10. \nLocation: Drink Nightclub 871 E. Algonquin Rd. Schaumburg\, IL \nDon’t miss out on this incredible dance night—save the date and get ready to move to the rhythm of LATIN WEDNESDAYS @ DRINK NIGHTCLUB in Schaumburg\, IL.
URL:https://golatindance.com/event/tropical-wednesdays-at-drink/2022-11-30/
LOCATION:Drink\, 871 E Algonquin Rd\, Schaumburg\, IL\, 60173\, US
CATEGORIES:Chicago
END:VEVENT
BEGIN:VEVENT
DTSTART;TZID=America/Chicago:20221123T210000
DTEND;TZID=America/Chicago:20221124T020000
DTSTAMP:20260421T074323
CREATED:20221108T004403Z
LAST-MODIFIED:20250414T150834Z
UID:10026964-1669237200-1669255200@golatindance.com
SUMMARY:Tropical Wednesdays at Drink
DESCRIPTION:Get ready to groove at LATIN WEDNESDAYS\, the hottest dance night in the suburbs. Don’t miss out on this exciting event. \nAt LATIN WEDNESDAYS @ DRINK NIGHTCLUB\, we’ve curated an incredible night filled with entertainment and dancing pleasure. The highlights of the night include an exhilarating Salsa lesson by the talented Cinnamon in the main room\, along with guest instructors to spice up your moves. \nWith three fantastic rooms of music\, our amazing DJs will keep you on your feet all night long.  In the Main room\, enjoy a mix of Salsa\, Bachata\, Merengue\, and Cha Cha\, while the Absolutely room offers Cumbia\, Guaracha\, Retro\, and Rock Pop. And in the Garden Bar\, groove to the beats of Hip Hop\, Reggaeton\, Top 40s\, and R&B. Our Garden Bar is the largest in the suburbs and offers a unique opportunity to dance under the stas. \nMark your calendars and be part of this unforgettable night. Doors open at 7pm and the class starts at 9pm. The cover charge is only $10. \nLocation: Drink Nightclub 871 E. Algonquin Rd. Schaumburg\, IL \nDon’t miss out on this incredible dance night—save the date and get ready to move to the rhythm of LATIN WEDNESDAYS @ DRINK NIGHTCLUB in Schaumburg\, IL.
URL:https://golatindance.com/event/tropical-wednesdays-at-drink/2022-11-23/
LOCATION:Drink\, 871 E Algonquin Rd\, Schaumburg\, IL\, 60173\, US
CATEGORIES:Chicago
END:VEVENT
BEGIN:VEVENT
DTSTART;TZID=America/Chicago:20221116T210000
DTEND;TZID=America/Chicago:20221117T020000
DTSTAMP:20260421T074323
CREATED:20221108T004403Z
LAST-MODIFIED:20250414T150834Z
UID:10026963-1668632400-1668650400@golatindance.com
SUMMARY:Tropical Wednesdays at Drink
DESCRIPTION:Get ready to groove at LATIN WEDNESDAYS\, the hottest dance night in the suburbs. Don’t miss out on this exciting event. \nAt LATIN WEDNESDAYS @ DRINK NIGHTCLUB\, we’ve curated an incredible night filled with entertainment and dancing pleasure. The highlights of the night include an exhilarating Salsa lesson by the talented Cinnamon in the main room\, along with guest instructors to spice up your moves. \nWith three fantastic rooms of music\, our amazing DJs will keep you on your feet all night long.  In the Main room\, enjoy a mix of Salsa\, Bachata\, Merengue\, and Cha Cha\, while the Absolutely room offers Cumbia\, Guaracha\, Retro\, and Rock Pop. And in the Garden Bar\, groove to the beats of Hip Hop\, Reggaeton\, Top 40s\, and R&B. Our Garden Bar is the largest in the suburbs and offers a unique opportunity to dance under the stas. \nMark your calendars and be part of this unforgettable night. Doors open at 7pm and the class starts at 9pm. The cover charge is only $10. \nLocation: Drink Nightclub 871 E. Algonquin Rd. Schaumburg\, IL \nDon’t miss out on this incredible dance night—save the date and get ready to move to the rhythm of LATIN WEDNESDAYS @ DRINK NIGHTCLUB in Schaumburg\, IL.
URL:https://golatindance.com/event/tropical-wednesdays-at-drink/2022-11-16/
LOCATION:Drink\, 871 E Algonquin Rd\, Schaumburg\, IL\, 60173\, US
CATEGORIES:Chicago
END:VEVENT
BEGIN:VEVENT
DTSTART;TZID=America/Chicago:20221109T210000
DTEND;TZID=America/Chicago:20221110T020000
DTSTAMP:20260421T074323
CREATED:20221108T004403Z
LAST-MODIFIED:20250414T150834Z
UID:10026962-1668027600-1668045600@golatindance.com
SUMMARY:Tropical Wednesdays at Drink
DESCRIPTION:Get ready to groove at LATIN WEDNESDAYS\, the hottest dance night in the suburbs. Don’t miss out on this exciting event. \nAt LATIN WEDNESDAYS @ DRINK NIGHTCLUB\, we’ve curated an incredible night filled with entertainment and dancing pleasure. The highlights of the night include an exhilarating Salsa lesson by the talented Cinnamon in the main room\, along with guest instructors to spice up your moves. \nWith three fantastic rooms of music\, our amazing DJs will keep you on your feet all night long.  In the Main room\, enjoy a mix of Salsa\, Bachata\, Merengue\, and Cha Cha\, while the Absolutely room offers Cumbia\, Guaracha\, Retro\, and Rock Pop. And in the Garden Bar\, groove to the beats of Hip Hop\, Reggaeton\, Top 40s\, and R&B. Our Garden Bar is the largest in the suburbs and offers a unique opportunity to dance under the stas. \nMark your calendars and be part of this unforgettable night. Doors open at 7pm and the class starts at 9pm. The cover charge is only $10. \nLocation: Drink Nightclub 871 E. Algonquin Rd. Schaumburg\, IL \nDon’t miss out on this incredible dance night—save the date and get ready to move to the rhythm of LATIN WEDNESDAYS @ DRINK NIGHTCLUB in Schaumburg\, IL.
URL:https://golatindance.com/event/tropical-wednesdays-at-drink/2022-11-09/
LOCATION:Drink\, 871 E Algonquin Rd\, Schaumburg\, IL\, 60173\, US
CATEGORIES:Chicago
END:VEVENT
END:VCALENDAR