BEGIN:VCALENDAR
VERSION:2.0
PRODID:-//GO Latin Dance - ECPv6.15.18//NONSGML v1.0//EN
CALSCALE:GREGORIAN
METHOD:PUBLISH
X-ORIGINAL-URL:https://golatindance.com
X-WR-CALDESC:Events for GO Latin Dance
REFRESH-INTERVAL;VALUE=DURATION:PT1H
X-Robots-Tag:noindex
X-PUBLISHED-TTL:PT1H
BEGIN:VTIMEZONE
TZID:Europe/London
BEGIN:DAYLIGHT
TZOFFSETFROM:+0000
TZOFFSETTO:+0100
TZNAME:BST
DTSTART:20250330T010000
END:DAYLIGHT
BEGIN:STANDARD
TZOFFSETFROM:+0100
TZOFFSETTO:+0000
TZNAME:GMT
DTSTART:20251026T010000
END:STANDARD
BEGIN:DAYLIGHT
TZOFFSETFROM:+0000
TZOFFSETTO:+0100
TZNAME:BST
DTSTART:20260329T010000
END:DAYLIGHT
BEGIN:STANDARD
TZOFFSETFROM:+0100
TZOFFSETTO:+0000
TZNAME:GMT
DTSTART:20261025T010000
END:STANDARD
BEGIN:DAYLIGHT
TZOFFSETFROM:+0000
TZOFFSETTO:+0100
TZNAME:BST
DTSTART:20270328T010000
END:DAYLIGHT
BEGIN:STANDARD
TZOFFSETFROM:+0100
TZOFFSETTO:+0000
TZNAME:GMT
DTSTART:20271031T010000
END:STANDARD
END:VTIMEZONE
BEGIN:VEVENT
DTSTART;TZID=Europe/London:20260422T190000
DTEND;TZID=Europe/London:20260422T230000
DTSTAMP:20260421T184201
CREATED:20230219T230313Z
LAST-MODIFIED:20241203T005848Z
UID:10303903-1776884400-1776898800@golatindance.com
SUMMARY:Brixton/Oval Wednesday Salsa Dance Classes & Party
DESCRIPTION:Come join us for fun and friendly Wednesday Salsa & Bachata classes with mirrors in South London with party till late.
URL:https://golatindance.com/event/brixton-oval-wednesday-salsa-dance-classes-party/2026-04-22/
LOCATION:Adulis Eritrean  Restaurant\, 44 Brixton Rd.\, London\, SW96BT\, GB
CATEGORIES:London
ATTACH;FMTTYPE=image/jpeg:https://golatindance.com/wp-content/uploads/2023/02/463863088_10161426833320590_4703406810598012025_n.jpg
END:VEVENT
BEGIN:VEVENT
DTSTART;TZID=Europe/London:20260429T190000
DTEND;TZID=Europe/London:20260429T230000
DTSTAMP:20260421T184201
CREATED:20230219T230313Z
LAST-MODIFIED:20241203T005848Z
UID:10303904-1777489200-1777503600@golatindance.com
SUMMARY:Brixton/Oval Wednesday Salsa Dance Classes & Party
DESCRIPTION:Come join us for fun and friendly Wednesday Salsa & Bachata classes with mirrors in South London with party till late.
URL:https://golatindance.com/event/brixton-oval-wednesday-salsa-dance-classes-party/2026-04-29/
LOCATION:Adulis Eritrean  Restaurant\, 44 Brixton Rd.\, London\, SW96BT\, GB
CATEGORIES:London
ATTACH;FMTTYPE=image/jpeg:https://golatindance.com/wp-content/uploads/2023/02/463863088_10161426833320590_4703406810598012025_n.jpg
END:VEVENT
BEGIN:VEVENT
DTSTART;TZID=Europe/London:20260506T190000
DTEND;TZID=Europe/London:20260506T230000
DTSTAMP:20260421T184201
CREATED:20230219T230313Z
LAST-MODIFIED:20241203T005848Z
UID:10303905-1778094000-1778108400@golatindance.com
SUMMARY:Brixton/Oval Wednesday Salsa Dance Classes & Party
DESCRIPTION:Come join us for fun and friendly Wednesday Salsa & Bachata classes with mirrors in South London with party till late.
URL:https://golatindance.com/event/brixton-oval-wednesday-salsa-dance-classes-party/2026-05-06/
LOCATION:Adulis Eritrean  Restaurant\, 44 Brixton Rd.\, London\, SW96BT\, GB
CATEGORIES:London
ATTACH;FMTTYPE=image/jpeg:https://golatindance.com/wp-content/uploads/2023/02/463863088_10161426833320590_4703406810598012025_n.jpg
END:VEVENT
BEGIN:VEVENT
DTSTART;TZID=Europe/London:20260513T190000
DTEND;TZID=Europe/London:20260513T230000
DTSTAMP:20260421T184201
CREATED:20230219T230313Z
LAST-MODIFIED:20241203T005848Z
UID:10303906-1778698800-1778713200@golatindance.com
SUMMARY:Brixton/Oval Wednesday Salsa Dance Classes & Party
DESCRIPTION:Come join us for fun and friendly Wednesday Salsa & Bachata classes with mirrors in South London with party till late.
URL:https://golatindance.com/event/brixton-oval-wednesday-salsa-dance-classes-party/2026-05-13/
LOCATION:Adulis Eritrean  Restaurant\, 44 Brixton Rd.\, London\, SW96BT\, GB
CATEGORIES:London
ATTACH;FMTTYPE=image/jpeg:https://golatindance.com/wp-content/uploads/2023/02/463863088_10161426833320590_4703406810598012025_n.jpg
END:VEVENT
BEGIN:VEVENT
DTSTART;TZID=Europe/London:20260520T190000
DTEND;TZID=Europe/London:20260520T230000
DTSTAMP:20260421T184201
CREATED:20230219T230313Z
LAST-MODIFIED:20241203T005848Z
UID:10303907-1779303600-1779318000@golatindance.com
SUMMARY:Brixton/Oval Wednesday Salsa Dance Classes & Party
DESCRIPTION:Come join us for fun and friendly Wednesday Salsa & Bachata classes with mirrors in South London with party till late.
URL:https://golatindance.com/event/brixton-oval-wednesday-salsa-dance-classes-party/2026-05-20/
LOCATION:Adulis Eritrean  Restaurant\, 44 Brixton Rd.\, London\, SW96BT\, GB
CATEGORIES:London
ATTACH;FMTTYPE=image/jpeg:https://golatindance.com/wp-content/uploads/2023/02/463863088_10161426833320590_4703406810598012025_n.jpg
END:VEVENT
BEGIN:VEVENT
DTSTART;TZID=Europe/London:20260527T190000
DTEND;TZID=Europe/London:20260527T230000
DTSTAMP:20260421T184201
CREATED:20230219T230313Z
LAST-MODIFIED:20241203T005848Z
UID:10303908-1779908400-1779922800@golatindance.com
SUMMARY:Brixton/Oval Wednesday Salsa Dance Classes & Party
DESCRIPTION:Come join us for fun and friendly Wednesday Salsa & Bachata classes with mirrors in South London with party till late.
URL:https://golatindance.com/event/brixton-oval-wednesday-salsa-dance-classes-party/2026-05-27/
LOCATION:Adulis Eritrean  Restaurant\, 44 Brixton Rd.\, London\, SW96BT\, GB
CATEGORIES:London
ATTACH;FMTTYPE=image/jpeg:https://golatindance.com/wp-content/uploads/2023/02/463863088_10161426833320590_4703406810598012025_n.jpg
END:VEVENT
BEGIN:VEVENT
DTSTART;TZID=Europe/London:20260603T190000
DTEND;TZID=Europe/London:20260603T230000
DTSTAMP:20260421T184201
CREATED:20230219T230313Z
LAST-MODIFIED:20241203T005848Z
UID:10303909-1780513200-1780527600@golatindance.com
SUMMARY:Brixton/Oval Wednesday Salsa Dance Classes & Party
DESCRIPTION:Come join us for fun and friendly Wednesday Salsa & Bachata classes with mirrors in South London with party till late.
URL:https://golatindance.com/event/brixton-oval-wednesday-salsa-dance-classes-party/2026-06-03/
LOCATION:Adulis Eritrean  Restaurant\, 44 Brixton Rd.\, London\, SW96BT\, GB
CATEGORIES:London
ATTACH;FMTTYPE=image/jpeg:https://golatindance.com/wp-content/uploads/2023/02/463863088_10161426833320590_4703406810598012025_n.jpg
END:VEVENT
BEGIN:VEVENT
DTSTART;TZID=Europe/London:20260610T190000
DTEND;TZID=Europe/London:20260610T230000
DTSTAMP:20260421T184201
CREATED:20230219T230313Z
LAST-MODIFIED:20241203T005848Z
UID:10303910-1781118000-1781132400@golatindance.com
SUMMARY:Brixton/Oval Wednesday Salsa Dance Classes & Party
DESCRIPTION:Come join us for fun and friendly Wednesday Salsa & Bachata classes with mirrors in South London with party till late.
URL:https://golatindance.com/event/brixton-oval-wednesday-salsa-dance-classes-party/2026-06-10/
LOCATION:Adulis Eritrean  Restaurant\, 44 Brixton Rd.\, London\, SW96BT\, GB
CATEGORIES:London
ATTACH;FMTTYPE=image/jpeg:https://golatindance.com/wp-content/uploads/2023/02/463863088_10161426833320590_4703406810598012025_n.jpg
END:VEVENT
BEGIN:VEVENT
DTSTART;TZID=Europe/London:20260617T190000
DTEND;TZID=Europe/London:20260617T230000
DTSTAMP:20260421T184201
CREATED:20230219T230313Z
LAST-MODIFIED:20241203T005848Z
UID:10303911-1781722800-1781737200@golatindance.com
SUMMARY:Brixton/Oval Wednesday Salsa Dance Classes & Party
DESCRIPTION:Come join us for fun and friendly Wednesday Salsa & Bachata classes with mirrors in South London with party till late.
URL:https://golatindance.com/event/brixton-oval-wednesday-salsa-dance-classes-party/2026-06-17/
LOCATION:Adulis Eritrean  Restaurant\, 44 Brixton Rd.\, London\, SW96BT\, GB
CATEGORIES:London
ATTACH;FMTTYPE=image/jpeg:https://golatindance.com/wp-content/uploads/2023/02/463863088_10161426833320590_4703406810598012025_n.jpg
END:VEVENT
BEGIN:VEVENT
DTSTART;TZID=Europe/London:20260624T190000
DTEND;TZID=Europe/London:20260624T230000
DTSTAMP:20260421T184201
CREATED:20230219T230313Z
LAST-MODIFIED:20241203T005848Z
UID:10303912-1782327600-1782342000@golatindance.com
SUMMARY:Brixton/Oval Wednesday Salsa Dance Classes & Party
DESCRIPTION:Come join us for fun and friendly Wednesday Salsa & Bachata classes with mirrors in South London with party till late.
URL:https://golatindance.com/event/brixton-oval-wednesday-salsa-dance-classes-party/2026-06-24/
LOCATION:Adulis Eritrean  Restaurant\, 44 Brixton Rd.\, London\, SW96BT\, GB
CATEGORIES:London
ATTACH;FMTTYPE=image/jpeg:https://golatindance.com/wp-content/uploads/2023/02/463863088_10161426833320590_4703406810598012025_n.jpg
END:VEVENT
BEGIN:VEVENT
DTSTART;TZID=Europe/London:20260701T190000
DTEND;TZID=Europe/London:20260701T230000
DTSTAMP:20260421T184201
CREATED:20230219T230313Z
LAST-MODIFIED:20241203T005848Z
UID:10303913-1782932400-1782946800@golatindance.com
SUMMARY:Brixton/Oval Wednesday Salsa Dance Classes & Party
DESCRIPTION:Come join us for fun and friendly Wednesday Salsa & Bachata classes with mirrors in South London with party till late.
URL:https://golatindance.com/event/brixton-oval-wednesday-salsa-dance-classes-party/2026-07-01/
LOCATION:Adulis Eritrean  Restaurant\, 44 Brixton Rd.\, London\, SW96BT\, GB
CATEGORIES:London
ATTACH;FMTTYPE=image/jpeg:https://golatindance.com/wp-content/uploads/2023/02/463863088_10161426833320590_4703406810598012025_n.jpg
END:VEVENT
BEGIN:VEVENT
DTSTART;TZID=Europe/London:20260708T190000
DTEND;TZID=Europe/London:20260708T230000
DTSTAMP:20260421T184201
CREATED:20230219T230313Z
LAST-MODIFIED:20241203T005848Z
UID:10303914-1783537200-1783551600@golatindance.com
SUMMARY:Brixton/Oval Wednesday Salsa Dance Classes & Party
DESCRIPTION:Come join us for fun and friendly Wednesday Salsa & Bachata classes with mirrors in South London with party till late.
URL:https://golatindance.com/event/brixton-oval-wednesday-salsa-dance-classes-party/2026-07-08/
LOCATION:Adulis Eritrean  Restaurant\, 44 Brixton Rd.\, London\, SW96BT\, GB
CATEGORIES:London
ATTACH;FMTTYPE=image/jpeg:https://golatindance.com/wp-content/uploads/2023/02/463863088_10161426833320590_4703406810598012025_n.jpg
END:VEVENT
BEGIN:VEVENT
DTSTART;TZID=Europe/London:20260715T190000
DTEND;TZID=Europe/London:20260715T230000
DTSTAMP:20260421T184201
CREATED:20230219T230313Z
LAST-MODIFIED:20241203T005848Z
UID:10303915-1784142000-1784156400@golatindance.com
SUMMARY:Brixton/Oval Wednesday Salsa Dance Classes & Party
DESCRIPTION:Come join us for fun and friendly Wednesday Salsa & Bachata classes with mirrors in South London with party till late.
URL:https://golatindance.com/event/brixton-oval-wednesday-salsa-dance-classes-party/2026-07-15/
LOCATION:Adulis Eritrean  Restaurant\, 44 Brixton Rd.\, London\, SW96BT\, GB
CATEGORIES:London
ATTACH;FMTTYPE=image/jpeg:https://golatindance.com/wp-content/uploads/2023/02/463863088_10161426833320590_4703406810598012025_n.jpg
END:VEVENT
BEGIN:VEVENT
DTSTART;TZID=Europe/London:20260722T190000
DTEND;TZID=Europe/London:20260722T230000
DTSTAMP:20260421T184201
CREATED:20230219T230313Z
LAST-MODIFIED:20241203T005848Z
UID:10303916-1784746800-1784761200@golatindance.com
SUMMARY:Brixton/Oval Wednesday Salsa Dance Classes & Party
DESCRIPTION:Come join us for fun and friendly Wednesday Salsa & Bachata classes with mirrors in South London with party till late.
URL:https://golatindance.com/event/brixton-oval-wednesday-salsa-dance-classes-party/2026-07-22/
LOCATION:Adulis Eritrean  Restaurant\, 44 Brixton Rd.\, London\, SW96BT\, GB
CATEGORIES:London
ATTACH;FMTTYPE=image/jpeg:https://golatindance.com/wp-content/uploads/2023/02/463863088_10161426833320590_4703406810598012025_n.jpg
END:VEVENT
BEGIN:VEVENT
DTSTART;TZID=Europe/London:20260729T190000
DTEND;TZID=Europe/London:20260729T230000
DTSTAMP:20260421T184201
CREATED:20230219T230313Z
LAST-MODIFIED:20241203T005848Z
UID:10303917-1785351600-1785366000@golatindance.com
SUMMARY:Brixton/Oval Wednesday Salsa Dance Classes & Party
DESCRIPTION:Come join us for fun and friendly Wednesday Salsa & Bachata classes with mirrors in South London with party till late.
URL:https://golatindance.com/event/brixton-oval-wednesday-salsa-dance-classes-party/2026-07-29/
LOCATION:Adulis Eritrean  Restaurant\, 44 Brixton Rd.\, London\, SW96BT\, GB
CATEGORIES:London
ATTACH;FMTTYPE=image/jpeg:https://golatindance.com/wp-content/uploads/2023/02/463863088_10161426833320590_4703406810598012025_n.jpg
END:VEVENT
BEGIN:VEVENT
DTSTART;TZID=Europe/London:20260805T190000
DTEND;TZID=Europe/London:20260805T230000
DTSTAMP:20260421T184201
CREATED:20230219T230313Z
LAST-MODIFIED:20241203T005848Z
UID:10303918-1785956400-1785970800@golatindance.com
SUMMARY:Brixton/Oval Wednesday Salsa Dance Classes & Party
DESCRIPTION:Come join us for fun and friendly Wednesday Salsa & Bachata classes with mirrors in South London with party till late.
URL:https://golatindance.com/event/brixton-oval-wednesday-salsa-dance-classes-party/2026-08-05/
LOCATION:Adulis Eritrean  Restaurant\, 44 Brixton Rd.\, London\, SW96BT\, GB
CATEGORIES:London
ATTACH;FMTTYPE=image/jpeg:https://golatindance.com/wp-content/uploads/2023/02/463863088_10161426833320590_4703406810598012025_n.jpg
END:VEVENT
BEGIN:VEVENT
DTSTART;TZID=Europe/London:20260812T190000
DTEND;TZID=Europe/London:20260812T230000
DTSTAMP:20260421T184201
CREATED:20230219T230313Z
LAST-MODIFIED:20241203T005848Z
UID:10303919-1786561200-1786575600@golatindance.com
SUMMARY:Brixton/Oval Wednesday Salsa Dance Classes & Party
DESCRIPTION:Come join us for fun and friendly Wednesday Salsa & Bachata classes with mirrors in South London with party till late.
URL:https://golatindance.com/event/brixton-oval-wednesday-salsa-dance-classes-party/2026-08-12/
LOCATION:Adulis Eritrean  Restaurant\, 44 Brixton Rd.\, London\, SW96BT\, GB
CATEGORIES:London
ATTACH;FMTTYPE=image/jpeg:https://golatindance.com/wp-content/uploads/2023/02/463863088_10161426833320590_4703406810598012025_n.jpg
END:VEVENT
BEGIN:VEVENT
DTSTART;TZID=Europe/London:20260819T190000
DTEND;TZID=Europe/London:20260819T230000
DTSTAMP:20260421T184201
CREATED:20230219T230313Z
LAST-MODIFIED:20241203T005848Z
UID:10303920-1787166000-1787180400@golatindance.com
SUMMARY:Brixton/Oval Wednesday Salsa Dance Classes & Party
DESCRIPTION:Come join us for fun and friendly Wednesday Salsa & Bachata classes with mirrors in South London with party till late.
URL:https://golatindance.com/event/brixton-oval-wednesday-salsa-dance-classes-party/2026-08-19/
LOCATION:Adulis Eritrean  Restaurant\, 44 Brixton Rd.\, London\, SW96BT\, GB
CATEGORIES:London
ATTACH;FMTTYPE=image/jpeg:https://golatindance.com/wp-content/uploads/2023/02/463863088_10161426833320590_4703406810598012025_n.jpg
END:VEVENT
BEGIN:VEVENT
DTSTART;TZID=Europe/London:20260826T190000
DTEND;TZID=Europe/London:20260826T230000
DTSTAMP:20260421T184201
CREATED:20230219T230313Z
LAST-MODIFIED:20241203T005848Z
UID:10303921-1787770800-1787785200@golatindance.com
SUMMARY:Brixton/Oval Wednesday Salsa Dance Classes & Party
DESCRIPTION:Come join us for fun and friendly Wednesday Salsa & Bachata classes with mirrors in South London with party till late.
URL:https://golatindance.com/event/brixton-oval-wednesday-salsa-dance-classes-party/2026-08-26/
LOCATION:Adulis Eritrean  Restaurant\, 44 Brixton Rd.\, London\, SW96BT\, GB
CATEGORIES:London
ATTACH;FMTTYPE=image/jpeg:https://golatindance.com/wp-content/uploads/2023/02/463863088_10161426833320590_4703406810598012025_n.jpg
END:VEVENT
BEGIN:VEVENT
DTSTART;TZID=Europe/London:20260902T190000
DTEND;TZID=Europe/London:20260902T230000
DTSTAMP:20260421T184201
CREATED:20230219T230313Z
LAST-MODIFIED:20241203T005848Z
UID:10303922-1788375600-1788390000@golatindance.com
SUMMARY:Brixton/Oval Wednesday Salsa Dance Classes & Party
DESCRIPTION:Come join us for fun and friendly Wednesday Salsa & Bachata classes with mirrors in South London with party till late.
URL:https://golatindance.com/event/brixton-oval-wednesday-salsa-dance-classes-party/2026-09-02/
LOCATION:Adulis Eritrean  Restaurant\, 44 Brixton Rd.\, London\, SW96BT\, GB
CATEGORIES:London
ATTACH;FMTTYPE=image/jpeg:https://golatindance.com/wp-content/uploads/2023/02/463863088_10161426833320590_4703406810598012025_n.jpg
END:VEVENT
BEGIN:VEVENT
DTSTART;TZID=Europe/London:20260909T190000
DTEND;TZID=Europe/London:20260909T230000
DTSTAMP:20260421T184201
CREATED:20230219T230313Z
LAST-MODIFIED:20241203T005848Z
UID:10303923-1788980400-1788994800@golatindance.com
SUMMARY:Brixton/Oval Wednesday Salsa Dance Classes & Party
DESCRIPTION:Come join us for fun and friendly Wednesday Salsa & Bachata classes with mirrors in South London with party till late.
URL:https://golatindance.com/event/brixton-oval-wednesday-salsa-dance-classes-party/2026-09-09/
LOCATION:Adulis Eritrean  Restaurant\, 44 Brixton Rd.\, London\, SW96BT\, GB
CATEGORIES:London
ATTACH;FMTTYPE=image/jpeg:https://golatindance.com/wp-content/uploads/2023/02/463863088_10161426833320590_4703406810598012025_n.jpg
END:VEVENT
BEGIN:VEVENT
DTSTART;TZID=Europe/London:20260916T190000
DTEND;TZID=Europe/London:20260916T230000
DTSTAMP:20260421T184201
CREATED:20230219T230313Z
LAST-MODIFIED:20241203T005848Z
UID:10303924-1789585200-1789599600@golatindance.com
SUMMARY:Brixton/Oval Wednesday Salsa Dance Classes & Party
DESCRIPTION:Come join us for fun and friendly Wednesday Salsa & Bachata classes with mirrors in South London with party till late.
URL:https://golatindance.com/event/brixton-oval-wednesday-salsa-dance-classes-party/2026-09-16/
LOCATION:Adulis Eritrean  Restaurant\, 44 Brixton Rd.\, London\, SW96BT\, GB
CATEGORIES:London
ATTACH;FMTTYPE=image/jpeg:https://golatindance.com/wp-content/uploads/2023/02/463863088_10161426833320590_4703406810598012025_n.jpg
END:VEVENT
BEGIN:VEVENT
DTSTART;TZID=Europe/London:20260923T190000
DTEND;TZID=Europe/London:20260923T230000
DTSTAMP:20260421T184201
CREATED:20230219T230313Z
LAST-MODIFIED:20241203T005848Z
UID:10303925-1790190000-1790204400@golatindance.com
SUMMARY:Brixton/Oval Wednesday Salsa Dance Classes & Party
DESCRIPTION:Come join us for fun and friendly Wednesday Salsa & Bachata classes with mirrors in South London with party till late.
URL:https://golatindance.com/event/brixton-oval-wednesday-salsa-dance-classes-party/2026-09-23/
LOCATION:Adulis Eritrean  Restaurant\, 44 Brixton Rd.\, London\, SW96BT\, GB
CATEGORIES:London
ATTACH;FMTTYPE=image/jpeg:https://golatindance.com/wp-content/uploads/2023/02/463863088_10161426833320590_4703406810598012025_n.jpg
END:VEVENT
BEGIN:VEVENT
DTSTART;TZID=Europe/London:20260930T190000
DTEND;TZID=Europe/London:20260930T230000
DTSTAMP:20260421T184201
CREATED:20230219T230313Z
LAST-MODIFIED:20241203T005848Z
UID:10303926-1790794800-1790809200@golatindance.com
SUMMARY:Brixton/Oval Wednesday Salsa Dance Classes & Party
DESCRIPTION:Come join us for fun and friendly Wednesday Salsa & Bachata classes with mirrors in South London with party till late.
URL:https://golatindance.com/event/brixton-oval-wednesday-salsa-dance-classes-party/2026-09-30/
LOCATION:Adulis Eritrean  Restaurant\, 44 Brixton Rd.\, London\, SW96BT\, GB
CATEGORIES:London
ATTACH;FMTTYPE=image/jpeg:https://golatindance.com/wp-content/uploads/2023/02/463863088_10161426833320590_4703406810598012025_n.jpg
END:VEVENT
BEGIN:VEVENT
DTSTART;TZID=Europe/London:20261007T190000
DTEND;TZID=Europe/London:20261007T230000
DTSTAMP:20260421T184201
CREATED:20230219T230313Z
LAST-MODIFIED:20241203T005848Z
UID:10303927-1791399600-1791414000@golatindance.com
SUMMARY:Brixton/Oval Wednesday Salsa Dance Classes & Party
DESCRIPTION:Come join us for fun and friendly Wednesday Salsa & Bachata classes with mirrors in South London with party till late.
URL:https://golatindance.com/event/brixton-oval-wednesday-salsa-dance-classes-party/2026-10-07/
LOCATION:Adulis Eritrean  Restaurant\, 44 Brixton Rd.\, London\, SW96BT\, GB
CATEGORIES:London
ATTACH;FMTTYPE=image/jpeg:https://golatindance.com/wp-content/uploads/2023/02/463863088_10161426833320590_4703406810598012025_n.jpg
END:VEVENT
BEGIN:VEVENT
DTSTART;TZID=Europe/London:20261014T190000
DTEND;TZID=Europe/London:20261014T230000
DTSTAMP:20260421T184201
CREATED:20230219T230313Z
LAST-MODIFIED:20241203T005848Z
UID:10303928-1792004400-1792018800@golatindance.com
SUMMARY:Brixton/Oval Wednesday Salsa Dance Classes & Party
DESCRIPTION:Come join us for fun and friendly Wednesday Salsa & Bachata classes with mirrors in South London with party till late.
URL:https://golatindance.com/event/brixton-oval-wednesday-salsa-dance-classes-party/2026-10-14/
LOCATION:Adulis Eritrean  Restaurant\, 44 Brixton Rd.\, London\, SW96BT\, GB
CATEGORIES:London
ATTACH;FMTTYPE=image/jpeg:https://golatindance.com/wp-content/uploads/2023/02/463863088_10161426833320590_4703406810598012025_n.jpg
END:VEVENT
BEGIN:VEVENT
DTSTART;TZID=Europe/London:20261021T190000
DTEND;TZID=Europe/London:20261021T230000
DTSTAMP:20260421T184201
CREATED:20230219T230313Z
LAST-MODIFIED:20241203T005848Z
UID:10303929-1792609200-1792623600@golatindance.com
SUMMARY:Brixton/Oval Wednesday Salsa Dance Classes & Party
DESCRIPTION:Come join us for fun and friendly Wednesday Salsa & Bachata classes with mirrors in South London with party till late.
URL:https://golatindance.com/event/brixton-oval-wednesday-salsa-dance-classes-party/2026-10-21/
LOCATION:Adulis Eritrean  Restaurant\, 44 Brixton Rd.\, London\, SW96BT\, GB
CATEGORIES:London
ATTACH;FMTTYPE=image/jpeg:https://golatindance.com/wp-content/uploads/2023/02/463863088_10161426833320590_4703406810598012025_n.jpg
END:VEVENT
BEGIN:VEVENT
DTSTART;TZID=Europe/London:20261028T190000
DTEND;TZID=Europe/London:20261028T230000
DTSTAMP:20260421T184201
CREATED:20230219T230313Z
LAST-MODIFIED:20241203T005848Z
UID:10303930-1793214000-1793228400@golatindance.com
SUMMARY:Brixton/Oval Wednesday Salsa Dance Classes & Party
DESCRIPTION:Come join us for fun and friendly Wednesday Salsa & Bachata classes with mirrors in South London with party till late.
URL:https://golatindance.com/event/brixton-oval-wednesday-salsa-dance-classes-party/2026-10-28/
LOCATION:Adulis Eritrean  Restaurant\, 44 Brixton Rd.\, London\, SW96BT\, GB
CATEGORIES:London
ATTACH;FMTTYPE=image/jpeg:https://golatindance.com/wp-content/uploads/2023/02/463863088_10161426833320590_4703406810598012025_n.jpg
END:VEVENT
BEGIN:VEVENT
DTSTART;TZID=Europe/London:20261104T190000
DTEND;TZID=Europe/London:20261104T230000
DTSTAMP:20260421T184201
CREATED:20230219T230313Z
LAST-MODIFIED:20241203T005848Z
UID:10303931-1793818800-1793833200@golatindance.com
SUMMARY:Brixton/Oval Wednesday Salsa Dance Classes & Party
DESCRIPTION:Come join us for fun and friendly Wednesday Salsa & Bachata classes with mirrors in South London with party till late.
URL:https://golatindance.com/event/brixton-oval-wednesday-salsa-dance-classes-party/2026-11-04/
LOCATION:Adulis Eritrean  Restaurant\, 44 Brixton Rd.\, London\, SW96BT\, GB
CATEGORIES:London
ATTACH;FMTTYPE=image/jpeg:https://golatindance.com/wp-content/uploads/2023/02/463863088_10161426833320590_4703406810598012025_n.jpg
END:VEVENT
BEGIN:VEVENT
DTSTART;TZID=Europe/London:20261111T190000
DTEND;TZID=Europe/London:20261111T230000
DTSTAMP:20260421T184201
CREATED:20230219T230313Z
LAST-MODIFIED:20241203T005848Z
UID:10303932-1794423600-1794438000@golatindance.com
SUMMARY:Brixton/Oval Wednesday Salsa Dance Classes & Party
DESCRIPTION:Come join us for fun and friendly Wednesday Salsa & Bachata classes with mirrors in South London with party till late.
URL:https://golatindance.com/event/brixton-oval-wednesday-salsa-dance-classes-party/2026-11-11/
LOCATION:Adulis Eritrean  Restaurant\, 44 Brixton Rd.\, London\, SW96BT\, GB
CATEGORIES:London
ATTACH;FMTTYPE=image/jpeg:https://golatindance.com/wp-content/uploads/2023/02/463863088_10161426833320590_4703406810598012025_n.jpg
END:VEVENT
END:VCALENDAR