BEGIN:VCALENDAR
VERSION:2.0
PRODID:-//GO Latin Dance - ECPv6.15.18//NONSGML v1.0//EN
CALSCALE:GREGORIAN
METHOD:PUBLISH
X-ORIGINAL-URL:https://golatindance.com
X-WR-CALDESC:Events for GO Latin Dance
REFRESH-INTERVAL;VALUE=DURATION:PT1H
X-Robots-Tag:noindex
X-PUBLISHED-TTL:PT1H
BEGIN:VTIMEZONE
TZID:Europe/London
BEGIN:DAYLIGHT
TZOFFSETFROM:+0000
TZOFFSETTO:+0100
TZNAME:BST
DTSTART:20220327T010000
END:DAYLIGHT
BEGIN:STANDARD
TZOFFSETFROM:+0100
TZOFFSETTO:+0000
TZNAME:GMT
DTSTART:20221030T010000
END:STANDARD
BEGIN:DAYLIGHT
TZOFFSETFROM:+0000
TZOFFSETTO:+0100
TZNAME:BST
DTSTART:20230326T010000
END:DAYLIGHT
BEGIN:STANDARD
TZOFFSETFROM:+0100
TZOFFSETTO:+0000
TZNAME:GMT
DTSTART:20231029T010000
END:STANDARD
BEGIN:DAYLIGHT
TZOFFSETFROM:+0000
TZOFFSETTO:+0100
TZNAME:BST
DTSTART:20240331T010000
END:DAYLIGHT
BEGIN:STANDARD
TZOFFSETFROM:+0100
TZOFFSETTO:+0000
TZNAME:GMT
DTSTART:20241027T010000
END:STANDARD
END:VTIMEZONE
BEGIN:VEVENT
DTSTART;TZID=Europe/London:20230802T190000
DTEND;TZID=Europe/London:20230802T230000
DTSTAMP:20260424T193016
CREATED:20230219T230313Z
LAST-MODIFIED:20241203T005848Z
UID:10303761-1691002800-1691017200@golatindance.com
SUMMARY:Brixton/Oval Wednesday Salsa Dance Classes & Party
DESCRIPTION:Come join us for fun and friendly Wednesday Salsa & Bachata classes with mirrors in South London with party till late.
URL:https://golatindance.com/event/brixton-oval-wednesday-salsa-dance-classes-party/2023-08-02/
LOCATION:Adulis Eritrean  Restaurant\, 44 Brixton Rd.\, London\, SW96BT\, GB
CATEGORIES:London
ATTACH;FMTTYPE=image/jpeg:https://golatindance.com/wp-content/uploads/2023/02/463863088_10161426833320590_4703406810598012025_n.jpg
END:VEVENT
BEGIN:VEVENT
DTSTART;TZID=Europe/London:20230726T190000
DTEND;TZID=Europe/London:20230726T230000
DTSTAMP:20260424T193016
CREATED:20230219T230313Z
LAST-MODIFIED:20241203T005848Z
UID:10303760-1690398000-1690412400@golatindance.com
SUMMARY:Brixton/Oval Wednesday Salsa Dance Classes & Party
DESCRIPTION:Come join us for fun and friendly Wednesday Salsa & Bachata classes with mirrors in South London with party till late.
URL:https://golatindance.com/event/brixton-oval-wednesday-salsa-dance-classes-party/2023-07-26/
LOCATION:Adulis Eritrean  Restaurant\, 44 Brixton Rd.\, London\, SW96BT\, GB
CATEGORIES:London
ATTACH;FMTTYPE=image/jpeg:https://golatindance.com/wp-content/uploads/2023/02/463863088_10161426833320590_4703406810598012025_n.jpg
END:VEVENT
BEGIN:VEVENT
DTSTART;TZID=Europe/London:20230719T190000
DTEND;TZID=Europe/London:20230719T230000
DTSTAMP:20260424T193016
CREATED:20230219T230313Z
LAST-MODIFIED:20241203T005848Z
UID:10303759-1689793200-1689807600@golatindance.com
SUMMARY:Brixton/Oval Wednesday Salsa Dance Classes & Party
DESCRIPTION:Come join us for fun and friendly Wednesday Salsa & Bachata classes with mirrors in South London with party till late.
URL:https://golatindance.com/event/brixton-oval-wednesday-salsa-dance-classes-party/2023-07-19/
LOCATION:Adulis Eritrean  Restaurant\, 44 Brixton Rd.\, London\, SW96BT\, GB
CATEGORIES:London
ATTACH;FMTTYPE=image/jpeg:https://golatindance.com/wp-content/uploads/2023/02/463863088_10161426833320590_4703406810598012025_n.jpg
END:VEVENT
BEGIN:VEVENT
DTSTART;TZID=Europe/London:20230712T190000
DTEND;TZID=Europe/London:20230712T230000
DTSTAMP:20260424T193016
CREATED:20230219T230313Z
LAST-MODIFIED:20241203T005848Z
UID:10303758-1689188400-1689202800@golatindance.com
SUMMARY:Brixton/Oval Wednesday Salsa Dance Classes & Party
DESCRIPTION:Come join us for fun and friendly Wednesday Salsa & Bachata classes with mirrors in South London with party till late.
URL:https://golatindance.com/event/brixton-oval-wednesday-salsa-dance-classes-party/2023-07-12/
LOCATION:Adulis Eritrean  Restaurant\, 44 Brixton Rd.\, London\, SW96BT\, GB
CATEGORIES:London
ATTACH;FMTTYPE=image/jpeg:https://golatindance.com/wp-content/uploads/2023/02/463863088_10161426833320590_4703406810598012025_n.jpg
END:VEVENT
BEGIN:VEVENT
DTSTART;TZID=Europe/London:20230705T190000
DTEND;TZID=Europe/London:20230705T230000
DTSTAMP:20260424T193016
CREATED:20230219T230313Z
LAST-MODIFIED:20241203T005848Z
UID:10303757-1688583600-1688598000@golatindance.com
SUMMARY:Brixton/Oval Wednesday Salsa Dance Classes & Party
DESCRIPTION:Come join us for fun and friendly Wednesday Salsa & Bachata classes with mirrors in South London with party till late.
URL:https://golatindance.com/event/brixton-oval-wednesday-salsa-dance-classes-party/2023-07-05/
LOCATION:Adulis Eritrean  Restaurant\, 44 Brixton Rd.\, London\, SW96BT\, GB
CATEGORIES:London
ATTACH;FMTTYPE=image/jpeg:https://golatindance.com/wp-content/uploads/2023/02/463863088_10161426833320590_4703406810598012025_n.jpg
END:VEVENT
BEGIN:VEVENT
DTSTART;TZID=Europe/London:20230628T190000
DTEND;TZID=Europe/London:20230628T230000
DTSTAMP:20260424T193016
CREATED:20230219T230313Z
LAST-MODIFIED:20241203T005848Z
UID:10303756-1687978800-1687993200@golatindance.com
SUMMARY:Brixton/Oval Wednesday Salsa Dance Classes & Party
DESCRIPTION:Come join us for fun and friendly Wednesday Salsa & Bachata classes with mirrors in South London with party till late.
URL:https://golatindance.com/event/brixton-oval-wednesday-salsa-dance-classes-party/2023-06-28/
LOCATION:Adulis Eritrean  Restaurant\, 44 Brixton Rd.\, London\, SW96BT\, GB
CATEGORIES:London
ATTACH;FMTTYPE=image/jpeg:https://golatindance.com/wp-content/uploads/2023/02/463863088_10161426833320590_4703406810598012025_n.jpg
END:VEVENT
BEGIN:VEVENT
DTSTART;TZID=Europe/London:20230621T190000
DTEND;TZID=Europe/London:20230621T230000
DTSTAMP:20260424T193016
CREATED:20230219T230313Z
LAST-MODIFIED:20241203T005848Z
UID:10303755-1687374000-1687388400@golatindance.com
SUMMARY:Brixton/Oval Wednesday Salsa Dance Classes & Party
DESCRIPTION:Come join us for fun and friendly Wednesday Salsa & Bachata classes with mirrors in South London with party till late.
URL:https://golatindance.com/event/brixton-oval-wednesday-salsa-dance-classes-party/2023-06-21/
LOCATION:Adulis Eritrean  Restaurant\, 44 Brixton Rd.\, London\, SW96BT\, GB
CATEGORIES:London
ATTACH;FMTTYPE=image/jpeg:https://golatindance.com/wp-content/uploads/2023/02/463863088_10161426833320590_4703406810598012025_n.jpg
END:VEVENT
BEGIN:VEVENT
DTSTART;TZID=Europe/London:20230614T190000
DTEND;TZID=Europe/London:20230614T230000
DTSTAMP:20260424T193016
CREATED:20230219T230313Z
LAST-MODIFIED:20241203T005848Z
UID:10303754-1686769200-1686783600@golatindance.com
SUMMARY:Brixton/Oval Wednesday Salsa Dance Classes & Party
DESCRIPTION:Come join us for fun and friendly Wednesday Salsa & Bachata classes with mirrors in South London with party till late.
URL:https://golatindance.com/event/brixton-oval-wednesday-salsa-dance-classes-party/2023-06-14/
LOCATION:Adulis Eritrean  Restaurant\, 44 Brixton Rd.\, London\, SW96BT\, GB
CATEGORIES:London
ATTACH;FMTTYPE=image/jpeg:https://golatindance.com/wp-content/uploads/2023/02/463863088_10161426833320590_4703406810598012025_n.jpg
END:VEVENT
BEGIN:VEVENT
DTSTART;TZID=Europe/London:20230607T190000
DTEND;TZID=Europe/London:20230607T230000
DTSTAMP:20260424T193016
CREATED:20230219T230313Z
LAST-MODIFIED:20241203T005848Z
UID:10303753-1686164400-1686178800@golatindance.com
SUMMARY:Brixton/Oval Wednesday Salsa Dance Classes & Party
DESCRIPTION:Come join us for fun and friendly Wednesday Salsa & Bachata classes with mirrors in South London with party till late.
URL:https://golatindance.com/event/brixton-oval-wednesday-salsa-dance-classes-party/2023-06-07/
LOCATION:Adulis Eritrean  Restaurant\, 44 Brixton Rd.\, London\, SW96BT\, GB
CATEGORIES:London
ATTACH;FMTTYPE=image/jpeg:https://golatindance.com/wp-content/uploads/2023/02/463863088_10161426833320590_4703406810598012025_n.jpg
END:VEVENT
BEGIN:VEVENT
DTSTART;TZID=Europe/London:20230531T190000
DTEND;TZID=Europe/London:20230531T230000
DTSTAMP:20260424T193016
CREATED:20230219T230313Z
LAST-MODIFIED:20241203T005848Z
UID:10303752-1685559600-1685574000@golatindance.com
SUMMARY:Brixton/Oval Wednesday Salsa Dance Classes & Party
DESCRIPTION:Come join us for fun and friendly Wednesday Salsa & Bachata classes with mirrors in South London with party till late.
URL:https://golatindance.com/event/brixton-oval-wednesday-salsa-dance-classes-party/2023-05-31/
LOCATION:Adulis Eritrean  Restaurant\, 44 Brixton Rd.\, London\, SW96BT\, GB
CATEGORIES:London
ATTACH;FMTTYPE=image/jpeg:https://golatindance.com/wp-content/uploads/2023/02/463863088_10161426833320590_4703406810598012025_n.jpg
END:VEVENT
BEGIN:VEVENT
DTSTART;TZID=Europe/London:20230524T190000
DTEND;TZID=Europe/London:20230524T230000
DTSTAMP:20260424T193016
CREATED:20230219T230313Z
LAST-MODIFIED:20241203T005848Z
UID:10303751-1684954800-1684969200@golatindance.com
SUMMARY:Brixton/Oval Wednesday Salsa Dance Classes & Party
DESCRIPTION:Come join us for fun and friendly Wednesday Salsa & Bachata classes with mirrors in South London with party till late.
URL:https://golatindance.com/event/brixton-oval-wednesday-salsa-dance-classes-party/2023-05-24/
LOCATION:Adulis Eritrean  Restaurant\, 44 Brixton Rd.\, London\, SW96BT\, GB
CATEGORIES:London
ATTACH;FMTTYPE=image/jpeg:https://golatindance.com/wp-content/uploads/2023/02/463863088_10161426833320590_4703406810598012025_n.jpg
END:VEVENT
BEGIN:VEVENT
DTSTART;TZID=Europe/London:20230517T190000
DTEND;TZID=Europe/London:20230517T230000
DTSTAMP:20260424T193016
CREATED:20230219T230313Z
LAST-MODIFIED:20241203T005848Z
UID:10303750-1684350000-1684364400@golatindance.com
SUMMARY:Brixton/Oval Wednesday Salsa Dance Classes & Party
DESCRIPTION:Come join us for fun and friendly Wednesday Salsa & Bachata classes with mirrors in South London with party till late.
URL:https://golatindance.com/event/brixton-oval-wednesday-salsa-dance-classes-party/2023-05-17/
LOCATION:Adulis Eritrean  Restaurant\, 44 Brixton Rd.\, London\, SW96BT\, GB
CATEGORIES:London
ATTACH;FMTTYPE=image/jpeg:https://golatindance.com/wp-content/uploads/2023/02/463863088_10161426833320590_4703406810598012025_n.jpg
END:VEVENT
BEGIN:VEVENT
DTSTART;TZID=Europe/London:20230510T190000
DTEND;TZID=Europe/London:20230510T230000
DTSTAMP:20260424T193016
CREATED:20230219T230313Z
LAST-MODIFIED:20241203T005848Z
UID:10303749-1683745200-1683759600@golatindance.com
SUMMARY:Brixton/Oval Wednesday Salsa Dance Classes & Party
DESCRIPTION:Come join us for fun and friendly Wednesday Salsa & Bachata classes with mirrors in South London with party till late.
URL:https://golatindance.com/event/brixton-oval-wednesday-salsa-dance-classes-party/2023-05-10/
LOCATION:Adulis Eritrean  Restaurant\, 44 Brixton Rd.\, London\, SW96BT\, GB
CATEGORIES:London
ATTACH;FMTTYPE=image/jpeg:https://golatindance.com/wp-content/uploads/2023/02/463863088_10161426833320590_4703406810598012025_n.jpg
END:VEVENT
BEGIN:VEVENT
DTSTART;TZID=Europe/London:20230503T190000
DTEND;TZID=Europe/London:20230503T230000
DTSTAMP:20260424T193016
CREATED:20230219T230313Z
LAST-MODIFIED:20241203T005848Z
UID:10303748-1683140400-1683154800@golatindance.com
SUMMARY:Brixton/Oval Wednesday Salsa Dance Classes & Party
DESCRIPTION:Come join us for fun and friendly Wednesday Salsa & Bachata classes with mirrors in South London with party till late.
URL:https://golatindance.com/event/brixton-oval-wednesday-salsa-dance-classes-party/2023-05-03/
LOCATION:Adulis Eritrean  Restaurant\, 44 Brixton Rd.\, London\, SW96BT\, GB
CATEGORIES:London
ATTACH;FMTTYPE=image/jpeg:https://golatindance.com/wp-content/uploads/2023/02/463863088_10161426833320590_4703406810598012025_n.jpg
END:VEVENT
BEGIN:VEVENT
DTSTART;TZID=Europe/London:20230426T190000
DTEND;TZID=Europe/London:20230426T230000
DTSTAMP:20260424T193016
CREATED:20230219T230313Z
LAST-MODIFIED:20241203T005848Z
UID:10303747-1682535600-1682550000@golatindance.com
SUMMARY:Brixton/Oval Wednesday Salsa Dance Classes & Party
DESCRIPTION:Come join us for fun and friendly Wednesday Salsa & Bachata classes with mirrors in South London with party till late.
URL:https://golatindance.com/event/brixton-oval-wednesday-salsa-dance-classes-party/2023-04-26/
LOCATION:Adulis Eritrean  Restaurant\, 44 Brixton Rd.\, London\, SW96BT\, GB
CATEGORIES:London
ATTACH;FMTTYPE=image/jpeg:https://golatindance.com/wp-content/uploads/2023/02/463863088_10161426833320590_4703406810598012025_n.jpg
END:VEVENT
BEGIN:VEVENT
DTSTART;TZID=Europe/London:20230419T190000
DTEND;TZID=Europe/London:20230419T230000
DTSTAMP:20260424T193016
CREATED:20230219T230313Z
LAST-MODIFIED:20241203T005848Z
UID:10303746-1681930800-1681945200@golatindance.com
SUMMARY:Brixton/Oval Wednesday Salsa Dance Classes & Party
DESCRIPTION:Come join us for fun and friendly Wednesday Salsa & Bachata classes with mirrors in South London with party till late.
URL:https://golatindance.com/event/brixton-oval-wednesday-salsa-dance-classes-party/2023-04-19/
LOCATION:Adulis Eritrean  Restaurant\, 44 Brixton Rd.\, London\, SW96BT\, GB
CATEGORIES:London
ATTACH;FMTTYPE=image/jpeg:https://golatindance.com/wp-content/uploads/2023/02/463863088_10161426833320590_4703406810598012025_n.jpg
END:VEVENT
BEGIN:VEVENT
DTSTART;TZID=Europe/London:20230412T190000
DTEND;TZID=Europe/London:20230412T230000
DTSTAMP:20260424T193016
CREATED:20230219T230313Z
LAST-MODIFIED:20241203T005848Z
UID:10303745-1681326000-1681340400@golatindance.com
SUMMARY:Brixton/Oval Wednesday Salsa Dance Classes & Party
DESCRIPTION:Come join us for fun and friendly Wednesday Salsa & Bachata classes with mirrors in South London with party till late.
URL:https://golatindance.com/event/brixton-oval-wednesday-salsa-dance-classes-party/2023-04-12/
LOCATION:Adulis Eritrean  Restaurant\, 44 Brixton Rd.\, London\, SW96BT\, GB
CATEGORIES:London
ATTACH;FMTTYPE=image/jpeg:https://golatindance.com/wp-content/uploads/2023/02/463863088_10161426833320590_4703406810598012025_n.jpg
END:VEVENT
BEGIN:VEVENT
DTSTART;TZID=Europe/London:20230405T190000
DTEND;TZID=Europe/London:20230405T230000
DTSTAMP:20260424T193016
CREATED:20230219T230313Z
LAST-MODIFIED:20241203T005848Z
UID:10303744-1680721200-1680735600@golatindance.com
SUMMARY:Brixton/Oval Wednesday Salsa Dance Classes & Party
DESCRIPTION:Come join us for fun and friendly Wednesday Salsa & Bachata classes with mirrors in South London with party till late.
URL:https://golatindance.com/event/brixton-oval-wednesday-salsa-dance-classes-party/2023-04-05/
LOCATION:Adulis Eritrean  Restaurant\, 44 Brixton Rd.\, London\, SW96BT\, GB
CATEGORIES:London
ATTACH;FMTTYPE=image/jpeg:https://golatindance.com/wp-content/uploads/2023/02/463863088_10161426833320590_4703406810598012025_n.jpg
END:VEVENT
BEGIN:VEVENT
DTSTART;TZID=Europe/London:20230329T190000
DTEND;TZID=Europe/London:20230329T230000
DTSTAMP:20260424T193016
CREATED:20230219T230313Z
LAST-MODIFIED:20241203T005848Z
UID:10303743-1680116400-1680130800@golatindance.com
SUMMARY:Brixton/Oval Wednesday Salsa Dance Classes & Party
DESCRIPTION:Come join us for fun and friendly Wednesday Salsa & Bachata classes with mirrors in South London with party till late.
URL:https://golatindance.com/event/brixton-oval-wednesday-salsa-dance-classes-party/2023-03-29/
LOCATION:Adulis Eritrean  Restaurant\, 44 Brixton Rd.\, London\, SW96BT\, GB
CATEGORIES:London
ATTACH;FMTTYPE=image/jpeg:https://golatindance.com/wp-content/uploads/2023/02/463863088_10161426833320590_4703406810598012025_n.jpg
END:VEVENT
BEGIN:VEVENT
DTSTART;TZID=Europe/London:20230322T190000
DTEND;TZID=Europe/London:20230322T230000
DTSTAMP:20260424T193016
CREATED:20230219T230313Z
LAST-MODIFIED:20241203T005848Z
UID:10303742-1679511600-1679526000@golatindance.com
SUMMARY:Brixton/Oval Wednesday Salsa Dance Classes & Party
DESCRIPTION:Come join us for fun and friendly Wednesday Salsa & Bachata classes with mirrors in South London with party till late.
URL:https://golatindance.com/event/brixton-oval-wednesday-salsa-dance-classes-party/2023-03-22/
LOCATION:Adulis Eritrean  Restaurant\, 44 Brixton Rd.\, London\, SW96BT\, GB
CATEGORIES:London
ATTACH;FMTTYPE=image/jpeg:https://golatindance.com/wp-content/uploads/2023/02/463863088_10161426833320590_4703406810598012025_n.jpg
END:VEVENT
BEGIN:VEVENT
DTSTART;TZID=Europe/London:20230315T190000
DTEND;TZID=Europe/London:20230315T230000
DTSTAMP:20260424T193016
CREATED:20230219T230313Z
LAST-MODIFIED:20241203T005848Z
UID:10303741-1678906800-1678921200@golatindance.com
SUMMARY:Brixton/Oval Wednesday Salsa Dance Classes & Party
DESCRIPTION:Come join us for fun and friendly Wednesday Salsa & Bachata classes with mirrors in South London with party till late.
URL:https://golatindance.com/event/brixton-oval-wednesday-salsa-dance-classes-party/2023-03-15/
LOCATION:Adulis Eritrean  Restaurant\, 44 Brixton Rd.\, London\, SW96BT\, GB
CATEGORIES:London
ATTACH;FMTTYPE=image/jpeg:https://golatindance.com/wp-content/uploads/2023/02/463863088_10161426833320590_4703406810598012025_n.jpg
END:VEVENT
BEGIN:VEVENT
DTSTART;TZID=Europe/London:20230308T190000
DTEND;TZID=Europe/London:20230308T230000
DTSTAMP:20260424T193016
CREATED:20230219T230313Z
LAST-MODIFIED:20241203T005848Z
UID:10303740-1678302000-1678316400@golatindance.com
SUMMARY:Brixton/Oval Wednesday Salsa Dance Classes & Party
DESCRIPTION:Come join us for fun and friendly Wednesday Salsa & Bachata classes with mirrors in South London with party till late.
URL:https://golatindance.com/event/brixton-oval-wednesday-salsa-dance-classes-party/2023-03-08/
LOCATION:Adulis Eritrean  Restaurant\, 44 Brixton Rd.\, London\, SW96BT\, GB
CATEGORIES:London
ATTACH;FMTTYPE=image/jpeg:https://golatindance.com/wp-content/uploads/2023/02/463863088_10161426833320590_4703406810598012025_n.jpg
END:VEVENT
BEGIN:VEVENT
DTSTART;TZID=Europe/London:20230301T190000
DTEND;TZID=Europe/London:20230301T230000
DTSTAMP:20260424T193016
CREATED:20230219T230313Z
LAST-MODIFIED:20241203T005848Z
UID:10303739-1677697200-1677711600@golatindance.com
SUMMARY:Brixton/Oval Wednesday Salsa Dance Classes & Party
DESCRIPTION:Come join us for fun and friendly Wednesday Salsa & Bachata classes with mirrors in South London with party till late.
URL:https://golatindance.com/event/brixton-oval-wednesday-salsa-dance-classes-party/2023-03-01/
LOCATION:Adulis Eritrean  Restaurant\, 44 Brixton Rd.\, London\, SW96BT\, GB
CATEGORIES:London
ATTACH;FMTTYPE=image/jpeg:https://golatindance.com/wp-content/uploads/2023/02/463863088_10161426833320590_4703406810598012025_n.jpg
END:VEVENT
BEGIN:VEVENT
DTSTART;TZID=Europe/London:20230222T190000
DTEND;TZID=Europe/London:20230222T230000
DTSTAMP:20260424T193016
CREATED:20230219T230313Z
LAST-MODIFIED:20241203T005848Z
UID:10303738-1677092400-1677106800@golatindance.com
SUMMARY:Brixton/Oval Wednesday Salsa Dance Classes & Party
DESCRIPTION:Come join us for fun and friendly Wednesday Salsa & Bachata classes with mirrors in South London with party till late.
URL:https://golatindance.com/event/brixton-oval-wednesday-salsa-dance-classes-party/2023-02-22/
LOCATION:Adulis Eritrean  Restaurant\, 44 Brixton Rd.\, London\, SW96BT\, GB
CATEGORIES:London
ATTACH;FMTTYPE=image/jpeg:https://golatindance.com/wp-content/uploads/2023/02/463863088_10161426833320590_4703406810598012025_n.jpg
END:VEVENT
END:VCALENDAR