BEGIN:VCALENDAR
VERSION:2.0
PRODID:-//GO Latin Dance - ECPv6.15.18//NONSGML v1.0//EN
CALSCALE:GREGORIAN
METHOD:PUBLISH
X-WR-CALNAME:GO Latin Dance
X-ORIGINAL-URL:https://golatindance.com
X-WR-CALDESC:Events for GO Latin Dance
REFRESH-INTERVAL;VALUE=DURATION:PT1H
X-Robots-Tag:noindex
X-PUBLISHED-TTL:PT1H
BEGIN:VTIMEZONE
TZID:Europe/London
BEGIN:DAYLIGHT
TZOFFSETFROM:+0000
TZOFFSETTO:+0100
TZNAME:BST
DTSTART:20240331T010000
END:DAYLIGHT
BEGIN:STANDARD
TZOFFSETFROM:+0100
TZOFFSETTO:+0000
TZNAME:GMT
DTSTART:20241027T010000
END:STANDARD
BEGIN:DAYLIGHT
TZOFFSETFROM:+0000
TZOFFSETTO:+0100
TZNAME:BST
DTSTART:20250330T010000
END:DAYLIGHT
BEGIN:STANDARD
TZOFFSETFROM:+0100
TZOFFSETTO:+0000
TZNAME:GMT
DTSTART:20251026T010000
END:STANDARD
BEGIN:DAYLIGHT
TZOFFSETFROM:+0000
TZOFFSETTO:+0100
TZNAME:BST
DTSTART:20260329T010000
END:DAYLIGHT
BEGIN:STANDARD
TZOFFSETFROM:+0100
TZOFFSETTO:+0000
TZNAME:GMT
DTSTART:20261025T010000
END:STANDARD
END:VTIMEZONE
BEGIN:VEVENT
DTSTART;TZID=Europe/London:20251126T190000
DTEND;TZID=Europe/London:20251126T230000
DTSTAMP:20260421T230918
CREATED:20230219T230313Z
LAST-MODIFIED:20241203T005848Z
UID:10303882-1764183600-1764198000@golatindance.com
SUMMARY:Brixton/Oval Wednesday Salsa Dance Classes & Party
DESCRIPTION:Come join us for fun and friendly Wednesday Salsa & Bachata classes with mirrors in South London with party till late.
URL:https://golatindance.com/event/brixton-oval-wednesday-salsa-dance-classes-party/2025-11-26/
LOCATION:Adulis Eritrean  Restaurant\, 44 Brixton Rd.\, London\, SW96BT\, GB
CATEGORIES:London
ATTACH;FMTTYPE=image/jpeg:https://golatindance.com/wp-content/uploads/2023/02/463863088_10161426833320590_4703406810598012025_n.jpg
END:VEVENT
BEGIN:VEVENT
DTSTART;TZID=Europe/London:20251119T190000
DTEND;TZID=Europe/London:20251119T230000
DTSTAMP:20260421T230918
CREATED:20230219T230313Z
LAST-MODIFIED:20241203T005848Z
UID:10303881-1763578800-1763593200@golatindance.com
SUMMARY:Brixton/Oval Wednesday Salsa Dance Classes & Party
DESCRIPTION:Come join us for fun and friendly Wednesday Salsa & Bachata classes with mirrors in South London with party till late.
URL:https://golatindance.com/event/brixton-oval-wednesday-salsa-dance-classes-party/2025-11-19/
LOCATION:Adulis Eritrean  Restaurant\, 44 Brixton Rd.\, London\, SW96BT\, GB
CATEGORIES:London
ATTACH;FMTTYPE=image/jpeg:https://golatindance.com/wp-content/uploads/2023/02/463863088_10161426833320590_4703406810598012025_n.jpg
END:VEVENT
BEGIN:VEVENT
DTSTART;TZID=Europe/London:20251112T190000
DTEND;TZID=Europe/London:20251112T230000
DTSTAMP:20260421T230918
CREATED:20230219T230313Z
LAST-MODIFIED:20241203T005848Z
UID:10303880-1762974000-1762988400@golatindance.com
SUMMARY:Brixton/Oval Wednesday Salsa Dance Classes & Party
DESCRIPTION:Come join us for fun and friendly Wednesday Salsa & Bachata classes with mirrors in South London with party till late.
URL:https://golatindance.com/event/brixton-oval-wednesday-salsa-dance-classes-party/2025-11-12/
LOCATION:Adulis Eritrean  Restaurant\, 44 Brixton Rd.\, London\, SW96BT\, GB
CATEGORIES:London
ATTACH;FMTTYPE=image/jpeg:https://golatindance.com/wp-content/uploads/2023/02/463863088_10161426833320590_4703406810598012025_n.jpg
END:VEVENT
BEGIN:VEVENT
DTSTART;TZID=Europe/London:20251105T190000
DTEND;TZID=Europe/London:20251105T230000
DTSTAMP:20260421T230919
CREATED:20230219T230313Z
LAST-MODIFIED:20241203T005848Z
UID:10303879-1762369200-1762383600@golatindance.com
SUMMARY:Brixton/Oval Wednesday Salsa Dance Classes & Party
DESCRIPTION:Come join us for fun and friendly Wednesday Salsa & Bachata classes with mirrors in South London with party till late.
URL:https://golatindance.com/event/brixton-oval-wednesday-salsa-dance-classes-party/2025-11-05/
LOCATION:Adulis Eritrean  Restaurant\, 44 Brixton Rd.\, London\, SW96BT\, GB
CATEGORIES:London
ATTACH;FMTTYPE=image/jpeg:https://golatindance.com/wp-content/uploads/2023/02/463863088_10161426833320590_4703406810598012025_n.jpg
END:VEVENT
BEGIN:VEVENT
DTSTART;TZID=Europe/London:20251029T190000
DTEND;TZID=Europe/London:20251029T230000
DTSTAMP:20260421T230919
CREATED:20230219T230313Z
LAST-MODIFIED:20241203T005848Z
UID:10303878-1761764400-1761778800@golatindance.com
SUMMARY:Brixton/Oval Wednesday Salsa Dance Classes & Party
DESCRIPTION:Come join us for fun and friendly Wednesday Salsa & Bachata classes with mirrors in South London with party till late.
URL:https://golatindance.com/event/brixton-oval-wednesday-salsa-dance-classes-party/2025-10-29/
LOCATION:Adulis Eritrean  Restaurant\, 44 Brixton Rd.\, London\, SW96BT\, GB
CATEGORIES:London
ATTACH;FMTTYPE=image/jpeg:https://golatindance.com/wp-content/uploads/2023/02/463863088_10161426833320590_4703406810598012025_n.jpg
END:VEVENT
BEGIN:VEVENT
DTSTART;TZID=Europe/London:20251022T190000
DTEND;TZID=Europe/London:20251022T230000
DTSTAMP:20260421T230919
CREATED:20230219T230313Z
LAST-MODIFIED:20241203T005848Z
UID:10303877-1761159600-1761174000@golatindance.com
SUMMARY:Brixton/Oval Wednesday Salsa Dance Classes & Party
DESCRIPTION:Come join us for fun and friendly Wednesday Salsa & Bachata classes with mirrors in South London with party till late.
URL:https://golatindance.com/event/brixton-oval-wednesday-salsa-dance-classes-party/2025-10-22/
LOCATION:Adulis Eritrean  Restaurant\, 44 Brixton Rd.\, London\, SW96BT\, GB
CATEGORIES:London
ATTACH;FMTTYPE=image/jpeg:https://golatindance.com/wp-content/uploads/2023/02/463863088_10161426833320590_4703406810598012025_n.jpg
END:VEVENT
BEGIN:VEVENT
DTSTART;TZID=Europe/London:20251015T190000
DTEND;TZID=Europe/London:20251015T230000
DTSTAMP:20260421T230919
CREATED:20230219T230313Z
LAST-MODIFIED:20241203T005848Z
UID:10303876-1760554800-1760569200@golatindance.com
SUMMARY:Brixton/Oval Wednesday Salsa Dance Classes & Party
DESCRIPTION:Come join us for fun and friendly Wednesday Salsa & Bachata classes with mirrors in South London with party till late.
URL:https://golatindance.com/event/brixton-oval-wednesday-salsa-dance-classes-party/2025-10-15/
LOCATION:Adulis Eritrean  Restaurant\, 44 Brixton Rd.\, London\, SW96BT\, GB
CATEGORIES:London
ATTACH;FMTTYPE=image/jpeg:https://golatindance.com/wp-content/uploads/2023/02/463863088_10161426833320590_4703406810598012025_n.jpg
END:VEVENT
BEGIN:VEVENT
DTSTART;TZID=Europe/London:20251008T190000
DTEND;TZID=Europe/London:20251008T230000
DTSTAMP:20260421T230919
CREATED:20230219T230313Z
LAST-MODIFIED:20241203T005848Z
UID:10303875-1759950000-1759964400@golatindance.com
SUMMARY:Brixton/Oval Wednesday Salsa Dance Classes & Party
DESCRIPTION:Come join us for fun and friendly Wednesday Salsa & Bachata classes with mirrors in South London with party till late.
URL:https://golatindance.com/event/brixton-oval-wednesday-salsa-dance-classes-party/2025-10-08/
LOCATION:Adulis Eritrean  Restaurant\, 44 Brixton Rd.\, London\, SW96BT\, GB
CATEGORIES:London
ATTACH;FMTTYPE=image/jpeg:https://golatindance.com/wp-content/uploads/2023/02/463863088_10161426833320590_4703406810598012025_n.jpg
END:VEVENT
BEGIN:VEVENT
DTSTART;TZID=Europe/London:20251001T190000
DTEND;TZID=Europe/London:20251001T230000
DTSTAMP:20260421T230919
CREATED:20230219T230313Z
LAST-MODIFIED:20241203T005848Z
UID:10303874-1759345200-1759359600@golatindance.com
SUMMARY:Brixton/Oval Wednesday Salsa Dance Classes & Party
DESCRIPTION:Come join us for fun and friendly Wednesday Salsa & Bachata classes with mirrors in South London with party till late.
URL:https://golatindance.com/event/brixton-oval-wednesday-salsa-dance-classes-party/2025-10-01/
LOCATION:Adulis Eritrean  Restaurant\, 44 Brixton Rd.\, London\, SW96BT\, GB
CATEGORIES:London
ATTACH;FMTTYPE=image/jpeg:https://golatindance.com/wp-content/uploads/2023/02/463863088_10161426833320590_4703406810598012025_n.jpg
END:VEVENT
BEGIN:VEVENT
DTSTART;TZID=Europe/London:20250924T190000
DTEND;TZID=Europe/London:20250924T230000
DTSTAMP:20260421T230919
CREATED:20230219T230313Z
LAST-MODIFIED:20241203T005848Z
UID:10303873-1758740400-1758754800@golatindance.com
SUMMARY:Brixton/Oval Wednesday Salsa Dance Classes & Party
DESCRIPTION:Come join us for fun and friendly Wednesday Salsa & Bachata classes with mirrors in South London with party till late.
URL:https://golatindance.com/event/brixton-oval-wednesday-salsa-dance-classes-party/2025-09-24/
LOCATION:Adulis Eritrean  Restaurant\, 44 Brixton Rd.\, London\, SW96BT\, GB
CATEGORIES:London
ATTACH;FMTTYPE=image/jpeg:https://golatindance.com/wp-content/uploads/2023/02/463863088_10161426833320590_4703406810598012025_n.jpg
END:VEVENT
BEGIN:VEVENT
DTSTART;TZID=Europe/London:20250917T190000
DTEND;TZID=Europe/London:20250917T230000
DTSTAMP:20260421T230919
CREATED:20230219T230313Z
LAST-MODIFIED:20241203T005848Z
UID:10303872-1758135600-1758150000@golatindance.com
SUMMARY:Brixton/Oval Wednesday Salsa Dance Classes & Party
DESCRIPTION:Come join us for fun and friendly Wednesday Salsa & Bachata classes with mirrors in South London with party till late.
URL:https://golatindance.com/event/brixton-oval-wednesday-salsa-dance-classes-party/2025-09-17/
LOCATION:Adulis Eritrean  Restaurant\, 44 Brixton Rd.\, London\, SW96BT\, GB
CATEGORIES:London
ATTACH;FMTTYPE=image/jpeg:https://golatindance.com/wp-content/uploads/2023/02/463863088_10161426833320590_4703406810598012025_n.jpg
END:VEVENT
BEGIN:VEVENT
DTSTART;TZID=Europe/London:20250910T190000
DTEND;TZID=Europe/London:20250910T230000
DTSTAMP:20260421T230919
CREATED:20230219T230313Z
LAST-MODIFIED:20241203T005848Z
UID:10303871-1757530800-1757545200@golatindance.com
SUMMARY:Brixton/Oval Wednesday Salsa Dance Classes & Party
DESCRIPTION:Come join us for fun and friendly Wednesday Salsa & Bachata classes with mirrors in South London with party till late.
URL:https://golatindance.com/event/brixton-oval-wednesday-salsa-dance-classes-party/2025-09-10/
LOCATION:Adulis Eritrean  Restaurant\, 44 Brixton Rd.\, London\, SW96BT\, GB
CATEGORIES:London
ATTACH;FMTTYPE=image/jpeg:https://golatindance.com/wp-content/uploads/2023/02/463863088_10161426833320590_4703406810598012025_n.jpg
END:VEVENT
BEGIN:VEVENT
DTSTART;TZID=Europe/London:20250903T190000
DTEND;TZID=Europe/London:20250903T230000
DTSTAMP:20260421T230919
CREATED:20230219T230313Z
LAST-MODIFIED:20241203T005848Z
UID:10303870-1756926000-1756940400@golatindance.com
SUMMARY:Brixton/Oval Wednesday Salsa Dance Classes & Party
DESCRIPTION:Come join us for fun and friendly Wednesday Salsa & Bachata classes with mirrors in South London with party till late.
URL:https://golatindance.com/event/brixton-oval-wednesday-salsa-dance-classes-party/2025-09-03/
LOCATION:Adulis Eritrean  Restaurant\, 44 Brixton Rd.\, London\, SW96BT\, GB
CATEGORIES:London
ATTACH;FMTTYPE=image/jpeg:https://golatindance.com/wp-content/uploads/2023/02/463863088_10161426833320590_4703406810598012025_n.jpg
END:VEVENT
BEGIN:VEVENT
DTSTART;TZID=Europe/London:20250827T190000
DTEND;TZID=Europe/London:20250827T230000
DTSTAMP:20260421T230919
CREATED:20230219T230313Z
LAST-MODIFIED:20241203T005848Z
UID:10303869-1756321200-1756335600@golatindance.com
SUMMARY:Brixton/Oval Wednesday Salsa Dance Classes & Party
DESCRIPTION:Come join us for fun and friendly Wednesday Salsa & Bachata classes with mirrors in South London with party till late.
URL:https://golatindance.com/event/brixton-oval-wednesday-salsa-dance-classes-party/2025-08-27/
LOCATION:Adulis Eritrean  Restaurant\, 44 Brixton Rd.\, London\, SW96BT\, GB
CATEGORIES:London
ATTACH;FMTTYPE=image/jpeg:https://golatindance.com/wp-content/uploads/2023/02/463863088_10161426833320590_4703406810598012025_n.jpg
END:VEVENT
BEGIN:VEVENT
DTSTART;TZID=Europe/London:20250820T190000
DTEND;TZID=Europe/London:20250820T230000
DTSTAMP:20260421T230919
CREATED:20230219T230313Z
LAST-MODIFIED:20241203T005848Z
UID:10303868-1755716400-1755730800@golatindance.com
SUMMARY:Brixton/Oval Wednesday Salsa Dance Classes & Party
DESCRIPTION:Come join us for fun and friendly Wednesday Salsa & Bachata classes with mirrors in South London with party till late.
URL:https://golatindance.com/event/brixton-oval-wednesday-salsa-dance-classes-party/2025-08-20/
LOCATION:Adulis Eritrean  Restaurant\, 44 Brixton Rd.\, London\, SW96BT\, GB
CATEGORIES:London
ATTACH;FMTTYPE=image/jpeg:https://golatindance.com/wp-content/uploads/2023/02/463863088_10161426833320590_4703406810598012025_n.jpg
END:VEVENT
BEGIN:VEVENT
DTSTART;TZID=Europe/London:20250813T190000
DTEND;TZID=Europe/London:20250813T230000
DTSTAMP:20260421T230920
CREATED:20230219T230313Z
LAST-MODIFIED:20241203T005848Z
UID:10303867-1755111600-1755126000@golatindance.com
SUMMARY:Brixton/Oval Wednesday Salsa Dance Classes & Party
DESCRIPTION:Come join us for fun and friendly Wednesday Salsa & Bachata classes with mirrors in South London with party till late.
URL:https://golatindance.com/event/brixton-oval-wednesday-salsa-dance-classes-party/2025-08-13/
LOCATION:Adulis Eritrean  Restaurant\, 44 Brixton Rd.\, London\, SW96BT\, GB
CATEGORIES:London
ATTACH;FMTTYPE=image/jpeg:https://golatindance.com/wp-content/uploads/2023/02/463863088_10161426833320590_4703406810598012025_n.jpg
END:VEVENT
BEGIN:VEVENT
DTSTART;TZID=Europe/London:20250806T190000
DTEND;TZID=Europe/London:20250806T230000
DTSTAMP:20260421T230920
CREATED:20230219T230313Z
LAST-MODIFIED:20241203T005848Z
UID:10303866-1754506800-1754521200@golatindance.com
SUMMARY:Brixton/Oval Wednesday Salsa Dance Classes & Party
DESCRIPTION:Come join us for fun and friendly Wednesday Salsa & Bachata classes with mirrors in South London with party till late.
URL:https://golatindance.com/event/brixton-oval-wednesday-salsa-dance-classes-party/2025-08-06/
LOCATION:Adulis Eritrean  Restaurant\, 44 Brixton Rd.\, London\, SW96BT\, GB
CATEGORIES:London
ATTACH;FMTTYPE=image/jpeg:https://golatindance.com/wp-content/uploads/2023/02/463863088_10161426833320590_4703406810598012025_n.jpg
END:VEVENT
BEGIN:VEVENT
DTSTART;TZID=Europe/London:20250730T190000
DTEND;TZID=Europe/London:20250730T230000
DTSTAMP:20260421T230920
CREATED:20230219T230313Z
LAST-MODIFIED:20241203T005848Z
UID:10303865-1753902000-1753916400@golatindance.com
SUMMARY:Brixton/Oval Wednesday Salsa Dance Classes & Party
DESCRIPTION:Come join us for fun and friendly Wednesday Salsa & Bachata classes with mirrors in South London with party till late.
URL:https://golatindance.com/event/brixton-oval-wednesday-salsa-dance-classes-party/2025-07-30/
LOCATION:Adulis Eritrean  Restaurant\, 44 Brixton Rd.\, London\, SW96BT\, GB
CATEGORIES:London
ATTACH;FMTTYPE=image/jpeg:https://golatindance.com/wp-content/uploads/2023/02/463863088_10161426833320590_4703406810598012025_n.jpg
END:VEVENT
BEGIN:VEVENT
DTSTART;TZID=Europe/London:20250723T190000
DTEND;TZID=Europe/London:20250723T230000
DTSTAMP:20260421T230920
CREATED:20230219T230313Z
LAST-MODIFIED:20241203T005848Z
UID:10303864-1753297200-1753311600@golatindance.com
SUMMARY:Brixton/Oval Wednesday Salsa Dance Classes & Party
DESCRIPTION:Come join us for fun and friendly Wednesday Salsa & Bachata classes with mirrors in South London with party till late.
URL:https://golatindance.com/event/brixton-oval-wednesday-salsa-dance-classes-party/2025-07-23/
LOCATION:Adulis Eritrean  Restaurant\, 44 Brixton Rd.\, London\, SW96BT\, GB
CATEGORIES:London
ATTACH;FMTTYPE=image/jpeg:https://golatindance.com/wp-content/uploads/2023/02/463863088_10161426833320590_4703406810598012025_n.jpg
END:VEVENT
BEGIN:VEVENT
DTSTART;TZID=Europe/London:20250716T190000
DTEND;TZID=Europe/London:20250716T230000
DTSTAMP:20260421T230920
CREATED:20230219T230313Z
LAST-MODIFIED:20241203T005848Z
UID:10303863-1752692400-1752706800@golatindance.com
SUMMARY:Brixton/Oval Wednesday Salsa Dance Classes & Party
DESCRIPTION:Come join us for fun and friendly Wednesday Salsa & Bachata classes with mirrors in South London with party till late.
URL:https://golatindance.com/event/brixton-oval-wednesday-salsa-dance-classes-party/2025-07-16/
LOCATION:Adulis Eritrean  Restaurant\, 44 Brixton Rd.\, London\, SW96BT\, GB
CATEGORIES:London
ATTACH;FMTTYPE=image/jpeg:https://golatindance.com/wp-content/uploads/2023/02/463863088_10161426833320590_4703406810598012025_n.jpg
END:VEVENT
BEGIN:VEVENT
DTSTART;TZID=Europe/London:20250709T190000
DTEND;TZID=Europe/London:20250709T230000
DTSTAMP:20260421T230920
CREATED:20230219T230313Z
LAST-MODIFIED:20241203T005848Z
UID:10303862-1752087600-1752102000@golatindance.com
SUMMARY:Brixton/Oval Wednesday Salsa Dance Classes & Party
DESCRIPTION:Come join us for fun and friendly Wednesday Salsa & Bachata classes with mirrors in South London with party till late.
URL:https://golatindance.com/event/brixton-oval-wednesday-salsa-dance-classes-party/2025-07-09/
LOCATION:Adulis Eritrean  Restaurant\, 44 Brixton Rd.\, London\, SW96BT\, GB
CATEGORIES:London
ATTACH;FMTTYPE=image/jpeg:https://golatindance.com/wp-content/uploads/2023/02/463863088_10161426833320590_4703406810598012025_n.jpg
END:VEVENT
BEGIN:VEVENT
DTSTART;TZID=Europe/London:20250702T190000
DTEND;TZID=Europe/London:20250702T230000
DTSTAMP:20260421T230920
CREATED:20230219T230313Z
LAST-MODIFIED:20241203T005848Z
UID:10303861-1751482800-1751497200@golatindance.com
SUMMARY:Brixton/Oval Wednesday Salsa Dance Classes & Party
DESCRIPTION:Come join us for fun and friendly Wednesday Salsa & Bachata classes with mirrors in South London with party till late.
URL:https://golatindance.com/event/brixton-oval-wednesday-salsa-dance-classes-party/2025-07-02/
LOCATION:Adulis Eritrean  Restaurant\, 44 Brixton Rd.\, London\, SW96BT\, GB
CATEGORIES:London
ATTACH;FMTTYPE=image/jpeg:https://golatindance.com/wp-content/uploads/2023/02/463863088_10161426833320590_4703406810598012025_n.jpg
END:VEVENT
BEGIN:VEVENT
DTSTART;TZID=Europe/London:20250625T190000
DTEND;TZID=Europe/London:20250625T230000
DTSTAMP:20260421T230920
CREATED:20230219T230313Z
LAST-MODIFIED:20241203T005848Z
UID:10303860-1750878000-1750892400@golatindance.com
SUMMARY:Brixton/Oval Wednesday Salsa Dance Classes & Party
DESCRIPTION:Come join us for fun and friendly Wednesday Salsa & Bachata classes with mirrors in South London with party till late.
URL:https://golatindance.com/event/brixton-oval-wednesday-salsa-dance-classes-party/2025-06-25/
LOCATION:Adulis Eritrean  Restaurant\, 44 Brixton Rd.\, London\, SW96BT\, GB
CATEGORIES:London
ATTACH;FMTTYPE=image/jpeg:https://golatindance.com/wp-content/uploads/2023/02/463863088_10161426833320590_4703406810598012025_n.jpg
END:VEVENT
BEGIN:VEVENT
DTSTART;TZID=Europe/London:20250618T190000
DTEND;TZID=Europe/London:20250618T230000
DTSTAMP:20260421T230920
CREATED:20230219T230313Z
LAST-MODIFIED:20241203T005848Z
UID:10303859-1750273200-1750287600@golatindance.com
SUMMARY:Brixton/Oval Wednesday Salsa Dance Classes & Party
DESCRIPTION:Come join us for fun and friendly Wednesday Salsa & Bachata classes with mirrors in South London with party till late.
URL:https://golatindance.com/event/brixton-oval-wednesday-salsa-dance-classes-party/2025-06-18/
LOCATION:Adulis Eritrean  Restaurant\, 44 Brixton Rd.\, London\, SW96BT\, GB
CATEGORIES:London
ATTACH;FMTTYPE=image/jpeg:https://golatindance.com/wp-content/uploads/2023/02/463863088_10161426833320590_4703406810598012025_n.jpg
END:VEVENT
BEGIN:VEVENT
DTSTART;TZID=Europe/London:20250611T190000
DTEND;TZID=Europe/London:20250611T230000
DTSTAMP:20260421T230920
CREATED:20230219T230313Z
LAST-MODIFIED:20241203T005848Z
UID:10303858-1749668400-1749682800@golatindance.com
SUMMARY:Brixton/Oval Wednesday Salsa Dance Classes & Party
DESCRIPTION:Come join us for fun and friendly Wednesday Salsa & Bachata classes with mirrors in South London with party till late.
URL:https://golatindance.com/event/brixton-oval-wednesday-salsa-dance-classes-party/2025-06-11/
LOCATION:Adulis Eritrean  Restaurant\, 44 Brixton Rd.\, London\, SW96BT\, GB
CATEGORIES:London
ATTACH;FMTTYPE=image/jpeg:https://golatindance.com/wp-content/uploads/2023/02/463863088_10161426833320590_4703406810598012025_n.jpg
END:VEVENT
BEGIN:VEVENT
DTSTART;TZID=Europe/London:20250604T190000
DTEND;TZID=Europe/London:20250604T230000
DTSTAMP:20260421T230920
CREATED:20230219T230313Z
LAST-MODIFIED:20241203T005848Z
UID:10303857-1749063600-1749078000@golatindance.com
SUMMARY:Brixton/Oval Wednesday Salsa Dance Classes & Party
DESCRIPTION:Come join us for fun and friendly Wednesday Salsa & Bachata classes with mirrors in South London with party till late.
URL:https://golatindance.com/event/brixton-oval-wednesday-salsa-dance-classes-party/2025-06-04/
LOCATION:Adulis Eritrean  Restaurant\, 44 Brixton Rd.\, London\, SW96BT\, GB
CATEGORIES:London
ATTACH;FMTTYPE=image/jpeg:https://golatindance.com/wp-content/uploads/2023/02/463863088_10161426833320590_4703406810598012025_n.jpg
END:VEVENT
BEGIN:VEVENT
DTSTART;TZID=Europe/London:20250528T190000
DTEND;TZID=Europe/London:20250528T230000
DTSTAMP:20260421T230920
CREATED:20230219T230313Z
LAST-MODIFIED:20241203T005848Z
UID:10303856-1748458800-1748473200@golatindance.com
SUMMARY:Brixton/Oval Wednesday Salsa Dance Classes & Party
DESCRIPTION:Come join us for fun and friendly Wednesday Salsa & Bachata classes with mirrors in South London with party till late.
URL:https://golatindance.com/event/brixton-oval-wednesday-salsa-dance-classes-party/2025-05-28/
LOCATION:Adulis Eritrean  Restaurant\, 44 Brixton Rd.\, London\, SW96BT\, GB
CATEGORIES:London
ATTACH;FMTTYPE=image/jpeg:https://golatindance.com/wp-content/uploads/2023/02/463863088_10161426833320590_4703406810598012025_n.jpg
END:VEVENT
BEGIN:VEVENT
DTSTART;TZID=Europe/London:20250521T190000
DTEND;TZID=Europe/London:20250521T230000
DTSTAMP:20260421T230921
CREATED:20230219T230313Z
LAST-MODIFIED:20241203T005848Z
UID:10303855-1747854000-1747868400@golatindance.com
SUMMARY:Brixton/Oval Wednesday Salsa Dance Classes & Party
DESCRIPTION:Come join us for fun and friendly Wednesday Salsa & Bachata classes with mirrors in South London with party till late.
URL:https://golatindance.com/event/brixton-oval-wednesday-salsa-dance-classes-party/2025-05-21/
LOCATION:Adulis Eritrean  Restaurant\, 44 Brixton Rd.\, London\, SW96BT\, GB
CATEGORIES:London
ATTACH;FMTTYPE=image/jpeg:https://golatindance.com/wp-content/uploads/2023/02/463863088_10161426833320590_4703406810598012025_n.jpg
END:VEVENT
BEGIN:VEVENT
DTSTART;TZID=Europe/London:20250514T190000
DTEND;TZID=Europe/London:20250514T230000
DTSTAMP:20260421T230921
CREATED:20230219T230313Z
LAST-MODIFIED:20241203T005848Z
UID:10303854-1747249200-1747263600@golatindance.com
SUMMARY:Brixton/Oval Wednesday Salsa Dance Classes & Party
DESCRIPTION:Come join us for fun and friendly Wednesday Salsa & Bachata classes with mirrors in South London with party till late.
URL:https://golatindance.com/event/brixton-oval-wednesday-salsa-dance-classes-party/2025-05-14/
LOCATION:Adulis Eritrean  Restaurant\, 44 Brixton Rd.\, London\, SW96BT\, GB
CATEGORIES:London
ATTACH;FMTTYPE=image/jpeg:https://golatindance.com/wp-content/uploads/2023/02/463863088_10161426833320590_4703406810598012025_n.jpg
END:VEVENT
BEGIN:VEVENT
DTSTART;TZID=Europe/London:20250507T190000
DTEND;TZID=Europe/London:20250507T230000
DTSTAMP:20260421T230921
CREATED:20230219T230313Z
LAST-MODIFIED:20241203T005848Z
UID:10303853-1746644400-1746658800@golatindance.com
SUMMARY:Brixton/Oval Wednesday Salsa Dance Classes & Party
DESCRIPTION:Come join us for fun and friendly Wednesday Salsa & Bachata classes with mirrors in South London with party till late.
URL:https://golatindance.com/event/brixton-oval-wednesday-salsa-dance-classes-party/2025-05-07/
LOCATION:Adulis Eritrean  Restaurant\, 44 Brixton Rd.\, London\, SW96BT\, GB
CATEGORIES:London
ATTACH;FMTTYPE=image/jpeg:https://golatindance.com/wp-content/uploads/2023/02/463863088_10161426833320590_4703406810598012025_n.jpg
END:VEVENT
END:VCALENDAR