BEGIN:VCALENDAR
VERSION:2.0
PRODID:-//GO Latin Dance - ECPv6.15.18//NONSGML v1.0//EN
CALSCALE:GREGORIAN
METHOD:PUBLISH
X-ORIGINAL-URL:https://golatindance.com
X-WR-CALDESC:Events for GO Latin Dance
REFRESH-INTERVAL;VALUE=DURATION:PT1H
X-Robots-Tag:noindex
X-PUBLISHED-TTL:PT1H
BEGIN:VTIMEZONE
TZID:Europe/London
BEGIN:DAYLIGHT
TZOFFSETFROM:+0000
TZOFFSETTO:+0100
TZNAME:BST
DTSTART:20250330T010000
END:DAYLIGHT
BEGIN:STANDARD
TZOFFSETFROM:+0100
TZOFFSETTO:+0000
TZNAME:GMT
DTSTART:20251026T010000
END:STANDARD
BEGIN:DAYLIGHT
TZOFFSETFROM:+0000
TZOFFSETTO:+0100
TZNAME:BST
DTSTART:20260329T010000
END:DAYLIGHT
BEGIN:STANDARD
TZOFFSETFROM:+0100
TZOFFSETTO:+0000
TZNAME:GMT
DTSTART:20261025T010000
END:STANDARD
BEGIN:DAYLIGHT
TZOFFSETFROM:+0000
TZOFFSETTO:+0100
TZNAME:BST
DTSTART:20270328T010000
END:DAYLIGHT
BEGIN:STANDARD
TZOFFSETFROM:+0100
TZOFFSETTO:+0000
TZNAME:GMT
DTSTART:20271031T010000
END:STANDARD
BEGIN:DAYLIGHT
TZOFFSETFROM:+0000
TZOFFSETTO:+0100
TZNAME:BST
DTSTART:20280326T010000
END:DAYLIGHT
BEGIN:STANDARD
TZOFFSETFROM:+0100
TZOFFSETTO:+0000
TZNAME:GMT
DTSTART:20281029T010000
END:STANDARD
END:VTIMEZONE
BEGIN:VEVENT
DTSTART;TZID=Europe/London:20261118T190000
DTEND;TZID=Europe/London:20261118T230000
DTSTAMP:20260421T230916
CREATED:20230219T230313Z
LAST-MODIFIED:20241203T005848Z
UID:10303933-1795028400-1795042800@golatindance.com
SUMMARY:Brixton/Oval Wednesday Salsa Dance Classes & Party
DESCRIPTION:Come join us for fun and friendly Wednesday Salsa & Bachata classes with mirrors in South London with party till late.
URL:https://golatindance.com/event/brixton-oval-wednesday-salsa-dance-classes-party/2026-11-18/
LOCATION:Adulis Eritrean  Restaurant\, 44 Brixton Rd.\, London\, SW96BT\, GB
CATEGORIES:London
ATTACH;FMTTYPE=image/jpeg:https://golatindance.com/wp-content/uploads/2023/02/463863088_10161426833320590_4703406810598012025_n.jpg
END:VEVENT
BEGIN:VEVENT
DTSTART;TZID=Europe/London:20261125T190000
DTEND;TZID=Europe/London:20261125T230000
DTSTAMP:20260421T230916
CREATED:20230219T230313Z
LAST-MODIFIED:20241203T005848Z
UID:10303934-1795633200-1795647600@golatindance.com
SUMMARY:Brixton/Oval Wednesday Salsa Dance Classes & Party
DESCRIPTION:Come join us for fun and friendly Wednesday Salsa & Bachata classes with mirrors in South London with party till late.
URL:https://golatindance.com/event/brixton-oval-wednesday-salsa-dance-classes-party/2026-11-25/
LOCATION:Adulis Eritrean  Restaurant\, 44 Brixton Rd.\, London\, SW96BT\, GB
CATEGORIES:London
ATTACH;FMTTYPE=image/jpeg:https://golatindance.com/wp-content/uploads/2023/02/463863088_10161426833320590_4703406810598012025_n.jpg
END:VEVENT
BEGIN:VEVENT
DTSTART;TZID=Europe/London:20261202T190000
DTEND;TZID=Europe/London:20261202T230000
DTSTAMP:20260421T230916
CREATED:20230219T230313Z
LAST-MODIFIED:20241203T005848Z
UID:10303935-1796238000-1796252400@golatindance.com
SUMMARY:Brixton/Oval Wednesday Salsa Dance Classes & Party
DESCRIPTION:Come join us for fun and friendly Wednesday Salsa & Bachata classes with mirrors in South London with party till late.
URL:https://golatindance.com/event/brixton-oval-wednesday-salsa-dance-classes-party/2026-12-02/
LOCATION:Adulis Eritrean  Restaurant\, 44 Brixton Rd.\, London\, SW96BT\, GB
CATEGORIES:London
ATTACH;FMTTYPE=image/jpeg:https://golatindance.com/wp-content/uploads/2023/02/463863088_10161426833320590_4703406810598012025_n.jpg
END:VEVENT
BEGIN:VEVENT
DTSTART;TZID=Europe/London:20261209T190000
DTEND;TZID=Europe/London:20261209T230000
DTSTAMP:20260421T230916
CREATED:20230219T230313Z
LAST-MODIFIED:20241203T005848Z
UID:10303936-1796842800-1796857200@golatindance.com
SUMMARY:Brixton/Oval Wednesday Salsa Dance Classes & Party
DESCRIPTION:Come join us for fun and friendly Wednesday Salsa & Bachata classes with mirrors in South London with party till late.
URL:https://golatindance.com/event/brixton-oval-wednesday-salsa-dance-classes-party/2026-12-09/
LOCATION:Adulis Eritrean  Restaurant\, 44 Brixton Rd.\, London\, SW96BT\, GB
CATEGORIES:London
ATTACH;FMTTYPE=image/jpeg:https://golatindance.com/wp-content/uploads/2023/02/463863088_10161426833320590_4703406810598012025_n.jpg
END:VEVENT
BEGIN:VEVENT
DTSTART;TZID=Europe/London:20261216T190000
DTEND;TZID=Europe/London:20261216T230000
DTSTAMP:20260421T230916
CREATED:20230219T230313Z
LAST-MODIFIED:20241203T005848Z
UID:10303937-1797447600-1797462000@golatindance.com
SUMMARY:Brixton/Oval Wednesday Salsa Dance Classes & Party
DESCRIPTION:Come join us for fun and friendly Wednesday Salsa & Bachata classes with mirrors in South London with party till late.
URL:https://golatindance.com/event/brixton-oval-wednesday-salsa-dance-classes-party/2026-12-16/
LOCATION:Adulis Eritrean  Restaurant\, 44 Brixton Rd.\, London\, SW96BT\, GB
CATEGORIES:London
ATTACH;FMTTYPE=image/jpeg:https://golatindance.com/wp-content/uploads/2023/02/463863088_10161426833320590_4703406810598012025_n.jpg
END:VEVENT
BEGIN:VEVENT
DTSTART;TZID=Europe/London:20261223T190000
DTEND;TZID=Europe/London:20261223T230000
DTSTAMP:20260421T230916
CREATED:20230219T230313Z
LAST-MODIFIED:20241203T005848Z
UID:10303938-1798052400-1798066800@golatindance.com
SUMMARY:Brixton/Oval Wednesday Salsa Dance Classes & Party
DESCRIPTION:Come join us for fun and friendly Wednesday Salsa & Bachata classes with mirrors in South London with party till late.
URL:https://golatindance.com/event/brixton-oval-wednesday-salsa-dance-classes-party/2026-12-23/
LOCATION:Adulis Eritrean  Restaurant\, 44 Brixton Rd.\, London\, SW96BT\, GB
CATEGORIES:London
ATTACH;FMTTYPE=image/jpeg:https://golatindance.com/wp-content/uploads/2023/02/463863088_10161426833320590_4703406810598012025_n.jpg
END:VEVENT
BEGIN:VEVENT
DTSTART;TZID=Europe/London:20261230T190000
DTEND;TZID=Europe/London:20261230T230000
DTSTAMP:20260421T230916
CREATED:20230219T230313Z
LAST-MODIFIED:20241203T005848Z
UID:10303939-1798657200-1798671600@golatindance.com
SUMMARY:Brixton/Oval Wednesday Salsa Dance Classes & Party
DESCRIPTION:Come join us for fun and friendly Wednesday Salsa & Bachata classes with mirrors in South London with party till late.
URL:https://golatindance.com/event/brixton-oval-wednesday-salsa-dance-classes-party/2026-12-30/
LOCATION:Adulis Eritrean  Restaurant\, 44 Brixton Rd.\, London\, SW96BT\, GB
CATEGORIES:London
ATTACH;FMTTYPE=image/jpeg:https://golatindance.com/wp-content/uploads/2023/02/463863088_10161426833320590_4703406810598012025_n.jpg
END:VEVENT
BEGIN:VEVENT
DTSTART;TZID=Europe/London:20270106T190000
DTEND;TZID=Europe/London:20270106T230000
DTSTAMP:20260421T230916
CREATED:20230219T230313Z
LAST-MODIFIED:20241203T005848Z
UID:10303940-1799262000-1799276400@golatindance.com
SUMMARY:Brixton/Oval Wednesday Salsa Dance Classes & Party
DESCRIPTION:Come join us for fun and friendly Wednesday Salsa & Bachata classes with mirrors in South London with party till late.
URL:https://golatindance.com/event/brixton-oval-wednesday-salsa-dance-classes-party/2027-01-06/
LOCATION:Adulis Eritrean  Restaurant\, 44 Brixton Rd.\, London\, SW96BT\, GB
CATEGORIES:London
ATTACH;FMTTYPE=image/jpeg:https://golatindance.com/wp-content/uploads/2023/02/463863088_10161426833320590_4703406810598012025_n.jpg
END:VEVENT
BEGIN:VEVENT
DTSTART;TZID=Europe/London:20270113T190000
DTEND;TZID=Europe/London:20270113T230000
DTSTAMP:20260421T230916
CREATED:20230219T230313Z
LAST-MODIFIED:20241203T005848Z
UID:10303941-1799866800-1799881200@golatindance.com
SUMMARY:Brixton/Oval Wednesday Salsa Dance Classes & Party
DESCRIPTION:Come join us for fun and friendly Wednesday Salsa & Bachata classes with mirrors in South London with party till late.
URL:https://golatindance.com/event/brixton-oval-wednesday-salsa-dance-classes-party/2027-01-13/
LOCATION:Adulis Eritrean  Restaurant\, 44 Brixton Rd.\, London\, SW96BT\, GB
CATEGORIES:London
ATTACH;FMTTYPE=image/jpeg:https://golatindance.com/wp-content/uploads/2023/02/463863088_10161426833320590_4703406810598012025_n.jpg
END:VEVENT
BEGIN:VEVENT
DTSTART;TZID=Europe/London:20270120T190000
DTEND;TZID=Europe/London:20270120T230000
DTSTAMP:20260421T230916
CREATED:20230219T230313Z
LAST-MODIFIED:20241203T005848Z
UID:10303942-1800471600-1800486000@golatindance.com
SUMMARY:Brixton/Oval Wednesday Salsa Dance Classes & Party
DESCRIPTION:Come join us for fun and friendly Wednesday Salsa & Bachata classes with mirrors in South London with party till late.
URL:https://golatindance.com/event/brixton-oval-wednesday-salsa-dance-classes-party/2027-01-20/
LOCATION:Adulis Eritrean  Restaurant\, 44 Brixton Rd.\, London\, SW96BT\, GB
CATEGORIES:London
ATTACH;FMTTYPE=image/jpeg:https://golatindance.com/wp-content/uploads/2023/02/463863088_10161426833320590_4703406810598012025_n.jpg
END:VEVENT
BEGIN:VEVENT
DTSTART;TZID=Europe/London:20270127T190000
DTEND;TZID=Europe/London:20270127T230000
DTSTAMP:20260421T230916
CREATED:20230219T230313Z
LAST-MODIFIED:20241203T005848Z
UID:10303943-1801076400-1801090800@golatindance.com
SUMMARY:Brixton/Oval Wednesday Salsa Dance Classes & Party
DESCRIPTION:Come join us for fun and friendly Wednesday Salsa & Bachata classes with mirrors in South London with party till late.
URL:https://golatindance.com/event/brixton-oval-wednesday-salsa-dance-classes-party/2027-01-27/
LOCATION:Adulis Eritrean  Restaurant\, 44 Brixton Rd.\, London\, SW96BT\, GB
CATEGORIES:London
ATTACH;FMTTYPE=image/jpeg:https://golatindance.com/wp-content/uploads/2023/02/463863088_10161426833320590_4703406810598012025_n.jpg
END:VEVENT
BEGIN:VEVENT
DTSTART;TZID=Europe/London:20270203T190000
DTEND;TZID=Europe/London:20270203T230000
DTSTAMP:20260421T230916
CREATED:20230219T230313Z
LAST-MODIFIED:20241203T005848Z
UID:10303944-1801681200-1801695600@golatindance.com
SUMMARY:Brixton/Oval Wednesday Salsa Dance Classes & Party
DESCRIPTION:Come join us for fun and friendly Wednesday Salsa & Bachata classes with mirrors in South London with party till late.
URL:https://golatindance.com/event/brixton-oval-wednesday-salsa-dance-classes-party/2027-02-03/
LOCATION:Adulis Eritrean  Restaurant\, 44 Brixton Rd.\, London\, SW96BT\, GB
CATEGORIES:London
ATTACH;FMTTYPE=image/jpeg:https://golatindance.com/wp-content/uploads/2023/02/463863088_10161426833320590_4703406810598012025_n.jpg
END:VEVENT
BEGIN:VEVENT
DTSTART;TZID=Europe/London:20270210T190000
DTEND;TZID=Europe/London:20270210T230000
DTSTAMP:20260421T230916
CREATED:20230219T230313Z
LAST-MODIFIED:20241203T005848Z
UID:10303945-1802286000-1802300400@golatindance.com
SUMMARY:Brixton/Oval Wednesday Salsa Dance Classes & Party
DESCRIPTION:Come join us for fun and friendly Wednesday Salsa & Bachata classes with mirrors in South London with party till late.
URL:https://golatindance.com/event/brixton-oval-wednesday-salsa-dance-classes-party/2027-02-10/
LOCATION:Adulis Eritrean  Restaurant\, 44 Brixton Rd.\, London\, SW96BT\, GB
CATEGORIES:London
ATTACH;FMTTYPE=image/jpeg:https://golatindance.com/wp-content/uploads/2023/02/463863088_10161426833320590_4703406810598012025_n.jpg
END:VEVENT
BEGIN:VEVENT
DTSTART;TZID=Europe/London:20270217T190000
DTEND;TZID=Europe/London:20270217T230000
DTSTAMP:20260421T230916
CREATED:20230219T230313Z
LAST-MODIFIED:20241203T005848Z
UID:10303946-1802890800-1802905200@golatindance.com
SUMMARY:Brixton/Oval Wednesday Salsa Dance Classes & Party
DESCRIPTION:Come join us for fun and friendly Wednesday Salsa & Bachata classes with mirrors in South London with party till late.
URL:https://golatindance.com/event/brixton-oval-wednesday-salsa-dance-classes-party/2027-02-17/
LOCATION:Adulis Eritrean  Restaurant\, 44 Brixton Rd.\, London\, SW96BT\, GB
CATEGORIES:London
ATTACH;FMTTYPE=image/jpeg:https://golatindance.com/wp-content/uploads/2023/02/463863088_10161426833320590_4703406810598012025_n.jpg
END:VEVENT
BEGIN:VEVENT
DTSTART;TZID=Europe/London:20270224T190000
DTEND;TZID=Europe/London:20270224T230000
DTSTAMP:20260421T230916
CREATED:20230219T230313Z
LAST-MODIFIED:20241203T005848Z
UID:10303947-1803495600-1803510000@golatindance.com
SUMMARY:Brixton/Oval Wednesday Salsa Dance Classes & Party
DESCRIPTION:Come join us for fun and friendly Wednesday Salsa & Bachata classes with mirrors in South London with party till late.
URL:https://golatindance.com/event/brixton-oval-wednesday-salsa-dance-classes-party/2027-02-24/
LOCATION:Adulis Eritrean  Restaurant\, 44 Brixton Rd.\, London\, SW96BT\, GB
CATEGORIES:London
ATTACH;FMTTYPE=image/jpeg:https://golatindance.com/wp-content/uploads/2023/02/463863088_10161426833320590_4703406810598012025_n.jpg
END:VEVENT
BEGIN:VEVENT
DTSTART;TZID=Europe/London:20270303T190000
DTEND;TZID=Europe/London:20270303T230000
DTSTAMP:20260421T230916
CREATED:20230219T230313Z
LAST-MODIFIED:20241203T005848Z
UID:10303948-1804100400-1804114800@golatindance.com
SUMMARY:Brixton/Oval Wednesday Salsa Dance Classes & Party
DESCRIPTION:Come join us for fun and friendly Wednesday Salsa & Bachata classes with mirrors in South London with party till late.
URL:https://golatindance.com/event/brixton-oval-wednesday-salsa-dance-classes-party/2027-03-03/
LOCATION:Adulis Eritrean  Restaurant\, 44 Brixton Rd.\, London\, SW96BT\, GB
CATEGORIES:London
ATTACH;FMTTYPE=image/jpeg:https://golatindance.com/wp-content/uploads/2023/02/463863088_10161426833320590_4703406810598012025_n.jpg
END:VEVENT
BEGIN:VEVENT
DTSTART;TZID=Europe/London:20270310T190000
DTEND;TZID=Europe/London:20270310T230000
DTSTAMP:20260421T230916
CREATED:20230219T230313Z
LAST-MODIFIED:20241203T005848Z
UID:10303949-1804705200-1804719600@golatindance.com
SUMMARY:Brixton/Oval Wednesday Salsa Dance Classes & Party
DESCRIPTION:Come join us for fun and friendly Wednesday Salsa & Bachata classes with mirrors in South London with party till late.
URL:https://golatindance.com/event/brixton-oval-wednesday-salsa-dance-classes-party/2027-03-10/
LOCATION:Adulis Eritrean  Restaurant\, 44 Brixton Rd.\, London\, SW96BT\, GB
CATEGORIES:London
ATTACH;FMTTYPE=image/jpeg:https://golatindance.com/wp-content/uploads/2023/02/463863088_10161426833320590_4703406810598012025_n.jpg
END:VEVENT
BEGIN:VEVENT
DTSTART;TZID=Europe/London:20270317T190000
DTEND;TZID=Europe/London:20270317T230000
DTSTAMP:20260421T230916
CREATED:20230219T230313Z
LAST-MODIFIED:20241203T005848Z
UID:10303950-1805310000-1805324400@golatindance.com
SUMMARY:Brixton/Oval Wednesday Salsa Dance Classes & Party
DESCRIPTION:Come join us for fun and friendly Wednesday Salsa & Bachata classes with mirrors in South London with party till late.
URL:https://golatindance.com/event/brixton-oval-wednesday-salsa-dance-classes-party/2027-03-17/
LOCATION:Adulis Eritrean  Restaurant\, 44 Brixton Rd.\, London\, SW96BT\, GB
CATEGORIES:London
ATTACH;FMTTYPE=image/jpeg:https://golatindance.com/wp-content/uploads/2023/02/463863088_10161426833320590_4703406810598012025_n.jpg
END:VEVENT
BEGIN:VEVENT
DTSTART;TZID=Europe/London:20270324T190000
DTEND;TZID=Europe/London:20270324T230000
DTSTAMP:20260421T230916
CREATED:20230219T230313Z
LAST-MODIFIED:20241203T005848Z
UID:10303951-1805914800-1805929200@golatindance.com
SUMMARY:Brixton/Oval Wednesday Salsa Dance Classes & Party
DESCRIPTION:Come join us for fun and friendly Wednesday Salsa & Bachata classes with mirrors in South London with party till late.
URL:https://golatindance.com/event/brixton-oval-wednesday-salsa-dance-classes-party/2027-03-24/
LOCATION:Adulis Eritrean  Restaurant\, 44 Brixton Rd.\, London\, SW96BT\, GB
CATEGORIES:London
ATTACH;FMTTYPE=image/jpeg:https://golatindance.com/wp-content/uploads/2023/02/463863088_10161426833320590_4703406810598012025_n.jpg
END:VEVENT
BEGIN:VEVENT
DTSTART;TZID=Europe/London:20270331T190000
DTEND;TZID=Europe/London:20270331T230000
DTSTAMP:20260421T230916
CREATED:20230219T230313Z
LAST-MODIFIED:20241203T005848Z
UID:10303952-1806519600-1806534000@golatindance.com
SUMMARY:Brixton/Oval Wednesday Salsa Dance Classes & Party
DESCRIPTION:Come join us for fun and friendly Wednesday Salsa & Bachata classes with mirrors in South London with party till late.
URL:https://golatindance.com/event/brixton-oval-wednesday-salsa-dance-classes-party/2027-03-31/
LOCATION:Adulis Eritrean  Restaurant\, 44 Brixton Rd.\, London\, SW96BT\, GB
CATEGORIES:London
ATTACH;FMTTYPE=image/jpeg:https://golatindance.com/wp-content/uploads/2023/02/463863088_10161426833320590_4703406810598012025_n.jpg
END:VEVENT
BEGIN:VEVENT
DTSTART;TZID=Europe/London:20270407T190000
DTEND;TZID=Europe/London:20270407T230000
DTSTAMP:20260421T230916
CREATED:20230219T230313Z
LAST-MODIFIED:20241203T005848Z
UID:10303953-1807124400-1807138800@golatindance.com
SUMMARY:Brixton/Oval Wednesday Salsa Dance Classes & Party
DESCRIPTION:Come join us for fun and friendly Wednesday Salsa & Bachata classes with mirrors in South London with party till late.
URL:https://golatindance.com/event/brixton-oval-wednesday-salsa-dance-classes-party/2027-04-07/
LOCATION:Adulis Eritrean  Restaurant\, 44 Brixton Rd.\, London\, SW96BT\, GB
CATEGORIES:London
ATTACH;FMTTYPE=image/jpeg:https://golatindance.com/wp-content/uploads/2023/02/463863088_10161426833320590_4703406810598012025_n.jpg
END:VEVENT
BEGIN:VEVENT
DTSTART;TZID=Europe/London:20270414T190000
DTEND;TZID=Europe/London:20270414T230000
DTSTAMP:20260421T230917
CREATED:20230219T230313Z
LAST-MODIFIED:20241203T005848Z
UID:10303954-1807729200-1807743600@golatindance.com
SUMMARY:Brixton/Oval Wednesday Salsa Dance Classes & Party
DESCRIPTION:Come join us for fun and friendly Wednesday Salsa & Bachata classes with mirrors in South London with party till late.
URL:https://golatindance.com/event/brixton-oval-wednesday-salsa-dance-classes-party/2027-04-14/
LOCATION:Adulis Eritrean  Restaurant\, 44 Brixton Rd.\, London\, SW96BT\, GB
CATEGORIES:London
ATTACH;FMTTYPE=image/jpeg:https://golatindance.com/wp-content/uploads/2023/02/463863088_10161426833320590_4703406810598012025_n.jpg
END:VEVENT
BEGIN:VEVENT
DTSTART;TZID=Europe/London:20270421T190000
DTEND;TZID=Europe/London:20270421T230000
DTSTAMP:20260421T230917
CREATED:20230219T230313Z
LAST-MODIFIED:20241203T005848Z
UID:10303955-1808334000-1808348400@golatindance.com
SUMMARY:Brixton/Oval Wednesday Salsa Dance Classes & Party
DESCRIPTION:Come join us for fun and friendly Wednesday Salsa & Bachata classes with mirrors in South London with party till late.
URL:https://golatindance.com/event/brixton-oval-wednesday-salsa-dance-classes-party/2027-04-21/
LOCATION:Adulis Eritrean  Restaurant\, 44 Brixton Rd.\, London\, SW96BT\, GB
CATEGORIES:London
ATTACH;FMTTYPE=image/jpeg:https://golatindance.com/wp-content/uploads/2023/02/463863088_10161426833320590_4703406810598012025_n.jpg
END:VEVENT
BEGIN:VEVENT
DTSTART;TZID=Europe/London:20270428T190000
DTEND;TZID=Europe/London:20270428T230000
DTSTAMP:20260421T230917
CREATED:20230219T230313Z
LAST-MODIFIED:20241203T005848Z
UID:10303956-1808938800-1808953200@golatindance.com
SUMMARY:Brixton/Oval Wednesday Salsa Dance Classes & Party
DESCRIPTION:Come join us for fun and friendly Wednesday Salsa & Bachata classes with mirrors in South London with party till late.
URL:https://golatindance.com/event/brixton-oval-wednesday-salsa-dance-classes-party/2027-04-28/
LOCATION:Adulis Eritrean  Restaurant\, 44 Brixton Rd.\, London\, SW96BT\, GB
CATEGORIES:London
ATTACH;FMTTYPE=image/jpeg:https://golatindance.com/wp-content/uploads/2023/02/463863088_10161426833320590_4703406810598012025_n.jpg
END:VEVENT
BEGIN:VEVENT
DTSTART;TZID=Europe/London:20270505T190000
DTEND;TZID=Europe/London:20270505T230000
DTSTAMP:20260421T230917
CREATED:20230219T230313Z
LAST-MODIFIED:20241203T005848Z
UID:10303957-1809543600-1809558000@golatindance.com
SUMMARY:Brixton/Oval Wednesday Salsa Dance Classes & Party
DESCRIPTION:Come join us for fun and friendly Wednesday Salsa & Bachata classes with mirrors in South London with party till late.
URL:https://golatindance.com/event/brixton-oval-wednesday-salsa-dance-classes-party/2027-05-05/
LOCATION:Adulis Eritrean  Restaurant\, 44 Brixton Rd.\, London\, SW96BT\, GB
CATEGORIES:London
ATTACH;FMTTYPE=image/jpeg:https://golatindance.com/wp-content/uploads/2023/02/463863088_10161426833320590_4703406810598012025_n.jpg
END:VEVENT
BEGIN:VEVENT
DTSTART;TZID=Europe/London:20270512T190000
DTEND;TZID=Europe/London:20270512T230000
DTSTAMP:20260421T230917
CREATED:20230219T230313Z
LAST-MODIFIED:20241203T005848Z
UID:10303958-1810148400-1810162800@golatindance.com
SUMMARY:Brixton/Oval Wednesday Salsa Dance Classes & Party
DESCRIPTION:Come join us for fun and friendly Wednesday Salsa & Bachata classes with mirrors in South London with party till late.
URL:https://golatindance.com/event/brixton-oval-wednesday-salsa-dance-classes-party/2027-05-12/
LOCATION:Adulis Eritrean  Restaurant\, 44 Brixton Rd.\, London\, SW96BT\, GB
CATEGORIES:London
ATTACH;FMTTYPE=image/jpeg:https://golatindance.com/wp-content/uploads/2023/02/463863088_10161426833320590_4703406810598012025_n.jpg
END:VEVENT
BEGIN:VEVENT
DTSTART;TZID=Europe/London:20270519T190000
DTEND;TZID=Europe/London:20270519T230000
DTSTAMP:20260421T230917
CREATED:20230219T230313Z
LAST-MODIFIED:20241203T005848Z
UID:10303959-1810753200-1810767600@golatindance.com
SUMMARY:Brixton/Oval Wednesday Salsa Dance Classes & Party
DESCRIPTION:Come join us for fun and friendly Wednesday Salsa & Bachata classes with mirrors in South London with party till late.
URL:https://golatindance.com/event/brixton-oval-wednesday-salsa-dance-classes-party/2027-05-19/
LOCATION:Adulis Eritrean  Restaurant\, 44 Brixton Rd.\, London\, SW96BT\, GB
CATEGORIES:London
ATTACH;FMTTYPE=image/jpeg:https://golatindance.com/wp-content/uploads/2023/02/463863088_10161426833320590_4703406810598012025_n.jpg
END:VEVENT
BEGIN:VEVENT
DTSTART;TZID=Europe/London:20270526T190000
DTEND;TZID=Europe/London:20270526T230000
DTSTAMP:20260421T230917
CREATED:20230219T230313Z
LAST-MODIFIED:20241203T005848Z
UID:10303960-1811358000-1811372400@golatindance.com
SUMMARY:Brixton/Oval Wednesday Salsa Dance Classes & Party
DESCRIPTION:Come join us for fun and friendly Wednesday Salsa & Bachata classes with mirrors in South London with party till late.
URL:https://golatindance.com/event/brixton-oval-wednesday-salsa-dance-classes-party/2027-05-26/
LOCATION:Adulis Eritrean  Restaurant\, 44 Brixton Rd.\, London\, SW96BT\, GB
CATEGORIES:London
ATTACH;FMTTYPE=image/jpeg:https://golatindance.com/wp-content/uploads/2023/02/463863088_10161426833320590_4703406810598012025_n.jpg
END:VEVENT
BEGIN:VEVENT
DTSTART;TZID=Europe/London:20270602T190000
DTEND;TZID=Europe/London:20270602T230000
DTSTAMP:20260421T230917
CREATED:20230219T230313Z
LAST-MODIFIED:20241203T005848Z
UID:10303961-1811962800-1811977200@golatindance.com
SUMMARY:Brixton/Oval Wednesday Salsa Dance Classes & Party
DESCRIPTION:Come join us for fun and friendly Wednesday Salsa & Bachata classes with mirrors in South London with party till late.
URL:https://golatindance.com/event/brixton-oval-wednesday-salsa-dance-classes-party/2027-06-02/
LOCATION:Adulis Eritrean  Restaurant\, 44 Brixton Rd.\, London\, SW96BT\, GB
CATEGORIES:London
ATTACH;FMTTYPE=image/jpeg:https://golatindance.com/wp-content/uploads/2023/02/463863088_10161426833320590_4703406810598012025_n.jpg
END:VEVENT
BEGIN:VEVENT
DTSTART;TZID=Europe/London:20270609T190000
DTEND;TZID=Europe/London:20270609T230000
DTSTAMP:20260421T230917
CREATED:20230219T230313Z
LAST-MODIFIED:20241203T005848Z
UID:10303962-1812567600-1812582000@golatindance.com
SUMMARY:Brixton/Oval Wednesday Salsa Dance Classes & Party
DESCRIPTION:Come join us for fun and friendly Wednesday Salsa & Bachata classes with mirrors in South London with party till late.
URL:https://golatindance.com/event/brixton-oval-wednesday-salsa-dance-classes-party/2027-06-09/
LOCATION:Adulis Eritrean  Restaurant\, 44 Brixton Rd.\, London\, SW96BT\, GB
CATEGORIES:London
ATTACH;FMTTYPE=image/jpeg:https://golatindance.com/wp-content/uploads/2023/02/463863088_10161426833320590_4703406810598012025_n.jpg
END:VEVENT
END:VCALENDAR