BEGIN:VCALENDAR
VERSION:2.0
PRODID:-//GO Latin Dance - ECPv6.15.18//NONSGML v1.0//EN
CALSCALE:GREGORIAN
METHOD:PUBLISH
X-WR-CALNAME:GO Latin Dance
X-ORIGINAL-URL:https://golatindance.com
X-WR-CALDESC:Events for GO Latin Dance
REFRESH-INTERVAL;VALUE=DURATION:PT1H
X-Robots-Tag:noindex
X-PUBLISHED-TTL:PT1H
BEGIN:VTIMEZONE
TZID:Europe/London
BEGIN:DAYLIGHT
TZOFFSETFROM:+0000
TZOFFSETTO:+0100
TZNAME:BST
DTSTART:20260329T010000
END:DAYLIGHT
BEGIN:STANDARD
TZOFFSETFROM:+0100
TZOFFSETTO:+0000
TZNAME:GMT
DTSTART:20261025T010000
END:STANDARD
BEGIN:DAYLIGHT
TZOFFSETFROM:+0000
TZOFFSETTO:+0100
TZNAME:BST
DTSTART:20270328T010000
END:DAYLIGHT
BEGIN:STANDARD
TZOFFSETFROM:+0100
TZOFFSETTO:+0000
TZNAME:GMT
DTSTART:20271031T010000
END:STANDARD
BEGIN:DAYLIGHT
TZOFFSETFROM:+0000
TZOFFSETTO:+0100
TZNAME:BST
DTSTART:20280326T010000
END:DAYLIGHT
BEGIN:STANDARD
TZOFFSETFROM:+0100
TZOFFSETTO:+0000
TZNAME:GMT
DTSTART:20281029T010000
END:STANDARD
BEGIN:DAYLIGHT
TZOFFSETFROM:+0000
TZOFFSETTO:+0100
TZNAME:BST
DTSTART:20290325T010000
END:DAYLIGHT
BEGIN:STANDARD
TZOFFSETFROM:+0100
TZOFFSETTO:+0000
TZNAME:GMT
DTSTART:20291028T010000
END:STANDARD
END:VTIMEZONE
BEGIN:VEVENT
DTSTART;TZID=Europe/London:20270623T190000
DTEND;TZID=Europe/London:20270623T230000
DTSTAMP:20260424T080112
CREATED:20230219T230313Z
LAST-MODIFIED:20241203T005848Z
UID:10303964-1813777200-1813791600@golatindance.com
SUMMARY:Brixton/Oval Wednesday Salsa Dance Classes & Party
DESCRIPTION:Come join us for fun and friendly Wednesday Salsa & Bachata classes with mirrors in South London with party till late.
URL:https://golatindance.com/event/brixton-oval-wednesday-salsa-dance-classes-party/2027-06-23/
LOCATION:Adulis Eritrean  Restaurant\, 44 Brixton Rd.\, London\, SW96BT\, GB
CATEGORIES:London
ATTACH;FMTTYPE=image/jpeg:https://golatindance.com/wp-content/uploads/2023/02/463863088_10161426833320590_4703406810598012025_n.jpg
END:VEVENT
BEGIN:VEVENT
DTSTART;TZID=Europe/London:20270630T190000
DTEND;TZID=Europe/London:20270630T230000
DTSTAMP:20260424T080112
CREATED:20230219T230313Z
LAST-MODIFIED:20241203T005848Z
UID:10303965-1814382000-1814396400@golatindance.com
SUMMARY:Brixton/Oval Wednesday Salsa Dance Classes & Party
DESCRIPTION:Come join us for fun and friendly Wednesday Salsa & Bachata classes with mirrors in South London with party till late.
URL:https://golatindance.com/event/brixton-oval-wednesday-salsa-dance-classes-party/2027-06-30/
LOCATION:Adulis Eritrean  Restaurant\, 44 Brixton Rd.\, London\, SW96BT\, GB
CATEGORIES:London
ATTACH;FMTTYPE=image/jpeg:https://golatindance.com/wp-content/uploads/2023/02/463863088_10161426833320590_4703406810598012025_n.jpg
END:VEVENT
BEGIN:VEVENT
DTSTART;TZID=Europe/London:20270707T190000
DTEND;TZID=Europe/London:20270707T230000
DTSTAMP:20260424T080112
CREATED:20230219T230313Z
LAST-MODIFIED:20241203T005848Z
UID:10303966-1814986800-1815001200@golatindance.com
SUMMARY:Brixton/Oval Wednesday Salsa Dance Classes & Party
DESCRIPTION:Come join us for fun and friendly Wednesday Salsa & Bachata classes with mirrors in South London with party till late.
URL:https://golatindance.com/event/brixton-oval-wednesday-salsa-dance-classes-party/2027-07-07/
LOCATION:Adulis Eritrean  Restaurant\, 44 Brixton Rd.\, London\, SW96BT\, GB
CATEGORIES:London
ATTACH;FMTTYPE=image/jpeg:https://golatindance.com/wp-content/uploads/2023/02/463863088_10161426833320590_4703406810598012025_n.jpg
END:VEVENT
BEGIN:VEVENT
DTSTART;TZID=Europe/London:20270714T190000
DTEND;TZID=Europe/London:20270714T230000
DTSTAMP:20260424T080112
CREATED:20230219T230313Z
LAST-MODIFIED:20241203T005848Z
UID:10303967-1815591600-1815606000@golatindance.com
SUMMARY:Brixton/Oval Wednesday Salsa Dance Classes & Party
DESCRIPTION:Come join us for fun and friendly Wednesday Salsa & Bachata classes with mirrors in South London with party till late.
URL:https://golatindance.com/event/brixton-oval-wednesday-salsa-dance-classes-party/2027-07-14/
LOCATION:Adulis Eritrean  Restaurant\, 44 Brixton Rd.\, London\, SW96BT\, GB
CATEGORIES:London
ATTACH;FMTTYPE=image/jpeg:https://golatindance.com/wp-content/uploads/2023/02/463863088_10161426833320590_4703406810598012025_n.jpg
END:VEVENT
BEGIN:VEVENT
DTSTART;TZID=Europe/London:20270721T190000
DTEND;TZID=Europe/London:20270721T230000
DTSTAMP:20260424T080112
CREATED:20230219T230313Z
LAST-MODIFIED:20241203T005848Z
UID:10303968-1816196400-1816210800@golatindance.com
SUMMARY:Brixton/Oval Wednesday Salsa Dance Classes & Party
DESCRIPTION:Come join us for fun and friendly Wednesday Salsa & Bachata classes with mirrors in South London with party till late.
URL:https://golatindance.com/event/brixton-oval-wednesday-salsa-dance-classes-party/2027-07-21/
LOCATION:Adulis Eritrean  Restaurant\, 44 Brixton Rd.\, London\, SW96BT\, GB
CATEGORIES:London
ATTACH;FMTTYPE=image/jpeg:https://golatindance.com/wp-content/uploads/2023/02/463863088_10161426833320590_4703406810598012025_n.jpg
END:VEVENT
BEGIN:VEVENT
DTSTART;TZID=Europe/London:20270728T190000
DTEND;TZID=Europe/London:20270728T230000
DTSTAMP:20260424T080112
CREATED:20230219T230313Z
LAST-MODIFIED:20241203T005848Z
UID:10303969-1816801200-1816815600@golatindance.com
SUMMARY:Brixton/Oval Wednesday Salsa Dance Classes & Party
DESCRIPTION:Come join us for fun and friendly Wednesday Salsa & Bachata classes with mirrors in South London with party till late.
URL:https://golatindance.com/event/brixton-oval-wednesday-salsa-dance-classes-party/2027-07-28/
LOCATION:Adulis Eritrean  Restaurant\, 44 Brixton Rd.\, London\, SW96BT\, GB
CATEGORIES:London
ATTACH;FMTTYPE=image/jpeg:https://golatindance.com/wp-content/uploads/2023/02/463863088_10161426833320590_4703406810598012025_n.jpg
END:VEVENT
BEGIN:VEVENT
DTSTART;TZID=Europe/London:20270804T190000
DTEND;TZID=Europe/London:20270804T230000
DTSTAMP:20260424T080112
CREATED:20230219T230313Z
LAST-MODIFIED:20241203T005848Z
UID:10303970-1817406000-1817420400@golatindance.com
SUMMARY:Brixton/Oval Wednesday Salsa Dance Classes & Party
DESCRIPTION:Come join us for fun and friendly Wednesday Salsa & Bachata classes with mirrors in South London with party till late.
URL:https://golatindance.com/event/brixton-oval-wednesday-salsa-dance-classes-party/2027-08-04/
LOCATION:Adulis Eritrean  Restaurant\, 44 Brixton Rd.\, London\, SW96BT\, GB
CATEGORIES:London
ATTACH;FMTTYPE=image/jpeg:https://golatindance.com/wp-content/uploads/2023/02/463863088_10161426833320590_4703406810598012025_n.jpg
END:VEVENT
BEGIN:VEVENT
DTSTART;TZID=Europe/London:20270811T190000
DTEND;TZID=Europe/London:20270811T230000
DTSTAMP:20260424T080112
CREATED:20230219T230313Z
LAST-MODIFIED:20241203T005848Z
UID:10303971-1818010800-1818025200@golatindance.com
SUMMARY:Brixton/Oval Wednesday Salsa Dance Classes & Party
DESCRIPTION:Come join us for fun and friendly Wednesday Salsa & Bachata classes with mirrors in South London with party till late.
URL:https://golatindance.com/event/brixton-oval-wednesday-salsa-dance-classes-party/2027-08-11/
LOCATION:Adulis Eritrean  Restaurant\, 44 Brixton Rd.\, London\, SW96BT\, GB
CATEGORIES:London
ATTACH;FMTTYPE=image/jpeg:https://golatindance.com/wp-content/uploads/2023/02/463863088_10161426833320590_4703406810598012025_n.jpg
END:VEVENT
BEGIN:VEVENT
DTSTART;TZID=Europe/London:20270818T190000
DTEND;TZID=Europe/London:20270818T230000
DTSTAMP:20260424T080112
CREATED:20230219T230313Z
LAST-MODIFIED:20241203T005848Z
UID:10303972-1818615600-1818630000@golatindance.com
SUMMARY:Brixton/Oval Wednesday Salsa Dance Classes & Party
DESCRIPTION:Come join us for fun and friendly Wednesday Salsa & Bachata classes with mirrors in South London with party till late.
URL:https://golatindance.com/event/brixton-oval-wednesday-salsa-dance-classes-party/2027-08-18/
LOCATION:Adulis Eritrean  Restaurant\, 44 Brixton Rd.\, London\, SW96BT\, GB
CATEGORIES:London
ATTACH;FMTTYPE=image/jpeg:https://golatindance.com/wp-content/uploads/2023/02/463863088_10161426833320590_4703406810598012025_n.jpg
END:VEVENT
BEGIN:VEVENT
DTSTART;TZID=Europe/London:20270825T190000
DTEND;TZID=Europe/London:20270825T230000
DTSTAMP:20260424T080112
CREATED:20230219T230313Z
LAST-MODIFIED:20241203T005848Z
UID:10303973-1819220400-1819234800@golatindance.com
SUMMARY:Brixton/Oval Wednesday Salsa Dance Classes & Party
DESCRIPTION:Come join us for fun and friendly Wednesday Salsa & Bachata classes with mirrors in South London with party till late.
URL:https://golatindance.com/event/brixton-oval-wednesday-salsa-dance-classes-party/2027-08-25/
LOCATION:Adulis Eritrean  Restaurant\, 44 Brixton Rd.\, London\, SW96BT\, GB
CATEGORIES:London
ATTACH;FMTTYPE=image/jpeg:https://golatindance.com/wp-content/uploads/2023/02/463863088_10161426833320590_4703406810598012025_n.jpg
END:VEVENT
BEGIN:VEVENT
DTSTART;TZID=Europe/London:20270901T190000
DTEND;TZID=Europe/London:20270901T230000
DTSTAMP:20260424T080112
CREATED:20230219T230313Z
LAST-MODIFIED:20241203T005848Z
UID:10303974-1819825200-1819839600@golatindance.com
SUMMARY:Brixton/Oval Wednesday Salsa Dance Classes & Party
DESCRIPTION:Come join us for fun and friendly Wednesday Salsa & Bachata classes with mirrors in South London with party till late.
URL:https://golatindance.com/event/brixton-oval-wednesday-salsa-dance-classes-party/2027-09-01/
LOCATION:Adulis Eritrean  Restaurant\, 44 Brixton Rd.\, London\, SW96BT\, GB
CATEGORIES:London
ATTACH;FMTTYPE=image/jpeg:https://golatindance.com/wp-content/uploads/2023/02/463863088_10161426833320590_4703406810598012025_n.jpg
END:VEVENT
BEGIN:VEVENT
DTSTART;TZID=Europe/London:20270908T190000
DTEND;TZID=Europe/London:20270908T230000
DTSTAMP:20260424T080112
CREATED:20230219T230313Z
LAST-MODIFIED:20241203T005848Z
UID:10303975-1820430000-1820444400@golatindance.com
SUMMARY:Brixton/Oval Wednesday Salsa Dance Classes & Party
DESCRIPTION:Come join us for fun and friendly Wednesday Salsa & Bachata classes with mirrors in South London with party till late.
URL:https://golatindance.com/event/brixton-oval-wednesday-salsa-dance-classes-party/2027-09-08/
LOCATION:Adulis Eritrean  Restaurant\, 44 Brixton Rd.\, London\, SW96BT\, GB
CATEGORIES:London
ATTACH;FMTTYPE=image/jpeg:https://golatindance.com/wp-content/uploads/2023/02/463863088_10161426833320590_4703406810598012025_n.jpg
END:VEVENT
BEGIN:VEVENT
DTSTART;TZID=Europe/London:20270915T190000
DTEND;TZID=Europe/London:20270915T230000
DTSTAMP:20260424T080112
CREATED:20230219T230313Z
LAST-MODIFIED:20241203T005848Z
UID:10303976-1821034800-1821049200@golatindance.com
SUMMARY:Brixton/Oval Wednesday Salsa Dance Classes & Party
DESCRIPTION:Come join us for fun and friendly Wednesday Salsa & Bachata classes with mirrors in South London with party till late.
URL:https://golatindance.com/event/brixton-oval-wednesday-salsa-dance-classes-party/2027-09-15/
LOCATION:Adulis Eritrean  Restaurant\, 44 Brixton Rd.\, London\, SW96BT\, GB
CATEGORIES:London
ATTACH;FMTTYPE=image/jpeg:https://golatindance.com/wp-content/uploads/2023/02/463863088_10161426833320590_4703406810598012025_n.jpg
END:VEVENT
BEGIN:VEVENT
DTSTART;TZID=Europe/London:20270922T190000
DTEND;TZID=Europe/London:20270922T230000
DTSTAMP:20260424T080112
CREATED:20230219T230313Z
LAST-MODIFIED:20241203T005848Z
UID:10303977-1821639600-1821654000@golatindance.com
SUMMARY:Brixton/Oval Wednesday Salsa Dance Classes & Party
DESCRIPTION:Come join us for fun and friendly Wednesday Salsa & Bachata classes with mirrors in South London with party till late.
URL:https://golatindance.com/event/brixton-oval-wednesday-salsa-dance-classes-party/2027-09-22/
LOCATION:Adulis Eritrean  Restaurant\, 44 Brixton Rd.\, London\, SW96BT\, GB
CATEGORIES:London
ATTACH;FMTTYPE=image/jpeg:https://golatindance.com/wp-content/uploads/2023/02/463863088_10161426833320590_4703406810598012025_n.jpg
END:VEVENT
BEGIN:VEVENT
DTSTART;TZID=Europe/London:20270929T190000
DTEND;TZID=Europe/London:20270929T230000
DTSTAMP:20260424T080112
CREATED:20230219T230313Z
LAST-MODIFIED:20241203T005848Z
UID:10303978-1822244400-1822258800@golatindance.com
SUMMARY:Brixton/Oval Wednesday Salsa Dance Classes & Party
DESCRIPTION:Come join us for fun and friendly Wednesday Salsa & Bachata classes with mirrors in South London with party till late.
URL:https://golatindance.com/event/brixton-oval-wednesday-salsa-dance-classes-party/2027-09-29/
LOCATION:Adulis Eritrean  Restaurant\, 44 Brixton Rd.\, London\, SW96BT\, GB
CATEGORIES:London
ATTACH;FMTTYPE=image/jpeg:https://golatindance.com/wp-content/uploads/2023/02/463863088_10161426833320590_4703406810598012025_n.jpg
END:VEVENT
BEGIN:VEVENT
DTSTART;TZID=Europe/London:20271006T190000
DTEND;TZID=Europe/London:20271006T230000
DTSTAMP:20260424T080112
CREATED:20230219T230313Z
LAST-MODIFIED:20241203T005848Z
UID:10303979-1822849200-1822863600@golatindance.com
SUMMARY:Brixton/Oval Wednesday Salsa Dance Classes & Party
DESCRIPTION:Come join us for fun and friendly Wednesday Salsa & Bachata classes with mirrors in South London with party till late.
URL:https://golatindance.com/event/brixton-oval-wednesday-salsa-dance-classes-party/2027-10-06/
LOCATION:Adulis Eritrean  Restaurant\, 44 Brixton Rd.\, London\, SW96BT\, GB
CATEGORIES:London
ATTACH;FMTTYPE=image/jpeg:https://golatindance.com/wp-content/uploads/2023/02/463863088_10161426833320590_4703406810598012025_n.jpg
END:VEVENT
BEGIN:VEVENT
DTSTART;TZID=Europe/London:20271013T190000
DTEND;TZID=Europe/London:20271013T230000
DTSTAMP:20260424T080112
CREATED:20230219T230313Z
LAST-MODIFIED:20241203T005848Z
UID:10303980-1823454000-1823468400@golatindance.com
SUMMARY:Brixton/Oval Wednesday Salsa Dance Classes & Party
DESCRIPTION:Come join us for fun and friendly Wednesday Salsa & Bachata classes with mirrors in South London with party till late.
URL:https://golatindance.com/event/brixton-oval-wednesday-salsa-dance-classes-party/2027-10-13/
LOCATION:Adulis Eritrean  Restaurant\, 44 Brixton Rd.\, London\, SW96BT\, GB
CATEGORIES:London
ATTACH;FMTTYPE=image/jpeg:https://golatindance.com/wp-content/uploads/2023/02/463863088_10161426833320590_4703406810598012025_n.jpg
END:VEVENT
BEGIN:VEVENT
DTSTART;TZID=Europe/London:20271020T190000
DTEND;TZID=Europe/London:20271020T230000
DTSTAMP:20260424T080112
CREATED:20230219T230313Z
LAST-MODIFIED:20241203T005848Z
UID:10303981-1824058800-1824073200@golatindance.com
SUMMARY:Brixton/Oval Wednesday Salsa Dance Classes & Party
DESCRIPTION:Come join us for fun and friendly Wednesday Salsa & Bachata classes with mirrors in South London with party till late.
URL:https://golatindance.com/event/brixton-oval-wednesday-salsa-dance-classes-party/2027-10-20/
LOCATION:Adulis Eritrean  Restaurant\, 44 Brixton Rd.\, London\, SW96BT\, GB
CATEGORIES:London
ATTACH;FMTTYPE=image/jpeg:https://golatindance.com/wp-content/uploads/2023/02/463863088_10161426833320590_4703406810598012025_n.jpg
END:VEVENT
BEGIN:VEVENT
DTSTART;TZID=Europe/London:20271027T190000
DTEND;TZID=Europe/London:20271027T230000
DTSTAMP:20260424T080112
CREATED:20230219T230313Z
LAST-MODIFIED:20241203T005848Z
UID:10303982-1824663600-1824678000@golatindance.com
SUMMARY:Brixton/Oval Wednesday Salsa Dance Classes & Party
DESCRIPTION:Come join us for fun and friendly Wednesday Salsa & Bachata classes with mirrors in South London with party till late.
URL:https://golatindance.com/event/brixton-oval-wednesday-salsa-dance-classes-party/2027-10-27/
LOCATION:Adulis Eritrean  Restaurant\, 44 Brixton Rd.\, London\, SW96BT\, GB
CATEGORIES:London
ATTACH;FMTTYPE=image/jpeg:https://golatindance.com/wp-content/uploads/2023/02/463863088_10161426833320590_4703406810598012025_n.jpg
END:VEVENT
BEGIN:VEVENT
DTSTART;TZID=Europe/London:20271103T190000
DTEND;TZID=Europe/London:20271103T230000
DTSTAMP:20260424T080112
CREATED:20230219T230313Z
LAST-MODIFIED:20241203T005848Z
UID:10303983-1825268400-1825282800@golatindance.com
SUMMARY:Brixton/Oval Wednesday Salsa Dance Classes & Party
DESCRIPTION:Come join us for fun and friendly Wednesday Salsa & Bachata classes with mirrors in South London with party till late.
URL:https://golatindance.com/event/brixton-oval-wednesday-salsa-dance-classes-party/2027-11-03/
LOCATION:Adulis Eritrean  Restaurant\, 44 Brixton Rd.\, London\, SW96BT\, GB
CATEGORIES:London
ATTACH;FMTTYPE=image/jpeg:https://golatindance.com/wp-content/uploads/2023/02/463863088_10161426833320590_4703406810598012025_n.jpg
END:VEVENT
BEGIN:VEVENT
DTSTART;TZID=Europe/London:20271110T190000
DTEND;TZID=Europe/London:20271110T230000
DTSTAMP:20260424T080112
CREATED:20230219T230313Z
LAST-MODIFIED:20241203T005848Z
UID:10303984-1825873200-1825887600@golatindance.com
SUMMARY:Brixton/Oval Wednesday Salsa Dance Classes & Party
DESCRIPTION:Come join us for fun and friendly Wednesday Salsa & Bachata classes with mirrors in South London with party till late.
URL:https://golatindance.com/event/brixton-oval-wednesday-salsa-dance-classes-party/2027-11-10/
LOCATION:Adulis Eritrean  Restaurant\, 44 Brixton Rd.\, London\, SW96BT\, GB
CATEGORIES:London
ATTACH;FMTTYPE=image/jpeg:https://golatindance.com/wp-content/uploads/2023/02/463863088_10161426833320590_4703406810598012025_n.jpg
END:VEVENT
BEGIN:VEVENT
DTSTART;TZID=Europe/London:20271117T190000
DTEND;TZID=Europe/London:20271117T230000
DTSTAMP:20260424T080112
CREATED:20230219T230313Z
LAST-MODIFIED:20241203T005848Z
UID:10303985-1826478000-1826492400@golatindance.com
SUMMARY:Brixton/Oval Wednesday Salsa Dance Classes & Party
DESCRIPTION:Come join us for fun and friendly Wednesday Salsa & Bachata classes with mirrors in South London with party till late.
URL:https://golatindance.com/event/brixton-oval-wednesday-salsa-dance-classes-party/2027-11-17/
LOCATION:Adulis Eritrean  Restaurant\, 44 Brixton Rd.\, London\, SW96BT\, GB
CATEGORIES:London
ATTACH;FMTTYPE=image/jpeg:https://golatindance.com/wp-content/uploads/2023/02/463863088_10161426833320590_4703406810598012025_n.jpg
END:VEVENT
BEGIN:VEVENT
DTSTART;TZID=Europe/London:20271124T190000
DTEND;TZID=Europe/London:20271124T230000
DTSTAMP:20260424T080112
CREATED:20230219T230313Z
LAST-MODIFIED:20241203T005848Z
UID:10303986-1827082800-1827097200@golatindance.com
SUMMARY:Brixton/Oval Wednesday Salsa Dance Classes & Party
DESCRIPTION:Come join us for fun and friendly Wednesday Salsa & Bachata classes with mirrors in South London with party till late.
URL:https://golatindance.com/event/brixton-oval-wednesday-salsa-dance-classes-party/2027-11-24/
LOCATION:Adulis Eritrean  Restaurant\, 44 Brixton Rd.\, London\, SW96BT\, GB
CATEGORIES:London
ATTACH;FMTTYPE=image/jpeg:https://golatindance.com/wp-content/uploads/2023/02/463863088_10161426833320590_4703406810598012025_n.jpg
END:VEVENT
BEGIN:VEVENT
DTSTART;TZID=Europe/London:20271201T190000
DTEND;TZID=Europe/London:20271201T230000
DTSTAMP:20260424T080112
CREATED:20230219T230313Z
LAST-MODIFIED:20241203T005848Z
UID:10303987-1827687600-1827702000@golatindance.com
SUMMARY:Brixton/Oval Wednesday Salsa Dance Classes & Party
DESCRIPTION:Come join us for fun and friendly Wednesday Salsa & Bachata classes with mirrors in South London with party till late.
URL:https://golatindance.com/event/brixton-oval-wednesday-salsa-dance-classes-party/2027-12-01/
LOCATION:Adulis Eritrean  Restaurant\, 44 Brixton Rd.\, London\, SW96BT\, GB
CATEGORIES:London
ATTACH;FMTTYPE=image/jpeg:https://golatindance.com/wp-content/uploads/2023/02/463863088_10161426833320590_4703406810598012025_n.jpg
END:VEVENT
BEGIN:VEVENT
DTSTART;TZID=Europe/London:20271208T190000
DTEND;TZID=Europe/London:20271208T230000
DTSTAMP:20260424T080112
CREATED:20230219T230313Z
LAST-MODIFIED:20241203T005848Z
UID:10303988-1828292400-1828306800@golatindance.com
SUMMARY:Brixton/Oval Wednesday Salsa Dance Classes & Party
DESCRIPTION:Come join us for fun and friendly Wednesday Salsa & Bachata classes with mirrors in South London with party till late.
URL:https://golatindance.com/event/brixton-oval-wednesday-salsa-dance-classes-party/2027-12-08/
LOCATION:Adulis Eritrean  Restaurant\, 44 Brixton Rd.\, London\, SW96BT\, GB
CATEGORIES:London
ATTACH;FMTTYPE=image/jpeg:https://golatindance.com/wp-content/uploads/2023/02/463863088_10161426833320590_4703406810598012025_n.jpg
END:VEVENT
BEGIN:VEVENT
DTSTART;TZID=Europe/London:20271215T190000
DTEND;TZID=Europe/London:20271215T230000
DTSTAMP:20260424T080112
CREATED:20230219T230313Z
LAST-MODIFIED:20241203T005848Z
UID:10303989-1828897200-1828911600@golatindance.com
SUMMARY:Brixton/Oval Wednesday Salsa Dance Classes & Party
DESCRIPTION:Come join us for fun and friendly Wednesday Salsa & Bachata classes with mirrors in South London with party till late.
URL:https://golatindance.com/event/brixton-oval-wednesday-salsa-dance-classes-party/2027-12-15/
LOCATION:Adulis Eritrean  Restaurant\, 44 Brixton Rd.\, London\, SW96BT\, GB
CATEGORIES:London
ATTACH;FMTTYPE=image/jpeg:https://golatindance.com/wp-content/uploads/2023/02/463863088_10161426833320590_4703406810598012025_n.jpg
END:VEVENT
BEGIN:VEVENT
DTSTART;TZID=Europe/London:20271222T190000
DTEND;TZID=Europe/London:20271222T230000
DTSTAMP:20260424T080112
CREATED:20230219T230313Z
LAST-MODIFIED:20241203T005848Z
UID:10303990-1829502000-1829516400@golatindance.com
SUMMARY:Brixton/Oval Wednesday Salsa Dance Classes & Party
DESCRIPTION:Come join us for fun and friendly Wednesday Salsa & Bachata classes with mirrors in South London with party till late.
URL:https://golatindance.com/event/brixton-oval-wednesday-salsa-dance-classes-party/2027-12-22/
LOCATION:Adulis Eritrean  Restaurant\, 44 Brixton Rd.\, London\, SW96BT\, GB
CATEGORIES:London
ATTACH;FMTTYPE=image/jpeg:https://golatindance.com/wp-content/uploads/2023/02/463863088_10161426833320590_4703406810598012025_n.jpg
END:VEVENT
BEGIN:VEVENT
DTSTART;TZID=Europe/London:20271229T190000
DTEND;TZID=Europe/London:20271229T230000
DTSTAMP:20260424T080112
CREATED:20230219T230313Z
LAST-MODIFIED:20241203T005848Z
UID:10303991-1830106800-1830121200@golatindance.com
SUMMARY:Brixton/Oval Wednesday Salsa Dance Classes & Party
DESCRIPTION:Come join us for fun and friendly Wednesday Salsa & Bachata classes with mirrors in South London with party till late.
URL:https://golatindance.com/event/brixton-oval-wednesday-salsa-dance-classes-party/2027-12-29/
LOCATION:Adulis Eritrean  Restaurant\, 44 Brixton Rd.\, London\, SW96BT\, GB
CATEGORIES:London
ATTACH;FMTTYPE=image/jpeg:https://golatindance.com/wp-content/uploads/2023/02/463863088_10161426833320590_4703406810598012025_n.jpg
END:VEVENT
BEGIN:VEVENT
DTSTART;TZID=Europe/London:20280105T190000
DTEND;TZID=Europe/London:20280105T230000
DTSTAMP:20260424T080112
CREATED:20230219T230313Z
LAST-MODIFIED:20241203T005848Z
UID:10303992-1830711600-1830726000@golatindance.com
SUMMARY:Brixton/Oval Wednesday Salsa Dance Classes & Party
DESCRIPTION:Come join us for fun and friendly Wednesday Salsa & Bachata classes with mirrors in South London with party till late.
URL:https://golatindance.com/event/brixton-oval-wednesday-salsa-dance-classes-party/2028-01-05/
LOCATION:Adulis Eritrean  Restaurant\, 44 Brixton Rd.\, London\, SW96BT\, GB
CATEGORIES:London
ATTACH;FMTTYPE=image/jpeg:https://golatindance.com/wp-content/uploads/2023/02/463863088_10161426833320590_4703406810598012025_n.jpg
END:VEVENT
BEGIN:VEVENT
DTSTART;TZID=Europe/London:20280112T190000
DTEND;TZID=Europe/London:20280112T230000
DTSTAMP:20260424T080112
CREATED:20230219T230313Z
LAST-MODIFIED:20241203T005848Z
UID:10303993-1831316400-1831330800@golatindance.com
SUMMARY:Brixton/Oval Wednesday Salsa Dance Classes & Party
DESCRIPTION:Come join us for fun and friendly Wednesday Salsa & Bachata classes with mirrors in South London with party till late.
URL:https://golatindance.com/event/brixton-oval-wednesday-salsa-dance-classes-party/2028-01-12/
LOCATION:Adulis Eritrean  Restaurant\, 44 Brixton Rd.\, London\, SW96BT\, GB
CATEGORIES:London
ATTACH;FMTTYPE=image/jpeg:https://golatindance.com/wp-content/uploads/2023/02/463863088_10161426833320590_4703406810598012025_n.jpg
END:VEVENT
END:VCALENDAR