BEGIN:VCALENDAR
VERSION:2.0
PRODID:-//GO Latin Dance - ECPv6.15.18//NONSGML v1.0//EN
CALSCALE:GREGORIAN
METHOD:PUBLISH
X-WR-CALNAME:GO Latin Dance
X-ORIGINAL-URL:https://golatindance.com
X-WR-CALDESC:Events for GO Latin Dance
REFRESH-INTERVAL;VALUE=DURATION:PT1H
X-Robots-Tag:noindex
X-PUBLISHED-TTL:PT1H
BEGIN:VTIMEZONE
TZID:America/Los_Angeles
BEGIN:DAYLIGHT
TZOFFSETFROM:-0800
TZOFFSETTO:-0700
TZNAME:PDT
DTSTART:20250309T100000
END:DAYLIGHT
BEGIN:STANDARD
TZOFFSETFROM:-0700
TZOFFSETTO:-0800
TZNAME:PST
DTSTART:20251102T090000
END:STANDARD
BEGIN:DAYLIGHT
TZOFFSETFROM:-0800
TZOFFSETTO:-0700
TZNAME:PDT
DTSTART:20260308T100000
END:DAYLIGHT
BEGIN:STANDARD
TZOFFSETFROM:-0700
TZOFFSETTO:-0800
TZNAME:PST
DTSTART:20261101T090000
END:STANDARD
BEGIN:DAYLIGHT
TZOFFSETFROM:-0800
TZOFFSETTO:-0700
TZNAME:PDT
DTSTART:20270314T100000
END:DAYLIGHT
BEGIN:STANDARD
TZOFFSETFROM:-0700
TZOFFSETTO:-0800
TZNAME:PST
DTSTART:20271107T090000
END:STANDARD
END:VTIMEZONE
BEGIN:VEVENT
DTSTART;TZID=America/Los_Angeles:20260307T210000
DTEND;TZID=America/Los_Angeles:20260308T010000
DTSTAMP:20260419T173854
CREATED:20260226T153606Z
LAST-MODIFIED:20260226T153749Z
UID:10449895-1772917200-1772931600@golatindance.com
SUMMARY:Alegre @ Mi Cava!!
DESCRIPTION:Don’t miss the best latin music show in town!! Conjunto Alegre will make jump off your seat!! Bring your dancing shoes!!
URL:https://golatindance.com/event/alegre-mi-cava/
LOCATION:Mi Cava and Cocina\, 9722 SE Washington St\, Portland\, OR\, 97216-8403\, United States
CATEGORIES:Portland
ATTACH;FMTTYPE=image/jpeg:https://golatindance.com/wp-content/uploads/2026/02/633793500_1510388447753687_843717127387905129_n.jpg
END:VEVENT
BEGIN:VEVENT
DTSTART;TZID=America/Los_Angeles:20260208T213000
DTEND;TZID=America/Los_Angeles:20260209T000000
DTSTAMP:20260419T173854
CREATED:20260205T162542Z
LAST-MODIFIED:20260205T162904Z
UID:10442351-1770586200-1770595200@golatindance.com
SUMMARY:Alegre Party @ Mi Cava & Cocina!!
DESCRIPTION:Don’t miss the hottest salsa band in the metro area at Mi Cava & Cocina!! The most electrifying show in town!! Come and dance all night to your favorite salsa\, bachata\, and merengue songs with Conjunto Alegre. Plus DJ Boris on the mix! 21+ event. Call the restaurant for reservations!
URL:https://golatindance.com/event/alegre-party-mi-cava-cocina/
LOCATION:Mi Cava & Cocina
CATEGORIES:Portland
ATTACH;FMTTYPE=image/jpeg:https://golatindance.com/wp-content/uploads/2026/02/621985151_1489180373207828_7041181202377225875_n.jpg
END:VEVENT
END:VCALENDAR