BEGIN:VCALENDAR
VERSION:2.0
PRODID:-//GO Latin Dance - ECPv6.15.18//NONSGML v1.0//EN
CALSCALE:GREGORIAN
METHOD:PUBLISH
X-WR-CALNAME:GO Latin Dance
X-ORIGINAL-URL:https://golatindance.com
X-WR-CALDESC:Events for GO Latin Dance
REFRESH-INTERVAL;VALUE=DURATION:PT1H
X-Robots-Tag:noindex
X-PUBLISHED-TTL:PT1H
BEGIN:VTIMEZONE
TZID:America/New_York
BEGIN:DAYLIGHT
TZOFFSETFROM:-0500
TZOFFSETTO:-0400
TZNAME:EDT
DTSTART:20270314T070000
END:DAYLIGHT
BEGIN:STANDARD
TZOFFSETFROM:-0400
TZOFFSETTO:-0500
TZNAME:EST
DTSTART:20271107T060000
END:STANDARD
BEGIN:DAYLIGHT
TZOFFSETFROM:-0500
TZOFFSETTO:-0400
TZNAME:EDT
DTSTART:20280312T070000
END:DAYLIGHT
BEGIN:STANDARD
TZOFFSETFROM:-0400
TZOFFSETTO:-0500
TZNAME:EST
DTSTART:20281105T060000
END:STANDARD
BEGIN:DAYLIGHT
TZOFFSETFROM:-0500
TZOFFSETTO:-0400
TZNAME:EDT
DTSTART:20290311T070000
END:DAYLIGHT
BEGIN:STANDARD
TZOFFSETFROM:-0400
TZOFFSETTO:-0500
TZNAME:EST
DTSTART:20291104T060000
END:STANDARD
BEGIN:DAYLIGHT
TZOFFSETFROM:-0500
TZOFFSETTO:-0400
TZNAME:EDT
DTSTART:20300310T070000
END:DAYLIGHT
BEGIN:STANDARD
TZOFFSETFROM:-0400
TZOFFSETTO:-0500
TZNAME:EST
DTSTART:20301103T060000
END:STANDARD
END:VTIMEZONE
BEGIN:VEVENT
DTSTART;TZID=America/New_York:20280817T210000
DTEND;TZID=America/New_York:20280818T010000
DTSTAMP:20260424T053020
CREATED:20251028T150829Z
LAST-MODIFIED:20251230T201454Z
UID:10408186-1850158800-1850173200@golatindance.com
SUMMARY:Salsa Thursday Nights
DESCRIPTION:Join for Salsa Night every Thursday at Copper Blues! Get ready for a night full of Latin rhythms\, great energy\, and non-stop dancing. \nStart the night with a free salsa lesson at 9:15pm\, then hit the dance floor with music by DJ Charun and guests from 9pm to 1am.
URL:https://golatindance.com/event/salsa-thursday-nights/2028-08-17/
LOCATION:Copper Blues Miami\, 3450 NW 83rd Ave #224\, Doral\, FL\, 33122\, United States
CATEGORIES:Miami
ATTACH;FMTTYPE=image/png:https://golatindance.com/wp-content/uploads/2024/12/CBMIA-Salsa-Night-Thursday-.png
END:VEVENT
BEGIN:VEVENT
DTSTART;TZID=America/New_York:20280824T210000
DTEND;TZID=America/New_York:20280825T010000
DTSTAMP:20260424T053020
CREATED:20251028T150829Z
LAST-MODIFIED:20251230T201454Z
UID:10408187-1850763600-1850778000@golatindance.com
SUMMARY:Salsa Thursday Nights
DESCRIPTION:Join for Salsa Night every Thursday at Copper Blues! Get ready for a night full of Latin rhythms\, great energy\, and non-stop dancing. \nStart the night with a free salsa lesson at 9:15pm\, then hit the dance floor with music by DJ Charun and guests from 9pm to 1am.
URL:https://golatindance.com/event/salsa-thursday-nights/2028-08-24/
LOCATION:Copper Blues Miami\, 3450 NW 83rd Ave #224\, Doral\, FL\, 33122\, United States
CATEGORIES:Miami
ATTACH;FMTTYPE=image/png:https://golatindance.com/wp-content/uploads/2024/12/CBMIA-Salsa-Night-Thursday-.png
END:VEVENT
BEGIN:VEVENT
DTSTART;TZID=America/New_York:20280831T210000
DTEND;TZID=America/New_York:20280901T010000
DTSTAMP:20260424T053020
CREATED:20251028T150829Z
LAST-MODIFIED:20251230T201454Z
UID:10408188-1851368400-1851382800@golatindance.com
SUMMARY:Salsa Thursday Nights
DESCRIPTION:Join for Salsa Night every Thursday at Copper Blues! Get ready for a night full of Latin rhythms\, great energy\, and non-stop dancing. \nStart the night with a free salsa lesson at 9:15pm\, then hit the dance floor with music by DJ Charun and guests from 9pm to 1am.
URL:https://golatindance.com/event/salsa-thursday-nights/2028-08-31/
LOCATION:Copper Blues Miami\, 3450 NW 83rd Ave #224\, Doral\, FL\, 33122\, United States
CATEGORIES:Miami
ATTACH;FMTTYPE=image/png:https://golatindance.com/wp-content/uploads/2024/12/CBMIA-Salsa-Night-Thursday-.png
END:VEVENT
BEGIN:VEVENT
DTSTART;TZID=America/New_York:20280907T210000
DTEND;TZID=America/New_York:20280908T010000
DTSTAMP:20260424T053020
CREATED:20251028T150829Z
LAST-MODIFIED:20251230T201454Z
UID:10408189-1851973200-1851987600@golatindance.com
SUMMARY:Salsa Thursday Nights
DESCRIPTION:Join for Salsa Night every Thursday at Copper Blues! Get ready for a night full of Latin rhythms\, great energy\, and non-stop dancing. \nStart the night with a free salsa lesson at 9:15pm\, then hit the dance floor with music by DJ Charun and guests from 9pm to 1am.
URL:https://golatindance.com/event/salsa-thursday-nights/2028-09-07/
LOCATION:Copper Blues Miami\, 3450 NW 83rd Ave #224\, Doral\, FL\, 33122\, United States
CATEGORIES:Miami
ATTACH;FMTTYPE=image/png:https://golatindance.com/wp-content/uploads/2024/12/CBMIA-Salsa-Night-Thursday-.png
END:VEVENT
BEGIN:VEVENT
DTSTART;TZID=America/New_York:20280914T210000
DTEND;TZID=America/New_York:20280915T010000
DTSTAMP:20260424T053020
CREATED:20251028T150829Z
LAST-MODIFIED:20251230T201454Z
UID:10408190-1852578000-1852592400@golatindance.com
SUMMARY:Salsa Thursday Nights
DESCRIPTION:Join for Salsa Night every Thursday at Copper Blues! Get ready for a night full of Latin rhythms\, great energy\, and non-stop dancing. \nStart the night with a free salsa lesson at 9:15pm\, then hit the dance floor with music by DJ Charun and guests from 9pm to 1am.
URL:https://golatindance.com/event/salsa-thursday-nights/2028-09-14/
LOCATION:Copper Blues Miami\, 3450 NW 83rd Ave #224\, Doral\, FL\, 33122\, United States
CATEGORIES:Miami
ATTACH;FMTTYPE=image/png:https://golatindance.com/wp-content/uploads/2024/12/CBMIA-Salsa-Night-Thursday-.png
END:VEVENT
BEGIN:VEVENT
DTSTART;TZID=America/New_York:20280921T210000
DTEND;TZID=America/New_York:20280922T010000
DTSTAMP:20260424T053020
CREATED:20251028T150829Z
LAST-MODIFIED:20251230T201454Z
UID:10408191-1853182800-1853197200@golatindance.com
SUMMARY:Salsa Thursday Nights
DESCRIPTION:Join for Salsa Night every Thursday at Copper Blues! Get ready for a night full of Latin rhythms\, great energy\, and non-stop dancing. \nStart the night with a free salsa lesson at 9:15pm\, then hit the dance floor with music by DJ Charun and guests from 9pm to 1am.
URL:https://golatindance.com/event/salsa-thursday-nights/2028-09-21/
LOCATION:Copper Blues Miami\, 3450 NW 83rd Ave #224\, Doral\, FL\, 33122\, United States
CATEGORIES:Miami
ATTACH;FMTTYPE=image/png:https://golatindance.com/wp-content/uploads/2024/12/CBMIA-Salsa-Night-Thursday-.png
END:VEVENT
BEGIN:VEVENT
DTSTART;TZID=America/New_York:20280928T210000
DTEND;TZID=America/New_York:20280929T010000
DTSTAMP:20260424T053020
CREATED:20251028T150829Z
LAST-MODIFIED:20251230T201454Z
UID:10408192-1853787600-1853802000@golatindance.com
SUMMARY:Salsa Thursday Nights
DESCRIPTION:Join for Salsa Night every Thursday at Copper Blues! Get ready for a night full of Latin rhythms\, great energy\, and non-stop dancing. \nStart the night with a free salsa lesson at 9:15pm\, then hit the dance floor with music by DJ Charun and guests from 9pm to 1am.
URL:https://golatindance.com/event/salsa-thursday-nights/2028-09-28/
LOCATION:Copper Blues Miami\, 3450 NW 83rd Ave #224\, Doral\, FL\, 33122\, United States
CATEGORIES:Miami
ATTACH;FMTTYPE=image/png:https://golatindance.com/wp-content/uploads/2024/12/CBMIA-Salsa-Night-Thursday-.png
END:VEVENT
BEGIN:VEVENT
DTSTART;TZID=America/New_York:20281005T210000
DTEND;TZID=America/New_York:20281006T010000
DTSTAMP:20260424T053020
CREATED:20251028T150829Z
LAST-MODIFIED:20251230T201454Z
UID:10408193-1854392400-1854406800@golatindance.com
SUMMARY:Salsa Thursday Nights
DESCRIPTION:Join for Salsa Night every Thursday at Copper Blues! Get ready for a night full of Latin rhythms\, great energy\, and non-stop dancing. \nStart the night with a free salsa lesson at 9:15pm\, then hit the dance floor with music by DJ Charun and guests from 9pm to 1am.
URL:https://golatindance.com/event/salsa-thursday-nights/2028-10-05/
LOCATION:Copper Blues Miami\, 3450 NW 83rd Ave #224\, Doral\, FL\, 33122\, United States
CATEGORIES:Miami
ATTACH;FMTTYPE=image/png:https://golatindance.com/wp-content/uploads/2024/12/CBMIA-Salsa-Night-Thursday-.png
END:VEVENT
BEGIN:VEVENT
DTSTART;TZID=America/New_York:20281012T210000
DTEND;TZID=America/New_York:20281013T010000
DTSTAMP:20260424T053020
CREATED:20251028T150829Z
LAST-MODIFIED:20251230T201454Z
UID:10408194-1854997200-1855011600@golatindance.com
SUMMARY:Salsa Thursday Nights
DESCRIPTION:Join for Salsa Night every Thursday at Copper Blues! Get ready for a night full of Latin rhythms\, great energy\, and non-stop dancing. \nStart the night with a free salsa lesson at 9:15pm\, then hit the dance floor with music by DJ Charun and guests from 9pm to 1am.
URL:https://golatindance.com/event/salsa-thursday-nights/2028-10-12/
LOCATION:Copper Blues Miami\, 3450 NW 83rd Ave #224\, Doral\, FL\, 33122\, United States
CATEGORIES:Miami
ATTACH;FMTTYPE=image/png:https://golatindance.com/wp-content/uploads/2024/12/CBMIA-Salsa-Night-Thursday-.png
END:VEVENT
BEGIN:VEVENT
DTSTART;TZID=America/New_York:20281019T210000
DTEND;TZID=America/New_York:20281020T010000
DTSTAMP:20260424T053020
CREATED:20251028T150829Z
LAST-MODIFIED:20251230T201454Z
UID:10408195-1855602000-1855616400@golatindance.com
SUMMARY:Salsa Thursday Nights
DESCRIPTION:Join for Salsa Night every Thursday at Copper Blues! Get ready for a night full of Latin rhythms\, great energy\, and non-stop dancing. \nStart the night with a free salsa lesson at 9:15pm\, then hit the dance floor with music by DJ Charun and guests from 9pm to 1am.
URL:https://golatindance.com/event/salsa-thursday-nights/2028-10-19/
LOCATION:Copper Blues Miami\, 3450 NW 83rd Ave #224\, Doral\, FL\, 33122\, United States
CATEGORIES:Miami
ATTACH;FMTTYPE=image/png:https://golatindance.com/wp-content/uploads/2024/12/CBMIA-Salsa-Night-Thursday-.png
END:VEVENT
BEGIN:VEVENT
DTSTART;TZID=America/New_York:20281026T210000
DTEND;TZID=America/New_York:20281027T010000
DTSTAMP:20260424T053020
CREATED:20251028T150829Z
LAST-MODIFIED:20251230T201454Z
UID:10408196-1856206800-1856221200@golatindance.com
SUMMARY:Salsa Thursday Nights
DESCRIPTION:Join for Salsa Night every Thursday at Copper Blues! Get ready for a night full of Latin rhythms\, great energy\, and non-stop dancing. \nStart the night with a free salsa lesson at 9:15pm\, then hit the dance floor with music by DJ Charun and guests from 9pm to 1am.
URL:https://golatindance.com/event/salsa-thursday-nights/2028-10-26/
LOCATION:Copper Blues Miami\, 3450 NW 83rd Ave #224\, Doral\, FL\, 33122\, United States
CATEGORIES:Miami
ATTACH;FMTTYPE=image/png:https://golatindance.com/wp-content/uploads/2024/12/CBMIA-Salsa-Night-Thursday-.png
END:VEVENT
BEGIN:VEVENT
DTSTART;TZID=America/New_York:20281102T210000
DTEND;TZID=America/New_York:20281103T010000
DTSTAMP:20260424T053020
CREATED:20251028T150829Z
LAST-MODIFIED:20251230T201454Z
UID:10408197-1856811600-1856826000@golatindance.com
SUMMARY:Salsa Thursday Nights
DESCRIPTION:Join for Salsa Night every Thursday at Copper Blues! Get ready for a night full of Latin rhythms\, great energy\, and non-stop dancing. \nStart the night with a free salsa lesson at 9:15pm\, then hit the dance floor with music by DJ Charun and guests from 9pm to 1am.
URL:https://golatindance.com/event/salsa-thursday-nights/2028-11-02/
LOCATION:Copper Blues Miami\, 3450 NW 83rd Ave #224\, Doral\, FL\, 33122\, United States
CATEGORIES:Miami
ATTACH;FMTTYPE=image/png:https://golatindance.com/wp-content/uploads/2024/12/CBMIA-Salsa-Night-Thursday-.png
END:VEVENT
BEGIN:VEVENT
DTSTART;TZID=America/New_York:20281109T210000
DTEND;TZID=America/New_York:20281110T010000
DTSTAMP:20260424T053020
CREATED:20251028T150829Z
LAST-MODIFIED:20251230T201454Z
UID:10408198-1857416400-1857430800@golatindance.com
SUMMARY:Salsa Thursday Nights
DESCRIPTION:Join for Salsa Night every Thursday at Copper Blues! Get ready for a night full of Latin rhythms\, great energy\, and non-stop dancing. \nStart the night with a free salsa lesson at 9:15pm\, then hit the dance floor with music by DJ Charun and guests from 9pm to 1am.
URL:https://golatindance.com/event/salsa-thursday-nights/2028-11-09/
LOCATION:Copper Blues Miami\, 3450 NW 83rd Ave #224\, Doral\, FL\, 33122\, United States
CATEGORIES:Miami
ATTACH;FMTTYPE=image/png:https://golatindance.com/wp-content/uploads/2024/12/CBMIA-Salsa-Night-Thursday-.png
END:VEVENT
BEGIN:VEVENT
DTSTART;TZID=America/New_York:20281116T210000
DTEND;TZID=America/New_York:20281117T010000
DTSTAMP:20260424T053020
CREATED:20251028T150829Z
LAST-MODIFIED:20251230T201454Z
UID:10408199-1858021200-1858035600@golatindance.com
SUMMARY:Salsa Thursday Nights
DESCRIPTION:Join for Salsa Night every Thursday at Copper Blues! Get ready for a night full of Latin rhythms\, great energy\, and non-stop dancing. \nStart the night with a free salsa lesson at 9:15pm\, then hit the dance floor with music by DJ Charun and guests from 9pm to 1am.
URL:https://golatindance.com/event/salsa-thursday-nights/2028-11-16/
LOCATION:Copper Blues Miami\, 3450 NW 83rd Ave #224\, Doral\, FL\, 33122\, United States
CATEGORIES:Miami
ATTACH;FMTTYPE=image/png:https://golatindance.com/wp-content/uploads/2024/12/CBMIA-Salsa-Night-Thursday-.png
END:VEVENT
BEGIN:VEVENT
DTSTART;TZID=America/New_York:20281123T210000
DTEND;TZID=America/New_York:20281124T010000
DTSTAMP:20260424T053020
CREATED:20251028T150829Z
LAST-MODIFIED:20251230T201454Z
UID:10408200-1858626000-1858640400@golatindance.com
SUMMARY:Salsa Thursday Nights
DESCRIPTION:Join for Salsa Night every Thursday at Copper Blues! Get ready for a night full of Latin rhythms\, great energy\, and non-stop dancing. \nStart the night with a free salsa lesson at 9:15pm\, then hit the dance floor with music by DJ Charun and guests from 9pm to 1am.
URL:https://golatindance.com/event/salsa-thursday-nights/2028-11-23/
LOCATION:Copper Blues Miami\, 3450 NW 83rd Ave #224\, Doral\, FL\, 33122\, United States
CATEGORIES:Miami
ATTACH;FMTTYPE=image/png:https://golatindance.com/wp-content/uploads/2024/12/CBMIA-Salsa-Night-Thursday-.png
END:VEVENT
BEGIN:VEVENT
DTSTART;TZID=America/New_York:20281130T210000
DTEND;TZID=America/New_York:20281201T010000
DTSTAMP:20260424T053020
CREATED:20251028T150829Z
LAST-MODIFIED:20251230T201454Z
UID:10408201-1859230800-1859245200@golatindance.com
SUMMARY:Salsa Thursday Nights
DESCRIPTION:Join for Salsa Night every Thursday at Copper Blues! Get ready for a night full of Latin rhythms\, great energy\, and non-stop dancing. \nStart the night with a free salsa lesson at 9:15pm\, then hit the dance floor with music by DJ Charun and guests from 9pm to 1am.
URL:https://golatindance.com/event/salsa-thursday-nights/2028-11-30/
LOCATION:Copper Blues Miami\, 3450 NW 83rd Ave #224\, Doral\, FL\, 33122\, United States
CATEGORIES:Miami
ATTACH;FMTTYPE=image/png:https://golatindance.com/wp-content/uploads/2024/12/CBMIA-Salsa-Night-Thursday-.png
END:VEVENT
BEGIN:VEVENT
DTSTART;TZID=America/New_York:20281207T210000
DTEND;TZID=America/New_York:20281208T010000
DTSTAMP:20260424T053020
CREATED:20251028T150829Z
LAST-MODIFIED:20251230T201454Z
UID:10408202-1859835600-1859850000@golatindance.com
SUMMARY:Salsa Thursday Nights
DESCRIPTION:Join for Salsa Night every Thursday at Copper Blues! Get ready for a night full of Latin rhythms\, great energy\, and non-stop dancing. \nStart the night with a free salsa lesson at 9:15pm\, then hit the dance floor with music by DJ Charun and guests from 9pm to 1am.
URL:https://golatindance.com/event/salsa-thursday-nights/2028-12-07/
LOCATION:Copper Blues Miami\, 3450 NW 83rd Ave #224\, Doral\, FL\, 33122\, United States
CATEGORIES:Miami
ATTACH;FMTTYPE=image/png:https://golatindance.com/wp-content/uploads/2024/12/CBMIA-Salsa-Night-Thursday-.png
END:VEVENT
BEGIN:VEVENT
DTSTART;TZID=America/New_York:20281214T210000
DTEND;TZID=America/New_York:20281215T010000
DTSTAMP:20260424T053020
CREATED:20251028T150829Z
LAST-MODIFIED:20251230T201454Z
UID:10408203-1860440400-1860454800@golatindance.com
SUMMARY:Salsa Thursday Nights
DESCRIPTION:Join for Salsa Night every Thursday at Copper Blues! Get ready for a night full of Latin rhythms\, great energy\, and non-stop dancing. \nStart the night with a free salsa lesson at 9:15pm\, then hit the dance floor with music by DJ Charun and guests from 9pm to 1am.
URL:https://golatindance.com/event/salsa-thursday-nights/2028-12-14/
LOCATION:Copper Blues Miami\, 3450 NW 83rd Ave #224\, Doral\, FL\, 33122\, United States
CATEGORIES:Miami
ATTACH;FMTTYPE=image/png:https://golatindance.com/wp-content/uploads/2024/12/CBMIA-Salsa-Night-Thursday-.png
END:VEVENT
BEGIN:VEVENT
DTSTART;TZID=America/New_York:20281221T210000
DTEND;TZID=America/New_York:20281222T010000
DTSTAMP:20260424T053020
CREATED:20251028T150829Z
LAST-MODIFIED:20251230T201454Z
UID:10408204-1861045200-1861059600@golatindance.com
SUMMARY:Salsa Thursday Nights
DESCRIPTION:Join for Salsa Night every Thursday at Copper Blues! Get ready for a night full of Latin rhythms\, great energy\, and non-stop dancing. \nStart the night with a free salsa lesson at 9:15pm\, then hit the dance floor with music by DJ Charun and guests from 9pm to 1am.
URL:https://golatindance.com/event/salsa-thursday-nights/2028-12-21/
LOCATION:Copper Blues Miami\, 3450 NW 83rd Ave #224\, Doral\, FL\, 33122\, United States
CATEGORIES:Miami
ATTACH;FMTTYPE=image/png:https://golatindance.com/wp-content/uploads/2024/12/CBMIA-Salsa-Night-Thursday-.png
END:VEVENT
BEGIN:VEVENT
DTSTART;TZID=America/New_York:20281228T210000
DTEND;TZID=America/New_York:20281229T010000
DTSTAMP:20260424T053020
CREATED:20251028T150829Z
LAST-MODIFIED:20251230T201454Z
UID:10408205-1861650000-1861664400@golatindance.com
SUMMARY:Salsa Thursday Nights
DESCRIPTION:Join for Salsa Night every Thursday at Copper Blues! Get ready for a night full of Latin rhythms\, great energy\, and non-stop dancing. \nStart the night with a free salsa lesson at 9:15pm\, then hit the dance floor with music by DJ Charun and guests from 9pm to 1am.
URL:https://golatindance.com/event/salsa-thursday-nights/2028-12-28/
LOCATION:Copper Blues Miami\, 3450 NW 83rd Ave #224\, Doral\, FL\, 33122\, United States
CATEGORIES:Miami
ATTACH;FMTTYPE=image/png:https://golatindance.com/wp-content/uploads/2024/12/CBMIA-Salsa-Night-Thursday-.png
END:VEVENT
BEGIN:VEVENT
DTSTART;TZID=America/New_York:20290104T210000
DTEND;TZID=America/New_York:20290105T010000
DTSTAMP:20260424T053020
CREATED:20251028T150829Z
LAST-MODIFIED:20251230T201454Z
UID:10408206-1862254800-1862269200@golatindance.com
SUMMARY:Salsa Thursday Nights
DESCRIPTION:Join for Salsa Night every Thursday at Copper Blues! Get ready for a night full of Latin rhythms\, great energy\, and non-stop dancing. \nStart the night with a free salsa lesson at 9:15pm\, then hit the dance floor with music by DJ Charun and guests from 9pm to 1am.
URL:https://golatindance.com/event/salsa-thursday-nights/2029-01-04/
LOCATION:Copper Blues Miami\, 3450 NW 83rd Ave #224\, Doral\, FL\, 33122\, United States
CATEGORIES:Miami
ATTACH;FMTTYPE=image/png:https://golatindance.com/wp-content/uploads/2024/12/CBMIA-Salsa-Night-Thursday-.png
END:VEVENT
BEGIN:VEVENT
DTSTART;TZID=America/New_York:20290111T210000
DTEND;TZID=America/New_York:20290112T010000
DTSTAMP:20260424T053020
CREATED:20251028T150829Z
LAST-MODIFIED:20251230T201454Z
UID:10408207-1862859600-1862874000@golatindance.com
SUMMARY:Salsa Thursday Nights
DESCRIPTION:Join for Salsa Night every Thursday at Copper Blues! Get ready for a night full of Latin rhythms\, great energy\, and non-stop dancing. \nStart the night with a free salsa lesson at 9:15pm\, then hit the dance floor with music by DJ Charun and guests from 9pm to 1am.
URL:https://golatindance.com/event/salsa-thursday-nights/2029-01-11/
LOCATION:Copper Blues Miami\, 3450 NW 83rd Ave #224\, Doral\, FL\, 33122\, United States
CATEGORIES:Miami
ATTACH;FMTTYPE=image/png:https://golatindance.com/wp-content/uploads/2024/12/CBMIA-Salsa-Night-Thursday-.png
END:VEVENT
BEGIN:VEVENT
DTSTART;TZID=America/New_York:20290118T210000
DTEND;TZID=America/New_York:20290119T010000
DTSTAMP:20260424T053020
CREATED:20251028T150829Z
LAST-MODIFIED:20251230T201454Z
UID:10408208-1863464400-1863478800@golatindance.com
SUMMARY:Salsa Thursday Nights
DESCRIPTION:Join for Salsa Night every Thursday at Copper Blues! Get ready for a night full of Latin rhythms\, great energy\, and non-stop dancing. \nStart the night with a free salsa lesson at 9:15pm\, then hit the dance floor with music by DJ Charun and guests from 9pm to 1am.
URL:https://golatindance.com/event/salsa-thursday-nights/2029-01-18/
LOCATION:Copper Blues Miami\, 3450 NW 83rd Ave #224\, Doral\, FL\, 33122\, United States
CATEGORIES:Miami
ATTACH;FMTTYPE=image/png:https://golatindance.com/wp-content/uploads/2024/12/CBMIA-Salsa-Night-Thursday-.png
END:VEVENT
BEGIN:VEVENT
DTSTART;TZID=America/New_York:20290125T210000
DTEND;TZID=America/New_York:20290126T010000
DTSTAMP:20260424T053020
CREATED:20251028T150829Z
LAST-MODIFIED:20251230T201454Z
UID:10408209-1864069200-1864083600@golatindance.com
SUMMARY:Salsa Thursday Nights
DESCRIPTION:Join for Salsa Night every Thursday at Copper Blues! Get ready for a night full of Latin rhythms\, great energy\, and non-stop dancing. \nStart the night with a free salsa lesson at 9:15pm\, then hit the dance floor with music by DJ Charun and guests from 9pm to 1am.
URL:https://golatindance.com/event/salsa-thursday-nights/2029-01-25/
LOCATION:Copper Blues Miami\, 3450 NW 83rd Ave #224\, Doral\, FL\, 33122\, United States
CATEGORIES:Miami
ATTACH;FMTTYPE=image/png:https://golatindance.com/wp-content/uploads/2024/12/CBMIA-Salsa-Night-Thursday-.png
END:VEVENT
BEGIN:VEVENT
DTSTART;TZID=America/New_York:20290201T210000
DTEND;TZID=America/New_York:20290202T010000
DTSTAMP:20260424T053020
CREATED:20251028T150829Z
LAST-MODIFIED:20251230T201454Z
UID:10408210-1864674000-1864688400@golatindance.com
SUMMARY:Salsa Thursday Nights
DESCRIPTION:Join for Salsa Night every Thursday at Copper Blues! Get ready for a night full of Latin rhythms\, great energy\, and non-stop dancing. \nStart the night with a free salsa lesson at 9:15pm\, then hit the dance floor with music by DJ Charun and guests from 9pm to 1am.
URL:https://golatindance.com/event/salsa-thursday-nights/2029-02-01/
LOCATION:Copper Blues Miami\, 3450 NW 83rd Ave #224\, Doral\, FL\, 33122\, United States
CATEGORIES:Miami
ATTACH;FMTTYPE=image/png:https://golatindance.com/wp-content/uploads/2024/12/CBMIA-Salsa-Night-Thursday-.png
END:VEVENT
BEGIN:VEVENT
DTSTART;TZID=America/New_York:20290208T210000
DTEND;TZID=America/New_York:20290209T010000
DTSTAMP:20260424T053020
CREATED:20251028T150829Z
LAST-MODIFIED:20251230T201454Z
UID:10408211-1865278800-1865293200@golatindance.com
SUMMARY:Salsa Thursday Nights
DESCRIPTION:Join for Salsa Night every Thursday at Copper Blues! Get ready for a night full of Latin rhythms\, great energy\, and non-stop dancing. \nStart the night with a free salsa lesson at 9:15pm\, then hit the dance floor with music by DJ Charun and guests from 9pm to 1am.
URL:https://golatindance.com/event/salsa-thursday-nights/2029-02-08/
LOCATION:Copper Blues Miami\, 3450 NW 83rd Ave #224\, Doral\, FL\, 33122\, United States
CATEGORIES:Miami
ATTACH;FMTTYPE=image/png:https://golatindance.com/wp-content/uploads/2024/12/CBMIA-Salsa-Night-Thursday-.png
END:VEVENT
BEGIN:VEVENT
DTSTART;TZID=America/New_York:20290215T210000
DTEND;TZID=America/New_York:20290216T010000
DTSTAMP:20260424T053020
CREATED:20251028T150829Z
LAST-MODIFIED:20251230T201454Z
UID:10408212-1865883600-1865898000@golatindance.com
SUMMARY:Salsa Thursday Nights
DESCRIPTION:Join for Salsa Night every Thursday at Copper Blues! Get ready for a night full of Latin rhythms\, great energy\, and non-stop dancing. \nStart the night with a free salsa lesson at 9:15pm\, then hit the dance floor with music by DJ Charun and guests from 9pm to 1am.
URL:https://golatindance.com/event/salsa-thursday-nights/2029-02-15/
LOCATION:Copper Blues Miami\, 3450 NW 83rd Ave #224\, Doral\, FL\, 33122\, United States
CATEGORIES:Miami
ATTACH;FMTTYPE=image/png:https://golatindance.com/wp-content/uploads/2024/12/CBMIA-Salsa-Night-Thursday-.png
END:VEVENT
BEGIN:VEVENT
DTSTART;TZID=America/New_York:20290222T210000
DTEND;TZID=America/New_York:20290223T010000
DTSTAMP:20260424T053020
CREATED:20251028T150829Z
LAST-MODIFIED:20251230T201454Z
UID:10408213-1866488400-1866502800@golatindance.com
SUMMARY:Salsa Thursday Nights
DESCRIPTION:Join for Salsa Night every Thursday at Copper Blues! Get ready for a night full of Latin rhythms\, great energy\, and non-stop dancing. \nStart the night with a free salsa lesson at 9:15pm\, then hit the dance floor with music by DJ Charun and guests from 9pm to 1am.
URL:https://golatindance.com/event/salsa-thursday-nights/2029-02-22/
LOCATION:Copper Blues Miami\, 3450 NW 83rd Ave #224\, Doral\, FL\, 33122\, United States
CATEGORIES:Miami
ATTACH;FMTTYPE=image/png:https://golatindance.com/wp-content/uploads/2024/12/CBMIA-Salsa-Night-Thursday-.png
END:VEVENT
BEGIN:VEVENT
DTSTART;TZID=America/New_York:20290301T210000
DTEND;TZID=America/New_York:20290302T010000
DTSTAMP:20260424T053020
CREATED:20251028T150829Z
LAST-MODIFIED:20251230T201454Z
UID:10408214-1867093200-1867107600@golatindance.com
SUMMARY:Salsa Thursday Nights
DESCRIPTION:Join for Salsa Night every Thursday at Copper Blues! Get ready for a night full of Latin rhythms\, great energy\, and non-stop dancing. \nStart the night with a free salsa lesson at 9:15pm\, then hit the dance floor with music by DJ Charun and guests from 9pm to 1am.
URL:https://golatindance.com/event/salsa-thursday-nights/2029-03-01/
LOCATION:Copper Blues Miami\, 3450 NW 83rd Ave #224\, Doral\, FL\, 33122\, United States
CATEGORIES:Miami
ATTACH;FMTTYPE=image/png:https://golatindance.com/wp-content/uploads/2024/12/CBMIA-Salsa-Night-Thursday-.png
END:VEVENT
BEGIN:VEVENT
DTSTART;TZID=America/New_York:20290308T210000
DTEND;TZID=America/New_York:20290309T010000
DTSTAMP:20260424T053020
CREATED:20251028T150829Z
LAST-MODIFIED:20251230T201454Z
UID:10408215-1867698000-1867712400@golatindance.com
SUMMARY:Salsa Thursday Nights
DESCRIPTION:Join for Salsa Night every Thursday at Copper Blues! Get ready for a night full of Latin rhythms\, great energy\, and non-stop dancing. \nStart the night with a free salsa lesson at 9:15pm\, then hit the dance floor with music by DJ Charun and guests from 9pm to 1am.
URL:https://golatindance.com/event/salsa-thursday-nights/2029-03-08/
LOCATION:Copper Blues Miami\, 3450 NW 83rd Ave #224\, Doral\, FL\, 33122\, United States
CATEGORIES:Miami
ATTACH;FMTTYPE=image/png:https://golatindance.com/wp-content/uploads/2024/12/CBMIA-Salsa-Night-Thursday-.png
END:VEVENT
END:VCALENDAR