BEGIN:VCALENDAR
VERSION:2.0
PRODID:-//GO Latin Dance - ECPv6.15.18//NONSGML v1.0//EN
CALSCALE:GREGORIAN
METHOD:PUBLISH
X-WR-CALNAME:GO Latin Dance
X-ORIGINAL-URL:https://golatindance.com
X-WR-CALDESC:Events for GO Latin Dance
REFRESH-INTERVAL;VALUE=DURATION:PT1H
X-Robots-Tag:noindex
X-PUBLISHED-TTL:PT1H
BEGIN:VTIMEZONE
TZID:America/New_York
BEGIN:DAYLIGHT
TZOFFSETFROM:-0500
TZOFFSETTO:-0400
TZNAME:EDT
DTSTART:20280312T070000
END:DAYLIGHT
BEGIN:STANDARD
TZOFFSETFROM:-0400
TZOFFSETTO:-0500
TZNAME:EST
DTSTART:20281105T060000
END:STANDARD
BEGIN:DAYLIGHT
TZOFFSETFROM:-0500
TZOFFSETTO:-0400
TZNAME:EDT
DTSTART:20290311T070000
END:DAYLIGHT
BEGIN:STANDARD
TZOFFSETFROM:-0400
TZOFFSETTO:-0500
TZNAME:EST
DTSTART:20291104T060000
END:STANDARD
BEGIN:DAYLIGHT
TZOFFSETFROM:-0500
TZOFFSETTO:-0400
TZNAME:EDT
DTSTART:20300310T070000
END:DAYLIGHT
BEGIN:STANDARD
TZOFFSETFROM:-0400
TZOFFSETTO:-0500
TZNAME:EST
DTSTART:20301103T060000
END:STANDARD
BEGIN:DAYLIGHT
TZOFFSETFROM:-0500
TZOFFSETTO:-0400
TZNAME:EDT
DTSTART:20310309T070000
END:DAYLIGHT
BEGIN:STANDARD
TZOFFSETFROM:-0400
TZOFFSETTO:-0500
TZNAME:EST
DTSTART:20311102T060000
END:STANDARD
END:VTIMEZONE
BEGIN:VEVENT
DTSTART;TZID=America/New_York:20291011T210000
DTEND;TZID=America/New_York:20291012T010000
DTSTAMP:20260424T133757
CREATED:20251028T150829Z
LAST-MODIFIED:20251230T201454Z
UID:10408246-1886446800-1886461200@golatindance.com
SUMMARY:Salsa Thursday Nights
DESCRIPTION:Join for Salsa Night every Thursday at Copper Blues! Get ready for a night full of Latin rhythms\, great energy\, and non-stop dancing. \nStart the night with a free salsa lesson at 9:15pm\, then hit the dance floor with music by DJ Charun and guests from 9pm to 1am.
URL:https://golatindance.com/event/salsa-thursday-nights/2029-10-11/
LOCATION:Copper Blues Miami\, 3450 NW 83rd Ave #224\, Doral\, FL\, 33122\, United States
CATEGORIES:Miami
ATTACH;FMTTYPE=image/png:https://golatindance.com/wp-content/uploads/2024/12/CBMIA-Salsa-Night-Thursday-.png
END:VEVENT
BEGIN:VEVENT
DTSTART;TZID=America/New_York:20291018T210000
DTEND;TZID=America/New_York:20291019T010000
DTSTAMP:20260424T133757
CREATED:20251028T150829Z
LAST-MODIFIED:20251230T201454Z
UID:10408247-1887051600-1887066000@golatindance.com
SUMMARY:Salsa Thursday Nights
DESCRIPTION:Join for Salsa Night every Thursday at Copper Blues! Get ready for a night full of Latin rhythms\, great energy\, and non-stop dancing. \nStart the night with a free salsa lesson at 9:15pm\, then hit the dance floor with music by DJ Charun and guests from 9pm to 1am.
URL:https://golatindance.com/event/salsa-thursday-nights/2029-10-18/
LOCATION:Copper Blues Miami\, 3450 NW 83rd Ave #224\, Doral\, FL\, 33122\, United States
CATEGORIES:Miami
ATTACH;FMTTYPE=image/png:https://golatindance.com/wp-content/uploads/2024/12/CBMIA-Salsa-Night-Thursday-.png
END:VEVENT
BEGIN:VEVENT
DTSTART;TZID=America/New_York:20291025T210000
DTEND;TZID=America/New_York:20291026T010000
DTSTAMP:20260424T133757
CREATED:20251028T150829Z
LAST-MODIFIED:20251230T201454Z
UID:10408248-1887656400-1887670800@golatindance.com
SUMMARY:Salsa Thursday Nights
DESCRIPTION:Join for Salsa Night every Thursday at Copper Blues! Get ready for a night full of Latin rhythms\, great energy\, and non-stop dancing. \nStart the night with a free salsa lesson at 9:15pm\, then hit the dance floor with music by DJ Charun and guests from 9pm to 1am.
URL:https://golatindance.com/event/salsa-thursday-nights/2029-10-25/
LOCATION:Copper Blues Miami\, 3450 NW 83rd Ave #224\, Doral\, FL\, 33122\, United States
CATEGORIES:Miami
ATTACH;FMTTYPE=image/png:https://golatindance.com/wp-content/uploads/2024/12/CBMIA-Salsa-Night-Thursday-.png
END:VEVENT
BEGIN:VEVENT
DTSTART;TZID=America/New_York:20291101T210000
DTEND;TZID=America/New_York:20291102T010000
DTSTAMP:20260424T133757
CREATED:20251028T150829Z
LAST-MODIFIED:20251230T201454Z
UID:10408249-1888261200-1888275600@golatindance.com
SUMMARY:Salsa Thursday Nights
DESCRIPTION:Join for Salsa Night every Thursday at Copper Blues! Get ready for a night full of Latin rhythms\, great energy\, and non-stop dancing. \nStart the night with a free salsa lesson at 9:15pm\, then hit the dance floor with music by DJ Charun and guests from 9pm to 1am.
URL:https://golatindance.com/event/salsa-thursday-nights/2029-11-01/
LOCATION:Copper Blues Miami\, 3450 NW 83rd Ave #224\, Doral\, FL\, 33122\, United States
CATEGORIES:Miami
ATTACH;FMTTYPE=image/png:https://golatindance.com/wp-content/uploads/2024/12/CBMIA-Salsa-Night-Thursday-.png
END:VEVENT
BEGIN:VEVENT
DTSTART;TZID=America/New_York:20291108T210000
DTEND;TZID=America/New_York:20291109T010000
DTSTAMP:20260424T133757
CREATED:20251028T150829Z
LAST-MODIFIED:20251230T201454Z
UID:10408250-1888866000-1888880400@golatindance.com
SUMMARY:Salsa Thursday Nights
DESCRIPTION:Join for Salsa Night every Thursday at Copper Blues! Get ready for a night full of Latin rhythms\, great energy\, and non-stop dancing. \nStart the night with a free salsa lesson at 9:15pm\, then hit the dance floor with music by DJ Charun and guests from 9pm to 1am.
URL:https://golatindance.com/event/salsa-thursday-nights/2029-11-08/
LOCATION:Copper Blues Miami\, 3450 NW 83rd Ave #224\, Doral\, FL\, 33122\, United States
CATEGORIES:Miami
ATTACH;FMTTYPE=image/png:https://golatindance.com/wp-content/uploads/2024/12/CBMIA-Salsa-Night-Thursday-.png
END:VEVENT
BEGIN:VEVENT
DTSTART;TZID=America/New_York:20291115T210000
DTEND;TZID=America/New_York:20291116T010000
DTSTAMP:20260424T133757
CREATED:20251028T150829Z
LAST-MODIFIED:20251230T201454Z
UID:10408251-1889470800-1889485200@golatindance.com
SUMMARY:Salsa Thursday Nights
DESCRIPTION:Join for Salsa Night every Thursday at Copper Blues! Get ready for a night full of Latin rhythms\, great energy\, and non-stop dancing. \nStart the night with a free salsa lesson at 9:15pm\, then hit the dance floor with music by DJ Charun and guests from 9pm to 1am.
URL:https://golatindance.com/event/salsa-thursday-nights/2029-11-15/
LOCATION:Copper Blues Miami\, 3450 NW 83rd Ave #224\, Doral\, FL\, 33122\, United States
CATEGORIES:Miami
ATTACH;FMTTYPE=image/png:https://golatindance.com/wp-content/uploads/2024/12/CBMIA-Salsa-Night-Thursday-.png
END:VEVENT
BEGIN:VEVENT
DTSTART;TZID=America/New_York:20291122T210000
DTEND;TZID=America/New_York:20291123T010000
DTSTAMP:20260424T133757
CREATED:20251028T150829Z
LAST-MODIFIED:20251230T201454Z
UID:10408252-1890075600-1890090000@golatindance.com
SUMMARY:Salsa Thursday Nights
DESCRIPTION:Join for Salsa Night every Thursday at Copper Blues! Get ready for a night full of Latin rhythms\, great energy\, and non-stop dancing. \nStart the night with a free salsa lesson at 9:15pm\, then hit the dance floor with music by DJ Charun and guests from 9pm to 1am.
URL:https://golatindance.com/event/salsa-thursday-nights/2029-11-22/
LOCATION:Copper Blues Miami\, 3450 NW 83rd Ave #224\, Doral\, FL\, 33122\, United States
CATEGORIES:Miami
ATTACH;FMTTYPE=image/png:https://golatindance.com/wp-content/uploads/2024/12/CBMIA-Salsa-Night-Thursday-.png
END:VEVENT
BEGIN:VEVENT
DTSTART;TZID=America/New_York:20291129T210000
DTEND;TZID=America/New_York:20291130T010000
DTSTAMP:20260424T133757
CREATED:20251028T150829Z
LAST-MODIFIED:20251230T201454Z
UID:10408253-1890680400-1890694800@golatindance.com
SUMMARY:Salsa Thursday Nights
DESCRIPTION:Join for Salsa Night every Thursday at Copper Blues! Get ready for a night full of Latin rhythms\, great energy\, and non-stop dancing. \nStart the night with a free salsa lesson at 9:15pm\, then hit the dance floor with music by DJ Charun and guests from 9pm to 1am.
URL:https://golatindance.com/event/salsa-thursday-nights/2029-11-29/
LOCATION:Copper Blues Miami\, 3450 NW 83rd Ave #224\, Doral\, FL\, 33122\, United States
CATEGORIES:Miami
ATTACH;FMTTYPE=image/png:https://golatindance.com/wp-content/uploads/2024/12/CBMIA-Salsa-Night-Thursday-.png
END:VEVENT
BEGIN:VEVENT
DTSTART;TZID=America/New_York:20291206T210000
DTEND;TZID=America/New_York:20291207T010000
DTSTAMP:20260424T133757
CREATED:20251028T150829Z
LAST-MODIFIED:20251230T201454Z
UID:10408254-1891285200-1891299600@golatindance.com
SUMMARY:Salsa Thursday Nights
DESCRIPTION:Join for Salsa Night every Thursday at Copper Blues! Get ready for a night full of Latin rhythms\, great energy\, and non-stop dancing. \nStart the night with a free salsa lesson at 9:15pm\, then hit the dance floor with music by DJ Charun and guests from 9pm to 1am.
URL:https://golatindance.com/event/salsa-thursday-nights/2029-12-06/
LOCATION:Copper Blues Miami\, 3450 NW 83rd Ave #224\, Doral\, FL\, 33122\, United States
CATEGORIES:Miami
ATTACH;FMTTYPE=image/png:https://golatindance.com/wp-content/uploads/2024/12/CBMIA-Salsa-Night-Thursday-.png
END:VEVENT
BEGIN:VEVENT
DTSTART;TZID=America/New_York:20291213T210000
DTEND;TZID=America/New_York:20291214T010000
DTSTAMP:20260424T133757
CREATED:20251028T150829Z
LAST-MODIFIED:20251230T201454Z
UID:10408255-1891890000-1891904400@golatindance.com
SUMMARY:Salsa Thursday Nights
DESCRIPTION:Join for Salsa Night every Thursday at Copper Blues! Get ready for a night full of Latin rhythms\, great energy\, and non-stop dancing. \nStart the night with a free salsa lesson at 9:15pm\, then hit the dance floor with music by DJ Charun and guests from 9pm to 1am.
URL:https://golatindance.com/event/salsa-thursday-nights/2029-12-13/
LOCATION:Copper Blues Miami\, 3450 NW 83rd Ave #224\, Doral\, FL\, 33122\, United States
CATEGORIES:Miami
ATTACH;FMTTYPE=image/png:https://golatindance.com/wp-content/uploads/2024/12/CBMIA-Salsa-Night-Thursday-.png
END:VEVENT
BEGIN:VEVENT
DTSTART;TZID=America/New_York:20291220T210000
DTEND;TZID=America/New_York:20291221T010000
DTSTAMP:20260424T133757
CREATED:20251028T150829Z
LAST-MODIFIED:20251230T201454Z
UID:10408256-1892494800-1892509200@golatindance.com
SUMMARY:Salsa Thursday Nights
DESCRIPTION:Join for Salsa Night every Thursday at Copper Blues! Get ready for a night full of Latin rhythms\, great energy\, and non-stop dancing. \nStart the night with a free salsa lesson at 9:15pm\, then hit the dance floor with music by DJ Charun and guests from 9pm to 1am.
URL:https://golatindance.com/event/salsa-thursday-nights/2029-12-20/
LOCATION:Copper Blues Miami\, 3450 NW 83rd Ave #224\, Doral\, FL\, 33122\, United States
CATEGORIES:Miami
ATTACH;FMTTYPE=image/png:https://golatindance.com/wp-content/uploads/2024/12/CBMIA-Salsa-Night-Thursday-.png
END:VEVENT
BEGIN:VEVENT
DTSTART;TZID=America/New_York:20291227T210000
DTEND;TZID=America/New_York:20291228T010000
DTSTAMP:20260424T133757
CREATED:20251028T150829Z
LAST-MODIFIED:20251230T201454Z
UID:10408257-1893099600-1893114000@golatindance.com
SUMMARY:Salsa Thursday Nights
DESCRIPTION:Join for Salsa Night every Thursday at Copper Blues! Get ready for a night full of Latin rhythms\, great energy\, and non-stop dancing. \nStart the night with a free salsa lesson at 9:15pm\, then hit the dance floor with music by DJ Charun and guests from 9pm to 1am.
URL:https://golatindance.com/event/salsa-thursday-nights/2029-12-27/
LOCATION:Copper Blues Miami\, 3450 NW 83rd Ave #224\, Doral\, FL\, 33122\, United States
CATEGORIES:Miami
ATTACH;FMTTYPE=image/png:https://golatindance.com/wp-content/uploads/2024/12/CBMIA-Salsa-Night-Thursday-.png
END:VEVENT
BEGIN:VEVENT
DTSTART;TZID=America/New_York:20300103T210000
DTEND;TZID=America/New_York:20300104T010000
DTSTAMP:20260424T133757
CREATED:20251028T150829Z
LAST-MODIFIED:20251230T201454Z
UID:10408258-1893704400-1893718800@golatindance.com
SUMMARY:Salsa Thursday Nights
DESCRIPTION:Join for Salsa Night every Thursday at Copper Blues! Get ready for a night full of Latin rhythms\, great energy\, and non-stop dancing. \nStart the night with a free salsa lesson at 9:15pm\, then hit the dance floor with music by DJ Charun and guests from 9pm to 1am.
URL:https://golatindance.com/event/salsa-thursday-nights/2030-01-03/
LOCATION:Copper Blues Miami\, 3450 NW 83rd Ave #224\, Doral\, FL\, 33122\, United States
CATEGORIES:Miami
ATTACH;FMTTYPE=image/png:https://golatindance.com/wp-content/uploads/2024/12/CBMIA-Salsa-Night-Thursday-.png
END:VEVENT
BEGIN:VEVENT
DTSTART;TZID=America/New_York:20300110T210000
DTEND;TZID=America/New_York:20300111T010000
DTSTAMP:20260424T133757
CREATED:20251028T150829Z
LAST-MODIFIED:20251230T201454Z
UID:10408259-1894309200-1894323600@golatindance.com
SUMMARY:Salsa Thursday Nights
DESCRIPTION:Join for Salsa Night every Thursday at Copper Blues! Get ready for a night full of Latin rhythms\, great energy\, and non-stop dancing. \nStart the night with a free salsa lesson at 9:15pm\, then hit the dance floor with music by DJ Charun and guests from 9pm to 1am.
URL:https://golatindance.com/event/salsa-thursday-nights/2030-01-10/
LOCATION:Copper Blues Miami\, 3450 NW 83rd Ave #224\, Doral\, FL\, 33122\, United States
CATEGORIES:Miami
ATTACH;FMTTYPE=image/png:https://golatindance.com/wp-content/uploads/2024/12/CBMIA-Salsa-Night-Thursday-.png
END:VEVENT
BEGIN:VEVENT
DTSTART;TZID=America/New_York:20300117T210000
DTEND;TZID=America/New_York:20300118T010000
DTSTAMP:20260424T133757
CREATED:20251028T150829Z
LAST-MODIFIED:20251230T201454Z
UID:10408260-1894914000-1894928400@golatindance.com
SUMMARY:Salsa Thursday Nights
DESCRIPTION:Join for Salsa Night every Thursday at Copper Blues! Get ready for a night full of Latin rhythms\, great energy\, and non-stop dancing. \nStart the night with a free salsa lesson at 9:15pm\, then hit the dance floor with music by DJ Charun and guests from 9pm to 1am.
URL:https://golatindance.com/event/salsa-thursday-nights/2030-01-17/
LOCATION:Copper Blues Miami\, 3450 NW 83rd Ave #224\, Doral\, FL\, 33122\, United States
CATEGORIES:Miami
ATTACH;FMTTYPE=image/png:https://golatindance.com/wp-content/uploads/2024/12/CBMIA-Salsa-Night-Thursday-.png
END:VEVENT
BEGIN:VEVENT
DTSTART;TZID=America/New_York:20300124T210000
DTEND;TZID=America/New_York:20300125T010000
DTSTAMP:20260424T133757
CREATED:20251028T150829Z
LAST-MODIFIED:20251230T201454Z
UID:10408261-1895518800-1895533200@golatindance.com
SUMMARY:Salsa Thursday Nights
DESCRIPTION:Join for Salsa Night every Thursday at Copper Blues! Get ready for a night full of Latin rhythms\, great energy\, and non-stop dancing. \nStart the night with a free salsa lesson at 9:15pm\, then hit the dance floor with music by DJ Charun and guests from 9pm to 1am.
URL:https://golatindance.com/event/salsa-thursday-nights/2030-01-24/
LOCATION:Copper Blues Miami\, 3450 NW 83rd Ave #224\, Doral\, FL\, 33122\, United States
CATEGORIES:Miami
ATTACH;FMTTYPE=image/png:https://golatindance.com/wp-content/uploads/2024/12/CBMIA-Salsa-Night-Thursday-.png
END:VEVENT
BEGIN:VEVENT
DTSTART;TZID=America/New_York:20300131T210000
DTEND;TZID=America/New_York:20300201T010000
DTSTAMP:20260424T133757
CREATED:20251028T150829Z
LAST-MODIFIED:20251230T201454Z
UID:10408262-1896123600-1896138000@golatindance.com
SUMMARY:Salsa Thursday Nights
DESCRIPTION:Join for Salsa Night every Thursday at Copper Blues! Get ready for a night full of Latin rhythms\, great energy\, and non-stop dancing. \nStart the night with a free salsa lesson at 9:15pm\, then hit the dance floor with music by DJ Charun and guests from 9pm to 1am.
URL:https://golatindance.com/event/salsa-thursday-nights/2030-01-31/
LOCATION:Copper Blues Miami\, 3450 NW 83rd Ave #224\, Doral\, FL\, 33122\, United States
CATEGORIES:Miami
ATTACH;FMTTYPE=image/png:https://golatindance.com/wp-content/uploads/2024/12/CBMIA-Salsa-Night-Thursday-.png
END:VEVENT
BEGIN:VEVENT
DTSTART;TZID=America/New_York:20300207T210000
DTEND;TZID=America/New_York:20300208T010000
DTSTAMP:20260424T133757
CREATED:20251028T150829Z
LAST-MODIFIED:20251230T201454Z
UID:10408263-1896728400-1896742800@golatindance.com
SUMMARY:Salsa Thursday Nights
DESCRIPTION:Join for Salsa Night every Thursday at Copper Blues! Get ready for a night full of Latin rhythms\, great energy\, and non-stop dancing. \nStart the night with a free salsa lesson at 9:15pm\, then hit the dance floor with music by DJ Charun and guests from 9pm to 1am.
URL:https://golatindance.com/event/salsa-thursday-nights/2030-02-07/
LOCATION:Copper Blues Miami\, 3450 NW 83rd Ave #224\, Doral\, FL\, 33122\, United States
CATEGORIES:Miami
ATTACH;FMTTYPE=image/png:https://golatindance.com/wp-content/uploads/2024/12/CBMIA-Salsa-Night-Thursday-.png
END:VEVENT
BEGIN:VEVENT
DTSTART;TZID=America/New_York:20300214T210000
DTEND;TZID=America/New_York:20300215T010000
DTSTAMP:20260424T133757
CREATED:20251028T150829Z
LAST-MODIFIED:20251230T201454Z
UID:10408264-1897333200-1897347600@golatindance.com
SUMMARY:Salsa Thursday Nights
DESCRIPTION:Join for Salsa Night every Thursday at Copper Blues! Get ready for a night full of Latin rhythms\, great energy\, and non-stop dancing. \nStart the night with a free salsa lesson at 9:15pm\, then hit the dance floor with music by DJ Charun and guests from 9pm to 1am.
URL:https://golatindance.com/event/salsa-thursday-nights/2030-02-14/
LOCATION:Copper Blues Miami\, 3450 NW 83rd Ave #224\, Doral\, FL\, 33122\, United States
CATEGORIES:Miami
ATTACH;FMTTYPE=image/png:https://golatindance.com/wp-content/uploads/2024/12/CBMIA-Salsa-Night-Thursday-.png
END:VEVENT
BEGIN:VEVENT
DTSTART;TZID=America/New_York:20300221T210000
DTEND;TZID=America/New_York:20300222T010000
DTSTAMP:20260424T133757
CREATED:20251028T150829Z
LAST-MODIFIED:20251230T201454Z
UID:10408265-1897938000-1897952400@golatindance.com
SUMMARY:Salsa Thursday Nights
DESCRIPTION:Join for Salsa Night every Thursday at Copper Blues! Get ready for a night full of Latin rhythms\, great energy\, and non-stop dancing. \nStart the night with a free salsa lesson at 9:15pm\, then hit the dance floor with music by DJ Charun and guests from 9pm to 1am.
URL:https://golatindance.com/event/salsa-thursday-nights/2030-02-21/
LOCATION:Copper Blues Miami\, 3450 NW 83rd Ave #224\, Doral\, FL\, 33122\, United States
CATEGORIES:Miami
ATTACH;FMTTYPE=image/png:https://golatindance.com/wp-content/uploads/2024/12/CBMIA-Salsa-Night-Thursday-.png
END:VEVENT
BEGIN:VEVENT
DTSTART;TZID=America/New_York:20300228T210000
DTEND;TZID=America/New_York:20300301T010000
DTSTAMP:20260424T133757
CREATED:20251028T150829Z
LAST-MODIFIED:20251230T201454Z
UID:10408266-1898542800-1898557200@golatindance.com
SUMMARY:Salsa Thursday Nights
DESCRIPTION:Join for Salsa Night every Thursday at Copper Blues! Get ready for a night full of Latin rhythms\, great energy\, and non-stop dancing. \nStart the night with a free salsa lesson at 9:15pm\, then hit the dance floor with music by DJ Charun and guests from 9pm to 1am.
URL:https://golatindance.com/event/salsa-thursday-nights/2030-02-28/
LOCATION:Copper Blues Miami\, 3450 NW 83rd Ave #224\, Doral\, FL\, 33122\, United States
CATEGORIES:Miami
ATTACH;FMTTYPE=image/png:https://golatindance.com/wp-content/uploads/2024/12/CBMIA-Salsa-Night-Thursday-.png
END:VEVENT
BEGIN:VEVENT
DTSTART;TZID=America/New_York:20300307T210000
DTEND;TZID=America/New_York:20300308T010000
DTSTAMP:20260424T133757
CREATED:20251028T150829Z
LAST-MODIFIED:20251230T201454Z
UID:10408267-1899147600-1899162000@golatindance.com
SUMMARY:Salsa Thursday Nights
DESCRIPTION:Join for Salsa Night every Thursday at Copper Blues! Get ready for a night full of Latin rhythms\, great energy\, and non-stop dancing. \nStart the night with a free salsa lesson at 9:15pm\, then hit the dance floor with music by DJ Charun and guests from 9pm to 1am.
URL:https://golatindance.com/event/salsa-thursday-nights/2030-03-07/
LOCATION:Copper Blues Miami\, 3450 NW 83rd Ave #224\, Doral\, FL\, 33122\, United States
CATEGORIES:Miami
ATTACH;FMTTYPE=image/png:https://golatindance.com/wp-content/uploads/2024/12/CBMIA-Salsa-Night-Thursday-.png
END:VEVENT
BEGIN:VEVENT
DTSTART;TZID=America/New_York:20300314T210000
DTEND;TZID=America/New_York:20300315T010000
DTSTAMP:20260424T133757
CREATED:20251028T150829Z
LAST-MODIFIED:20251230T201454Z
UID:10408268-1899752400-1899766800@golatindance.com
SUMMARY:Salsa Thursday Nights
DESCRIPTION:Join for Salsa Night every Thursday at Copper Blues! Get ready for a night full of Latin rhythms\, great energy\, and non-stop dancing. \nStart the night with a free salsa lesson at 9:15pm\, then hit the dance floor with music by DJ Charun and guests from 9pm to 1am.
URL:https://golatindance.com/event/salsa-thursday-nights/2030-03-14/
LOCATION:Copper Blues Miami\, 3450 NW 83rd Ave #224\, Doral\, FL\, 33122\, United States
CATEGORIES:Miami
ATTACH;FMTTYPE=image/png:https://golatindance.com/wp-content/uploads/2024/12/CBMIA-Salsa-Night-Thursday-.png
END:VEVENT
BEGIN:VEVENT
DTSTART;TZID=America/New_York:20300321T210000
DTEND;TZID=America/New_York:20300322T010000
DTSTAMP:20260424T133757
CREATED:20251028T150829Z
LAST-MODIFIED:20251230T201454Z
UID:10408269-1900357200-1900371600@golatindance.com
SUMMARY:Salsa Thursday Nights
DESCRIPTION:Join for Salsa Night every Thursday at Copper Blues! Get ready for a night full of Latin rhythms\, great energy\, and non-stop dancing. \nStart the night with a free salsa lesson at 9:15pm\, then hit the dance floor with music by DJ Charun and guests from 9pm to 1am.
URL:https://golatindance.com/event/salsa-thursday-nights/2030-03-21/
LOCATION:Copper Blues Miami\, 3450 NW 83rd Ave #224\, Doral\, FL\, 33122\, United States
CATEGORIES:Miami
ATTACH;FMTTYPE=image/png:https://golatindance.com/wp-content/uploads/2024/12/CBMIA-Salsa-Night-Thursday-.png
END:VEVENT
BEGIN:VEVENT
DTSTART;TZID=America/New_York:20300328T210000
DTEND;TZID=America/New_York:20300329T010000
DTSTAMP:20260424T133757
CREATED:20251028T150829Z
LAST-MODIFIED:20251230T201454Z
UID:10408270-1900962000-1900976400@golatindance.com
SUMMARY:Salsa Thursday Nights
DESCRIPTION:Join for Salsa Night every Thursday at Copper Blues! Get ready for a night full of Latin rhythms\, great energy\, and non-stop dancing. \nStart the night with a free salsa lesson at 9:15pm\, then hit the dance floor with music by DJ Charun and guests from 9pm to 1am.
URL:https://golatindance.com/event/salsa-thursday-nights/2030-03-28/
LOCATION:Copper Blues Miami\, 3450 NW 83rd Ave #224\, Doral\, FL\, 33122\, United States
CATEGORIES:Miami
ATTACH;FMTTYPE=image/png:https://golatindance.com/wp-content/uploads/2024/12/CBMIA-Salsa-Night-Thursday-.png
END:VEVENT
BEGIN:VEVENT
DTSTART;TZID=America/New_York:20300404T210000
DTEND;TZID=America/New_York:20300405T010000
DTSTAMP:20260424T133757
CREATED:20251028T150829Z
LAST-MODIFIED:20251230T201454Z
UID:10408271-1901566800-1901581200@golatindance.com
SUMMARY:Salsa Thursday Nights
DESCRIPTION:Join for Salsa Night every Thursday at Copper Blues! Get ready for a night full of Latin rhythms\, great energy\, and non-stop dancing. \nStart the night with a free salsa lesson at 9:15pm\, then hit the dance floor with music by DJ Charun and guests from 9pm to 1am.
URL:https://golatindance.com/event/salsa-thursday-nights/2030-04-04/
LOCATION:Copper Blues Miami\, 3450 NW 83rd Ave #224\, Doral\, FL\, 33122\, United States
CATEGORIES:Miami
ATTACH;FMTTYPE=image/png:https://golatindance.com/wp-content/uploads/2024/12/CBMIA-Salsa-Night-Thursday-.png
END:VEVENT
BEGIN:VEVENT
DTSTART;TZID=America/New_York:20300411T210000
DTEND;TZID=America/New_York:20300412T010000
DTSTAMP:20260424T133757
CREATED:20251028T150829Z
LAST-MODIFIED:20251230T201454Z
UID:10408272-1902171600-1902186000@golatindance.com
SUMMARY:Salsa Thursday Nights
DESCRIPTION:Join for Salsa Night every Thursday at Copper Blues! Get ready for a night full of Latin rhythms\, great energy\, and non-stop dancing. \nStart the night with a free salsa lesson at 9:15pm\, then hit the dance floor with music by DJ Charun and guests from 9pm to 1am.
URL:https://golatindance.com/event/salsa-thursday-nights/2030-04-11/
LOCATION:Copper Blues Miami\, 3450 NW 83rd Ave #224\, Doral\, FL\, 33122\, United States
CATEGORIES:Miami
ATTACH;FMTTYPE=image/png:https://golatindance.com/wp-content/uploads/2024/12/CBMIA-Salsa-Night-Thursday-.png
END:VEVENT
BEGIN:VEVENT
DTSTART;TZID=America/New_York:20300418T210000
DTEND;TZID=America/New_York:20300419T010000
DTSTAMP:20260424T133757
CREATED:20251028T150829Z
LAST-MODIFIED:20251230T201454Z
UID:10408273-1902776400-1902790800@golatindance.com
SUMMARY:Salsa Thursday Nights
DESCRIPTION:Join for Salsa Night every Thursday at Copper Blues! Get ready for a night full of Latin rhythms\, great energy\, and non-stop dancing. \nStart the night with a free salsa lesson at 9:15pm\, then hit the dance floor with music by DJ Charun and guests from 9pm to 1am.
URL:https://golatindance.com/event/salsa-thursday-nights/2030-04-18/
LOCATION:Copper Blues Miami\, 3450 NW 83rd Ave #224\, Doral\, FL\, 33122\, United States
CATEGORIES:Miami
ATTACH;FMTTYPE=image/png:https://golatindance.com/wp-content/uploads/2024/12/CBMIA-Salsa-Night-Thursday-.png
END:VEVENT
BEGIN:VEVENT
DTSTART;TZID=America/New_York:20300425T210000
DTEND;TZID=America/New_York:20300426T010000
DTSTAMP:20260424T133757
CREATED:20251028T150829Z
LAST-MODIFIED:20251230T201454Z
UID:10408274-1903381200-1903395600@golatindance.com
SUMMARY:Salsa Thursday Nights
DESCRIPTION:Join for Salsa Night every Thursday at Copper Blues! Get ready for a night full of Latin rhythms\, great energy\, and non-stop dancing. \nStart the night with a free salsa lesson at 9:15pm\, then hit the dance floor with music by DJ Charun and guests from 9pm to 1am.
URL:https://golatindance.com/event/salsa-thursday-nights/2030-04-25/
LOCATION:Copper Blues Miami\, 3450 NW 83rd Ave #224\, Doral\, FL\, 33122\, United States
CATEGORIES:Miami
ATTACH;FMTTYPE=image/png:https://golatindance.com/wp-content/uploads/2024/12/CBMIA-Salsa-Night-Thursday-.png
END:VEVENT
BEGIN:VEVENT
DTSTART;TZID=America/New_York:20300502T210000
DTEND;TZID=America/New_York:20300503T010000
DTSTAMP:20260424T133757
CREATED:20251028T150829Z
LAST-MODIFIED:20251230T201454Z
UID:10408275-1903986000-1904000400@golatindance.com
SUMMARY:Salsa Thursday Nights
DESCRIPTION:Join for Salsa Night every Thursday at Copper Blues! Get ready for a night full of Latin rhythms\, great energy\, and non-stop dancing. \nStart the night with a free salsa lesson at 9:15pm\, then hit the dance floor with music by DJ Charun and guests from 9pm to 1am.
URL:https://golatindance.com/event/salsa-thursday-nights/2030-05-02/
LOCATION:Copper Blues Miami\, 3450 NW 83rd Ave #224\, Doral\, FL\, 33122\, United States
CATEGORIES:Miami
ATTACH;FMTTYPE=image/png:https://golatindance.com/wp-content/uploads/2024/12/CBMIA-Salsa-Night-Thursday-.png
END:VEVENT
END:VCALENDAR