BEGIN:VCALENDAR
VERSION:2.0
PRODID:-//GO Latin Dance - ECPv6.15.18//NONSGML v1.0//EN
CALSCALE:GREGORIAN
METHOD:PUBLISH
X-WR-CALNAME:GO Latin Dance
X-ORIGINAL-URL:https://golatindance.com
X-WR-CALDESC:Events for GO Latin Dance
REFRESH-INTERVAL;VALUE=DURATION:PT1H
X-Robots-Tag:noindex
X-PUBLISHED-TTL:PT1H
BEGIN:VTIMEZONE
TZID:America/New_York
BEGIN:DAYLIGHT
TZOFFSETFROM:-0500
TZOFFSETTO:-0400
TZNAME:EDT
DTSTART:20230312T070000
END:DAYLIGHT
BEGIN:STANDARD
TZOFFSETFROM:-0400
TZOFFSETTO:-0500
TZNAME:EST
DTSTART:20231105T060000
END:STANDARD
BEGIN:DAYLIGHT
TZOFFSETFROM:-0500
TZOFFSETTO:-0400
TZNAME:EDT
DTSTART:20240310T070000
END:DAYLIGHT
BEGIN:STANDARD
TZOFFSETFROM:-0400
TZOFFSETTO:-0500
TZNAME:EST
DTSTART:20241103T060000
END:STANDARD
BEGIN:DAYLIGHT
TZOFFSETFROM:-0500
TZOFFSETTO:-0400
TZNAME:EDT
DTSTART:20250309T070000
END:DAYLIGHT
BEGIN:STANDARD
TZOFFSETFROM:-0400
TZOFFSETTO:-0500
TZNAME:EST
DTSTART:20251102T060000
END:STANDARD
END:VTIMEZONE
BEGIN:VEVENT
DTSTART;TZID=America/New_York:20240727T220000
DTEND;TZID=America/New_York:20240728T020000
DTSTAMP:20260424T075733
CREATED:20221111T155331Z
LAST-MODIFIED:20230512T132625Z
UID:10050280-1722117600-1722132000@golatindance.com
SUMMARY:Cuba Libre Orlando Latin Saturday Nights
DESCRIPTION:EVERY SATURDAY! \nDJ & Dancing: 10PM-2AM \nJoin us on Saturday for dinner starting at 5PM followed by our transition into Viva La Noche Saturdays at 10PM. Our DJ will keep you dancing till 2AM with club hits\, salsa\, merengue\, bachata\, and reggaeton. Two rooms to dance: Latin mix in main room\, tropical on patio.
URL:https://golatindance.com/event/cuba-libre-orlando-latin-saturday-nights/2024-07-27/
LOCATION:Cuba Libre – Orlando\, 9101 International Drive\, Orlando\, FL\, 32189\, United States
CATEGORIES:Orlando
ATTACH;FMTTYPE=image/jpeg:https://golatindance.com/wp-content/uploads/2022/11/345450011_786082726218299_4464510503569284563_n.jpg
END:VEVENT
BEGIN:VEVENT
DTSTART;TZID=America/New_York:20240726T193000
DTEND;TZID=America/New_York:20240727T020000
DTSTAMP:20260424T075733
CREATED:20221111T155235Z
LAST-MODIFIED:20230512T132507Z
UID:10050022-1722022200-1722045600@golatindance.com
SUMMARY:Cuba Libre Orlando Latin Friday Nights
DESCRIPTION:EVERY FRIDAY! \nLive Band\, DJ & Dancing: 7:30PM-2AM \nJoin us on Friday for a live salsa band during dinner from 7:30pm-10pm. Band alternates with DJ for Cuba Libre Nights from 10pm-2am.
URL:https://golatindance.com/event/cuba-libre-latin-friday-nights/2024-07-26/
LOCATION:Cuba Libre – Orlando\, 9101 International Drive\, Orlando\, FL\, 32189\, United States
CATEGORIES:Orlando
ATTACH;FMTTYPE=image/jpeg:https://golatindance.com/wp-content/uploads/2022/11/346477567_1461324308007592_3902394052545028902_n.jpg
END:VEVENT
BEGIN:VEVENT
DTSTART;TZID=America/New_York:20240720T220000
DTEND;TZID=America/New_York:20240721T020000
DTSTAMP:20260424T075733
CREATED:20221111T155331Z
LAST-MODIFIED:20230512T132625Z
UID:10050279-1721512800-1721527200@golatindance.com
SUMMARY:Cuba Libre Orlando Latin Saturday Nights
DESCRIPTION:EVERY SATURDAY! \nDJ & Dancing: 10PM-2AM \nJoin us on Saturday for dinner starting at 5PM followed by our transition into Viva La Noche Saturdays at 10PM. Our DJ will keep you dancing till 2AM with club hits\, salsa\, merengue\, bachata\, and reggaeton. Two rooms to dance: Latin mix in main room\, tropical on patio.
URL:https://golatindance.com/event/cuba-libre-orlando-latin-saturday-nights/2024-07-20/
LOCATION:Cuba Libre – Orlando\, 9101 International Drive\, Orlando\, FL\, 32189\, United States
CATEGORIES:Orlando
ATTACH;FMTTYPE=image/jpeg:https://golatindance.com/wp-content/uploads/2022/11/345450011_786082726218299_4464510503569284563_n.jpg
END:VEVENT
BEGIN:VEVENT
DTSTART;TZID=America/New_York:20240719T193000
DTEND;TZID=America/New_York:20240720T020000
DTSTAMP:20260424T075733
CREATED:20221111T155235Z
LAST-MODIFIED:20230512T132507Z
UID:10050021-1721417400-1721440800@golatindance.com
SUMMARY:Cuba Libre Orlando Latin Friday Nights
DESCRIPTION:EVERY FRIDAY! \nLive Band\, DJ & Dancing: 7:30PM-2AM \nJoin us on Friday for a live salsa band during dinner from 7:30pm-10pm. Band alternates with DJ for Cuba Libre Nights from 10pm-2am.
URL:https://golatindance.com/event/cuba-libre-latin-friday-nights/2024-07-19/
LOCATION:Cuba Libre – Orlando\, 9101 International Drive\, Orlando\, FL\, 32189\, United States
CATEGORIES:Orlando
ATTACH;FMTTYPE=image/jpeg:https://golatindance.com/wp-content/uploads/2022/11/346477567_1461324308007592_3902394052545028902_n.jpg
END:VEVENT
BEGIN:VEVENT
DTSTART;TZID=America/New_York:20240713T220000
DTEND;TZID=America/New_York:20240714T020000
DTSTAMP:20260424T075733
CREATED:20221111T155331Z
LAST-MODIFIED:20230512T132625Z
UID:10050278-1720908000-1720922400@golatindance.com
SUMMARY:Cuba Libre Orlando Latin Saturday Nights
DESCRIPTION:EVERY SATURDAY! \nDJ & Dancing: 10PM-2AM \nJoin us on Saturday for dinner starting at 5PM followed by our transition into Viva La Noche Saturdays at 10PM. Our DJ will keep you dancing till 2AM with club hits\, salsa\, merengue\, bachata\, and reggaeton. Two rooms to dance: Latin mix in main room\, tropical on patio.
URL:https://golatindance.com/event/cuba-libre-orlando-latin-saturday-nights/2024-07-13/
LOCATION:Cuba Libre – Orlando\, 9101 International Drive\, Orlando\, FL\, 32189\, United States
CATEGORIES:Orlando
ATTACH;FMTTYPE=image/jpeg:https://golatindance.com/wp-content/uploads/2022/11/345450011_786082726218299_4464510503569284563_n.jpg
END:VEVENT
BEGIN:VEVENT
DTSTART;TZID=America/New_York:20240712T193000
DTEND;TZID=America/New_York:20240713T020000
DTSTAMP:20260424T075733
CREATED:20221111T155235Z
LAST-MODIFIED:20230512T132507Z
UID:10050020-1720812600-1720836000@golatindance.com
SUMMARY:Cuba Libre Orlando Latin Friday Nights
DESCRIPTION:EVERY FRIDAY! \nLive Band\, DJ & Dancing: 7:30PM-2AM \nJoin us on Friday for a live salsa band during dinner from 7:30pm-10pm. Band alternates with DJ for Cuba Libre Nights from 10pm-2am.
URL:https://golatindance.com/event/cuba-libre-latin-friday-nights/2024-07-12/
LOCATION:Cuba Libre – Orlando\, 9101 International Drive\, Orlando\, FL\, 32189\, United States
CATEGORIES:Orlando
ATTACH;FMTTYPE=image/jpeg:https://golatindance.com/wp-content/uploads/2022/11/346477567_1461324308007592_3902394052545028902_n.jpg
END:VEVENT
BEGIN:VEVENT
DTSTART;TZID=America/New_York:20240706T220000
DTEND;TZID=America/New_York:20240707T020000
DTSTAMP:20260424T075733
CREATED:20221111T155331Z
LAST-MODIFIED:20230512T132625Z
UID:10050277-1720303200-1720317600@golatindance.com
SUMMARY:Cuba Libre Orlando Latin Saturday Nights
DESCRIPTION:EVERY SATURDAY! \nDJ & Dancing: 10PM-2AM \nJoin us on Saturday for dinner starting at 5PM followed by our transition into Viva La Noche Saturdays at 10PM. Our DJ will keep you dancing till 2AM with club hits\, salsa\, merengue\, bachata\, and reggaeton. Two rooms to dance: Latin mix in main room\, tropical on patio.
URL:https://golatindance.com/event/cuba-libre-orlando-latin-saturday-nights/2024-07-06/
LOCATION:Cuba Libre – Orlando\, 9101 International Drive\, Orlando\, FL\, 32189\, United States
CATEGORIES:Orlando
ATTACH;FMTTYPE=image/jpeg:https://golatindance.com/wp-content/uploads/2022/11/345450011_786082726218299_4464510503569284563_n.jpg
END:VEVENT
BEGIN:VEVENT
DTSTART;TZID=America/New_York:20240705T193000
DTEND;TZID=America/New_York:20240706T020000
DTSTAMP:20260424T075733
CREATED:20221111T155235Z
LAST-MODIFIED:20230512T132507Z
UID:10050019-1720207800-1720231200@golatindance.com
SUMMARY:Cuba Libre Orlando Latin Friday Nights
DESCRIPTION:EVERY FRIDAY! \nLive Band\, DJ & Dancing: 7:30PM-2AM \nJoin us on Friday for a live salsa band during dinner from 7:30pm-10pm. Band alternates with DJ for Cuba Libre Nights from 10pm-2am.
URL:https://golatindance.com/event/cuba-libre-latin-friday-nights/2024-07-05/
LOCATION:Cuba Libre – Orlando\, 9101 International Drive\, Orlando\, FL\, 32189\, United States
CATEGORIES:Orlando
ATTACH;FMTTYPE=image/jpeg:https://golatindance.com/wp-content/uploads/2022/11/346477567_1461324308007592_3902394052545028902_n.jpg
END:VEVENT
BEGIN:VEVENT
DTSTART;TZID=America/New_York:20240629T220000
DTEND;TZID=America/New_York:20240630T020000
DTSTAMP:20260424T075733
CREATED:20221111T155331Z
LAST-MODIFIED:20230512T132625Z
UID:10050276-1719698400-1719712800@golatindance.com
SUMMARY:Cuba Libre Orlando Latin Saturday Nights
DESCRIPTION:EVERY SATURDAY! \nDJ & Dancing: 10PM-2AM \nJoin us on Saturday for dinner starting at 5PM followed by our transition into Viva La Noche Saturdays at 10PM. Our DJ will keep you dancing till 2AM with club hits\, salsa\, merengue\, bachata\, and reggaeton. Two rooms to dance: Latin mix in main room\, tropical on patio.
URL:https://golatindance.com/event/cuba-libre-orlando-latin-saturday-nights/2024-06-29/
LOCATION:Cuba Libre – Orlando\, 9101 International Drive\, Orlando\, FL\, 32189\, United States
CATEGORIES:Orlando
ATTACH;FMTTYPE=image/jpeg:https://golatindance.com/wp-content/uploads/2022/11/345450011_786082726218299_4464510503569284563_n.jpg
END:VEVENT
BEGIN:VEVENT
DTSTART;TZID=America/New_York:20240628T193000
DTEND;TZID=America/New_York:20240629T020000
DTSTAMP:20260424T075733
CREATED:20221111T155235Z
LAST-MODIFIED:20230512T132507Z
UID:10050018-1719603000-1719626400@golatindance.com
SUMMARY:Cuba Libre Orlando Latin Friday Nights
DESCRIPTION:EVERY FRIDAY! \nLive Band\, DJ & Dancing: 7:30PM-2AM \nJoin us on Friday for a live salsa band during dinner from 7:30pm-10pm. Band alternates with DJ for Cuba Libre Nights from 10pm-2am.
URL:https://golatindance.com/event/cuba-libre-latin-friday-nights/2024-06-28/
LOCATION:Cuba Libre – Orlando\, 9101 International Drive\, Orlando\, FL\, 32189\, United States
CATEGORIES:Orlando
ATTACH;FMTTYPE=image/jpeg:https://golatindance.com/wp-content/uploads/2022/11/346477567_1461324308007592_3902394052545028902_n.jpg
END:VEVENT
BEGIN:VEVENT
DTSTART;TZID=America/New_York:20240622T220000
DTEND;TZID=America/New_York:20240623T020000
DTSTAMP:20260424T075733
CREATED:20221111T155331Z
LAST-MODIFIED:20230512T132625Z
UID:10050275-1719093600-1719108000@golatindance.com
SUMMARY:Cuba Libre Orlando Latin Saturday Nights
DESCRIPTION:EVERY SATURDAY! \nDJ & Dancing: 10PM-2AM \nJoin us on Saturday for dinner starting at 5PM followed by our transition into Viva La Noche Saturdays at 10PM. Our DJ will keep you dancing till 2AM with club hits\, salsa\, merengue\, bachata\, and reggaeton. Two rooms to dance: Latin mix in main room\, tropical on patio.
URL:https://golatindance.com/event/cuba-libre-orlando-latin-saturday-nights/2024-06-22/
LOCATION:Cuba Libre – Orlando\, 9101 International Drive\, Orlando\, FL\, 32189\, United States
CATEGORIES:Orlando
ATTACH;FMTTYPE=image/jpeg:https://golatindance.com/wp-content/uploads/2022/11/345450011_786082726218299_4464510503569284563_n.jpg
END:VEVENT
BEGIN:VEVENT
DTSTART;TZID=America/New_York:20240621T193000
DTEND;TZID=America/New_York:20240622T020000
DTSTAMP:20260424T075733
CREATED:20221111T155235Z
LAST-MODIFIED:20230512T132507Z
UID:10050017-1718998200-1719021600@golatindance.com
SUMMARY:Cuba Libre Orlando Latin Friday Nights
DESCRIPTION:EVERY FRIDAY! \nLive Band\, DJ & Dancing: 7:30PM-2AM \nJoin us on Friday for a live salsa band during dinner from 7:30pm-10pm. Band alternates with DJ for Cuba Libre Nights from 10pm-2am.
URL:https://golatindance.com/event/cuba-libre-latin-friday-nights/2024-06-21/
LOCATION:Cuba Libre – Orlando\, 9101 International Drive\, Orlando\, FL\, 32189\, United States
CATEGORIES:Orlando
ATTACH;FMTTYPE=image/jpeg:https://golatindance.com/wp-content/uploads/2022/11/346477567_1461324308007592_3902394052545028902_n.jpg
END:VEVENT
BEGIN:VEVENT
DTSTART;TZID=America/New_York:20240615T220000
DTEND;TZID=America/New_York:20240616T020000
DTSTAMP:20260424T075733
CREATED:20221111T155331Z
LAST-MODIFIED:20230512T132625Z
UID:10050274-1718488800-1718503200@golatindance.com
SUMMARY:Cuba Libre Orlando Latin Saturday Nights
DESCRIPTION:EVERY SATURDAY! \nDJ & Dancing: 10PM-2AM \nJoin us on Saturday for dinner starting at 5PM followed by our transition into Viva La Noche Saturdays at 10PM. Our DJ will keep you dancing till 2AM with club hits\, salsa\, merengue\, bachata\, and reggaeton. Two rooms to dance: Latin mix in main room\, tropical on patio.
URL:https://golatindance.com/event/cuba-libre-orlando-latin-saturday-nights/2024-06-15/
LOCATION:Cuba Libre – Orlando\, 9101 International Drive\, Orlando\, FL\, 32189\, United States
CATEGORIES:Orlando
ATTACH;FMTTYPE=image/jpeg:https://golatindance.com/wp-content/uploads/2022/11/345450011_786082726218299_4464510503569284563_n.jpg
END:VEVENT
BEGIN:VEVENT
DTSTART;TZID=America/New_York:20240614T193000
DTEND;TZID=America/New_York:20240615T020000
DTSTAMP:20260424T075733
CREATED:20221111T155235Z
LAST-MODIFIED:20230512T132507Z
UID:10050016-1718393400-1718416800@golatindance.com
SUMMARY:Cuba Libre Orlando Latin Friday Nights
DESCRIPTION:EVERY FRIDAY! \nLive Band\, DJ & Dancing: 7:30PM-2AM \nJoin us on Friday for a live salsa band during dinner from 7:30pm-10pm. Band alternates with DJ for Cuba Libre Nights from 10pm-2am.
URL:https://golatindance.com/event/cuba-libre-latin-friday-nights/2024-06-14/
LOCATION:Cuba Libre – Orlando\, 9101 International Drive\, Orlando\, FL\, 32189\, United States
CATEGORIES:Orlando
ATTACH;FMTTYPE=image/jpeg:https://golatindance.com/wp-content/uploads/2022/11/346477567_1461324308007592_3902394052545028902_n.jpg
END:VEVENT
BEGIN:VEVENT
DTSTART;TZID=America/New_York:20240608T220000
DTEND;TZID=America/New_York:20240609T020000
DTSTAMP:20260424T075733
CREATED:20221111T155331Z
LAST-MODIFIED:20230512T132625Z
UID:10050273-1717884000-1717898400@golatindance.com
SUMMARY:Cuba Libre Orlando Latin Saturday Nights
DESCRIPTION:EVERY SATURDAY! \nDJ & Dancing: 10PM-2AM \nJoin us on Saturday for dinner starting at 5PM followed by our transition into Viva La Noche Saturdays at 10PM. Our DJ will keep you dancing till 2AM with club hits\, salsa\, merengue\, bachata\, and reggaeton. Two rooms to dance: Latin mix in main room\, tropical on patio.
URL:https://golatindance.com/event/cuba-libre-orlando-latin-saturday-nights/2024-06-08/
LOCATION:Cuba Libre – Orlando\, 9101 International Drive\, Orlando\, FL\, 32189\, United States
CATEGORIES:Orlando
ATTACH;FMTTYPE=image/jpeg:https://golatindance.com/wp-content/uploads/2022/11/345450011_786082726218299_4464510503569284563_n.jpg
END:VEVENT
BEGIN:VEVENT
DTSTART;TZID=America/New_York:20240607T193000
DTEND;TZID=America/New_York:20240608T020000
DTSTAMP:20260424T075733
CREATED:20221111T155235Z
LAST-MODIFIED:20230512T132507Z
UID:10050015-1717788600-1717812000@golatindance.com
SUMMARY:Cuba Libre Orlando Latin Friday Nights
DESCRIPTION:EVERY FRIDAY! \nLive Band\, DJ & Dancing: 7:30PM-2AM \nJoin us on Friday for a live salsa band during dinner from 7:30pm-10pm. Band alternates with DJ for Cuba Libre Nights from 10pm-2am.
URL:https://golatindance.com/event/cuba-libre-latin-friday-nights/2024-06-07/
LOCATION:Cuba Libre – Orlando\, 9101 International Drive\, Orlando\, FL\, 32189\, United States
CATEGORIES:Orlando
ATTACH;FMTTYPE=image/jpeg:https://golatindance.com/wp-content/uploads/2022/11/346477567_1461324308007592_3902394052545028902_n.jpg
END:VEVENT
BEGIN:VEVENT
DTSTART;TZID=America/New_York:20240601T220000
DTEND;TZID=America/New_York:20240602T020000
DTSTAMP:20260424T075734
CREATED:20221111T155331Z
LAST-MODIFIED:20230512T132625Z
UID:10050272-1717279200-1717293600@golatindance.com
SUMMARY:Cuba Libre Orlando Latin Saturday Nights
DESCRIPTION:EVERY SATURDAY! \nDJ & Dancing: 10PM-2AM \nJoin us on Saturday for dinner starting at 5PM followed by our transition into Viva La Noche Saturdays at 10PM. Our DJ will keep you dancing till 2AM with club hits\, salsa\, merengue\, bachata\, and reggaeton. Two rooms to dance: Latin mix in main room\, tropical on patio.
URL:https://golatindance.com/event/cuba-libre-orlando-latin-saturday-nights/2024-06-01/
LOCATION:Cuba Libre – Orlando\, 9101 International Drive\, Orlando\, FL\, 32189\, United States
CATEGORIES:Orlando
ATTACH;FMTTYPE=image/jpeg:https://golatindance.com/wp-content/uploads/2022/11/345450011_786082726218299_4464510503569284563_n.jpg
END:VEVENT
BEGIN:VEVENT
DTSTART;TZID=America/New_York:20240531T193000
DTEND;TZID=America/New_York:20240601T020000
DTSTAMP:20260424T075734
CREATED:20221111T155235Z
LAST-MODIFIED:20230512T132507Z
UID:10050014-1717183800-1717207200@golatindance.com
SUMMARY:Cuba Libre Orlando Latin Friday Nights
DESCRIPTION:EVERY FRIDAY! \nLive Band\, DJ & Dancing: 7:30PM-2AM \nJoin us on Friday for a live salsa band during dinner from 7:30pm-10pm. Band alternates with DJ for Cuba Libre Nights from 10pm-2am.
URL:https://golatindance.com/event/cuba-libre-latin-friday-nights/2024-05-31/
LOCATION:Cuba Libre – Orlando\, 9101 International Drive\, Orlando\, FL\, 32189\, United States
CATEGORIES:Orlando
ATTACH;FMTTYPE=image/jpeg:https://golatindance.com/wp-content/uploads/2022/11/346477567_1461324308007592_3902394052545028902_n.jpg
END:VEVENT
BEGIN:VEVENT
DTSTART;TZID=America/New_York:20240525T220000
DTEND;TZID=America/New_York:20240526T020000
DTSTAMP:20260424T075734
CREATED:20221111T155331Z
LAST-MODIFIED:20230512T132625Z
UID:10050271-1716674400-1716688800@golatindance.com
SUMMARY:Cuba Libre Orlando Latin Saturday Nights
DESCRIPTION:EVERY SATURDAY! \nDJ & Dancing: 10PM-2AM \nJoin us on Saturday for dinner starting at 5PM followed by our transition into Viva La Noche Saturdays at 10PM. Our DJ will keep you dancing till 2AM with club hits\, salsa\, merengue\, bachata\, and reggaeton. Two rooms to dance: Latin mix in main room\, tropical on patio.
URL:https://golatindance.com/event/cuba-libre-orlando-latin-saturday-nights/2024-05-25/
LOCATION:Cuba Libre – Orlando\, 9101 International Drive\, Orlando\, FL\, 32189\, United States
CATEGORIES:Orlando
ATTACH;FMTTYPE=image/jpeg:https://golatindance.com/wp-content/uploads/2022/11/345450011_786082726218299_4464510503569284563_n.jpg
END:VEVENT
BEGIN:VEVENT
DTSTART;TZID=America/New_York:20240524T193000
DTEND;TZID=America/New_York:20240525T020000
DTSTAMP:20260424T075734
CREATED:20221111T155235Z
LAST-MODIFIED:20230512T132507Z
UID:10050013-1716579000-1716602400@golatindance.com
SUMMARY:Cuba Libre Orlando Latin Friday Nights
DESCRIPTION:EVERY FRIDAY! \nLive Band\, DJ & Dancing: 7:30PM-2AM \nJoin us on Friday for a live salsa band during dinner from 7:30pm-10pm. Band alternates with DJ for Cuba Libre Nights from 10pm-2am.
URL:https://golatindance.com/event/cuba-libre-latin-friday-nights/2024-05-24/
LOCATION:Cuba Libre – Orlando\, 9101 International Drive\, Orlando\, FL\, 32189\, United States
CATEGORIES:Orlando
ATTACH;FMTTYPE=image/jpeg:https://golatindance.com/wp-content/uploads/2022/11/346477567_1461324308007592_3902394052545028902_n.jpg
END:VEVENT
BEGIN:VEVENT
DTSTART;TZID=America/New_York:20240518T220000
DTEND;TZID=America/New_York:20240519T020000
DTSTAMP:20260424T075734
CREATED:20221111T155331Z
LAST-MODIFIED:20230512T132625Z
UID:10050270-1716069600-1716084000@golatindance.com
SUMMARY:Cuba Libre Orlando Latin Saturday Nights
DESCRIPTION:EVERY SATURDAY! \nDJ & Dancing: 10PM-2AM \nJoin us on Saturday for dinner starting at 5PM followed by our transition into Viva La Noche Saturdays at 10PM. Our DJ will keep you dancing till 2AM with club hits\, salsa\, merengue\, bachata\, and reggaeton. Two rooms to dance: Latin mix in main room\, tropical on patio.
URL:https://golatindance.com/event/cuba-libre-orlando-latin-saturday-nights/2024-05-18/
LOCATION:Cuba Libre – Orlando\, 9101 International Drive\, Orlando\, FL\, 32189\, United States
CATEGORIES:Orlando
ATTACH;FMTTYPE=image/jpeg:https://golatindance.com/wp-content/uploads/2022/11/345450011_786082726218299_4464510503569284563_n.jpg
END:VEVENT
BEGIN:VEVENT
DTSTART;TZID=America/New_York:20240517T193000
DTEND;TZID=America/New_York:20240518T020000
DTSTAMP:20260424T075734
CREATED:20221111T155235Z
LAST-MODIFIED:20230512T132507Z
UID:10050012-1715974200-1715997600@golatindance.com
SUMMARY:Cuba Libre Orlando Latin Friday Nights
DESCRIPTION:EVERY FRIDAY! \nLive Band\, DJ & Dancing: 7:30PM-2AM \nJoin us on Friday for a live salsa band during dinner from 7:30pm-10pm. Band alternates with DJ for Cuba Libre Nights from 10pm-2am.
URL:https://golatindance.com/event/cuba-libre-latin-friday-nights/2024-05-17/
LOCATION:Cuba Libre – Orlando\, 9101 International Drive\, Orlando\, FL\, 32189\, United States
CATEGORIES:Orlando
ATTACH;FMTTYPE=image/jpeg:https://golatindance.com/wp-content/uploads/2022/11/346477567_1461324308007592_3902394052545028902_n.jpg
END:VEVENT
BEGIN:VEVENT
DTSTART;TZID=America/New_York:20240511T220000
DTEND;TZID=America/New_York:20240512T020000
DTSTAMP:20260424T075734
CREATED:20221111T155331Z
LAST-MODIFIED:20230512T132625Z
UID:10050269-1715464800-1715479200@golatindance.com
SUMMARY:Cuba Libre Orlando Latin Saturday Nights
DESCRIPTION:EVERY SATURDAY! \nDJ & Dancing: 10PM-2AM \nJoin us on Saturday for dinner starting at 5PM followed by our transition into Viva La Noche Saturdays at 10PM. Our DJ will keep you dancing till 2AM with club hits\, salsa\, merengue\, bachata\, and reggaeton. Two rooms to dance: Latin mix in main room\, tropical on patio.
URL:https://golatindance.com/event/cuba-libre-orlando-latin-saturday-nights/2024-05-11/
LOCATION:Cuba Libre – Orlando\, 9101 International Drive\, Orlando\, FL\, 32189\, United States
CATEGORIES:Orlando
ATTACH;FMTTYPE=image/jpeg:https://golatindance.com/wp-content/uploads/2022/11/345450011_786082726218299_4464510503569284563_n.jpg
END:VEVENT
BEGIN:VEVENT
DTSTART;TZID=America/New_York:20240510T193000
DTEND;TZID=America/New_York:20240511T020000
DTSTAMP:20260424T075734
CREATED:20221111T155235Z
LAST-MODIFIED:20230512T132507Z
UID:10050011-1715369400-1715392800@golatindance.com
SUMMARY:Cuba Libre Orlando Latin Friday Nights
DESCRIPTION:EVERY FRIDAY! \nLive Band\, DJ & Dancing: 7:30PM-2AM \nJoin us on Friday for a live salsa band during dinner from 7:30pm-10pm. Band alternates with DJ for Cuba Libre Nights from 10pm-2am.
URL:https://golatindance.com/event/cuba-libre-latin-friday-nights/2024-05-10/
LOCATION:Cuba Libre – Orlando\, 9101 International Drive\, Orlando\, FL\, 32189\, United States
CATEGORIES:Orlando
ATTACH;FMTTYPE=image/jpeg:https://golatindance.com/wp-content/uploads/2022/11/346477567_1461324308007592_3902394052545028902_n.jpg
END:VEVENT
BEGIN:VEVENT
DTSTART;TZID=America/New_York:20240504T220000
DTEND;TZID=America/New_York:20240505T020000
DTSTAMP:20260424T075734
CREATED:20221111T155331Z
LAST-MODIFIED:20230512T132625Z
UID:10050268-1714860000-1714874400@golatindance.com
SUMMARY:Cuba Libre Orlando Latin Saturday Nights
DESCRIPTION:EVERY SATURDAY! \nDJ & Dancing: 10PM-2AM \nJoin us on Saturday for dinner starting at 5PM followed by our transition into Viva La Noche Saturdays at 10PM. Our DJ will keep you dancing till 2AM with club hits\, salsa\, merengue\, bachata\, and reggaeton. Two rooms to dance: Latin mix in main room\, tropical on patio.
URL:https://golatindance.com/event/cuba-libre-orlando-latin-saturday-nights/2024-05-04/
LOCATION:Cuba Libre – Orlando\, 9101 International Drive\, Orlando\, FL\, 32189\, United States
CATEGORIES:Orlando
ATTACH;FMTTYPE=image/jpeg:https://golatindance.com/wp-content/uploads/2022/11/345450011_786082726218299_4464510503569284563_n.jpg
END:VEVENT
BEGIN:VEVENT
DTSTART;TZID=America/New_York:20240503T193000
DTEND;TZID=America/New_York:20240504T020000
DTSTAMP:20260424T075734
CREATED:20221111T155235Z
LAST-MODIFIED:20230512T132507Z
UID:10050010-1714764600-1714788000@golatindance.com
SUMMARY:Cuba Libre Orlando Latin Friday Nights
DESCRIPTION:EVERY FRIDAY! \nLive Band\, DJ & Dancing: 7:30PM-2AM \nJoin us on Friday for a live salsa band during dinner from 7:30pm-10pm. Band alternates with DJ for Cuba Libre Nights from 10pm-2am.
URL:https://golatindance.com/event/cuba-libre-latin-friday-nights/2024-05-03/
LOCATION:Cuba Libre – Orlando\, 9101 International Drive\, Orlando\, FL\, 32189\, United States
CATEGORIES:Orlando
ATTACH;FMTTYPE=image/jpeg:https://golatindance.com/wp-content/uploads/2022/11/346477567_1461324308007592_3902394052545028902_n.jpg
END:VEVENT
BEGIN:VEVENT
DTSTART;TZID=America/New_York:20240427T220000
DTEND;TZID=America/New_York:20240428T020000
DTSTAMP:20260424T075734
CREATED:20221111T155331Z
LAST-MODIFIED:20230512T132625Z
UID:10050267-1714255200-1714269600@golatindance.com
SUMMARY:Cuba Libre Orlando Latin Saturday Nights
DESCRIPTION:EVERY SATURDAY! \nDJ & Dancing: 10PM-2AM \nJoin us on Saturday for dinner starting at 5PM followed by our transition into Viva La Noche Saturdays at 10PM. Our DJ will keep you dancing till 2AM with club hits\, salsa\, merengue\, bachata\, and reggaeton. Two rooms to dance: Latin mix in main room\, tropical on patio.
URL:https://golatindance.com/event/cuba-libre-orlando-latin-saturday-nights/2024-04-27/
LOCATION:Cuba Libre – Orlando\, 9101 International Drive\, Orlando\, FL\, 32189\, United States
CATEGORIES:Orlando
ATTACH;FMTTYPE=image/jpeg:https://golatindance.com/wp-content/uploads/2022/11/345450011_786082726218299_4464510503569284563_n.jpg
END:VEVENT
BEGIN:VEVENT
DTSTART;TZID=America/New_York:20240426T193000
DTEND;TZID=America/New_York:20240427T020000
DTSTAMP:20260424T075734
CREATED:20221111T155235Z
LAST-MODIFIED:20230512T132507Z
UID:10050009-1714159800-1714183200@golatindance.com
SUMMARY:Cuba Libre Orlando Latin Friday Nights
DESCRIPTION:EVERY FRIDAY! \nLive Band\, DJ & Dancing: 7:30PM-2AM \nJoin us on Friday for a live salsa band during dinner from 7:30pm-10pm. Band alternates with DJ for Cuba Libre Nights from 10pm-2am.
URL:https://golatindance.com/event/cuba-libre-latin-friday-nights/2024-04-26/
LOCATION:Cuba Libre – Orlando\, 9101 International Drive\, Orlando\, FL\, 32189\, United States
CATEGORIES:Orlando
ATTACH;FMTTYPE=image/jpeg:https://golatindance.com/wp-content/uploads/2022/11/346477567_1461324308007592_3902394052545028902_n.jpg
END:VEVENT
BEGIN:VEVENT
DTSTART;TZID=America/New_York:20240420T220000
DTEND;TZID=America/New_York:20240421T020000
DTSTAMP:20260424T075734
CREATED:20221111T155331Z
LAST-MODIFIED:20230512T132625Z
UID:10050266-1713650400-1713664800@golatindance.com
SUMMARY:Cuba Libre Orlando Latin Saturday Nights
DESCRIPTION:EVERY SATURDAY! \nDJ & Dancing: 10PM-2AM \nJoin us on Saturday for dinner starting at 5PM followed by our transition into Viva La Noche Saturdays at 10PM. Our DJ will keep you dancing till 2AM with club hits\, salsa\, merengue\, bachata\, and reggaeton. Two rooms to dance: Latin mix in main room\, tropical on patio.
URL:https://golatindance.com/event/cuba-libre-orlando-latin-saturday-nights/2024-04-20/
LOCATION:Cuba Libre – Orlando\, 9101 International Drive\, Orlando\, FL\, 32189\, United States
CATEGORIES:Orlando
ATTACH;FMTTYPE=image/jpeg:https://golatindance.com/wp-content/uploads/2022/11/345450011_786082726218299_4464510503569284563_n.jpg
END:VEVENT
BEGIN:VEVENT
DTSTART;TZID=America/New_York:20240419T193000
DTEND;TZID=America/New_York:20240420T020000
DTSTAMP:20260424T075734
CREATED:20221111T155235Z
LAST-MODIFIED:20230512T132507Z
UID:10050008-1713555000-1713578400@golatindance.com
SUMMARY:Cuba Libre Orlando Latin Friday Nights
DESCRIPTION:EVERY FRIDAY! \nLive Band\, DJ & Dancing: 7:30PM-2AM \nJoin us on Friday for a live salsa band during dinner from 7:30pm-10pm. Band alternates with DJ for Cuba Libre Nights from 10pm-2am.
URL:https://golatindance.com/event/cuba-libre-latin-friday-nights/2024-04-19/
LOCATION:Cuba Libre – Orlando\, 9101 International Drive\, Orlando\, FL\, 32189\, United States
CATEGORIES:Orlando
ATTACH;FMTTYPE=image/jpeg:https://golatindance.com/wp-content/uploads/2022/11/346477567_1461324308007592_3902394052545028902_n.jpg
END:VEVENT
END:VCALENDAR