BEGIN:VCALENDAR
VERSION:2.0
PRODID:-//GO Latin Dance - ECPv6.15.18//NONSGML v1.0//EN
CALSCALE:GREGORIAN
METHOD:PUBLISH
X-WR-CALNAME:GO Latin Dance
X-ORIGINAL-URL:https://golatindance.com
X-WR-CALDESC:Events for GO Latin Dance
REFRESH-INTERVAL;VALUE=DURATION:PT1H
X-Robots-Tag:noindex
X-PUBLISHED-TTL:PT1H
BEGIN:VTIMEZONE
TZID:America/New_York
BEGIN:DAYLIGHT
TZOFFSETFROM:-0500
TZOFFSETTO:-0400
TZNAME:EDT
DTSTART:20220313T070000
END:DAYLIGHT
BEGIN:STANDARD
TZOFFSETFROM:-0400
TZOFFSETTO:-0500
TZNAME:EST
DTSTART:20221106T060000
END:STANDARD
BEGIN:DAYLIGHT
TZOFFSETFROM:-0500
TZOFFSETTO:-0400
TZNAME:EDT
DTSTART:20230312T070000
END:DAYLIGHT
BEGIN:STANDARD
TZOFFSETFROM:-0400
TZOFFSETTO:-0500
TZNAME:EST
DTSTART:20231105T060000
END:STANDARD
BEGIN:DAYLIGHT
TZOFFSETFROM:-0500
TZOFFSETTO:-0400
TZNAME:EDT
DTSTART:20240310T070000
END:DAYLIGHT
BEGIN:STANDARD
TZOFFSETFROM:-0400
TZOFFSETTO:-0500
TZNAME:EST
DTSTART:20241103T060000
END:STANDARD
END:VTIMEZONE
BEGIN:VEVENT
DTSTART;TZID=America/New_York:20231021T220000
DTEND;TZID=America/New_York:20231022T020000
DTSTAMP:20260424T182015
CREATED:20221111T155331Z
LAST-MODIFIED:20230512T132625Z
UID:10050240-1697925600-1697940000@golatindance.com
SUMMARY:Cuba Libre Orlando Latin Saturday Nights
DESCRIPTION:EVERY SATURDAY! \nDJ & Dancing: 10PM-2AM \nJoin us on Saturday for dinner starting at 5PM followed by our transition into Viva La Noche Saturdays at 10PM. Our DJ will keep you dancing till 2AM with club hits\, salsa\, merengue\, bachata\, and reggaeton. Two rooms to dance: Latin mix in main room\, tropical on patio.
URL:https://golatindance.com/event/cuba-libre-orlando-latin-saturday-nights/2023-10-21/
LOCATION:Cuba Libre – Orlando\, 9101 International Drive\, Orlando\, FL\, 32189\, United States
CATEGORIES:Orlando
ATTACH;FMTTYPE=image/jpeg:https://golatindance.com/wp-content/uploads/2022/11/345450011_786082726218299_4464510503569284563_n.jpg
END:VEVENT
BEGIN:VEVENT
DTSTART;TZID=America/New_York:20231020T193000
DTEND;TZID=America/New_York:20231021T020000
DTSTAMP:20260424T182016
CREATED:20221111T155235Z
LAST-MODIFIED:20230512T132507Z
UID:10049982-1697830200-1697853600@golatindance.com
SUMMARY:Cuba Libre Orlando Latin Friday Nights
DESCRIPTION:EVERY FRIDAY! \nLive Band\, DJ & Dancing: 7:30PM-2AM \nJoin us on Friday for a live salsa band during dinner from 7:30pm-10pm. Band alternates with DJ for Cuba Libre Nights from 10pm-2am.
URL:https://golatindance.com/event/cuba-libre-latin-friday-nights/2023-10-20/
LOCATION:Cuba Libre – Orlando\, 9101 International Drive\, Orlando\, FL\, 32189\, United States
CATEGORIES:Orlando
ATTACH;FMTTYPE=image/jpeg:https://golatindance.com/wp-content/uploads/2022/11/346477567_1461324308007592_3902394052545028902_n.jpg
END:VEVENT
BEGIN:VEVENT
DTSTART;TZID=America/New_York:20231014T220000
DTEND;TZID=America/New_York:20231015T020000
DTSTAMP:20260424T182016
CREATED:20221111T155331Z
LAST-MODIFIED:20230512T132625Z
UID:10050239-1697320800-1697335200@golatindance.com
SUMMARY:Cuba Libre Orlando Latin Saturday Nights
DESCRIPTION:EVERY SATURDAY! \nDJ & Dancing: 10PM-2AM \nJoin us on Saturday for dinner starting at 5PM followed by our transition into Viva La Noche Saturdays at 10PM. Our DJ will keep you dancing till 2AM with club hits\, salsa\, merengue\, bachata\, and reggaeton. Two rooms to dance: Latin mix in main room\, tropical on patio.
URL:https://golatindance.com/event/cuba-libre-orlando-latin-saturday-nights/2023-10-14/
LOCATION:Cuba Libre – Orlando\, 9101 International Drive\, Orlando\, FL\, 32189\, United States
CATEGORIES:Orlando
ATTACH;FMTTYPE=image/jpeg:https://golatindance.com/wp-content/uploads/2022/11/345450011_786082726218299_4464510503569284563_n.jpg
END:VEVENT
BEGIN:VEVENT
DTSTART;TZID=America/New_York:20231013T193000
DTEND;TZID=America/New_York:20231014T020000
DTSTAMP:20260424T182016
CREATED:20221111T155235Z
LAST-MODIFIED:20230512T132507Z
UID:10049981-1697225400-1697248800@golatindance.com
SUMMARY:Cuba Libre Orlando Latin Friday Nights
DESCRIPTION:EVERY FRIDAY! \nLive Band\, DJ & Dancing: 7:30PM-2AM \nJoin us on Friday for a live salsa band during dinner from 7:30pm-10pm. Band alternates with DJ for Cuba Libre Nights from 10pm-2am.
URL:https://golatindance.com/event/cuba-libre-latin-friday-nights/2023-10-13/
LOCATION:Cuba Libre – Orlando\, 9101 International Drive\, Orlando\, FL\, 32189\, United States
CATEGORIES:Orlando
ATTACH;FMTTYPE=image/jpeg:https://golatindance.com/wp-content/uploads/2022/11/346477567_1461324308007592_3902394052545028902_n.jpg
END:VEVENT
BEGIN:VEVENT
DTSTART;TZID=America/New_York:20231007T220000
DTEND;TZID=America/New_York:20231008T020000
DTSTAMP:20260424T182016
CREATED:20221111T155331Z
LAST-MODIFIED:20230512T132625Z
UID:10050238-1696716000-1696730400@golatindance.com
SUMMARY:Cuba Libre Orlando Latin Saturday Nights
DESCRIPTION:EVERY SATURDAY! \nDJ & Dancing: 10PM-2AM \nJoin us on Saturday for dinner starting at 5PM followed by our transition into Viva La Noche Saturdays at 10PM. Our DJ will keep you dancing till 2AM with club hits\, salsa\, merengue\, bachata\, and reggaeton. Two rooms to dance: Latin mix in main room\, tropical on patio.
URL:https://golatindance.com/event/cuba-libre-orlando-latin-saturday-nights/2023-10-07/
LOCATION:Cuba Libre – Orlando\, 9101 International Drive\, Orlando\, FL\, 32189\, United States
CATEGORIES:Orlando
ATTACH;FMTTYPE=image/jpeg:https://golatindance.com/wp-content/uploads/2022/11/345450011_786082726218299_4464510503569284563_n.jpg
END:VEVENT
BEGIN:VEVENT
DTSTART;TZID=America/New_York:20231006T193000
DTEND;TZID=America/New_York:20231007T020000
DTSTAMP:20260424T182016
CREATED:20221111T155235Z
LAST-MODIFIED:20230512T132507Z
UID:10049980-1696620600-1696644000@golatindance.com
SUMMARY:Cuba Libre Orlando Latin Friday Nights
DESCRIPTION:EVERY FRIDAY! \nLive Band\, DJ & Dancing: 7:30PM-2AM \nJoin us on Friday for a live salsa band during dinner from 7:30pm-10pm. Band alternates with DJ for Cuba Libre Nights from 10pm-2am.
URL:https://golatindance.com/event/cuba-libre-latin-friday-nights/2023-10-06/
LOCATION:Cuba Libre – Orlando\, 9101 International Drive\, Orlando\, FL\, 32189\, United States
CATEGORIES:Orlando
ATTACH;FMTTYPE=image/jpeg:https://golatindance.com/wp-content/uploads/2022/11/346477567_1461324308007592_3902394052545028902_n.jpg
END:VEVENT
BEGIN:VEVENT
DTSTART;TZID=America/New_York:20230930T220000
DTEND;TZID=America/New_York:20231001T020000
DTSTAMP:20260424T182016
CREATED:20221111T155331Z
LAST-MODIFIED:20230512T132625Z
UID:10050237-1696111200-1696125600@golatindance.com
SUMMARY:Cuba Libre Orlando Latin Saturday Nights
DESCRIPTION:EVERY SATURDAY! \nDJ & Dancing: 10PM-2AM \nJoin us on Saturday for dinner starting at 5PM followed by our transition into Viva La Noche Saturdays at 10PM. Our DJ will keep you dancing till 2AM with club hits\, salsa\, merengue\, bachata\, and reggaeton. Two rooms to dance: Latin mix in main room\, tropical on patio.
URL:https://golatindance.com/event/cuba-libre-orlando-latin-saturday-nights/2023-09-30/
LOCATION:Cuba Libre – Orlando\, 9101 International Drive\, Orlando\, FL\, 32189\, United States
CATEGORIES:Orlando
ATTACH;FMTTYPE=image/jpeg:https://golatindance.com/wp-content/uploads/2022/11/345450011_786082726218299_4464510503569284563_n.jpg
END:VEVENT
BEGIN:VEVENT
DTSTART;TZID=America/New_York:20230929T193000
DTEND;TZID=America/New_York:20230930T020000
DTSTAMP:20260424T182016
CREATED:20221111T155235Z
LAST-MODIFIED:20230512T132507Z
UID:10049979-1696015800-1696039200@golatindance.com
SUMMARY:Cuba Libre Orlando Latin Friday Nights
DESCRIPTION:EVERY FRIDAY! \nLive Band\, DJ & Dancing: 7:30PM-2AM \nJoin us on Friday for a live salsa band during dinner from 7:30pm-10pm. Band alternates with DJ for Cuba Libre Nights from 10pm-2am.
URL:https://golatindance.com/event/cuba-libre-latin-friday-nights/2023-09-29/
LOCATION:Cuba Libre – Orlando\, 9101 International Drive\, Orlando\, FL\, 32189\, United States
CATEGORIES:Orlando
ATTACH;FMTTYPE=image/jpeg:https://golatindance.com/wp-content/uploads/2022/11/346477567_1461324308007592_3902394052545028902_n.jpg
END:VEVENT
BEGIN:VEVENT
DTSTART;TZID=America/New_York:20230923T220000
DTEND;TZID=America/New_York:20230924T020000
DTSTAMP:20260424T182016
CREATED:20221111T155331Z
LAST-MODIFIED:20230512T132625Z
UID:10050236-1695506400-1695520800@golatindance.com
SUMMARY:Cuba Libre Orlando Latin Saturday Nights
DESCRIPTION:EVERY SATURDAY! \nDJ & Dancing: 10PM-2AM \nJoin us on Saturday for dinner starting at 5PM followed by our transition into Viva La Noche Saturdays at 10PM. Our DJ will keep you dancing till 2AM with club hits\, salsa\, merengue\, bachata\, and reggaeton. Two rooms to dance: Latin mix in main room\, tropical on patio.
URL:https://golatindance.com/event/cuba-libre-orlando-latin-saturday-nights/2023-09-23/
LOCATION:Cuba Libre – Orlando\, 9101 International Drive\, Orlando\, FL\, 32189\, United States
CATEGORIES:Orlando
ATTACH;FMTTYPE=image/jpeg:https://golatindance.com/wp-content/uploads/2022/11/345450011_786082726218299_4464510503569284563_n.jpg
END:VEVENT
BEGIN:VEVENT
DTSTART;TZID=America/New_York:20230922T193000
DTEND;TZID=America/New_York:20230923T020000
DTSTAMP:20260424T182016
CREATED:20221111T155235Z
LAST-MODIFIED:20230512T132507Z
UID:10049978-1695411000-1695434400@golatindance.com
SUMMARY:Cuba Libre Orlando Latin Friday Nights
DESCRIPTION:EVERY FRIDAY! \nLive Band\, DJ & Dancing: 7:30PM-2AM \nJoin us on Friday for a live salsa band during dinner from 7:30pm-10pm. Band alternates with DJ for Cuba Libre Nights from 10pm-2am.
URL:https://golatindance.com/event/cuba-libre-latin-friday-nights/2023-09-22/
LOCATION:Cuba Libre – Orlando\, 9101 International Drive\, Orlando\, FL\, 32189\, United States
CATEGORIES:Orlando
ATTACH;FMTTYPE=image/jpeg:https://golatindance.com/wp-content/uploads/2022/11/346477567_1461324308007592_3902394052545028902_n.jpg
END:VEVENT
BEGIN:VEVENT
DTSTART;TZID=America/New_York:20230916T220000
DTEND;TZID=America/New_York:20230917T020000
DTSTAMP:20260424T182016
CREATED:20221111T155331Z
LAST-MODIFIED:20230512T132625Z
UID:10050235-1694901600-1694916000@golatindance.com
SUMMARY:Cuba Libre Orlando Latin Saturday Nights
DESCRIPTION:EVERY SATURDAY! \nDJ & Dancing: 10PM-2AM \nJoin us on Saturday for dinner starting at 5PM followed by our transition into Viva La Noche Saturdays at 10PM. Our DJ will keep you dancing till 2AM with club hits\, salsa\, merengue\, bachata\, and reggaeton. Two rooms to dance: Latin mix in main room\, tropical on patio.
URL:https://golatindance.com/event/cuba-libre-orlando-latin-saturday-nights/2023-09-16/
LOCATION:Cuba Libre – Orlando\, 9101 International Drive\, Orlando\, FL\, 32189\, United States
CATEGORIES:Orlando
ATTACH;FMTTYPE=image/jpeg:https://golatindance.com/wp-content/uploads/2022/11/345450011_786082726218299_4464510503569284563_n.jpg
END:VEVENT
BEGIN:VEVENT
DTSTART;TZID=America/New_York:20230915T193000
DTEND;TZID=America/New_York:20230916T020000
DTSTAMP:20260424T182016
CREATED:20221111T155235Z
LAST-MODIFIED:20230512T132507Z
UID:10049977-1694806200-1694829600@golatindance.com
SUMMARY:Cuba Libre Orlando Latin Friday Nights
DESCRIPTION:EVERY FRIDAY! \nLive Band\, DJ & Dancing: 7:30PM-2AM \nJoin us on Friday for a live salsa band during dinner from 7:30pm-10pm. Band alternates with DJ for Cuba Libre Nights from 10pm-2am.
URL:https://golatindance.com/event/cuba-libre-latin-friday-nights/2023-09-15/
LOCATION:Cuba Libre – Orlando\, 9101 International Drive\, Orlando\, FL\, 32189\, United States
CATEGORIES:Orlando
ATTACH;FMTTYPE=image/jpeg:https://golatindance.com/wp-content/uploads/2022/11/346477567_1461324308007592_3902394052545028902_n.jpg
END:VEVENT
BEGIN:VEVENT
DTSTART;TZID=America/New_York:20230909T220000
DTEND;TZID=America/New_York:20230910T020000
DTSTAMP:20260424T182016
CREATED:20221111T155331Z
LAST-MODIFIED:20230512T132625Z
UID:10050234-1694296800-1694311200@golatindance.com
SUMMARY:Cuba Libre Orlando Latin Saturday Nights
DESCRIPTION:EVERY SATURDAY! \nDJ & Dancing: 10PM-2AM \nJoin us on Saturday for dinner starting at 5PM followed by our transition into Viva La Noche Saturdays at 10PM. Our DJ will keep you dancing till 2AM with club hits\, salsa\, merengue\, bachata\, and reggaeton. Two rooms to dance: Latin mix in main room\, tropical on patio.
URL:https://golatindance.com/event/cuba-libre-orlando-latin-saturday-nights/2023-09-09/
LOCATION:Cuba Libre – Orlando\, 9101 International Drive\, Orlando\, FL\, 32189\, United States
CATEGORIES:Orlando
ATTACH;FMTTYPE=image/jpeg:https://golatindance.com/wp-content/uploads/2022/11/345450011_786082726218299_4464510503569284563_n.jpg
END:VEVENT
BEGIN:VEVENT
DTSTART;TZID=America/New_York:20230908T193000
DTEND;TZID=America/New_York:20230909T020000
DTSTAMP:20260424T182016
CREATED:20221111T155235Z
LAST-MODIFIED:20230512T132507Z
UID:10049976-1694201400-1694224800@golatindance.com
SUMMARY:Cuba Libre Orlando Latin Friday Nights
DESCRIPTION:EVERY FRIDAY! \nLive Band\, DJ & Dancing: 7:30PM-2AM \nJoin us on Friday for a live salsa band during dinner from 7:30pm-10pm. Band alternates with DJ for Cuba Libre Nights from 10pm-2am.
URL:https://golatindance.com/event/cuba-libre-latin-friday-nights/2023-09-08/
LOCATION:Cuba Libre – Orlando\, 9101 International Drive\, Orlando\, FL\, 32189\, United States
CATEGORIES:Orlando
ATTACH;FMTTYPE=image/jpeg:https://golatindance.com/wp-content/uploads/2022/11/346477567_1461324308007592_3902394052545028902_n.jpg
END:VEVENT
BEGIN:VEVENT
DTSTART;TZID=America/New_York:20230902T220000
DTEND;TZID=America/New_York:20230903T020000
DTSTAMP:20260424T182016
CREATED:20221111T155331Z
LAST-MODIFIED:20230512T132625Z
UID:10050233-1693692000-1693706400@golatindance.com
SUMMARY:Cuba Libre Orlando Latin Saturday Nights
DESCRIPTION:EVERY SATURDAY! \nDJ & Dancing: 10PM-2AM \nJoin us on Saturday for dinner starting at 5PM followed by our transition into Viva La Noche Saturdays at 10PM. Our DJ will keep you dancing till 2AM with club hits\, salsa\, merengue\, bachata\, and reggaeton. Two rooms to dance: Latin mix in main room\, tropical on patio.
URL:https://golatindance.com/event/cuba-libre-orlando-latin-saturday-nights/2023-09-02/
LOCATION:Cuba Libre – Orlando\, 9101 International Drive\, Orlando\, FL\, 32189\, United States
CATEGORIES:Orlando
ATTACH;FMTTYPE=image/jpeg:https://golatindance.com/wp-content/uploads/2022/11/345450011_786082726218299_4464510503569284563_n.jpg
END:VEVENT
BEGIN:VEVENT
DTSTART;TZID=America/New_York:20230901T193000
DTEND;TZID=America/New_York:20230902T020000
DTSTAMP:20260424T182016
CREATED:20221111T155235Z
LAST-MODIFIED:20230512T132507Z
UID:10049975-1693596600-1693620000@golatindance.com
SUMMARY:Cuba Libre Orlando Latin Friday Nights
DESCRIPTION:EVERY FRIDAY! \nLive Band\, DJ & Dancing: 7:30PM-2AM \nJoin us on Friday for a live salsa band during dinner from 7:30pm-10pm. Band alternates with DJ for Cuba Libre Nights from 10pm-2am.
URL:https://golatindance.com/event/cuba-libre-latin-friday-nights/2023-09-01/
LOCATION:Cuba Libre – Orlando\, 9101 International Drive\, Orlando\, FL\, 32189\, United States
CATEGORIES:Orlando
ATTACH;FMTTYPE=image/jpeg:https://golatindance.com/wp-content/uploads/2022/11/346477567_1461324308007592_3902394052545028902_n.jpg
END:VEVENT
BEGIN:VEVENT
DTSTART;TZID=America/New_York:20230826T220000
DTEND;TZID=America/New_York:20230827T020000
DTSTAMP:20260424T182016
CREATED:20221111T155331Z
LAST-MODIFIED:20230512T132625Z
UID:10050232-1693087200-1693101600@golatindance.com
SUMMARY:Cuba Libre Orlando Latin Saturday Nights
DESCRIPTION:EVERY SATURDAY! \nDJ & Dancing: 10PM-2AM \nJoin us on Saturday for dinner starting at 5PM followed by our transition into Viva La Noche Saturdays at 10PM. Our DJ will keep you dancing till 2AM with club hits\, salsa\, merengue\, bachata\, and reggaeton. Two rooms to dance: Latin mix in main room\, tropical on patio.
URL:https://golatindance.com/event/cuba-libre-orlando-latin-saturday-nights/2023-08-26/
LOCATION:Cuba Libre – Orlando\, 9101 International Drive\, Orlando\, FL\, 32189\, United States
CATEGORIES:Orlando
ATTACH;FMTTYPE=image/jpeg:https://golatindance.com/wp-content/uploads/2022/11/345450011_786082726218299_4464510503569284563_n.jpg
END:VEVENT
BEGIN:VEVENT
DTSTART;TZID=America/New_York:20230825T193000
DTEND;TZID=America/New_York:20230826T020000
DTSTAMP:20260424T182016
CREATED:20221111T155235Z
LAST-MODIFIED:20230512T132507Z
UID:10049974-1692991800-1693015200@golatindance.com
SUMMARY:Cuba Libre Orlando Latin Friday Nights
DESCRIPTION:EVERY FRIDAY! \nLive Band\, DJ & Dancing: 7:30PM-2AM \nJoin us on Friday for a live salsa band during dinner from 7:30pm-10pm. Band alternates with DJ for Cuba Libre Nights from 10pm-2am.
URL:https://golatindance.com/event/cuba-libre-latin-friday-nights/2023-08-25/
LOCATION:Cuba Libre – Orlando\, 9101 International Drive\, Orlando\, FL\, 32189\, United States
CATEGORIES:Orlando
ATTACH;FMTTYPE=image/jpeg:https://golatindance.com/wp-content/uploads/2022/11/346477567_1461324308007592_3902394052545028902_n.jpg
END:VEVENT
BEGIN:VEVENT
DTSTART;TZID=America/New_York:20230819T220000
DTEND;TZID=America/New_York:20230820T020000
DTSTAMP:20260424T182016
CREATED:20221111T155331Z
LAST-MODIFIED:20230512T132625Z
UID:10050231-1692482400-1692496800@golatindance.com
SUMMARY:Cuba Libre Orlando Latin Saturday Nights
DESCRIPTION:EVERY SATURDAY! \nDJ & Dancing: 10PM-2AM \nJoin us on Saturday for dinner starting at 5PM followed by our transition into Viva La Noche Saturdays at 10PM. Our DJ will keep you dancing till 2AM with club hits\, salsa\, merengue\, bachata\, and reggaeton. Two rooms to dance: Latin mix in main room\, tropical on patio.
URL:https://golatindance.com/event/cuba-libre-orlando-latin-saturday-nights/2023-08-19/
LOCATION:Cuba Libre – Orlando\, 9101 International Drive\, Orlando\, FL\, 32189\, United States
CATEGORIES:Orlando
ATTACH;FMTTYPE=image/jpeg:https://golatindance.com/wp-content/uploads/2022/11/345450011_786082726218299_4464510503569284563_n.jpg
END:VEVENT
BEGIN:VEVENT
DTSTART;TZID=America/New_York:20230818T193000
DTEND;TZID=America/New_York:20230819T020000
DTSTAMP:20260424T182016
CREATED:20221111T155235Z
LAST-MODIFIED:20230512T132507Z
UID:10049973-1692387000-1692410400@golatindance.com
SUMMARY:Cuba Libre Orlando Latin Friday Nights
DESCRIPTION:EVERY FRIDAY! \nLive Band\, DJ & Dancing: 7:30PM-2AM \nJoin us on Friday for a live salsa band during dinner from 7:30pm-10pm. Band alternates with DJ for Cuba Libre Nights from 10pm-2am.
URL:https://golatindance.com/event/cuba-libre-latin-friday-nights/2023-08-18/
LOCATION:Cuba Libre – Orlando\, 9101 International Drive\, Orlando\, FL\, 32189\, United States
CATEGORIES:Orlando
ATTACH;FMTTYPE=image/jpeg:https://golatindance.com/wp-content/uploads/2022/11/346477567_1461324308007592_3902394052545028902_n.jpg
END:VEVENT
BEGIN:VEVENT
DTSTART;TZID=America/New_York:20230812T220000
DTEND;TZID=America/New_York:20230813T020000
DTSTAMP:20260424T182016
CREATED:20221111T155331Z
LAST-MODIFIED:20230512T132625Z
UID:10050230-1691877600-1691892000@golatindance.com
SUMMARY:Cuba Libre Orlando Latin Saturday Nights
DESCRIPTION:EVERY SATURDAY! \nDJ & Dancing: 10PM-2AM \nJoin us on Saturday for dinner starting at 5PM followed by our transition into Viva La Noche Saturdays at 10PM. Our DJ will keep you dancing till 2AM with club hits\, salsa\, merengue\, bachata\, and reggaeton. Two rooms to dance: Latin mix in main room\, tropical on patio.
URL:https://golatindance.com/event/cuba-libre-orlando-latin-saturday-nights/2023-08-12/
LOCATION:Cuba Libre – Orlando\, 9101 International Drive\, Orlando\, FL\, 32189\, United States
CATEGORIES:Orlando
ATTACH;FMTTYPE=image/jpeg:https://golatindance.com/wp-content/uploads/2022/11/345450011_786082726218299_4464510503569284563_n.jpg
END:VEVENT
BEGIN:VEVENT
DTSTART;TZID=America/New_York:20230811T193000
DTEND;TZID=America/New_York:20230812T020000
DTSTAMP:20260424T182016
CREATED:20221111T155235Z
LAST-MODIFIED:20230512T132507Z
UID:10049972-1691782200-1691805600@golatindance.com
SUMMARY:Cuba Libre Orlando Latin Friday Nights
DESCRIPTION:EVERY FRIDAY! \nLive Band\, DJ & Dancing: 7:30PM-2AM \nJoin us on Friday for a live salsa band during dinner from 7:30pm-10pm. Band alternates with DJ for Cuba Libre Nights from 10pm-2am.
URL:https://golatindance.com/event/cuba-libre-latin-friday-nights/2023-08-11/
LOCATION:Cuba Libre – Orlando\, 9101 International Drive\, Orlando\, FL\, 32189\, United States
CATEGORIES:Orlando
ATTACH;FMTTYPE=image/jpeg:https://golatindance.com/wp-content/uploads/2022/11/346477567_1461324308007592_3902394052545028902_n.jpg
END:VEVENT
BEGIN:VEVENT
DTSTART;TZID=America/New_York:20230805T220000
DTEND;TZID=America/New_York:20230806T020000
DTSTAMP:20260424T182016
CREATED:20221111T155331Z
LAST-MODIFIED:20230512T132625Z
UID:10050229-1691272800-1691287200@golatindance.com
SUMMARY:Cuba Libre Orlando Latin Saturday Nights
DESCRIPTION:EVERY SATURDAY! \nDJ & Dancing: 10PM-2AM \nJoin us on Saturday for dinner starting at 5PM followed by our transition into Viva La Noche Saturdays at 10PM. Our DJ will keep you dancing till 2AM with club hits\, salsa\, merengue\, bachata\, and reggaeton. Two rooms to dance: Latin mix in main room\, tropical on patio.
URL:https://golatindance.com/event/cuba-libre-orlando-latin-saturday-nights/2023-08-05/
LOCATION:Cuba Libre – Orlando\, 9101 International Drive\, Orlando\, FL\, 32189\, United States
CATEGORIES:Orlando
ATTACH;FMTTYPE=image/jpeg:https://golatindance.com/wp-content/uploads/2022/11/345450011_786082726218299_4464510503569284563_n.jpg
END:VEVENT
BEGIN:VEVENT
DTSTART;TZID=America/New_York:20230804T193000
DTEND;TZID=America/New_York:20230805T020000
DTSTAMP:20260424T182016
CREATED:20221111T155235Z
LAST-MODIFIED:20230512T132507Z
UID:10049971-1691177400-1691200800@golatindance.com
SUMMARY:Cuba Libre Orlando Latin Friday Nights
DESCRIPTION:EVERY FRIDAY! \nLive Band\, DJ & Dancing: 7:30PM-2AM \nJoin us on Friday for a live salsa band during dinner from 7:30pm-10pm. Band alternates with DJ for Cuba Libre Nights from 10pm-2am.
URL:https://golatindance.com/event/cuba-libre-latin-friday-nights/2023-08-04/
LOCATION:Cuba Libre – Orlando\, 9101 International Drive\, Orlando\, FL\, 32189\, United States
CATEGORIES:Orlando
ATTACH;FMTTYPE=image/jpeg:https://golatindance.com/wp-content/uploads/2022/11/346477567_1461324308007592_3902394052545028902_n.jpg
END:VEVENT
BEGIN:VEVENT
DTSTART;TZID=America/New_York:20230729T220000
DTEND;TZID=America/New_York:20230730T020000
DTSTAMP:20260424T182016
CREATED:20221111T155331Z
LAST-MODIFIED:20230512T132625Z
UID:10050228-1690668000-1690682400@golatindance.com
SUMMARY:Cuba Libre Orlando Latin Saturday Nights
DESCRIPTION:EVERY SATURDAY! \nDJ & Dancing: 10PM-2AM \nJoin us on Saturday for dinner starting at 5PM followed by our transition into Viva La Noche Saturdays at 10PM. Our DJ will keep you dancing till 2AM with club hits\, salsa\, merengue\, bachata\, and reggaeton. Two rooms to dance: Latin mix in main room\, tropical on patio.
URL:https://golatindance.com/event/cuba-libre-orlando-latin-saturday-nights/2023-07-29/
LOCATION:Cuba Libre – Orlando\, 9101 International Drive\, Orlando\, FL\, 32189\, United States
CATEGORIES:Orlando
ATTACH;FMTTYPE=image/jpeg:https://golatindance.com/wp-content/uploads/2022/11/345450011_786082726218299_4464510503569284563_n.jpg
END:VEVENT
BEGIN:VEVENT
DTSTART;TZID=America/New_York:20230728T193000
DTEND;TZID=America/New_York:20230729T020000
DTSTAMP:20260424T182016
CREATED:20221111T155235Z
LAST-MODIFIED:20230512T132507Z
UID:10049970-1690572600-1690596000@golatindance.com
SUMMARY:Cuba Libre Orlando Latin Friday Nights
DESCRIPTION:EVERY FRIDAY! \nLive Band\, DJ & Dancing: 7:30PM-2AM \nJoin us on Friday for a live salsa band during dinner from 7:30pm-10pm. Band alternates with DJ for Cuba Libre Nights from 10pm-2am.
URL:https://golatindance.com/event/cuba-libre-latin-friday-nights/2023-07-28/
LOCATION:Cuba Libre – Orlando\, 9101 International Drive\, Orlando\, FL\, 32189\, United States
CATEGORIES:Orlando
ATTACH;FMTTYPE=image/jpeg:https://golatindance.com/wp-content/uploads/2022/11/346477567_1461324308007592_3902394052545028902_n.jpg
END:VEVENT
BEGIN:VEVENT
DTSTART;TZID=America/New_York:20230722T220000
DTEND;TZID=America/New_York:20230723T020000
DTSTAMP:20260424T182016
CREATED:20221111T155331Z
LAST-MODIFIED:20230512T132625Z
UID:10050227-1690063200-1690077600@golatindance.com
SUMMARY:Cuba Libre Orlando Latin Saturday Nights
DESCRIPTION:EVERY SATURDAY! \nDJ & Dancing: 10PM-2AM \nJoin us on Saturday for dinner starting at 5PM followed by our transition into Viva La Noche Saturdays at 10PM. Our DJ will keep you dancing till 2AM with club hits\, salsa\, merengue\, bachata\, and reggaeton. Two rooms to dance: Latin mix in main room\, tropical on patio.
URL:https://golatindance.com/event/cuba-libre-orlando-latin-saturday-nights/2023-07-22/
LOCATION:Cuba Libre – Orlando\, 9101 International Drive\, Orlando\, FL\, 32189\, United States
CATEGORIES:Orlando
ATTACH;FMTTYPE=image/jpeg:https://golatindance.com/wp-content/uploads/2022/11/345450011_786082726218299_4464510503569284563_n.jpg
END:VEVENT
BEGIN:VEVENT
DTSTART;TZID=America/New_York:20230721T193000
DTEND;TZID=America/New_York:20230722T020000
DTSTAMP:20260424T182016
CREATED:20221111T155235Z
LAST-MODIFIED:20230512T132507Z
UID:10049969-1689967800-1689991200@golatindance.com
SUMMARY:Cuba Libre Orlando Latin Friday Nights
DESCRIPTION:EVERY FRIDAY! \nLive Band\, DJ & Dancing: 7:30PM-2AM \nJoin us on Friday for a live salsa band during dinner from 7:30pm-10pm. Band alternates with DJ for Cuba Libre Nights from 10pm-2am.
URL:https://golatindance.com/event/cuba-libre-latin-friday-nights/2023-07-21/
LOCATION:Cuba Libre – Orlando\, 9101 International Drive\, Orlando\, FL\, 32189\, United States
CATEGORIES:Orlando
ATTACH;FMTTYPE=image/jpeg:https://golatindance.com/wp-content/uploads/2022/11/346477567_1461324308007592_3902394052545028902_n.jpg
END:VEVENT
BEGIN:VEVENT
DTSTART;TZID=America/New_York:20230715T220000
DTEND;TZID=America/New_York:20230716T020000
DTSTAMP:20260424T182016
CREATED:20221111T155331Z
LAST-MODIFIED:20230512T132625Z
UID:10050226-1689458400-1689472800@golatindance.com
SUMMARY:Cuba Libre Orlando Latin Saturday Nights
DESCRIPTION:EVERY SATURDAY! \nDJ & Dancing: 10PM-2AM \nJoin us on Saturday for dinner starting at 5PM followed by our transition into Viva La Noche Saturdays at 10PM. Our DJ will keep you dancing till 2AM with club hits\, salsa\, merengue\, bachata\, and reggaeton. Two rooms to dance: Latin mix in main room\, tropical on patio.
URL:https://golatindance.com/event/cuba-libre-orlando-latin-saturday-nights/2023-07-15/
LOCATION:Cuba Libre – Orlando\, 9101 International Drive\, Orlando\, FL\, 32189\, United States
CATEGORIES:Orlando
ATTACH;FMTTYPE=image/jpeg:https://golatindance.com/wp-content/uploads/2022/11/345450011_786082726218299_4464510503569284563_n.jpg
END:VEVENT
BEGIN:VEVENT
DTSTART;TZID=America/New_York:20230714T193000
DTEND;TZID=America/New_York:20230715T020000
DTSTAMP:20260424T182016
CREATED:20221111T155235Z
LAST-MODIFIED:20230512T132507Z
UID:10049968-1689363000-1689386400@golatindance.com
SUMMARY:Cuba Libre Orlando Latin Friday Nights
DESCRIPTION:EVERY FRIDAY! \nLive Band\, DJ & Dancing: 7:30PM-2AM \nJoin us on Friday for a live salsa band during dinner from 7:30pm-10pm. Band alternates with DJ for Cuba Libre Nights from 10pm-2am.
URL:https://golatindance.com/event/cuba-libre-latin-friday-nights/2023-07-14/
LOCATION:Cuba Libre – Orlando\, 9101 International Drive\, Orlando\, FL\, 32189\, United States
CATEGORIES:Orlando
ATTACH;FMTTYPE=image/jpeg:https://golatindance.com/wp-content/uploads/2022/11/346477567_1461324308007592_3902394052545028902_n.jpg
END:VEVENT
END:VCALENDAR