BEGIN:VCALENDAR
VERSION:2.0
PRODID:-//GO Latin Dance - ECPv6.15.18//NONSGML v1.0//EN
CALSCALE:GREGORIAN
METHOD:PUBLISH
X-ORIGINAL-URL:https://golatindance.com
X-WR-CALDESC:Events for GO Latin Dance
REFRESH-INTERVAL;VALUE=DURATION:PT1H
X-Robots-Tag:noindex
X-PUBLISHED-TTL:PT1H
BEGIN:VTIMEZONE
TZID:America/New_York
BEGIN:DAYLIGHT
TZOFFSETFROM:-0500
TZOFFSETTO:-0400
TZNAME:EDT
DTSTART:20220313T070000
END:DAYLIGHT
BEGIN:STANDARD
TZOFFSETFROM:-0400
TZOFFSETTO:-0500
TZNAME:EST
DTSTART:20221106T060000
END:STANDARD
BEGIN:DAYLIGHT
TZOFFSETFROM:-0500
TZOFFSETTO:-0400
TZNAME:EDT
DTSTART:20230312T070000
END:DAYLIGHT
BEGIN:STANDARD
TZOFFSETFROM:-0400
TZOFFSETTO:-0500
TZNAME:EST
DTSTART:20231105T060000
END:STANDARD
BEGIN:DAYLIGHT
TZOFFSETFROM:-0500
TZOFFSETTO:-0400
TZNAME:EDT
DTSTART:20240310T070000
END:DAYLIGHT
BEGIN:STANDARD
TZOFFSETFROM:-0400
TZOFFSETTO:-0500
TZNAME:EST
DTSTART:20241103T060000
END:STANDARD
END:VTIMEZONE
BEGIN:VEVENT
DTSTART;TZID=America/New_York:20230603T220000
DTEND;TZID=America/New_York:20230604T020000
DTSTAMP:20260424T233451
CREATED:20221111T155331Z
LAST-MODIFIED:20230512T132625Z
UID:10041397-1685829600-1685844000@golatindance.com
SUMMARY:Cuba Libre Orlando Latin Saturday Nights
DESCRIPTION:EVERY SATURDAY! \nDJ & Dancing: 10PM-2AM \nJoin us on Saturday for dinner starting at 5PM followed by our transition into Viva La Noche Saturdays at 10PM. Our DJ will keep you dancing till 2AM with club hits\, salsa\, merengue\, bachata\, and reggaeton. Two rooms to dance: Latin mix in main room\, tropical on patio.
URL:https://golatindance.com/event/cuba-libre-orlando-latin-saturday-nights/2023-06-03/
LOCATION:Cuba Libre – Orlando\, 9101 International Drive\, Orlando\, FL\, 32189\, United States
CATEGORIES:Orlando
ATTACH;FMTTYPE=image/jpeg:https://golatindance.com/wp-content/uploads/2022/11/345450011_786082726218299_4464510503569284563_n.jpg
END:VEVENT
BEGIN:VEVENT
DTSTART;TZID=America/New_York:20230602T193000
DTEND;TZID=America/New_York:20230603T020000
DTSTAMP:20260424T233451
CREATED:20221111T155235Z
LAST-MODIFIED:20230512T132507Z
UID:10041387-1685734200-1685757600@golatindance.com
SUMMARY:Cuba Libre Orlando Latin Friday Nights
DESCRIPTION:EVERY FRIDAY! \nLive Band\, DJ & Dancing: 7:30PM-2AM \nJoin us on Friday for a live salsa band during dinner from 7:30pm-10pm. Band alternates with DJ for Cuba Libre Nights from 10pm-2am.
URL:https://golatindance.com/event/cuba-libre-latin-friday-nights/2023-06-02/
LOCATION:Cuba Libre – Orlando\, 9101 International Drive\, Orlando\, FL\, 32189\, United States
CATEGORIES:Orlando
ATTACH;FMTTYPE=image/jpeg:https://golatindance.com/wp-content/uploads/2022/11/346477567_1461324308007592_3902394052545028902_n.jpg
END:VEVENT
BEGIN:VEVENT
DTSTART;TZID=America/New_York:20230527T220000
DTEND;TZID=America/New_York:20230528T020000
DTSTAMP:20260424T233451
CREATED:20221111T155331Z
LAST-MODIFIED:20230512T132625Z
UID:10041396-1685224800-1685239200@golatindance.com
SUMMARY:Cuba Libre Orlando Latin Saturday Nights
DESCRIPTION:EVERY SATURDAY! \nDJ & Dancing: 10PM-2AM \nJoin us on Saturday for dinner starting at 5PM followed by our transition into Viva La Noche Saturdays at 10PM. Our DJ will keep you dancing till 2AM with club hits\, salsa\, merengue\, bachata\, and reggaeton. Two rooms to dance: Latin mix in main room\, tropical on patio.
URL:https://golatindance.com/event/cuba-libre-orlando-latin-saturday-nights/2023-05-27/
LOCATION:Cuba Libre – Orlando\, 9101 International Drive\, Orlando\, FL\, 32189\, United States
CATEGORIES:Orlando
ATTACH;FMTTYPE=image/jpeg:https://golatindance.com/wp-content/uploads/2022/11/345450011_786082726218299_4464510503569284563_n.jpg
END:VEVENT
BEGIN:VEVENT
DTSTART;TZID=America/New_York:20230526T193000
DTEND;TZID=America/New_York:20230527T020000
DTSTAMP:20260424T233451
CREATED:20221111T155235Z
LAST-MODIFIED:20230512T132507Z
UID:10041386-1685129400-1685152800@golatindance.com
SUMMARY:Cuba Libre Orlando Latin Friday Nights
DESCRIPTION:EVERY FRIDAY! \nLive Band\, DJ & Dancing: 7:30PM-2AM \nJoin us on Friday for a live salsa band during dinner from 7:30pm-10pm. Band alternates with DJ for Cuba Libre Nights from 10pm-2am.
URL:https://golatindance.com/event/cuba-libre-latin-friday-nights/2023-05-26/
LOCATION:Cuba Libre – Orlando\, 9101 International Drive\, Orlando\, FL\, 32189\, United States
CATEGORIES:Orlando
ATTACH;FMTTYPE=image/jpeg:https://golatindance.com/wp-content/uploads/2022/11/346477567_1461324308007592_3902394052545028902_n.jpg
END:VEVENT
BEGIN:VEVENT
DTSTART;TZID=America/New_York:20230520T220000
DTEND;TZID=America/New_York:20230521T020000
DTSTAMP:20260424T233451
CREATED:20221111T155331Z
LAST-MODIFIED:20230512T132625Z
UID:10041395-1684620000-1684634400@golatindance.com
SUMMARY:Cuba Libre Orlando Latin Saturday Nights
DESCRIPTION:EVERY SATURDAY! \nDJ & Dancing: 10PM-2AM \nJoin us on Saturday for dinner starting at 5PM followed by our transition into Viva La Noche Saturdays at 10PM. Our DJ will keep you dancing till 2AM with club hits\, salsa\, merengue\, bachata\, and reggaeton. Two rooms to dance: Latin mix in main room\, tropical on patio.
URL:https://golatindance.com/event/cuba-libre-orlando-latin-saturday-nights/2023-05-20/
LOCATION:Cuba Libre – Orlando\, 9101 International Drive\, Orlando\, FL\, 32189\, United States
CATEGORIES:Orlando
ATTACH;FMTTYPE=image/jpeg:https://golatindance.com/wp-content/uploads/2022/11/345450011_786082726218299_4464510503569284563_n.jpg
END:VEVENT
BEGIN:VEVENT
DTSTART;TZID=America/New_York:20230519T193000
DTEND;TZID=America/New_York:20230520T020000
DTSTAMP:20260424T233451
CREATED:20221111T155235Z
LAST-MODIFIED:20230512T132507Z
UID:10041385-1684524600-1684548000@golatindance.com
SUMMARY:Cuba Libre Orlando Latin Friday Nights
DESCRIPTION:EVERY FRIDAY! \nLive Band\, DJ & Dancing: 7:30PM-2AM \nJoin us on Friday for a live salsa band during dinner from 7:30pm-10pm. Band alternates with DJ for Cuba Libre Nights from 10pm-2am.
URL:https://golatindance.com/event/cuba-libre-latin-friday-nights/2023-05-19/
LOCATION:Cuba Libre – Orlando\, 9101 International Drive\, Orlando\, FL\, 32189\, United States
CATEGORIES:Orlando
ATTACH;FMTTYPE=image/jpeg:https://golatindance.com/wp-content/uploads/2022/11/346477567_1461324308007592_3902394052545028902_n.jpg
END:VEVENT
BEGIN:VEVENT
DTSTART;TZID=America/New_York:20230513T220000
DTEND;TZID=America/New_York:20230514T020000
DTSTAMP:20260424T233451
CREATED:20221111T155331Z
LAST-MODIFIED:20230512T132625Z
UID:10041394-1684015200-1684029600@golatindance.com
SUMMARY:Cuba Libre Orlando Latin Saturday Nights
DESCRIPTION:EVERY SATURDAY! \nDJ & Dancing: 10PM-2AM \nJoin us on Saturday for dinner starting at 5PM followed by our transition into Viva La Noche Saturdays at 10PM. Our DJ will keep you dancing till 2AM with club hits\, salsa\, merengue\, bachata\, and reggaeton. Two rooms to dance: Latin mix in main room\, tropical on patio.
URL:https://golatindance.com/event/cuba-libre-orlando-latin-saturday-nights/2023-05-13/
LOCATION:Cuba Libre – Orlando\, 9101 International Drive\, Orlando\, FL\, 32189\, United States
CATEGORIES:Orlando
ATTACH;FMTTYPE=image/jpeg:https://golatindance.com/wp-content/uploads/2022/11/345450011_786082726218299_4464510503569284563_n.jpg
END:VEVENT
BEGIN:VEVENT
DTSTART;TZID=America/New_York:20230512T193000
DTEND;TZID=America/New_York:20230513T020000
DTSTAMP:20260424T233451
CREATED:20221111T155235Z
LAST-MODIFIED:20230512T132507Z
UID:10041384-1683919800-1683943200@golatindance.com
SUMMARY:Cuba Libre Orlando Latin Friday Nights
DESCRIPTION:EVERY FRIDAY! \nLive Band\, DJ & Dancing: 7:30PM-2AM \nJoin us on Friday for a live salsa band during dinner from 7:30pm-10pm. Band alternates with DJ for Cuba Libre Nights from 10pm-2am.
URL:https://golatindance.com/event/cuba-libre-latin-friday-nights/2023-05-12/
LOCATION:Cuba Libre – Orlando\, 9101 International Drive\, Orlando\, FL\, 32189\, United States
CATEGORIES:Orlando
ATTACH;FMTTYPE=image/jpeg:https://golatindance.com/wp-content/uploads/2022/11/346477567_1461324308007592_3902394052545028902_n.jpg
END:VEVENT
BEGIN:VEVENT
DTSTART;TZID=America/New_York:20230506T220000
DTEND;TZID=America/New_York:20230507T020000
DTSTAMP:20260424T233451
CREATED:20221111T155331Z
LAST-MODIFIED:20230512T132625Z
UID:10041393-1683410400-1683424800@golatindance.com
SUMMARY:Cuba Libre Orlando Latin Saturday Nights
DESCRIPTION:EVERY SATURDAY! \nDJ & Dancing: 10PM-2AM \nJoin us on Saturday for dinner starting at 5PM followed by our transition into Viva La Noche Saturdays at 10PM. Our DJ will keep you dancing till 2AM with club hits\, salsa\, merengue\, bachata\, and reggaeton. Two rooms to dance: Latin mix in main room\, tropical on patio.
URL:https://golatindance.com/event/cuba-libre-orlando-latin-saturday-nights/2023-05-06/
LOCATION:Cuba Libre – Orlando\, 9101 International Drive\, Orlando\, FL\, 32189\, United States
CATEGORIES:Orlando
ATTACH;FMTTYPE=image/jpeg:https://golatindance.com/wp-content/uploads/2022/11/345450011_786082726218299_4464510503569284563_n.jpg
END:VEVENT
BEGIN:VEVENT
DTSTART;TZID=America/New_York:20230505T193000
DTEND;TZID=America/New_York:20230506T020000
DTSTAMP:20260424T233451
CREATED:20221111T155235Z
LAST-MODIFIED:20230512T132507Z
UID:10041383-1683315000-1683338400@golatindance.com
SUMMARY:Cuba Libre Orlando Latin Friday Nights
DESCRIPTION:EVERY FRIDAY! \nLive Band\, DJ & Dancing: 7:30PM-2AM \nJoin us on Friday for a live salsa band during dinner from 7:30pm-10pm. Band alternates with DJ for Cuba Libre Nights from 10pm-2am.
URL:https://golatindance.com/event/cuba-libre-latin-friday-nights/2023-05-05/
LOCATION:Cuba Libre – Orlando\, 9101 International Drive\, Orlando\, FL\, 32189\, United States
CATEGORIES:Orlando
ATTACH;FMTTYPE=image/jpeg:https://golatindance.com/wp-content/uploads/2022/11/346477567_1461324308007592_3902394052545028902_n.jpg
END:VEVENT
BEGIN:VEVENT
DTSTART;TZID=America/New_York:20230429T220000
DTEND;TZID=America/New_York:20230430T020000
DTSTAMP:20260424T233451
CREATED:20221111T155331Z
LAST-MODIFIED:20230512T132625Z
UID:10041392-1682805600-1682820000@golatindance.com
SUMMARY:Cuba Libre Orlando Latin Saturday Nights
DESCRIPTION:EVERY SATURDAY! \nDJ & Dancing: 10PM-2AM \nJoin us on Saturday for dinner starting at 5PM followed by our transition into Viva La Noche Saturdays at 10PM. Our DJ will keep you dancing till 2AM with club hits\, salsa\, merengue\, bachata\, and reggaeton. Two rooms to dance: Latin mix in main room\, tropical on patio.
URL:https://golatindance.com/event/cuba-libre-orlando-latin-saturday-nights/2023-04-29/
LOCATION:Cuba Libre – Orlando\, 9101 International Drive\, Orlando\, FL\, 32189\, United States
CATEGORIES:Orlando
ATTACH;FMTTYPE=image/jpeg:https://golatindance.com/wp-content/uploads/2022/11/345450011_786082726218299_4464510503569284563_n.jpg
END:VEVENT
BEGIN:VEVENT
DTSTART;TZID=America/New_York:20230428T193000
DTEND;TZID=America/New_York:20230429T020000
DTSTAMP:20260424T233451
CREATED:20221111T155235Z
LAST-MODIFIED:20230512T132507Z
UID:10041382-1682710200-1682733600@golatindance.com
SUMMARY:Cuba Libre Orlando Latin Friday Nights
DESCRIPTION:EVERY FRIDAY! \nLive Band\, DJ & Dancing: 7:30PM-2AM \nJoin us on Friday for a live salsa band during dinner from 7:30pm-10pm. Band alternates with DJ for Cuba Libre Nights from 10pm-2am.
URL:https://golatindance.com/event/cuba-libre-latin-friday-nights/2023-04-28/
LOCATION:Cuba Libre – Orlando\, 9101 International Drive\, Orlando\, FL\, 32189\, United States
CATEGORIES:Orlando
ATTACH;FMTTYPE=image/jpeg:https://golatindance.com/wp-content/uploads/2022/11/346477567_1461324308007592_3902394052545028902_n.jpg
END:VEVENT
BEGIN:VEVENT
DTSTART;TZID=America/New_York:20230422T220000
DTEND;TZID=America/New_York:20230423T020000
DTSTAMP:20260424T233451
CREATED:20221111T155331Z
LAST-MODIFIED:20230512T132625Z
UID:10041391-1682200800-1682215200@golatindance.com
SUMMARY:Cuba Libre Orlando Latin Saturday Nights
DESCRIPTION:EVERY SATURDAY! \nDJ & Dancing: 10PM-2AM \nJoin us on Saturday for dinner starting at 5PM followed by our transition into Viva La Noche Saturdays at 10PM. Our DJ will keep you dancing till 2AM with club hits\, salsa\, merengue\, bachata\, and reggaeton. Two rooms to dance: Latin mix in main room\, tropical on patio.
URL:https://golatindance.com/event/cuba-libre-orlando-latin-saturday-nights/2023-04-22/
LOCATION:Cuba Libre – Orlando\, 9101 International Drive\, Orlando\, FL\, 32189\, United States
CATEGORIES:Orlando
ATTACH;FMTTYPE=image/jpeg:https://golatindance.com/wp-content/uploads/2022/11/345450011_786082726218299_4464510503569284563_n.jpg
END:VEVENT
BEGIN:VEVENT
DTSTART;TZID=America/New_York:20230421T193000
DTEND;TZID=America/New_York:20230422T020000
DTSTAMP:20260424T233451
CREATED:20221111T155235Z
LAST-MODIFIED:20230512T132507Z
UID:10041381-1682105400-1682128800@golatindance.com
SUMMARY:Cuba Libre Orlando Latin Friday Nights
DESCRIPTION:EVERY FRIDAY! \nLive Band\, DJ & Dancing: 7:30PM-2AM \nJoin us on Friday for a live salsa band during dinner from 7:30pm-10pm. Band alternates with DJ for Cuba Libre Nights from 10pm-2am.
URL:https://golatindance.com/event/cuba-libre-latin-friday-nights/2023-04-21/
LOCATION:Cuba Libre – Orlando\, 9101 International Drive\, Orlando\, FL\, 32189\, United States
CATEGORIES:Orlando
ATTACH;FMTTYPE=image/jpeg:https://golatindance.com/wp-content/uploads/2022/11/346477567_1461324308007592_3902394052545028902_n.jpg
END:VEVENT
BEGIN:VEVENT
DTSTART;TZID=America/New_York:20230415T220000
DTEND;TZID=America/New_York:20230416T020000
DTSTAMP:20260424T233451
CREATED:20221111T155331Z
LAST-MODIFIED:20230512T132625Z
UID:10041390-1681596000-1681610400@golatindance.com
SUMMARY:Cuba Libre Orlando Latin Saturday Nights
DESCRIPTION:EVERY SATURDAY! \nDJ & Dancing: 10PM-2AM \nJoin us on Saturday for dinner starting at 5PM followed by our transition into Viva La Noche Saturdays at 10PM. Our DJ will keep you dancing till 2AM with club hits\, salsa\, merengue\, bachata\, and reggaeton. Two rooms to dance: Latin mix in main room\, tropical on patio.
URL:https://golatindance.com/event/cuba-libre-orlando-latin-saturday-nights/2023-04-15/
LOCATION:Cuba Libre – Orlando\, 9101 International Drive\, Orlando\, FL\, 32189\, United States
CATEGORIES:Orlando
ATTACH;FMTTYPE=image/jpeg:https://golatindance.com/wp-content/uploads/2022/11/345450011_786082726218299_4464510503569284563_n.jpg
END:VEVENT
BEGIN:VEVENT
DTSTART;TZID=America/New_York:20230414T193000
DTEND;TZID=America/New_York:20230415T020000
DTSTAMP:20260424T233451
CREATED:20221111T155235Z
LAST-MODIFIED:20230512T132507Z
UID:10041380-1681500600-1681524000@golatindance.com
SUMMARY:Cuba Libre Orlando Latin Friday Nights
DESCRIPTION:EVERY FRIDAY! \nLive Band\, DJ & Dancing: 7:30PM-2AM \nJoin us on Friday for a live salsa band during dinner from 7:30pm-10pm. Band alternates with DJ for Cuba Libre Nights from 10pm-2am.
URL:https://golatindance.com/event/cuba-libre-latin-friday-nights/2023-04-14/
LOCATION:Cuba Libre – Orlando\, 9101 International Drive\, Orlando\, FL\, 32189\, United States
CATEGORIES:Orlando
ATTACH;FMTTYPE=image/jpeg:https://golatindance.com/wp-content/uploads/2022/11/346477567_1461324308007592_3902394052545028902_n.jpg
END:VEVENT
BEGIN:VEVENT
DTSTART;TZID=America/New_York:20230408T220000
DTEND;TZID=America/New_York:20230409T020000
DTSTAMP:20260424T233451
CREATED:20221111T155331Z
LAST-MODIFIED:20230512T132625Z
UID:10041389-1680991200-1681005600@golatindance.com
SUMMARY:Cuba Libre Orlando Latin Saturday Nights
DESCRIPTION:EVERY SATURDAY! \nDJ & Dancing: 10PM-2AM \nJoin us on Saturday for dinner starting at 5PM followed by our transition into Viva La Noche Saturdays at 10PM. Our DJ will keep you dancing till 2AM with club hits\, salsa\, merengue\, bachata\, and reggaeton. Two rooms to dance: Latin mix in main room\, tropical on patio.
URL:https://golatindance.com/event/cuba-libre-orlando-latin-saturday-nights/2023-04-08/
LOCATION:Cuba Libre – Orlando\, 9101 International Drive\, Orlando\, FL\, 32189\, United States
CATEGORIES:Orlando
ATTACH;FMTTYPE=image/jpeg:https://golatindance.com/wp-content/uploads/2022/11/345450011_786082726218299_4464510503569284563_n.jpg
END:VEVENT
BEGIN:VEVENT
DTSTART;TZID=America/New_York:20230407T193000
DTEND;TZID=America/New_York:20230408T020000
DTSTAMP:20260424T233451
CREATED:20221111T155235Z
LAST-MODIFIED:20230512T132507Z
UID:10041379-1680895800-1680919200@golatindance.com
SUMMARY:Cuba Libre Orlando Latin Friday Nights
DESCRIPTION:EVERY FRIDAY! \nLive Band\, DJ & Dancing: 7:30PM-2AM \nJoin us on Friday for a live salsa band during dinner from 7:30pm-10pm. Band alternates with DJ for Cuba Libre Nights from 10pm-2am.
URL:https://golatindance.com/event/cuba-libre-latin-friday-nights/2023-04-07/
LOCATION:Cuba Libre – Orlando\, 9101 International Drive\, Orlando\, FL\, 32189\, United States
CATEGORIES:Orlando
ATTACH;FMTTYPE=image/jpeg:https://golatindance.com/wp-content/uploads/2022/11/346477567_1461324308007592_3902394052545028902_n.jpg
END:VEVENT
BEGIN:VEVENT
DTSTART;TZID=America/New_York:20230401T220000
DTEND;TZID=America/New_York:20230402T020000
DTSTAMP:20260424T233451
CREATED:20221111T155331Z
LAST-MODIFIED:20230512T132625Z
UID:10041388-1680386400-1680400800@golatindance.com
SUMMARY:Cuba Libre Orlando Latin Saturday Nights
DESCRIPTION:EVERY SATURDAY! \nDJ & Dancing: 10PM-2AM \nJoin us on Saturday for dinner starting at 5PM followed by our transition into Viva La Noche Saturdays at 10PM. Our DJ will keep you dancing till 2AM with club hits\, salsa\, merengue\, bachata\, and reggaeton. Two rooms to dance: Latin mix in main room\, tropical on patio.
URL:https://golatindance.com/event/cuba-libre-orlando-latin-saturday-nights/2023-04-01/
LOCATION:Cuba Libre – Orlando\, 9101 International Drive\, Orlando\, FL\, 32189\, United States
CATEGORIES:Orlando
ATTACH;FMTTYPE=image/jpeg:https://golatindance.com/wp-content/uploads/2022/11/345450011_786082726218299_4464510503569284563_n.jpg
END:VEVENT
BEGIN:VEVENT
DTSTART;TZID=America/New_York:20230331T193000
DTEND;TZID=America/New_York:20230401T020000
DTSTAMP:20260424T233451
CREATED:20221111T155235Z
LAST-MODIFIED:20230512T132507Z
UID:10041378-1680291000-1680314400@golatindance.com
SUMMARY:Cuba Libre Orlando Latin Friday Nights
DESCRIPTION:EVERY FRIDAY! \nLive Band\, DJ & Dancing: 7:30PM-2AM \nJoin us on Friday for a live salsa band during dinner from 7:30pm-10pm. Band alternates with DJ for Cuba Libre Nights from 10pm-2am.
URL:https://golatindance.com/event/cuba-libre-latin-friday-nights/2023-03-31/
LOCATION:Cuba Libre – Orlando\, 9101 International Drive\, Orlando\, FL\, 32189\, United States
CATEGORIES:Orlando
ATTACH;FMTTYPE=image/jpeg:https://golatindance.com/wp-content/uploads/2022/11/346477567_1461324308007592_3902394052545028902_n.jpg
END:VEVENT
BEGIN:VEVENT
DTSTART;TZID=America/New_York:20230325T220000
DTEND;TZID=America/New_York:20230326T020000
DTSTAMP:20260424T233451
CREATED:20221111T155331Z
LAST-MODIFIED:20230512T132625Z
UID:10035280-1679781600-1679796000@golatindance.com
SUMMARY:Cuba Libre Orlando Latin Saturday Nights
DESCRIPTION:EVERY SATURDAY! \nDJ & Dancing: 10PM-2AM \nJoin us on Saturday for dinner starting at 5PM followed by our transition into Viva La Noche Saturdays at 10PM. Our DJ will keep you dancing till 2AM with club hits\, salsa\, merengue\, bachata\, and reggaeton. Two rooms to dance: Latin mix in main room\, tropical on patio.
URL:https://golatindance.com/event/cuba-libre-orlando-latin-saturday-nights/2023-03-25/
LOCATION:Cuba Libre – Orlando\, 9101 International Drive\, Orlando\, FL\, 32189\, United States
CATEGORIES:Orlando
ATTACH;FMTTYPE=image/jpeg:https://golatindance.com/wp-content/uploads/2022/11/345450011_786082726218299_4464510503569284563_n.jpg
END:VEVENT
BEGIN:VEVENT
DTSTART;TZID=America/New_York:20230324T193000
DTEND;TZID=America/New_York:20230325T020000
DTSTAMP:20260424T233451
CREATED:20221111T155235Z
LAST-MODIFIED:20230512T132507Z
UID:10035272-1679686200-1679709600@golatindance.com
SUMMARY:Cuba Libre Orlando Latin Friday Nights
DESCRIPTION:EVERY FRIDAY! \nLive Band\, DJ & Dancing: 7:30PM-2AM \nJoin us on Friday for a live salsa band during dinner from 7:30pm-10pm. Band alternates with DJ for Cuba Libre Nights from 10pm-2am.
URL:https://golatindance.com/event/cuba-libre-latin-friday-nights/2023-03-24/
LOCATION:Cuba Libre – Orlando\, 9101 International Drive\, Orlando\, FL\, 32189\, United States
CATEGORIES:Orlando
ATTACH;FMTTYPE=image/jpeg:https://golatindance.com/wp-content/uploads/2022/11/346477567_1461324308007592_3902394052545028902_n.jpg
END:VEVENT
BEGIN:VEVENT
DTSTART;TZID=America/New_York:20230318T220000
DTEND;TZID=America/New_York:20230319T020000
DTSTAMP:20260424T233451
CREATED:20221111T155331Z
LAST-MODIFIED:20230512T132625Z
UID:10035279-1679176800-1679191200@golatindance.com
SUMMARY:Cuba Libre Orlando Latin Saturday Nights
DESCRIPTION:EVERY SATURDAY! \nDJ & Dancing: 10PM-2AM \nJoin us on Saturday for dinner starting at 5PM followed by our transition into Viva La Noche Saturdays at 10PM. Our DJ will keep you dancing till 2AM with club hits\, salsa\, merengue\, bachata\, and reggaeton. Two rooms to dance: Latin mix in main room\, tropical on patio.
URL:https://golatindance.com/event/cuba-libre-orlando-latin-saturday-nights/2023-03-18/
LOCATION:Cuba Libre – Orlando\, 9101 International Drive\, Orlando\, FL\, 32189\, United States
CATEGORIES:Orlando
ATTACH;FMTTYPE=image/jpeg:https://golatindance.com/wp-content/uploads/2022/11/345450011_786082726218299_4464510503569284563_n.jpg
END:VEVENT
BEGIN:VEVENT
DTSTART;TZID=America/New_York:20230317T193000
DTEND;TZID=America/New_York:20230318T020000
DTSTAMP:20260424T233451
CREATED:20221111T155235Z
LAST-MODIFIED:20230512T132507Z
UID:10035271-1679081400-1679104800@golatindance.com
SUMMARY:Cuba Libre Orlando Latin Friday Nights
DESCRIPTION:EVERY FRIDAY! \nLive Band\, DJ & Dancing: 7:30PM-2AM \nJoin us on Friday for a live salsa band during dinner from 7:30pm-10pm. Band alternates with DJ for Cuba Libre Nights from 10pm-2am.
URL:https://golatindance.com/event/cuba-libre-latin-friday-nights/2023-03-17/
LOCATION:Cuba Libre – Orlando\, 9101 International Drive\, Orlando\, FL\, 32189\, United States
CATEGORIES:Orlando
ATTACH;FMTTYPE=image/jpeg:https://golatindance.com/wp-content/uploads/2022/11/346477567_1461324308007592_3902394052545028902_n.jpg
END:VEVENT
BEGIN:VEVENT
DTSTART;TZID=America/New_York:20230311T220000
DTEND;TZID=America/New_York:20230312T030000
DTSTAMP:20260424T233451
CREATED:20221111T155331Z
LAST-MODIFIED:20230512T132625Z
UID:10035278-1678572000-1678590000@golatindance.com
SUMMARY:Cuba Libre Orlando Latin Saturday Nights
DESCRIPTION:EVERY SATURDAY! \nDJ & Dancing: 10PM-2AM \nJoin us on Saturday for dinner starting at 5PM followed by our transition into Viva La Noche Saturdays at 10PM. Our DJ will keep you dancing till 2AM with club hits\, salsa\, merengue\, bachata\, and reggaeton. Two rooms to dance: Latin mix in main room\, tropical on patio.
URL:https://golatindance.com/event/cuba-libre-orlando-latin-saturday-nights/2023-03-11/
LOCATION:Cuba Libre – Orlando\, 9101 International Drive\, Orlando\, FL\, 32189\, United States
CATEGORIES:Orlando
ATTACH;FMTTYPE=image/jpeg:https://golatindance.com/wp-content/uploads/2022/11/345450011_786082726218299_4464510503569284563_n.jpg
END:VEVENT
BEGIN:VEVENT
DTSTART;TZID=America/New_York:20230310T193000
DTEND;TZID=America/New_York:20230311T020000
DTSTAMP:20260424T233451
CREATED:20221111T155235Z
LAST-MODIFIED:20230512T132507Z
UID:10035270-1678476600-1678500000@golatindance.com
SUMMARY:Cuba Libre Orlando Latin Friday Nights
DESCRIPTION:EVERY FRIDAY! \nLive Band\, DJ & Dancing: 7:30PM-2AM \nJoin us on Friday for a live salsa band during dinner from 7:30pm-10pm. Band alternates with DJ for Cuba Libre Nights from 10pm-2am.
URL:https://golatindance.com/event/cuba-libre-latin-friday-nights/2023-03-10/
LOCATION:Cuba Libre – Orlando\, 9101 International Drive\, Orlando\, FL\, 32189\, United States
CATEGORIES:Orlando
ATTACH;FMTTYPE=image/jpeg:https://golatindance.com/wp-content/uploads/2022/11/346477567_1461324308007592_3902394052545028902_n.jpg
END:VEVENT
BEGIN:VEVENT
DTSTART;TZID=America/New_York:20230304T220000
DTEND;TZID=America/New_York:20230305T020000
DTSTAMP:20260424T233451
CREATED:20221111T155331Z
LAST-MODIFIED:20230512T132625Z
UID:10035277-1677967200-1677981600@golatindance.com
SUMMARY:Cuba Libre Orlando Latin Saturday Nights
DESCRIPTION:EVERY SATURDAY! \nDJ & Dancing: 10PM-2AM \nJoin us on Saturday for dinner starting at 5PM followed by our transition into Viva La Noche Saturdays at 10PM. Our DJ will keep you dancing till 2AM with club hits\, salsa\, merengue\, bachata\, and reggaeton. Two rooms to dance: Latin mix in main room\, tropical on patio.
URL:https://golatindance.com/event/cuba-libre-orlando-latin-saturday-nights/2023-03-04/
LOCATION:Cuba Libre – Orlando\, 9101 International Drive\, Orlando\, FL\, 32189\, United States
CATEGORIES:Orlando
ATTACH;FMTTYPE=image/jpeg:https://golatindance.com/wp-content/uploads/2022/11/345450011_786082726218299_4464510503569284563_n.jpg
END:VEVENT
BEGIN:VEVENT
DTSTART;TZID=America/New_York:20230303T193000
DTEND;TZID=America/New_York:20230304T020000
DTSTAMP:20260424T233451
CREATED:20221111T155235Z
LAST-MODIFIED:20230512T132507Z
UID:10035269-1677871800-1677895200@golatindance.com
SUMMARY:Cuba Libre Orlando Latin Friday Nights
DESCRIPTION:EVERY FRIDAY! \nLive Band\, DJ & Dancing: 7:30PM-2AM \nJoin us on Friday for a live salsa band during dinner from 7:30pm-10pm. Band alternates with DJ for Cuba Libre Nights from 10pm-2am.
URL:https://golatindance.com/event/cuba-libre-latin-friday-nights/2023-03-03/
LOCATION:Cuba Libre – Orlando\, 9101 International Drive\, Orlando\, FL\, 32189\, United States
CATEGORIES:Orlando
ATTACH;FMTTYPE=image/jpeg:https://golatindance.com/wp-content/uploads/2022/11/346477567_1461324308007592_3902394052545028902_n.jpg
END:VEVENT
BEGIN:VEVENT
DTSTART;TZID=America/New_York:20230225T220000
DTEND;TZID=America/New_York:20230226T020000
DTSTAMP:20260424T233451
CREATED:20221111T155331Z
LAST-MODIFIED:20230512T132625Z
UID:10035276-1677362400-1677376800@golatindance.com
SUMMARY:Cuba Libre Orlando Latin Saturday Nights
DESCRIPTION:EVERY SATURDAY! \nDJ & Dancing: 10PM-2AM \nJoin us on Saturday for dinner starting at 5PM followed by our transition into Viva La Noche Saturdays at 10PM. Our DJ will keep you dancing till 2AM with club hits\, salsa\, merengue\, bachata\, and reggaeton. Two rooms to dance: Latin mix in main room\, tropical on patio.
URL:https://golatindance.com/event/cuba-libre-orlando-latin-saturday-nights/2023-02-25/
LOCATION:Cuba Libre – Orlando\, 9101 International Drive\, Orlando\, FL\, 32189\, United States
CATEGORIES:Orlando
ATTACH;FMTTYPE=image/jpeg:https://golatindance.com/wp-content/uploads/2022/11/345450011_786082726218299_4464510503569284563_n.jpg
END:VEVENT
BEGIN:VEVENT
DTSTART;TZID=America/New_York:20230224T193000
DTEND;TZID=America/New_York:20230225T020000
DTSTAMP:20260424T233451
CREATED:20221111T155235Z
LAST-MODIFIED:20230512T132507Z
UID:10035268-1677267000-1677290400@golatindance.com
SUMMARY:Cuba Libre Orlando Latin Friday Nights
DESCRIPTION:EVERY FRIDAY! \nLive Band\, DJ & Dancing: 7:30PM-2AM \nJoin us on Friday for a live salsa band during dinner from 7:30pm-10pm. Band alternates with DJ for Cuba Libre Nights from 10pm-2am.
URL:https://golatindance.com/event/cuba-libre-latin-friday-nights/2023-02-24/
LOCATION:Cuba Libre – Orlando\, 9101 International Drive\, Orlando\, FL\, 32189\, United States
CATEGORIES:Orlando
ATTACH;FMTTYPE=image/jpeg:https://golatindance.com/wp-content/uploads/2022/11/346477567_1461324308007592_3902394052545028902_n.jpg
END:VEVENT
END:VCALENDAR