BEGIN:VCALENDAR
VERSION:2.0
PRODID:-//GO Latin Dance - ECPv6.15.18//NONSGML v1.0//EN
CALSCALE:GREGORIAN
METHOD:PUBLISH
X-WR-CALNAME:GO Latin Dance
X-ORIGINAL-URL:https://golatindance.com
X-WR-CALDESC:Events for GO Latin Dance
REFRESH-INTERVAL;VALUE=DURATION:PT1H
X-Robots-Tag:noindex
X-PUBLISHED-TTL:PT1H
BEGIN:VTIMEZONE
TZID:America/New_York
BEGIN:DAYLIGHT
TZOFFSETFROM:-0500
TZOFFSETTO:-0400
TZNAME:EDT
DTSTART:20210314T070000
END:DAYLIGHT
BEGIN:STANDARD
TZOFFSETFROM:-0400
TZOFFSETTO:-0500
TZNAME:EST
DTSTART:20211107T060000
END:STANDARD
BEGIN:DAYLIGHT
TZOFFSETFROM:-0500
TZOFFSETTO:-0400
TZNAME:EDT
DTSTART:20220313T070000
END:DAYLIGHT
BEGIN:STANDARD
TZOFFSETFROM:-0400
TZOFFSETTO:-0500
TZNAME:EST
DTSTART:20221106T060000
END:STANDARD
BEGIN:DAYLIGHT
TZOFFSETFROM:-0500
TZOFFSETTO:-0400
TZNAME:EDT
DTSTART:20230312T070000
END:DAYLIGHT
BEGIN:STANDARD
TZOFFSETFROM:-0400
TZOFFSETTO:-0500
TZNAME:EST
DTSTART:20231105T060000
END:STANDARD
END:VTIMEZONE
BEGIN:VEVENT
DTSTART;TZID=America/New_York:20221111T193000
DTEND;TZID=America/New_York:20221112T020000
DTSTAMP:20260425T063815
CREATED:20221111T155235Z
LAST-MODIFIED:20230512T132507Z
UID:10028140-1668195000-1668218400@golatindance.com
SUMMARY:Cuba Libre Orlando Latin Friday Nights
DESCRIPTION:EVERY FRIDAY! \nLive Band\, DJ & Dancing: 7:30PM-2AM \nJoin us on Friday for a live salsa band during dinner from 7:30pm-10pm. Band alternates with DJ for Cuba Libre Nights from 10pm-2am.
URL:https://golatindance.com/event/cuba-libre-latin-friday-nights/2022-11-11/
LOCATION:Cuba Libre – Orlando\, 9101 International Drive\, Orlando\, FL\, 32189\, United States
CATEGORIES:Orlando
ATTACH;FMTTYPE=image/jpeg:https://golatindance.com/wp-content/uploads/2022/11/346477567_1461324308007592_3902394052545028902_n.jpg
END:VEVENT
END:VCALENDAR