BEGIN:VCALENDAR
VERSION:2.0
PRODID:-//GO Latin Dance - ECPv6.15.18//NONSGML v1.0//EN
CALSCALE:GREGORIAN
METHOD:PUBLISH
X-ORIGINAL-URL:https://golatindance.com
X-WR-CALDESC:Events for GO Latin Dance
REFRESH-INTERVAL;VALUE=DURATION:PT1H
X-Robots-Tag:noindex
X-PUBLISHED-TTL:PT1H
BEGIN:VTIMEZONE
TZID:America/New_York
BEGIN:DAYLIGHT
TZOFFSETFROM:-0500
TZOFFSETTO:-0400
TZNAME:EDT
DTSTART:20240310T070000
END:DAYLIGHT
BEGIN:STANDARD
TZOFFSETFROM:-0400
TZOFFSETTO:-0500
TZNAME:EST
DTSTART:20241103T060000
END:STANDARD
BEGIN:DAYLIGHT
TZOFFSETFROM:-0500
TZOFFSETTO:-0400
TZNAME:EDT
DTSTART:20250309T070000
END:DAYLIGHT
BEGIN:STANDARD
TZOFFSETFROM:-0400
TZOFFSETTO:-0500
TZNAME:EST
DTSTART:20251102T060000
END:STANDARD
BEGIN:DAYLIGHT
TZOFFSETFROM:-0500
TZOFFSETTO:-0400
TZNAME:EDT
DTSTART:20260308T070000
END:DAYLIGHT
BEGIN:STANDARD
TZOFFSETFROM:-0400
TZOFFSETTO:-0500
TZNAME:EST
DTSTART:20261101T060000
END:STANDARD
END:VTIMEZONE
BEGIN:VEVENT
DTSTART;TZID=America/New_York:20250920T220000
DTEND;TZID=America/New_York:20250921T020000
DTSTAMP:20260421T111018
CREATED:20221111T155331Z
LAST-MODIFIED:20230512T132625Z
UID:10050340-1758405600-1758420000@golatindance.com
SUMMARY:Cuba Libre Orlando Latin Saturday Nights
DESCRIPTION:EVERY SATURDAY! \nDJ & Dancing: 10PM-2AM \nJoin us on Saturday for dinner starting at 5PM followed by our transition into Viva La Noche Saturdays at 10PM. Our DJ will keep you dancing till 2AM with club hits\, salsa\, merengue\, bachata\, and reggaeton. Two rooms to dance: Latin mix in main room\, tropical on patio.
URL:https://golatindance.com/event/cuba-libre-orlando-latin-saturday-nights/2025-09-20/
LOCATION:Cuba Libre – Orlando\, 9101 International Drive\, Orlando\, FL\, 32189\, United States
CATEGORIES:Orlando
ATTACH;FMTTYPE=image/jpeg:https://golatindance.com/wp-content/uploads/2022/11/345450011_786082726218299_4464510503569284563_n.jpg
END:VEVENT
BEGIN:VEVENT
DTSTART;TZID=America/New_York:20250919T193000
DTEND;TZID=America/New_York:20250920T020000
DTSTAMP:20260421T111018
CREATED:20221111T155235Z
LAST-MODIFIED:20230512T132507Z
UID:10050082-1758310200-1758333600@golatindance.com
SUMMARY:Cuba Libre Orlando Latin Friday Nights
DESCRIPTION:EVERY FRIDAY! \nLive Band\, DJ & Dancing: 7:30PM-2AM \nJoin us on Friday for a live salsa band during dinner from 7:30pm-10pm. Band alternates with DJ for Cuba Libre Nights from 10pm-2am.
URL:https://golatindance.com/event/cuba-libre-latin-friday-nights/2025-09-19/
LOCATION:Cuba Libre – Orlando\, 9101 International Drive\, Orlando\, FL\, 32189\, United States
CATEGORIES:Orlando
ATTACH;FMTTYPE=image/jpeg:https://golatindance.com/wp-content/uploads/2022/11/346477567_1461324308007592_3902394052545028902_n.jpg
END:VEVENT
BEGIN:VEVENT
DTSTART;TZID=America/New_York:20250913T220000
DTEND;TZID=America/New_York:20250914T020000
DTSTAMP:20260421T111018
CREATED:20221111T155331Z
LAST-MODIFIED:20230512T132625Z
UID:10050339-1757800800-1757815200@golatindance.com
SUMMARY:Cuba Libre Orlando Latin Saturday Nights
DESCRIPTION:EVERY SATURDAY! \nDJ & Dancing: 10PM-2AM \nJoin us on Saturday for dinner starting at 5PM followed by our transition into Viva La Noche Saturdays at 10PM. Our DJ will keep you dancing till 2AM with club hits\, salsa\, merengue\, bachata\, and reggaeton. Two rooms to dance: Latin mix in main room\, tropical on patio.
URL:https://golatindance.com/event/cuba-libre-orlando-latin-saturday-nights/2025-09-13/
LOCATION:Cuba Libre – Orlando\, 9101 International Drive\, Orlando\, FL\, 32189\, United States
CATEGORIES:Orlando
ATTACH;FMTTYPE=image/jpeg:https://golatindance.com/wp-content/uploads/2022/11/345450011_786082726218299_4464510503569284563_n.jpg
END:VEVENT
BEGIN:VEVENT
DTSTART;TZID=America/New_York:20250912T193000
DTEND;TZID=America/New_York:20250913T020000
DTSTAMP:20260421T111018
CREATED:20221111T155235Z
LAST-MODIFIED:20230512T132507Z
UID:10050081-1757705400-1757728800@golatindance.com
SUMMARY:Cuba Libre Orlando Latin Friday Nights
DESCRIPTION:EVERY FRIDAY! \nLive Band\, DJ & Dancing: 7:30PM-2AM \nJoin us on Friday for a live salsa band during dinner from 7:30pm-10pm. Band alternates with DJ for Cuba Libre Nights from 10pm-2am.
URL:https://golatindance.com/event/cuba-libre-latin-friday-nights/2025-09-12/
LOCATION:Cuba Libre – Orlando\, 9101 International Drive\, Orlando\, FL\, 32189\, United States
CATEGORIES:Orlando
ATTACH;FMTTYPE=image/jpeg:https://golatindance.com/wp-content/uploads/2022/11/346477567_1461324308007592_3902394052545028902_n.jpg
END:VEVENT
BEGIN:VEVENT
DTSTART;TZID=America/New_York:20250906T220000
DTEND;TZID=America/New_York:20250907T020000
DTSTAMP:20260421T111018
CREATED:20221111T155331Z
LAST-MODIFIED:20230512T132625Z
UID:10050338-1757196000-1757210400@golatindance.com
SUMMARY:Cuba Libre Orlando Latin Saturday Nights
DESCRIPTION:EVERY SATURDAY! \nDJ & Dancing: 10PM-2AM \nJoin us on Saturday for dinner starting at 5PM followed by our transition into Viva La Noche Saturdays at 10PM. Our DJ will keep you dancing till 2AM with club hits\, salsa\, merengue\, bachata\, and reggaeton. Two rooms to dance: Latin mix in main room\, tropical on patio.
URL:https://golatindance.com/event/cuba-libre-orlando-latin-saturday-nights/2025-09-06/
LOCATION:Cuba Libre – Orlando\, 9101 International Drive\, Orlando\, FL\, 32189\, United States
CATEGORIES:Orlando
ATTACH;FMTTYPE=image/jpeg:https://golatindance.com/wp-content/uploads/2022/11/345450011_786082726218299_4464510503569284563_n.jpg
END:VEVENT
BEGIN:VEVENT
DTSTART;TZID=America/New_York:20250905T193000
DTEND;TZID=America/New_York:20250906T020000
DTSTAMP:20260421T111018
CREATED:20221111T155235Z
LAST-MODIFIED:20230512T132507Z
UID:10050080-1757100600-1757124000@golatindance.com
SUMMARY:Cuba Libre Orlando Latin Friday Nights
DESCRIPTION:EVERY FRIDAY! \nLive Band\, DJ & Dancing: 7:30PM-2AM \nJoin us on Friday for a live salsa band during dinner from 7:30pm-10pm. Band alternates with DJ for Cuba Libre Nights from 10pm-2am.
URL:https://golatindance.com/event/cuba-libre-latin-friday-nights/2025-09-05/
LOCATION:Cuba Libre – Orlando\, 9101 International Drive\, Orlando\, FL\, 32189\, United States
CATEGORIES:Orlando
ATTACH;FMTTYPE=image/jpeg:https://golatindance.com/wp-content/uploads/2022/11/346477567_1461324308007592_3902394052545028902_n.jpg
END:VEVENT
BEGIN:VEVENT
DTSTART;TZID=America/New_York:20250830T220000
DTEND;TZID=America/New_York:20250831T020000
DTSTAMP:20260421T111018
CREATED:20221111T155331Z
LAST-MODIFIED:20230512T132625Z
UID:10050337-1756591200-1756605600@golatindance.com
SUMMARY:Cuba Libre Orlando Latin Saturday Nights
DESCRIPTION:EVERY SATURDAY! \nDJ & Dancing: 10PM-2AM \nJoin us on Saturday for dinner starting at 5PM followed by our transition into Viva La Noche Saturdays at 10PM. Our DJ will keep you dancing till 2AM with club hits\, salsa\, merengue\, bachata\, and reggaeton. Two rooms to dance: Latin mix in main room\, tropical on patio.
URL:https://golatindance.com/event/cuba-libre-orlando-latin-saturday-nights/2025-08-30/
LOCATION:Cuba Libre – Orlando\, 9101 International Drive\, Orlando\, FL\, 32189\, United States
CATEGORIES:Orlando
ATTACH;FMTTYPE=image/jpeg:https://golatindance.com/wp-content/uploads/2022/11/345450011_786082726218299_4464510503569284563_n.jpg
END:VEVENT
BEGIN:VEVENT
DTSTART;TZID=America/New_York:20250829T193000
DTEND;TZID=America/New_York:20250830T020000
DTSTAMP:20260421T111018
CREATED:20221111T155235Z
LAST-MODIFIED:20230512T132507Z
UID:10050079-1756495800-1756519200@golatindance.com
SUMMARY:Cuba Libre Orlando Latin Friday Nights
DESCRIPTION:EVERY FRIDAY! \nLive Band\, DJ & Dancing: 7:30PM-2AM \nJoin us on Friday for a live salsa band during dinner from 7:30pm-10pm. Band alternates with DJ for Cuba Libre Nights from 10pm-2am.
URL:https://golatindance.com/event/cuba-libre-latin-friday-nights/2025-08-29/
LOCATION:Cuba Libre – Orlando\, 9101 International Drive\, Orlando\, FL\, 32189\, United States
CATEGORIES:Orlando
ATTACH;FMTTYPE=image/jpeg:https://golatindance.com/wp-content/uploads/2022/11/346477567_1461324308007592_3902394052545028902_n.jpg
END:VEVENT
BEGIN:VEVENT
DTSTART;TZID=America/New_York:20250823T220000
DTEND;TZID=America/New_York:20250824T020000
DTSTAMP:20260421T111018
CREATED:20221111T155331Z
LAST-MODIFIED:20230512T132625Z
UID:10050336-1755986400-1756000800@golatindance.com
SUMMARY:Cuba Libre Orlando Latin Saturday Nights
DESCRIPTION:EVERY SATURDAY! \nDJ & Dancing: 10PM-2AM \nJoin us on Saturday for dinner starting at 5PM followed by our transition into Viva La Noche Saturdays at 10PM. Our DJ will keep you dancing till 2AM with club hits\, salsa\, merengue\, bachata\, and reggaeton. Two rooms to dance: Latin mix in main room\, tropical on patio.
URL:https://golatindance.com/event/cuba-libre-orlando-latin-saturday-nights/2025-08-23/
LOCATION:Cuba Libre – Orlando\, 9101 International Drive\, Orlando\, FL\, 32189\, United States
CATEGORIES:Orlando
ATTACH;FMTTYPE=image/jpeg:https://golatindance.com/wp-content/uploads/2022/11/345450011_786082726218299_4464510503569284563_n.jpg
END:VEVENT
BEGIN:VEVENT
DTSTART;TZID=America/New_York:20250822T193000
DTEND;TZID=America/New_York:20250823T020000
DTSTAMP:20260421T111018
CREATED:20221111T155235Z
LAST-MODIFIED:20230512T132507Z
UID:10050078-1755891000-1755914400@golatindance.com
SUMMARY:Cuba Libre Orlando Latin Friday Nights
DESCRIPTION:EVERY FRIDAY! \nLive Band\, DJ & Dancing: 7:30PM-2AM \nJoin us on Friday for a live salsa band during dinner from 7:30pm-10pm. Band alternates with DJ for Cuba Libre Nights from 10pm-2am.
URL:https://golatindance.com/event/cuba-libre-latin-friday-nights/2025-08-22/
LOCATION:Cuba Libre – Orlando\, 9101 International Drive\, Orlando\, FL\, 32189\, United States
CATEGORIES:Orlando
ATTACH;FMTTYPE=image/jpeg:https://golatindance.com/wp-content/uploads/2022/11/346477567_1461324308007592_3902394052545028902_n.jpg
END:VEVENT
BEGIN:VEVENT
DTSTART;TZID=America/New_York:20250816T220000
DTEND;TZID=America/New_York:20250817T020000
DTSTAMP:20260421T111018
CREATED:20221111T155331Z
LAST-MODIFIED:20230512T132625Z
UID:10050335-1755381600-1755396000@golatindance.com
SUMMARY:Cuba Libre Orlando Latin Saturday Nights
DESCRIPTION:EVERY SATURDAY! \nDJ & Dancing: 10PM-2AM \nJoin us on Saturday for dinner starting at 5PM followed by our transition into Viva La Noche Saturdays at 10PM. Our DJ will keep you dancing till 2AM with club hits\, salsa\, merengue\, bachata\, and reggaeton. Two rooms to dance: Latin mix in main room\, tropical on patio.
URL:https://golatindance.com/event/cuba-libre-orlando-latin-saturday-nights/2025-08-16/
LOCATION:Cuba Libre – Orlando\, 9101 International Drive\, Orlando\, FL\, 32189\, United States
CATEGORIES:Orlando
ATTACH;FMTTYPE=image/jpeg:https://golatindance.com/wp-content/uploads/2022/11/345450011_786082726218299_4464510503569284563_n.jpg
END:VEVENT
BEGIN:VEVENT
DTSTART;TZID=America/New_York:20250815T193000
DTEND;TZID=America/New_York:20250816T020000
DTSTAMP:20260421T111018
CREATED:20221111T155235Z
LAST-MODIFIED:20230512T132507Z
UID:10050077-1755286200-1755309600@golatindance.com
SUMMARY:Cuba Libre Orlando Latin Friday Nights
DESCRIPTION:EVERY FRIDAY! \nLive Band\, DJ & Dancing: 7:30PM-2AM \nJoin us on Friday for a live salsa band during dinner from 7:30pm-10pm. Band alternates with DJ for Cuba Libre Nights from 10pm-2am.
URL:https://golatindance.com/event/cuba-libre-latin-friday-nights/2025-08-15/
LOCATION:Cuba Libre – Orlando\, 9101 International Drive\, Orlando\, FL\, 32189\, United States
CATEGORIES:Orlando
ATTACH;FMTTYPE=image/jpeg:https://golatindance.com/wp-content/uploads/2022/11/346477567_1461324308007592_3902394052545028902_n.jpg
END:VEVENT
BEGIN:VEVENT
DTSTART;TZID=America/New_York:20250809T220000
DTEND;TZID=America/New_York:20250810T020000
DTSTAMP:20260421T111018
CREATED:20221111T155331Z
LAST-MODIFIED:20230512T132625Z
UID:10050334-1754776800-1754791200@golatindance.com
SUMMARY:Cuba Libre Orlando Latin Saturday Nights
DESCRIPTION:EVERY SATURDAY! \nDJ & Dancing: 10PM-2AM \nJoin us on Saturday for dinner starting at 5PM followed by our transition into Viva La Noche Saturdays at 10PM. Our DJ will keep you dancing till 2AM with club hits\, salsa\, merengue\, bachata\, and reggaeton. Two rooms to dance: Latin mix in main room\, tropical on patio.
URL:https://golatindance.com/event/cuba-libre-orlando-latin-saturday-nights/2025-08-09/
LOCATION:Cuba Libre – Orlando\, 9101 International Drive\, Orlando\, FL\, 32189\, United States
CATEGORIES:Orlando
ATTACH;FMTTYPE=image/jpeg:https://golatindance.com/wp-content/uploads/2022/11/345450011_786082726218299_4464510503569284563_n.jpg
END:VEVENT
BEGIN:VEVENT
DTSTART;TZID=America/New_York:20250808T193000
DTEND;TZID=America/New_York:20250809T020000
DTSTAMP:20260421T111019
CREATED:20221111T155235Z
LAST-MODIFIED:20230512T132507Z
UID:10050076-1754681400-1754704800@golatindance.com
SUMMARY:Cuba Libre Orlando Latin Friday Nights
DESCRIPTION:EVERY FRIDAY! \nLive Band\, DJ & Dancing: 7:30PM-2AM \nJoin us on Friday for a live salsa band during dinner from 7:30pm-10pm. Band alternates with DJ for Cuba Libre Nights from 10pm-2am.
URL:https://golatindance.com/event/cuba-libre-latin-friday-nights/2025-08-08/
LOCATION:Cuba Libre – Orlando\, 9101 International Drive\, Orlando\, FL\, 32189\, United States
CATEGORIES:Orlando
ATTACH;FMTTYPE=image/jpeg:https://golatindance.com/wp-content/uploads/2022/11/346477567_1461324308007592_3902394052545028902_n.jpg
END:VEVENT
BEGIN:VEVENT
DTSTART;TZID=America/New_York:20250802T220000
DTEND;TZID=America/New_York:20250803T020000
DTSTAMP:20260421T111019
CREATED:20221111T155331Z
LAST-MODIFIED:20230512T132625Z
UID:10050333-1754172000-1754186400@golatindance.com
SUMMARY:Cuba Libre Orlando Latin Saturday Nights
DESCRIPTION:EVERY SATURDAY! \nDJ & Dancing: 10PM-2AM \nJoin us on Saturday for dinner starting at 5PM followed by our transition into Viva La Noche Saturdays at 10PM. Our DJ will keep you dancing till 2AM with club hits\, salsa\, merengue\, bachata\, and reggaeton. Two rooms to dance: Latin mix in main room\, tropical on patio.
URL:https://golatindance.com/event/cuba-libre-orlando-latin-saturday-nights/2025-08-02/
LOCATION:Cuba Libre – Orlando\, 9101 International Drive\, Orlando\, FL\, 32189\, United States
CATEGORIES:Orlando
ATTACH;FMTTYPE=image/jpeg:https://golatindance.com/wp-content/uploads/2022/11/345450011_786082726218299_4464510503569284563_n.jpg
END:VEVENT
BEGIN:VEVENT
DTSTART;TZID=America/New_York:20250801T193000
DTEND;TZID=America/New_York:20250802T020000
DTSTAMP:20260421T111019
CREATED:20221111T155235Z
LAST-MODIFIED:20230512T132507Z
UID:10050075-1754076600-1754100000@golatindance.com
SUMMARY:Cuba Libre Orlando Latin Friday Nights
DESCRIPTION:EVERY FRIDAY! \nLive Band\, DJ & Dancing: 7:30PM-2AM \nJoin us on Friday for a live salsa band during dinner from 7:30pm-10pm. Band alternates with DJ for Cuba Libre Nights from 10pm-2am.
URL:https://golatindance.com/event/cuba-libre-latin-friday-nights/2025-08-01/
LOCATION:Cuba Libre – Orlando\, 9101 International Drive\, Orlando\, FL\, 32189\, United States
CATEGORIES:Orlando
ATTACH;FMTTYPE=image/jpeg:https://golatindance.com/wp-content/uploads/2022/11/346477567_1461324308007592_3902394052545028902_n.jpg
END:VEVENT
BEGIN:VEVENT
DTSTART;TZID=America/New_York:20250726T220000
DTEND;TZID=America/New_York:20250727T020000
DTSTAMP:20260421T111019
CREATED:20221111T155331Z
LAST-MODIFIED:20230512T132625Z
UID:10050332-1753567200-1753581600@golatindance.com
SUMMARY:Cuba Libre Orlando Latin Saturday Nights
DESCRIPTION:EVERY SATURDAY! \nDJ & Dancing: 10PM-2AM \nJoin us on Saturday for dinner starting at 5PM followed by our transition into Viva La Noche Saturdays at 10PM. Our DJ will keep you dancing till 2AM with club hits\, salsa\, merengue\, bachata\, and reggaeton. Two rooms to dance: Latin mix in main room\, tropical on patio.
URL:https://golatindance.com/event/cuba-libre-orlando-latin-saturday-nights/2025-07-26/
LOCATION:Cuba Libre – Orlando\, 9101 International Drive\, Orlando\, FL\, 32189\, United States
CATEGORIES:Orlando
ATTACH;FMTTYPE=image/jpeg:https://golatindance.com/wp-content/uploads/2022/11/345450011_786082726218299_4464510503569284563_n.jpg
END:VEVENT
BEGIN:VEVENT
DTSTART;TZID=America/New_York:20250725T193000
DTEND;TZID=America/New_York:20250726T020000
DTSTAMP:20260421T111019
CREATED:20221111T155235Z
LAST-MODIFIED:20230512T132507Z
UID:10050074-1753471800-1753495200@golatindance.com
SUMMARY:Cuba Libre Orlando Latin Friday Nights
DESCRIPTION:EVERY FRIDAY! \nLive Band\, DJ & Dancing: 7:30PM-2AM \nJoin us on Friday for a live salsa band during dinner from 7:30pm-10pm. Band alternates with DJ for Cuba Libre Nights from 10pm-2am.
URL:https://golatindance.com/event/cuba-libre-latin-friday-nights/2025-07-25/
LOCATION:Cuba Libre – Orlando\, 9101 International Drive\, Orlando\, FL\, 32189\, United States
CATEGORIES:Orlando
ATTACH;FMTTYPE=image/jpeg:https://golatindance.com/wp-content/uploads/2022/11/346477567_1461324308007592_3902394052545028902_n.jpg
END:VEVENT
BEGIN:VEVENT
DTSTART;TZID=America/New_York:20250719T220000
DTEND;TZID=America/New_York:20250720T020000
DTSTAMP:20260421T111019
CREATED:20221111T155331Z
LAST-MODIFIED:20230512T132625Z
UID:10050331-1752962400-1752976800@golatindance.com
SUMMARY:Cuba Libre Orlando Latin Saturday Nights
DESCRIPTION:EVERY SATURDAY! \nDJ & Dancing: 10PM-2AM \nJoin us on Saturday for dinner starting at 5PM followed by our transition into Viva La Noche Saturdays at 10PM. Our DJ will keep you dancing till 2AM with club hits\, salsa\, merengue\, bachata\, and reggaeton. Two rooms to dance: Latin mix in main room\, tropical on patio.
URL:https://golatindance.com/event/cuba-libre-orlando-latin-saturday-nights/2025-07-19/
LOCATION:Cuba Libre – Orlando\, 9101 International Drive\, Orlando\, FL\, 32189\, United States
CATEGORIES:Orlando
ATTACH;FMTTYPE=image/jpeg:https://golatindance.com/wp-content/uploads/2022/11/345450011_786082726218299_4464510503569284563_n.jpg
END:VEVENT
BEGIN:VEVENT
DTSTART;TZID=America/New_York:20250718T193000
DTEND;TZID=America/New_York:20250719T020000
DTSTAMP:20260421T111019
CREATED:20221111T155235Z
LAST-MODIFIED:20230512T132507Z
UID:10050073-1752867000-1752890400@golatindance.com
SUMMARY:Cuba Libre Orlando Latin Friday Nights
DESCRIPTION:EVERY FRIDAY! \nLive Band\, DJ & Dancing: 7:30PM-2AM \nJoin us on Friday for a live salsa band during dinner from 7:30pm-10pm. Band alternates with DJ for Cuba Libre Nights from 10pm-2am.
URL:https://golatindance.com/event/cuba-libre-latin-friday-nights/2025-07-18/
LOCATION:Cuba Libre – Orlando\, 9101 International Drive\, Orlando\, FL\, 32189\, United States
CATEGORIES:Orlando
ATTACH;FMTTYPE=image/jpeg:https://golatindance.com/wp-content/uploads/2022/11/346477567_1461324308007592_3902394052545028902_n.jpg
END:VEVENT
BEGIN:VEVENT
DTSTART;TZID=America/New_York:20250712T220000
DTEND;TZID=America/New_York:20250713T020000
DTSTAMP:20260421T111019
CREATED:20221111T155331Z
LAST-MODIFIED:20230512T132625Z
UID:10050330-1752357600-1752372000@golatindance.com
SUMMARY:Cuba Libre Orlando Latin Saturday Nights
DESCRIPTION:EVERY SATURDAY! \nDJ & Dancing: 10PM-2AM \nJoin us on Saturday for dinner starting at 5PM followed by our transition into Viva La Noche Saturdays at 10PM. Our DJ will keep you dancing till 2AM with club hits\, salsa\, merengue\, bachata\, and reggaeton. Two rooms to dance: Latin mix in main room\, tropical on patio.
URL:https://golatindance.com/event/cuba-libre-orlando-latin-saturday-nights/2025-07-12/
LOCATION:Cuba Libre – Orlando\, 9101 International Drive\, Orlando\, FL\, 32189\, United States
CATEGORIES:Orlando
ATTACH;FMTTYPE=image/jpeg:https://golatindance.com/wp-content/uploads/2022/11/345450011_786082726218299_4464510503569284563_n.jpg
END:VEVENT
BEGIN:VEVENT
DTSTART;TZID=America/New_York:20250711T193000
DTEND;TZID=America/New_York:20250712T020000
DTSTAMP:20260421T111019
CREATED:20221111T155235Z
LAST-MODIFIED:20230512T132507Z
UID:10050072-1752262200-1752285600@golatindance.com
SUMMARY:Cuba Libre Orlando Latin Friday Nights
DESCRIPTION:EVERY FRIDAY! \nLive Band\, DJ & Dancing: 7:30PM-2AM \nJoin us on Friday for a live salsa band during dinner from 7:30pm-10pm. Band alternates with DJ for Cuba Libre Nights from 10pm-2am.
URL:https://golatindance.com/event/cuba-libre-latin-friday-nights/2025-07-11/
LOCATION:Cuba Libre – Orlando\, 9101 International Drive\, Orlando\, FL\, 32189\, United States
CATEGORIES:Orlando
ATTACH;FMTTYPE=image/jpeg:https://golatindance.com/wp-content/uploads/2022/11/346477567_1461324308007592_3902394052545028902_n.jpg
END:VEVENT
BEGIN:VEVENT
DTSTART;TZID=America/New_York:20250705T220000
DTEND;TZID=America/New_York:20250706T020000
DTSTAMP:20260421T111019
CREATED:20221111T155331Z
LAST-MODIFIED:20230512T132625Z
UID:10050329-1751752800-1751767200@golatindance.com
SUMMARY:Cuba Libre Orlando Latin Saturday Nights
DESCRIPTION:EVERY SATURDAY! \nDJ & Dancing: 10PM-2AM \nJoin us on Saturday for dinner starting at 5PM followed by our transition into Viva La Noche Saturdays at 10PM. Our DJ will keep you dancing till 2AM with club hits\, salsa\, merengue\, bachata\, and reggaeton. Two rooms to dance: Latin mix in main room\, tropical on patio.
URL:https://golatindance.com/event/cuba-libre-orlando-latin-saturday-nights/2025-07-05/
LOCATION:Cuba Libre – Orlando\, 9101 International Drive\, Orlando\, FL\, 32189\, United States
CATEGORIES:Orlando
ATTACH;FMTTYPE=image/jpeg:https://golatindance.com/wp-content/uploads/2022/11/345450011_786082726218299_4464510503569284563_n.jpg
END:VEVENT
BEGIN:VEVENT
DTSTART;TZID=America/New_York:20250704T193000
DTEND;TZID=America/New_York:20250705T020000
DTSTAMP:20260421T111019
CREATED:20221111T155235Z
LAST-MODIFIED:20230512T132507Z
UID:10050071-1751657400-1751680800@golatindance.com
SUMMARY:Cuba Libre Orlando Latin Friday Nights
DESCRIPTION:EVERY FRIDAY! \nLive Band\, DJ & Dancing: 7:30PM-2AM \nJoin us on Friday for a live salsa band during dinner from 7:30pm-10pm. Band alternates with DJ for Cuba Libre Nights from 10pm-2am.
URL:https://golatindance.com/event/cuba-libre-latin-friday-nights/2025-07-04/
LOCATION:Cuba Libre – Orlando\, 9101 International Drive\, Orlando\, FL\, 32189\, United States
CATEGORIES:Orlando
ATTACH;FMTTYPE=image/jpeg:https://golatindance.com/wp-content/uploads/2022/11/346477567_1461324308007592_3902394052545028902_n.jpg
END:VEVENT
BEGIN:VEVENT
DTSTART;TZID=America/New_York:20250628T220000
DTEND;TZID=America/New_York:20250629T020000
DTSTAMP:20260421T111019
CREATED:20221111T155331Z
LAST-MODIFIED:20230512T132625Z
UID:10050328-1751148000-1751162400@golatindance.com
SUMMARY:Cuba Libre Orlando Latin Saturday Nights
DESCRIPTION:EVERY SATURDAY! \nDJ & Dancing: 10PM-2AM \nJoin us on Saturday for dinner starting at 5PM followed by our transition into Viva La Noche Saturdays at 10PM. Our DJ will keep you dancing till 2AM with club hits\, salsa\, merengue\, bachata\, and reggaeton. Two rooms to dance: Latin mix in main room\, tropical on patio.
URL:https://golatindance.com/event/cuba-libre-orlando-latin-saturday-nights/2025-06-28/
LOCATION:Cuba Libre – Orlando\, 9101 International Drive\, Orlando\, FL\, 32189\, United States
CATEGORIES:Orlando
ATTACH;FMTTYPE=image/jpeg:https://golatindance.com/wp-content/uploads/2022/11/345450011_786082726218299_4464510503569284563_n.jpg
END:VEVENT
BEGIN:VEVENT
DTSTART;TZID=America/New_York:20250627T193000
DTEND;TZID=America/New_York:20250628T020000
DTSTAMP:20260421T111019
CREATED:20221111T155235Z
LAST-MODIFIED:20230512T132507Z
UID:10050070-1751052600-1751076000@golatindance.com
SUMMARY:Cuba Libre Orlando Latin Friday Nights
DESCRIPTION:EVERY FRIDAY! \nLive Band\, DJ & Dancing: 7:30PM-2AM \nJoin us on Friday for a live salsa band during dinner from 7:30pm-10pm. Band alternates with DJ for Cuba Libre Nights from 10pm-2am.
URL:https://golatindance.com/event/cuba-libre-latin-friday-nights/2025-06-27/
LOCATION:Cuba Libre – Orlando\, 9101 International Drive\, Orlando\, FL\, 32189\, United States
CATEGORIES:Orlando
ATTACH;FMTTYPE=image/jpeg:https://golatindance.com/wp-content/uploads/2022/11/346477567_1461324308007592_3902394052545028902_n.jpg
END:VEVENT
BEGIN:VEVENT
DTSTART;TZID=America/New_York:20250621T220000
DTEND;TZID=America/New_York:20250622T020000
DTSTAMP:20260421T111019
CREATED:20221111T155331Z
LAST-MODIFIED:20230512T132625Z
UID:10050327-1750543200-1750557600@golatindance.com
SUMMARY:Cuba Libre Orlando Latin Saturday Nights
DESCRIPTION:EVERY SATURDAY! \nDJ & Dancing: 10PM-2AM \nJoin us on Saturday for dinner starting at 5PM followed by our transition into Viva La Noche Saturdays at 10PM. Our DJ will keep you dancing till 2AM with club hits\, salsa\, merengue\, bachata\, and reggaeton. Two rooms to dance: Latin mix in main room\, tropical on patio.
URL:https://golatindance.com/event/cuba-libre-orlando-latin-saturday-nights/2025-06-21/
LOCATION:Cuba Libre – Orlando\, 9101 International Drive\, Orlando\, FL\, 32189\, United States
CATEGORIES:Orlando
ATTACH;FMTTYPE=image/jpeg:https://golatindance.com/wp-content/uploads/2022/11/345450011_786082726218299_4464510503569284563_n.jpg
END:VEVENT
BEGIN:VEVENT
DTSTART;TZID=America/New_York:20250620T193000
DTEND;TZID=America/New_York:20250621T020000
DTSTAMP:20260421T111019
CREATED:20221111T155235Z
LAST-MODIFIED:20230512T132507Z
UID:10050069-1750447800-1750471200@golatindance.com
SUMMARY:Cuba Libre Orlando Latin Friday Nights
DESCRIPTION:EVERY FRIDAY! \nLive Band\, DJ & Dancing: 7:30PM-2AM \nJoin us on Friday for a live salsa band during dinner from 7:30pm-10pm. Band alternates with DJ for Cuba Libre Nights from 10pm-2am.
URL:https://golatindance.com/event/cuba-libre-latin-friday-nights/2025-06-20/
LOCATION:Cuba Libre – Orlando\, 9101 International Drive\, Orlando\, FL\, 32189\, United States
CATEGORIES:Orlando
ATTACH;FMTTYPE=image/jpeg:https://golatindance.com/wp-content/uploads/2022/11/346477567_1461324308007592_3902394052545028902_n.jpg
END:VEVENT
BEGIN:VEVENT
DTSTART;TZID=America/New_York:20250614T220000
DTEND;TZID=America/New_York:20250615T020000
DTSTAMP:20260421T111019
CREATED:20221111T155331Z
LAST-MODIFIED:20230512T132625Z
UID:10050326-1749938400-1749952800@golatindance.com
SUMMARY:Cuba Libre Orlando Latin Saturday Nights
DESCRIPTION:EVERY SATURDAY! \nDJ & Dancing: 10PM-2AM \nJoin us on Saturday for dinner starting at 5PM followed by our transition into Viva La Noche Saturdays at 10PM. Our DJ will keep you dancing till 2AM with club hits\, salsa\, merengue\, bachata\, and reggaeton. Two rooms to dance: Latin mix in main room\, tropical on patio.
URL:https://golatindance.com/event/cuba-libre-orlando-latin-saturday-nights/2025-06-14/
LOCATION:Cuba Libre – Orlando\, 9101 International Drive\, Orlando\, FL\, 32189\, United States
CATEGORIES:Orlando
ATTACH;FMTTYPE=image/jpeg:https://golatindance.com/wp-content/uploads/2022/11/345450011_786082726218299_4464510503569284563_n.jpg
END:VEVENT
BEGIN:VEVENT
DTSTART;TZID=America/New_York:20250613T193000
DTEND;TZID=America/New_York:20250614T020000
DTSTAMP:20260421T111019
CREATED:20221111T155235Z
LAST-MODIFIED:20230512T132507Z
UID:10050068-1749843000-1749866400@golatindance.com
SUMMARY:Cuba Libre Orlando Latin Friday Nights
DESCRIPTION:EVERY FRIDAY! \nLive Band\, DJ & Dancing: 7:30PM-2AM \nJoin us on Friday for a live salsa band during dinner from 7:30pm-10pm. Band alternates with DJ for Cuba Libre Nights from 10pm-2am.
URL:https://golatindance.com/event/cuba-libre-latin-friday-nights/2025-06-13/
LOCATION:Cuba Libre – Orlando\, 9101 International Drive\, Orlando\, FL\, 32189\, United States
CATEGORIES:Orlando
ATTACH;FMTTYPE=image/jpeg:https://golatindance.com/wp-content/uploads/2022/11/346477567_1461324308007592_3902394052545028902_n.jpg
END:VEVENT
END:VCALENDAR