BEGIN:VCALENDAR
VERSION:2.0
PRODID:-//GO Latin Dance - ECPv6.15.18//NONSGML v1.0//EN
CALSCALE:GREGORIAN
METHOD:PUBLISH
X-WR-CALNAME:GO Latin Dance
X-ORIGINAL-URL:https://golatindance.com
X-WR-CALDESC:Events for GO Latin Dance
REFRESH-INTERVAL;VALUE=DURATION:PT1H
X-Robots-Tag:noindex
X-PUBLISHED-TTL:PT1H
BEGIN:VTIMEZONE
TZID:America/Chicago
BEGIN:DAYLIGHT
TZOFFSETFROM:-0600
TZOFFSETTO:-0500
TZNAME:CDT
DTSTART:20210314T080000
END:DAYLIGHT
BEGIN:STANDARD
TZOFFSETFROM:-0500
TZOFFSETTO:-0600
TZNAME:CST
DTSTART:20211107T070000
END:STANDARD
BEGIN:DAYLIGHT
TZOFFSETFROM:-0600
TZOFFSETTO:-0500
TZNAME:CDT
DTSTART:20220313T080000
END:DAYLIGHT
BEGIN:STANDARD
TZOFFSETFROM:-0500
TZOFFSETTO:-0600
TZNAME:CST
DTSTART:20221106T070000
END:STANDARD
BEGIN:DAYLIGHT
TZOFFSETFROM:-0600
TZOFFSETTO:-0500
TZNAME:CDT
DTSTART:20230312T080000
END:DAYLIGHT
BEGIN:STANDARD
TZOFFSETFROM:-0500
TZOFFSETTO:-0600
TZNAME:CST
DTSTART:20231105T070000
END:STANDARD
BEGIN:DAYLIGHT
TZOFFSETFROM:-0600
TZOFFSETTO:-0500
TZNAME:CDT
DTSTART:20240310T080000
END:DAYLIGHT
BEGIN:STANDARD
TZOFFSETFROM:-0500
TZOFFSETTO:-0600
TZNAME:CST
DTSTART:20241103T070000
END:STANDARD
END:VTIMEZONE
BEGIN:VEVENT
DTSTART;TZID=America/Chicago:20230606T200000
DTEND;TZID=America/Chicago:20230607T010000
DTSTAMP:20260425T115810
CREATED:20221109T185428Z
LAST-MODIFIED:20241001T185644Z
UID:10148040-1686081600-1686099600@golatindance.com
SUMMARY:Salsa y Bachata Tuesdays at Five Central
DESCRIPTION:Tacos\, Tequila\, Latin Dancing with Live Band playing Salsa\, Bachata\, Merengue and more!\nFree Dance Lesson at 8 PM! $2 Tacos\, $5 Drinks! \nHouston\, welcome to your new Latin Dancing hidden gem in River Oaks! \nSalsa\, Bachata\, Merengue with Orquesta Son Jaleo LIVE! \nNO COVER. FREE Dance Lessons with the best Houston Guest Instructors at 8 PM! \n\n 
URL:https://golatindance.com/event/salsa-y-bachata-tuesdays-at-five-central-river-oaks-live-band-free/2023-06-06/
LOCATION:Five Central\, 2736 Virginia Street\, Houston\, TX 77098\, Houston\, TX\, 77098\, US
CATEGORIES:Houston
ATTACH;FMTTYPE=image/jpeg:https://golatindance.com/wp-content/uploads/2022/11/436141703_1345873016360410_3167328736800538598_n.jpg
END:VEVENT
BEGIN:VEVENT
DTSTART;TZID=America/Chicago:20230530T200000
DTEND;TZID=America/Chicago:20230531T010000
DTSTAMP:20260425T115810
CREATED:20221109T185428Z
LAST-MODIFIED:20241001T185644Z
UID:10148039-1685476800-1685494800@golatindance.com
SUMMARY:Salsa y Bachata Tuesdays at Five Central
DESCRIPTION:Tacos\, Tequila\, Latin Dancing with Live Band playing Salsa\, Bachata\, Merengue and more!\nFree Dance Lesson at 8 PM! $2 Tacos\, $5 Drinks! \nHouston\, welcome to your new Latin Dancing hidden gem in River Oaks! \nSalsa\, Bachata\, Merengue with Orquesta Son Jaleo LIVE! \nNO COVER. FREE Dance Lessons with the best Houston Guest Instructors at 8 PM! \n\n 
URL:https://golatindance.com/event/salsa-y-bachata-tuesdays-at-five-central-river-oaks-live-band-free/2023-05-30/
LOCATION:Five Central\, 2736 Virginia Street\, Houston\, TX 77098\, Houston\, TX\, 77098\, US
CATEGORIES:Houston
ATTACH;FMTTYPE=image/jpeg:https://golatindance.com/wp-content/uploads/2022/11/436141703_1345873016360410_3167328736800538598_n.jpg
END:VEVENT
BEGIN:VEVENT
DTSTART;TZID=America/Chicago:20230523T200000
DTEND;TZID=America/Chicago:20230524T010000
DTSTAMP:20260425T115810
CREATED:20221109T185428Z
LAST-MODIFIED:20241001T185644Z
UID:10148038-1684872000-1684890000@golatindance.com
SUMMARY:Salsa y Bachata Tuesdays at Five Central
DESCRIPTION:Tacos\, Tequila\, Latin Dancing with Live Band playing Salsa\, Bachata\, Merengue and more!\nFree Dance Lesson at 8 PM! $2 Tacos\, $5 Drinks! \nHouston\, welcome to your new Latin Dancing hidden gem in River Oaks! \nSalsa\, Bachata\, Merengue with Orquesta Son Jaleo LIVE! \nNO COVER. FREE Dance Lessons with the best Houston Guest Instructors at 8 PM! \n\n 
URL:https://golatindance.com/event/salsa-y-bachata-tuesdays-at-five-central-river-oaks-live-band-free/2023-05-23/
LOCATION:Five Central\, 2736 Virginia Street\, Houston\, TX 77098\, Houston\, TX\, 77098\, US
CATEGORIES:Houston
ATTACH;FMTTYPE=image/jpeg:https://golatindance.com/wp-content/uploads/2022/11/436141703_1345873016360410_3167328736800538598_n.jpg
END:VEVENT
BEGIN:VEVENT
DTSTART;TZID=America/Chicago:20230516T200000
DTEND;TZID=America/Chicago:20230517T010000
DTSTAMP:20260425T115810
CREATED:20221109T185428Z
LAST-MODIFIED:20241001T185644Z
UID:10148037-1684267200-1684285200@golatindance.com
SUMMARY:Salsa y Bachata Tuesdays at Five Central
DESCRIPTION:Tacos\, Tequila\, Latin Dancing with Live Band playing Salsa\, Bachata\, Merengue and more!\nFree Dance Lesson at 8 PM! $2 Tacos\, $5 Drinks! \nHouston\, welcome to your new Latin Dancing hidden gem in River Oaks! \nSalsa\, Bachata\, Merengue with Orquesta Son Jaleo LIVE! \nNO COVER. FREE Dance Lessons with the best Houston Guest Instructors at 8 PM! \n\n 
URL:https://golatindance.com/event/salsa-y-bachata-tuesdays-at-five-central-river-oaks-live-band-free/2023-05-16/
LOCATION:Five Central\, 2736 Virginia Street\, Houston\, TX 77098\, Houston\, TX\, 77098\, US
CATEGORIES:Houston
ATTACH;FMTTYPE=image/jpeg:https://golatindance.com/wp-content/uploads/2022/11/436141703_1345873016360410_3167328736800538598_n.jpg
END:VEVENT
BEGIN:VEVENT
DTSTART;TZID=America/Chicago:20230509T200000
DTEND;TZID=America/Chicago:20230510T010000
DTSTAMP:20260425T115810
CREATED:20221109T185428Z
LAST-MODIFIED:20241001T185644Z
UID:10148036-1683662400-1683680400@golatindance.com
SUMMARY:Salsa y Bachata Tuesdays at Five Central
DESCRIPTION:Tacos\, Tequila\, Latin Dancing with Live Band playing Salsa\, Bachata\, Merengue and more!\nFree Dance Lesson at 8 PM! $2 Tacos\, $5 Drinks! \nHouston\, welcome to your new Latin Dancing hidden gem in River Oaks! \nSalsa\, Bachata\, Merengue with Orquesta Son Jaleo LIVE! \nNO COVER. FREE Dance Lessons with the best Houston Guest Instructors at 8 PM! \n\n 
URL:https://golatindance.com/event/salsa-y-bachata-tuesdays-at-five-central-river-oaks-live-band-free/2023-05-09/
LOCATION:Five Central\, 2736 Virginia Street\, Houston\, TX 77098\, Houston\, TX\, 77098\, US
CATEGORIES:Houston
ATTACH;FMTTYPE=image/jpeg:https://golatindance.com/wp-content/uploads/2022/11/436141703_1345873016360410_3167328736800538598_n.jpg
END:VEVENT
BEGIN:VEVENT
DTSTART;TZID=America/Chicago:20230502T200000
DTEND;TZID=America/Chicago:20230503T010000
DTSTAMP:20260425T115810
CREATED:20221109T185428Z
LAST-MODIFIED:20241001T185644Z
UID:10148035-1683057600-1683075600@golatindance.com
SUMMARY:Salsa y Bachata Tuesdays at Five Central
DESCRIPTION:Tacos\, Tequila\, Latin Dancing with Live Band playing Salsa\, Bachata\, Merengue and more!\nFree Dance Lesson at 8 PM! $2 Tacos\, $5 Drinks! \nHouston\, welcome to your new Latin Dancing hidden gem in River Oaks! \nSalsa\, Bachata\, Merengue with Orquesta Son Jaleo LIVE! \nNO COVER. FREE Dance Lessons with the best Houston Guest Instructors at 8 PM! \n\n 
URL:https://golatindance.com/event/salsa-y-bachata-tuesdays-at-five-central-river-oaks-live-band-free/2023-05-02/
LOCATION:Five Central\, 2736 Virginia Street\, Houston\, TX 77098\, Houston\, TX\, 77098\, US
CATEGORIES:Houston
ATTACH;FMTTYPE=image/jpeg:https://golatindance.com/wp-content/uploads/2022/11/436141703_1345873016360410_3167328736800538598_n.jpg
END:VEVENT
BEGIN:VEVENT
DTSTART;TZID=America/Chicago:20230425T200000
DTEND;TZID=America/Chicago:20230426T010000
DTSTAMP:20260425T115810
CREATED:20221109T185428Z
LAST-MODIFIED:20241001T185644Z
UID:10148034-1682452800-1682470800@golatindance.com
SUMMARY:Salsa y Bachata Tuesdays at Five Central
DESCRIPTION:Tacos\, Tequila\, Latin Dancing with Live Band playing Salsa\, Bachata\, Merengue and more!\nFree Dance Lesson at 8 PM! $2 Tacos\, $5 Drinks! \nHouston\, welcome to your new Latin Dancing hidden gem in River Oaks! \nSalsa\, Bachata\, Merengue with Orquesta Son Jaleo LIVE! \nNO COVER. FREE Dance Lessons with the best Houston Guest Instructors at 8 PM! \n\n 
URL:https://golatindance.com/event/salsa-y-bachata-tuesdays-at-five-central-river-oaks-live-band-free/2023-04-25/
LOCATION:Five Central\, 2736 Virginia Street\, Houston\, TX 77098\, Houston\, TX\, 77098\, US
CATEGORIES:Houston
ATTACH;FMTTYPE=image/jpeg:https://golatindance.com/wp-content/uploads/2022/11/436141703_1345873016360410_3167328736800538598_n.jpg
END:VEVENT
BEGIN:VEVENT
DTSTART;TZID=America/Chicago:20230418T200000
DTEND;TZID=America/Chicago:20230419T010000
DTSTAMP:20260425T115810
CREATED:20221109T185428Z
LAST-MODIFIED:20241001T185644Z
UID:10148033-1681848000-1681866000@golatindance.com
SUMMARY:Salsa y Bachata Tuesdays at Five Central
DESCRIPTION:Tacos\, Tequila\, Latin Dancing with Live Band playing Salsa\, Bachata\, Merengue and more!\nFree Dance Lesson at 8 PM! $2 Tacos\, $5 Drinks! \nHouston\, welcome to your new Latin Dancing hidden gem in River Oaks! \nSalsa\, Bachata\, Merengue with Orquesta Son Jaleo LIVE! \nNO COVER. FREE Dance Lessons with the best Houston Guest Instructors at 8 PM! \n\n 
URL:https://golatindance.com/event/salsa-y-bachata-tuesdays-at-five-central-river-oaks-live-band-free/2023-04-18/
LOCATION:Five Central\, 2736 Virginia Street\, Houston\, TX 77098\, Houston\, TX\, 77098\, US
CATEGORIES:Houston
ATTACH;FMTTYPE=image/jpeg:https://golatindance.com/wp-content/uploads/2022/11/436141703_1345873016360410_3167328736800538598_n.jpg
END:VEVENT
BEGIN:VEVENT
DTSTART;TZID=America/Chicago:20230411T200000
DTEND;TZID=America/Chicago:20230412T010000
DTSTAMP:20260425T115810
CREATED:20221109T185428Z
LAST-MODIFIED:20241001T185644Z
UID:10148032-1681243200-1681261200@golatindance.com
SUMMARY:Salsa y Bachata Tuesdays at Five Central
DESCRIPTION:Tacos\, Tequila\, Latin Dancing with Live Band playing Salsa\, Bachata\, Merengue and more!\nFree Dance Lesson at 8 PM! $2 Tacos\, $5 Drinks! \nHouston\, welcome to your new Latin Dancing hidden gem in River Oaks! \nSalsa\, Bachata\, Merengue with Orquesta Son Jaleo LIVE! \nNO COVER. FREE Dance Lessons with the best Houston Guest Instructors at 8 PM! \n\n 
URL:https://golatindance.com/event/salsa-y-bachata-tuesdays-at-five-central-river-oaks-live-band-free/2023-04-11/
LOCATION:Five Central\, 2736 Virginia Street\, Houston\, TX 77098\, Houston\, TX\, 77098\, US
CATEGORIES:Houston
ATTACH;FMTTYPE=image/jpeg:https://golatindance.com/wp-content/uploads/2022/11/436141703_1345873016360410_3167328736800538598_n.jpg
END:VEVENT
BEGIN:VEVENT
DTSTART;TZID=America/Chicago:20230404T200000
DTEND;TZID=America/Chicago:20230405T010000
DTSTAMP:20260425T115810
CREATED:20221109T185428Z
LAST-MODIFIED:20241001T185644Z
UID:10148031-1680638400-1680656400@golatindance.com
SUMMARY:Salsa y Bachata Tuesdays at Five Central
DESCRIPTION:Tacos\, Tequila\, Latin Dancing with Live Band playing Salsa\, Bachata\, Merengue and more!\nFree Dance Lesson at 8 PM! $2 Tacos\, $5 Drinks! \nHouston\, welcome to your new Latin Dancing hidden gem in River Oaks! \nSalsa\, Bachata\, Merengue with Orquesta Son Jaleo LIVE! \nNO COVER. FREE Dance Lessons with the best Houston Guest Instructors at 8 PM! \n\n 
URL:https://golatindance.com/event/salsa-y-bachata-tuesdays-at-five-central-river-oaks-live-band-free/2023-04-04/
LOCATION:Five Central\, 2736 Virginia Street\, Houston\, TX 77098\, Houston\, TX\, 77098\, US
CATEGORIES:Houston
ATTACH;FMTTYPE=image/jpeg:https://golatindance.com/wp-content/uploads/2022/11/436141703_1345873016360410_3167328736800538598_n.jpg
END:VEVENT
BEGIN:VEVENT
DTSTART;TZID=America/Chicago:20230328T200000
DTEND;TZID=America/Chicago:20230329T010000
DTSTAMP:20260425T115810
CREATED:20221109T185428Z
LAST-MODIFIED:20241001T185644Z
UID:10148030-1680033600-1680051600@golatindance.com
SUMMARY:Salsa y Bachata Tuesdays at Five Central
DESCRIPTION:Tacos\, Tequila\, Latin Dancing with Live Band playing Salsa\, Bachata\, Merengue and more!\nFree Dance Lesson at 8 PM! $2 Tacos\, $5 Drinks! \nHouston\, welcome to your new Latin Dancing hidden gem in River Oaks! \nSalsa\, Bachata\, Merengue with Orquesta Son Jaleo LIVE! \nNO COVER. FREE Dance Lessons with the best Houston Guest Instructors at 8 PM! \n\n 
URL:https://golatindance.com/event/salsa-y-bachata-tuesdays-at-five-central-river-oaks-live-band-free/2023-03-28/
LOCATION:Five Central\, 2736 Virginia Street\, Houston\, TX 77098\, Houston\, TX\, 77098\, US
CATEGORIES:Houston
ATTACH;FMTTYPE=image/jpeg:https://golatindance.com/wp-content/uploads/2022/11/436141703_1345873016360410_3167328736800538598_n.jpg
END:VEVENT
BEGIN:VEVENT
DTSTART;TZID=America/Chicago:20230321T200000
DTEND;TZID=America/Chicago:20230322T010000
DTSTAMP:20260425T115810
CREATED:20221109T185428Z
LAST-MODIFIED:20241001T185644Z
UID:10148029-1679428800-1679446800@golatindance.com
SUMMARY:Salsa y Bachata Tuesdays at Five Central
DESCRIPTION:Tacos\, Tequila\, Latin Dancing with Live Band playing Salsa\, Bachata\, Merengue and more!\nFree Dance Lesson at 8 PM! $2 Tacos\, $5 Drinks! \nHouston\, welcome to your new Latin Dancing hidden gem in River Oaks! \nSalsa\, Bachata\, Merengue with Orquesta Son Jaleo LIVE! \nNO COVER. FREE Dance Lessons with the best Houston Guest Instructors at 8 PM! \n\n 
URL:https://golatindance.com/event/salsa-y-bachata-tuesdays-at-five-central-river-oaks-live-band-free/2023-03-21/
LOCATION:Five Central\, 2736 Virginia Street\, Houston\, TX 77098\, Houston\, TX\, 77098\, US
CATEGORIES:Houston
ATTACH;FMTTYPE=image/jpeg:https://golatindance.com/wp-content/uploads/2022/11/436141703_1345873016360410_3167328736800538598_n.jpg
END:VEVENT
BEGIN:VEVENT
DTSTART;TZID=America/Chicago:20230314T200000
DTEND;TZID=America/Chicago:20230315T010000
DTSTAMP:20260425T115810
CREATED:20221109T185428Z
LAST-MODIFIED:20241001T185644Z
UID:10148028-1678824000-1678842000@golatindance.com
SUMMARY:Salsa y Bachata Tuesdays at Five Central
DESCRIPTION:Tacos\, Tequila\, Latin Dancing with Live Band playing Salsa\, Bachata\, Merengue and more!\nFree Dance Lesson at 8 PM! $2 Tacos\, $5 Drinks! \nHouston\, welcome to your new Latin Dancing hidden gem in River Oaks! \nSalsa\, Bachata\, Merengue with Orquesta Son Jaleo LIVE! \nNO COVER. FREE Dance Lessons with the best Houston Guest Instructors at 8 PM! \n\n 
URL:https://golatindance.com/event/salsa-y-bachata-tuesdays-at-five-central-river-oaks-live-band-free/2023-03-14/
LOCATION:Five Central\, 2736 Virginia Street\, Houston\, TX 77098\, Houston\, TX\, 77098\, US
CATEGORIES:Houston
ATTACH;FMTTYPE=image/jpeg:https://golatindance.com/wp-content/uploads/2022/11/436141703_1345873016360410_3167328736800538598_n.jpg
END:VEVENT
BEGIN:VEVENT
DTSTART;TZID=America/Chicago:20230307T200000
DTEND;TZID=America/Chicago:20230308T010000
DTSTAMP:20260425T115810
CREATED:20221109T185428Z
LAST-MODIFIED:20241001T185644Z
UID:10148027-1678219200-1678237200@golatindance.com
SUMMARY:Salsa y Bachata Tuesdays at Five Central
DESCRIPTION:Tacos\, Tequila\, Latin Dancing with Live Band playing Salsa\, Bachata\, Merengue and more!\nFree Dance Lesson at 8 PM! $2 Tacos\, $5 Drinks! \nHouston\, welcome to your new Latin Dancing hidden gem in River Oaks! \nSalsa\, Bachata\, Merengue with Orquesta Son Jaleo LIVE! \nNO COVER. FREE Dance Lessons with the best Houston Guest Instructors at 8 PM! \n\n 
URL:https://golatindance.com/event/salsa-y-bachata-tuesdays-at-five-central-river-oaks-live-band-free/2023-03-07/
LOCATION:Five Central\, 2736 Virginia Street\, Houston\, TX 77098\, Houston\, TX\, 77098\, US
CATEGORIES:Houston
ATTACH;FMTTYPE=image/jpeg:https://golatindance.com/wp-content/uploads/2022/11/436141703_1345873016360410_3167328736800538598_n.jpg
END:VEVENT
BEGIN:VEVENT
DTSTART;TZID=America/Chicago:20230228T200000
DTEND;TZID=America/Chicago:20230301T010000
DTSTAMP:20260425T115810
CREATED:20221109T185428Z
LAST-MODIFIED:20241001T185644Z
UID:10148026-1677614400-1677632400@golatindance.com
SUMMARY:Salsa y Bachata Tuesdays at Five Central
DESCRIPTION:Tacos\, Tequila\, Latin Dancing with Live Band playing Salsa\, Bachata\, Merengue and more!\nFree Dance Lesson at 8 PM! $2 Tacos\, $5 Drinks! \nHouston\, welcome to your new Latin Dancing hidden gem in River Oaks! \nSalsa\, Bachata\, Merengue with Orquesta Son Jaleo LIVE! \nNO COVER. FREE Dance Lessons with the best Houston Guest Instructors at 8 PM! \n\n 
URL:https://golatindance.com/event/salsa-y-bachata-tuesdays-at-five-central-river-oaks-live-band-free/2023-02-28/
LOCATION:Five Central\, 2736 Virginia Street\, Houston\, TX 77098\, Houston\, TX\, 77098\, US
CATEGORIES:Houston
ATTACH;FMTTYPE=image/jpeg:https://golatindance.com/wp-content/uploads/2022/11/436141703_1345873016360410_3167328736800538598_n.jpg
END:VEVENT
BEGIN:VEVENT
DTSTART;TZID=America/Chicago:20230221T200000
DTEND;TZID=America/Chicago:20230222T010000
DTSTAMP:20260425T115810
CREATED:20221109T185428Z
LAST-MODIFIED:20241001T185644Z
UID:10148025-1677009600-1677027600@golatindance.com
SUMMARY:Salsa y Bachata Tuesdays at Five Central
DESCRIPTION:Tacos\, Tequila\, Latin Dancing with Live Band playing Salsa\, Bachata\, Merengue and more!\nFree Dance Lesson at 8 PM! $2 Tacos\, $5 Drinks! \nHouston\, welcome to your new Latin Dancing hidden gem in River Oaks! \nSalsa\, Bachata\, Merengue with Orquesta Son Jaleo LIVE! \nNO COVER. FREE Dance Lessons with the best Houston Guest Instructors at 8 PM! \n\n 
URL:https://golatindance.com/event/salsa-y-bachata-tuesdays-at-five-central-river-oaks-live-band-free/2023-02-21/
LOCATION:Five Central\, 2736 Virginia Street\, Houston\, TX 77098\, Houston\, TX\, 77098\, US
CATEGORIES:Houston
ATTACH;FMTTYPE=image/jpeg:https://golatindance.com/wp-content/uploads/2022/11/436141703_1345873016360410_3167328736800538598_n.jpg
END:VEVENT
BEGIN:VEVENT
DTSTART;TZID=America/Chicago:20230214T200000
DTEND;TZID=America/Chicago:20230215T010000
DTSTAMP:20260425T115810
CREATED:20221109T185428Z
LAST-MODIFIED:20241001T185644Z
UID:10148024-1676404800-1676422800@golatindance.com
SUMMARY:Salsa y Bachata Tuesdays at Five Central
DESCRIPTION:Tacos\, Tequila\, Latin Dancing with Live Band playing Salsa\, Bachata\, Merengue and more!\nFree Dance Lesson at 8 PM! $2 Tacos\, $5 Drinks! \nHouston\, welcome to your new Latin Dancing hidden gem in River Oaks! \nSalsa\, Bachata\, Merengue with Orquesta Son Jaleo LIVE! \nNO COVER. FREE Dance Lessons with the best Houston Guest Instructors at 8 PM! \n\n 
URL:https://golatindance.com/event/salsa-y-bachata-tuesdays-at-five-central-river-oaks-live-band-free/2023-02-14/
LOCATION:Five Central\, 2736 Virginia Street\, Houston\, TX 77098\, Houston\, TX\, 77098\, US
CATEGORIES:Houston
ATTACH;FMTTYPE=image/jpeg:https://golatindance.com/wp-content/uploads/2022/11/436141703_1345873016360410_3167328736800538598_n.jpg
END:VEVENT
BEGIN:VEVENT
DTSTART;TZID=America/Chicago:20230207T200000
DTEND;TZID=America/Chicago:20230208T010000
DTSTAMP:20260425T115810
CREATED:20221109T185428Z
LAST-MODIFIED:20241001T185644Z
UID:10148023-1675800000-1675818000@golatindance.com
SUMMARY:Salsa y Bachata Tuesdays at Five Central
DESCRIPTION:Tacos\, Tequila\, Latin Dancing with Live Band playing Salsa\, Bachata\, Merengue and more!\nFree Dance Lesson at 8 PM! $2 Tacos\, $5 Drinks! \nHouston\, welcome to your new Latin Dancing hidden gem in River Oaks! \nSalsa\, Bachata\, Merengue with Orquesta Son Jaleo LIVE! \nNO COVER. FREE Dance Lessons with the best Houston Guest Instructors at 8 PM! \n\n 
URL:https://golatindance.com/event/salsa-y-bachata-tuesdays-at-five-central-river-oaks-live-band-free/2023-02-07/
LOCATION:Five Central\, 2736 Virginia Street\, Houston\, TX 77098\, Houston\, TX\, 77098\, US
CATEGORIES:Houston
ATTACH;FMTTYPE=image/jpeg:https://golatindance.com/wp-content/uploads/2022/11/436141703_1345873016360410_3167328736800538598_n.jpg
END:VEVENT
BEGIN:VEVENT
DTSTART;TZID=America/Chicago:20230131T200000
DTEND;TZID=America/Chicago:20230201T010000
DTSTAMP:20260425T115810
CREATED:20221109T185428Z
LAST-MODIFIED:20241001T185644Z
UID:10148022-1675195200-1675213200@golatindance.com
SUMMARY:Salsa y Bachata Tuesdays at Five Central
DESCRIPTION:Tacos\, Tequila\, Latin Dancing with Live Band playing Salsa\, Bachata\, Merengue and more!\nFree Dance Lesson at 8 PM! $2 Tacos\, $5 Drinks! \nHouston\, welcome to your new Latin Dancing hidden gem in River Oaks! \nSalsa\, Bachata\, Merengue with Orquesta Son Jaleo LIVE! \nNO COVER. FREE Dance Lessons with the best Houston Guest Instructors at 8 PM! \n\n 
URL:https://golatindance.com/event/salsa-y-bachata-tuesdays-at-five-central-river-oaks-live-band-free/2023-01-31/
LOCATION:Five Central\, 2736 Virginia Street\, Houston\, TX 77098\, Houston\, TX\, 77098\, US
CATEGORIES:Houston
ATTACH;FMTTYPE=image/jpeg:https://golatindance.com/wp-content/uploads/2022/11/436141703_1345873016360410_3167328736800538598_n.jpg
END:VEVENT
BEGIN:VEVENT
DTSTART;TZID=America/Chicago:20230124T200000
DTEND;TZID=America/Chicago:20230125T010000
DTSTAMP:20260425T115810
CREATED:20221109T185428Z
LAST-MODIFIED:20241001T185644Z
UID:10148021-1674590400-1674608400@golatindance.com
SUMMARY:Salsa y Bachata Tuesdays at Five Central
DESCRIPTION:Tacos\, Tequila\, Latin Dancing with Live Band playing Salsa\, Bachata\, Merengue and more!\nFree Dance Lesson at 8 PM! $2 Tacos\, $5 Drinks! \nHouston\, welcome to your new Latin Dancing hidden gem in River Oaks! \nSalsa\, Bachata\, Merengue with Orquesta Son Jaleo LIVE! \nNO COVER. FREE Dance Lessons with the best Houston Guest Instructors at 8 PM! \n\n 
URL:https://golatindance.com/event/salsa-y-bachata-tuesdays-at-five-central-river-oaks-live-band-free/2023-01-24/
LOCATION:Five Central\, 2736 Virginia Street\, Houston\, TX 77098\, Houston\, TX\, 77098\, US
CATEGORIES:Houston
ATTACH;FMTTYPE=image/jpeg:https://golatindance.com/wp-content/uploads/2022/11/436141703_1345873016360410_3167328736800538598_n.jpg
END:VEVENT
BEGIN:VEVENT
DTSTART;TZID=America/Chicago:20230117T200000
DTEND;TZID=America/Chicago:20230118T010000
DTSTAMP:20260425T115810
CREATED:20221109T185428Z
LAST-MODIFIED:20241001T185644Z
UID:10148020-1673985600-1674003600@golatindance.com
SUMMARY:Salsa y Bachata Tuesdays at Five Central
DESCRIPTION:Tacos\, Tequila\, Latin Dancing with Live Band playing Salsa\, Bachata\, Merengue and more!\nFree Dance Lesson at 8 PM! $2 Tacos\, $5 Drinks! \nHouston\, welcome to your new Latin Dancing hidden gem in River Oaks! \nSalsa\, Bachata\, Merengue with Orquesta Son Jaleo LIVE! \nNO COVER. FREE Dance Lessons with the best Houston Guest Instructors at 8 PM! \n\n 
URL:https://golatindance.com/event/salsa-y-bachata-tuesdays-at-five-central-river-oaks-live-band-free/2023-01-17/
LOCATION:Five Central\, 2736 Virginia Street\, Houston\, TX 77098\, Houston\, TX\, 77098\, US
CATEGORIES:Houston
ATTACH;FMTTYPE=image/jpeg:https://golatindance.com/wp-content/uploads/2022/11/436141703_1345873016360410_3167328736800538598_n.jpg
END:VEVENT
BEGIN:VEVENT
DTSTART;TZID=America/Chicago:20230110T200000
DTEND;TZID=America/Chicago:20230111T010000
DTSTAMP:20260425T115810
CREATED:20221109T185428Z
LAST-MODIFIED:20241001T185644Z
UID:10148019-1673380800-1673398800@golatindance.com
SUMMARY:Salsa y Bachata Tuesdays at Five Central
DESCRIPTION:Tacos\, Tequila\, Latin Dancing with Live Band playing Salsa\, Bachata\, Merengue and more!\nFree Dance Lesson at 8 PM! $2 Tacos\, $5 Drinks! \nHouston\, welcome to your new Latin Dancing hidden gem in River Oaks! \nSalsa\, Bachata\, Merengue with Orquesta Son Jaleo LIVE! \nNO COVER. FREE Dance Lessons with the best Houston Guest Instructors at 8 PM! \n\n 
URL:https://golatindance.com/event/salsa-y-bachata-tuesdays-at-five-central-river-oaks-live-band-free/2023-01-10/
LOCATION:Five Central\, 2736 Virginia Street\, Houston\, TX 77098\, Houston\, TX\, 77098\, US
CATEGORIES:Houston
ATTACH;FMTTYPE=image/jpeg:https://golatindance.com/wp-content/uploads/2022/11/436141703_1345873016360410_3167328736800538598_n.jpg
END:VEVENT
BEGIN:VEVENT
DTSTART;TZID=America/Chicago:20230103T200000
DTEND;TZID=America/Chicago:20230104T010000
DTSTAMP:20260425T115810
CREATED:20221109T185428Z
LAST-MODIFIED:20241001T185644Z
UID:10148018-1672776000-1672794000@golatindance.com
SUMMARY:Salsa y Bachata Tuesdays at Five Central
DESCRIPTION:Tacos\, Tequila\, Latin Dancing with Live Band playing Salsa\, Bachata\, Merengue and more!\nFree Dance Lesson at 8 PM! $2 Tacos\, $5 Drinks! \nHouston\, welcome to your new Latin Dancing hidden gem in River Oaks! \nSalsa\, Bachata\, Merengue with Orquesta Son Jaleo LIVE! \nNO COVER. FREE Dance Lessons with the best Houston Guest Instructors at 8 PM! \n\n 
URL:https://golatindance.com/event/salsa-y-bachata-tuesdays-at-five-central-river-oaks-live-band-free/2023-01-03/
LOCATION:Five Central\, 2736 Virginia Street\, Houston\, TX 77098\, Houston\, TX\, 77098\, US
CATEGORIES:Houston
ATTACH;FMTTYPE=image/jpeg:https://golatindance.com/wp-content/uploads/2022/11/436141703_1345873016360410_3167328736800538598_n.jpg
END:VEVENT
BEGIN:VEVENT
DTSTART;TZID=America/Chicago:20221227T200000
DTEND;TZID=America/Chicago:20221228T010000
DTSTAMP:20260425T115810
CREATED:20221109T185428Z
LAST-MODIFIED:20241001T185644Z
UID:10148017-1672171200-1672189200@golatindance.com
SUMMARY:Salsa y Bachata Tuesdays at Five Central
DESCRIPTION:Tacos\, Tequila\, Latin Dancing with Live Band playing Salsa\, Bachata\, Merengue and more!\nFree Dance Lesson at 8 PM! $2 Tacos\, $5 Drinks! \nHouston\, welcome to your new Latin Dancing hidden gem in River Oaks! \nSalsa\, Bachata\, Merengue with Orquesta Son Jaleo LIVE! \nNO COVER. FREE Dance Lessons with the best Houston Guest Instructors at 8 PM! \n\n 
URL:https://golatindance.com/event/salsa-y-bachata-tuesdays-at-five-central-river-oaks-live-band-free/2022-12-27/
LOCATION:Five Central\, 2736 Virginia Street\, Houston\, TX 77098\, Houston\, TX\, 77098\, US
CATEGORIES:Houston
ATTACH;FMTTYPE=image/jpeg:https://golatindance.com/wp-content/uploads/2022/11/436141703_1345873016360410_3167328736800538598_n.jpg
END:VEVENT
BEGIN:VEVENT
DTSTART;TZID=America/Chicago:20221220T200000
DTEND;TZID=America/Chicago:20221221T010000
DTSTAMP:20260425T115810
CREATED:20221109T185428Z
LAST-MODIFIED:20241001T185644Z
UID:10148016-1671566400-1671584400@golatindance.com
SUMMARY:Salsa y Bachata Tuesdays at Five Central
DESCRIPTION:Tacos\, Tequila\, Latin Dancing with Live Band playing Salsa\, Bachata\, Merengue and more!\nFree Dance Lesson at 8 PM! $2 Tacos\, $5 Drinks! \nHouston\, welcome to your new Latin Dancing hidden gem in River Oaks! \nSalsa\, Bachata\, Merengue with Orquesta Son Jaleo LIVE! \nNO COVER. FREE Dance Lessons with the best Houston Guest Instructors at 8 PM! \n\n 
URL:https://golatindance.com/event/salsa-y-bachata-tuesdays-at-five-central-river-oaks-live-band-free/2022-12-20/
LOCATION:Five Central\, 2736 Virginia Street\, Houston\, TX 77098\, Houston\, TX\, 77098\, US
CATEGORIES:Houston
ATTACH;FMTTYPE=image/jpeg:https://golatindance.com/wp-content/uploads/2022/11/436141703_1345873016360410_3167328736800538598_n.jpg
END:VEVENT
BEGIN:VEVENT
DTSTART;TZID=America/Chicago:20221213T200000
DTEND;TZID=America/Chicago:20221214T010000
DTSTAMP:20260425T115810
CREATED:20221109T185428Z
LAST-MODIFIED:20241001T185644Z
UID:10148015-1670961600-1670979600@golatindance.com
SUMMARY:Salsa y Bachata Tuesdays at Five Central
DESCRIPTION:Tacos\, Tequila\, Latin Dancing with Live Band playing Salsa\, Bachata\, Merengue and more!\nFree Dance Lesson at 8 PM! $2 Tacos\, $5 Drinks! \nHouston\, welcome to your new Latin Dancing hidden gem in River Oaks! \nSalsa\, Bachata\, Merengue with Orquesta Son Jaleo LIVE! \nNO COVER. FREE Dance Lessons with the best Houston Guest Instructors at 8 PM! \n\n 
URL:https://golatindance.com/event/salsa-y-bachata-tuesdays-at-five-central-river-oaks-live-band-free/2022-12-13/
LOCATION:Five Central\, 2736 Virginia Street\, Houston\, TX 77098\, Houston\, TX\, 77098\, US
CATEGORIES:Houston
ATTACH;FMTTYPE=image/jpeg:https://golatindance.com/wp-content/uploads/2022/11/436141703_1345873016360410_3167328736800538598_n.jpg
END:VEVENT
BEGIN:VEVENT
DTSTART;TZID=America/Chicago:20221206T200000
DTEND;TZID=America/Chicago:20221207T010000
DTSTAMP:20260425T115810
CREATED:20221109T185428Z
LAST-MODIFIED:20241001T185644Z
UID:10148014-1670356800-1670374800@golatindance.com
SUMMARY:Salsa y Bachata Tuesdays at Five Central
DESCRIPTION:Tacos\, Tequila\, Latin Dancing with Live Band playing Salsa\, Bachata\, Merengue and more!\nFree Dance Lesson at 8 PM! $2 Tacos\, $5 Drinks! \nHouston\, welcome to your new Latin Dancing hidden gem in River Oaks! \nSalsa\, Bachata\, Merengue with Orquesta Son Jaleo LIVE! \nNO COVER. FREE Dance Lessons with the best Houston Guest Instructors at 8 PM! \n\n 
URL:https://golatindance.com/event/salsa-y-bachata-tuesdays-at-five-central-river-oaks-live-band-free/2022-12-06/
LOCATION:Five Central\, 2736 Virginia Street\, Houston\, TX 77098\, Houston\, TX\, 77098\, US
CATEGORIES:Houston
ATTACH;FMTTYPE=image/jpeg:https://golatindance.com/wp-content/uploads/2022/11/436141703_1345873016360410_3167328736800538598_n.jpg
END:VEVENT
END:VCALENDAR