BEGIN:VCALENDAR
VERSION:2.0
PRODID:-//GO Latin Dance - ECPv6.15.18//NONSGML v1.0//EN
CALSCALE:GREGORIAN
METHOD:PUBLISH
X-ORIGINAL-URL:https://golatindance.com
X-WR-CALDESC:Events for GO Latin Dance
REFRESH-INTERVAL;VALUE=DURATION:PT1H
X-Robots-Tag:noindex
X-PUBLISHED-TTL:PT1H
BEGIN:VTIMEZONE
TZID:America/New_York
BEGIN:DAYLIGHT
TZOFFSETFROM:-0500
TZOFFSETTO:-0400
TZNAME:EDT
DTSTART:20260308T070000
END:DAYLIGHT
BEGIN:STANDARD
TZOFFSETFROM:-0400
TZOFFSETTO:-0500
TZNAME:EST
DTSTART:20261101T060000
END:STANDARD
BEGIN:DAYLIGHT
TZOFFSETFROM:-0500
TZOFFSETTO:-0400
TZNAME:EDT
DTSTART:20270314T070000
END:DAYLIGHT
BEGIN:STANDARD
TZOFFSETFROM:-0400
TZOFFSETTO:-0500
TZNAME:EST
DTSTART:20271107T060000
END:STANDARD
BEGIN:DAYLIGHT
TZOFFSETFROM:-0500
TZOFFSETTO:-0400
TZNAME:EDT
DTSTART:20280312T070000
END:DAYLIGHT
BEGIN:STANDARD
TZOFFSETFROM:-0400
TZOFFSETTO:-0500
TZNAME:EST
DTSTART:20281105T060000
END:STANDARD
END:VTIMEZONE
BEGIN:VEVENT
DTSTART;TZID=America/New_York:20270413T200000
DTEND;TZID=America/New_York:20270414T003000
DTSTAMP:20260424T211956
CREATED:20230118T162939Z
LAST-MODIFIED:20260114T144652Z
UID:10047255-1807646400-1807662600@golatindance.com
SUMMARY:Salsa Bachata at The Rose
DESCRIPTION:Come join us at The Rose every Tuesday for our Latin night of dancing!\nTime: 8pm – 12:30am\nThere will be an open level dance class at 8:30pm (often a little footwork and then partner work in either salsa or bachata)\, and then a social party after.\nThere is a bar available to purchase drinks
URL:https://golatindance.com/event/salsa-bachata-at-the-rose/2027-04-13/
LOCATION:The Rose – New York\, 160 West 25th Street\, Manhattan\, NY\, United States
CATEGORIES:New York City
ATTACH;FMTTYPE=image/jpeg:https://golatindance.com/wp-content/uploads/2023/01/611696023_18151096471429907_8259196900477539051_n.jpg
END:VEVENT
BEGIN:VEVENT
DTSTART;TZID=America/New_York:20270420T200000
DTEND;TZID=America/New_York:20270421T003000
DTSTAMP:20260424T211956
CREATED:20230118T162939Z
LAST-MODIFIED:20260114T144652Z
UID:10047256-1808251200-1808267400@golatindance.com
SUMMARY:Salsa Bachata at The Rose
DESCRIPTION:Come join us at The Rose every Tuesday for our Latin night of dancing!\nTime: 8pm – 12:30am\nThere will be an open level dance class at 8:30pm (often a little footwork and then partner work in either salsa or bachata)\, and then a social party after.\nThere is a bar available to purchase drinks
URL:https://golatindance.com/event/salsa-bachata-at-the-rose/2027-04-20/
LOCATION:The Rose – New York\, 160 West 25th Street\, Manhattan\, NY\, United States
CATEGORIES:New York City
ATTACH;FMTTYPE=image/jpeg:https://golatindance.com/wp-content/uploads/2023/01/611696023_18151096471429907_8259196900477539051_n.jpg
END:VEVENT
BEGIN:VEVENT
DTSTART;TZID=America/New_York:20270427T200000
DTEND;TZID=America/New_York:20270428T003000
DTSTAMP:20260424T211956
CREATED:20230118T162939Z
LAST-MODIFIED:20260114T144652Z
UID:10047257-1808856000-1808872200@golatindance.com
SUMMARY:Salsa Bachata at The Rose
DESCRIPTION:Come join us at The Rose every Tuesday for our Latin night of dancing!\nTime: 8pm – 12:30am\nThere will be an open level dance class at 8:30pm (often a little footwork and then partner work in either salsa or bachata)\, and then a social party after.\nThere is a bar available to purchase drinks
URL:https://golatindance.com/event/salsa-bachata-at-the-rose/2027-04-27/
LOCATION:The Rose – New York\, 160 West 25th Street\, Manhattan\, NY\, United States
CATEGORIES:New York City
ATTACH;FMTTYPE=image/jpeg:https://golatindance.com/wp-content/uploads/2023/01/611696023_18151096471429907_8259196900477539051_n.jpg
END:VEVENT
BEGIN:VEVENT
DTSTART;TZID=America/New_York:20270504T200000
DTEND;TZID=America/New_York:20270505T003000
DTSTAMP:20260424T211956
CREATED:20230118T162939Z
LAST-MODIFIED:20260114T144652Z
UID:10047258-1809460800-1809477000@golatindance.com
SUMMARY:Salsa Bachata at The Rose
DESCRIPTION:Come join us at The Rose every Tuesday for our Latin night of dancing!\nTime: 8pm – 12:30am\nThere will be an open level dance class at 8:30pm (often a little footwork and then partner work in either salsa or bachata)\, and then a social party after.\nThere is a bar available to purchase drinks
URL:https://golatindance.com/event/salsa-bachata-at-the-rose/2027-05-04/
LOCATION:The Rose – New York\, 160 West 25th Street\, Manhattan\, NY\, United States
CATEGORIES:New York City
ATTACH;FMTTYPE=image/jpeg:https://golatindance.com/wp-content/uploads/2023/01/611696023_18151096471429907_8259196900477539051_n.jpg
END:VEVENT
BEGIN:VEVENT
DTSTART;TZID=America/New_York:20270511T200000
DTEND;TZID=America/New_York:20270512T003000
DTSTAMP:20260424T211956
CREATED:20230118T162939Z
LAST-MODIFIED:20260114T144652Z
UID:10047259-1810065600-1810081800@golatindance.com
SUMMARY:Salsa Bachata at The Rose
DESCRIPTION:Come join us at The Rose every Tuesday for our Latin night of dancing!\nTime: 8pm – 12:30am\nThere will be an open level dance class at 8:30pm (often a little footwork and then partner work in either salsa or bachata)\, and then a social party after.\nThere is a bar available to purchase drinks
URL:https://golatindance.com/event/salsa-bachata-at-the-rose/2027-05-11/
LOCATION:The Rose – New York\, 160 West 25th Street\, Manhattan\, NY\, United States
CATEGORIES:New York City
ATTACH;FMTTYPE=image/jpeg:https://golatindance.com/wp-content/uploads/2023/01/611696023_18151096471429907_8259196900477539051_n.jpg
END:VEVENT
BEGIN:VEVENT
DTSTART;TZID=America/New_York:20270518T200000
DTEND;TZID=America/New_York:20270519T003000
DTSTAMP:20260424T211956
CREATED:20230118T162939Z
LAST-MODIFIED:20260114T144652Z
UID:10047260-1810670400-1810686600@golatindance.com
SUMMARY:Salsa Bachata at The Rose
DESCRIPTION:Come join us at The Rose every Tuesday for our Latin night of dancing!\nTime: 8pm – 12:30am\nThere will be an open level dance class at 8:30pm (often a little footwork and then partner work in either salsa or bachata)\, and then a social party after.\nThere is a bar available to purchase drinks
URL:https://golatindance.com/event/salsa-bachata-at-the-rose/2027-05-18/
LOCATION:The Rose – New York\, 160 West 25th Street\, Manhattan\, NY\, United States
CATEGORIES:New York City
ATTACH;FMTTYPE=image/jpeg:https://golatindance.com/wp-content/uploads/2023/01/611696023_18151096471429907_8259196900477539051_n.jpg
END:VEVENT
BEGIN:VEVENT
DTSTART;TZID=America/New_York:20270525T200000
DTEND;TZID=America/New_York:20270526T003000
DTSTAMP:20260424T211956
CREATED:20230118T162939Z
LAST-MODIFIED:20260114T144652Z
UID:10047261-1811275200-1811291400@golatindance.com
SUMMARY:Salsa Bachata at The Rose
DESCRIPTION:Come join us at The Rose every Tuesday for our Latin night of dancing!\nTime: 8pm – 12:30am\nThere will be an open level dance class at 8:30pm (often a little footwork and then partner work in either salsa or bachata)\, and then a social party after.\nThere is a bar available to purchase drinks
URL:https://golatindance.com/event/salsa-bachata-at-the-rose/2027-05-25/
LOCATION:The Rose – New York\, 160 West 25th Street\, Manhattan\, NY\, United States
CATEGORIES:New York City
ATTACH;FMTTYPE=image/jpeg:https://golatindance.com/wp-content/uploads/2023/01/611696023_18151096471429907_8259196900477539051_n.jpg
END:VEVENT
BEGIN:VEVENT
DTSTART;TZID=America/New_York:20270601T200000
DTEND;TZID=America/New_York:20270602T003000
DTSTAMP:20260424T211956
CREATED:20230118T162939Z
LAST-MODIFIED:20260114T144652Z
UID:10047262-1811880000-1811896200@golatindance.com
SUMMARY:Salsa Bachata at The Rose
DESCRIPTION:Come join us at The Rose every Tuesday for our Latin night of dancing!\nTime: 8pm – 12:30am\nThere will be an open level dance class at 8:30pm (often a little footwork and then partner work in either salsa or bachata)\, and then a social party after.\nThere is a bar available to purchase drinks
URL:https://golatindance.com/event/salsa-bachata-at-the-rose/2027-06-01/
LOCATION:The Rose – New York\, 160 West 25th Street\, Manhattan\, NY\, United States
CATEGORIES:New York City
ATTACH;FMTTYPE=image/jpeg:https://golatindance.com/wp-content/uploads/2023/01/611696023_18151096471429907_8259196900477539051_n.jpg
END:VEVENT
BEGIN:VEVENT
DTSTART;TZID=America/New_York:20270608T200000
DTEND;TZID=America/New_York:20270609T003000
DTSTAMP:20260424T211956
CREATED:20230118T162939Z
LAST-MODIFIED:20260114T144652Z
UID:10047263-1812484800-1812501000@golatindance.com
SUMMARY:Salsa Bachata at The Rose
DESCRIPTION:Come join us at The Rose every Tuesday for our Latin night of dancing!\nTime: 8pm – 12:30am\nThere will be an open level dance class at 8:30pm (often a little footwork and then partner work in either salsa or bachata)\, and then a social party after.\nThere is a bar available to purchase drinks
URL:https://golatindance.com/event/salsa-bachata-at-the-rose/2027-06-08/
LOCATION:The Rose – New York\, 160 West 25th Street\, Manhattan\, NY\, United States
CATEGORIES:New York City
ATTACH;FMTTYPE=image/jpeg:https://golatindance.com/wp-content/uploads/2023/01/611696023_18151096471429907_8259196900477539051_n.jpg
END:VEVENT
BEGIN:VEVENT
DTSTART;TZID=America/New_York:20270615T200000
DTEND;TZID=America/New_York:20270616T003000
DTSTAMP:20260424T211956
CREATED:20230118T162939Z
LAST-MODIFIED:20260114T144652Z
UID:10047264-1813089600-1813105800@golatindance.com
SUMMARY:Salsa Bachata at The Rose
DESCRIPTION:Come join us at The Rose every Tuesday for our Latin night of dancing!\nTime: 8pm – 12:30am\nThere will be an open level dance class at 8:30pm (often a little footwork and then partner work in either salsa or bachata)\, and then a social party after.\nThere is a bar available to purchase drinks
URL:https://golatindance.com/event/salsa-bachata-at-the-rose/2027-06-15/
LOCATION:The Rose – New York\, 160 West 25th Street\, Manhattan\, NY\, United States
CATEGORIES:New York City
ATTACH;FMTTYPE=image/jpeg:https://golatindance.com/wp-content/uploads/2023/01/611696023_18151096471429907_8259196900477539051_n.jpg
END:VEVENT
BEGIN:VEVENT
DTSTART;TZID=America/New_York:20270622T200000
DTEND;TZID=America/New_York:20270623T003000
DTSTAMP:20260424T211956
CREATED:20230118T162939Z
LAST-MODIFIED:20260114T144652Z
UID:10047265-1813694400-1813710600@golatindance.com
SUMMARY:Salsa Bachata at The Rose
DESCRIPTION:Come join us at The Rose every Tuesday for our Latin night of dancing!\nTime: 8pm – 12:30am\nThere will be an open level dance class at 8:30pm (often a little footwork and then partner work in either salsa or bachata)\, and then a social party after.\nThere is a bar available to purchase drinks
URL:https://golatindance.com/event/salsa-bachata-at-the-rose/2027-06-22/
LOCATION:The Rose – New York\, 160 West 25th Street\, Manhattan\, NY\, United States
CATEGORIES:New York City
ATTACH;FMTTYPE=image/jpeg:https://golatindance.com/wp-content/uploads/2023/01/611696023_18151096471429907_8259196900477539051_n.jpg
END:VEVENT
BEGIN:VEVENT
DTSTART;TZID=America/New_York:20270629T200000
DTEND;TZID=America/New_York:20270630T003000
DTSTAMP:20260424T211957
CREATED:20230118T162939Z
LAST-MODIFIED:20260114T144652Z
UID:10047266-1814299200-1814315400@golatindance.com
SUMMARY:Salsa Bachata at The Rose
DESCRIPTION:Come join us at The Rose every Tuesday for our Latin night of dancing!\nTime: 8pm – 12:30am\nThere will be an open level dance class at 8:30pm (often a little footwork and then partner work in either salsa or bachata)\, and then a social party after.\nThere is a bar available to purchase drinks
URL:https://golatindance.com/event/salsa-bachata-at-the-rose/2027-06-29/
LOCATION:The Rose – New York\, 160 West 25th Street\, Manhattan\, NY\, United States
CATEGORIES:New York City
ATTACH;FMTTYPE=image/jpeg:https://golatindance.com/wp-content/uploads/2023/01/611696023_18151096471429907_8259196900477539051_n.jpg
END:VEVENT
BEGIN:VEVENT
DTSTART;TZID=America/New_York:20270706T200000
DTEND;TZID=America/New_York:20270707T003000
DTSTAMP:20260424T211957
CREATED:20230118T162939Z
LAST-MODIFIED:20260114T144652Z
UID:10047267-1814904000-1814920200@golatindance.com
SUMMARY:Salsa Bachata at The Rose
DESCRIPTION:Come join us at The Rose every Tuesday for our Latin night of dancing!\nTime: 8pm – 12:30am\nThere will be an open level dance class at 8:30pm (often a little footwork and then partner work in either salsa or bachata)\, and then a social party after.\nThere is a bar available to purchase drinks
URL:https://golatindance.com/event/salsa-bachata-at-the-rose/2027-07-06/
LOCATION:The Rose – New York\, 160 West 25th Street\, Manhattan\, NY\, United States
CATEGORIES:New York City
ATTACH;FMTTYPE=image/jpeg:https://golatindance.com/wp-content/uploads/2023/01/611696023_18151096471429907_8259196900477539051_n.jpg
END:VEVENT
BEGIN:VEVENT
DTSTART;TZID=America/New_York:20270713T200000
DTEND;TZID=America/New_York:20270714T003000
DTSTAMP:20260424T211957
CREATED:20230118T162939Z
LAST-MODIFIED:20260114T144652Z
UID:10047268-1815508800-1815525000@golatindance.com
SUMMARY:Salsa Bachata at The Rose
DESCRIPTION:Come join us at The Rose every Tuesday for our Latin night of dancing!\nTime: 8pm – 12:30am\nThere will be an open level dance class at 8:30pm (often a little footwork and then partner work in either salsa or bachata)\, and then a social party after.\nThere is a bar available to purchase drinks
URL:https://golatindance.com/event/salsa-bachata-at-the-rose/2027-07-13/
LOCATION:The Rose – New York\, 160 West 25th Street\, Manhattan\, NY\, United States
CATEGORIES:New York City
ATTACH;FMTTYPE=image/jpeg:https://golatindance.com/wp-content/uploads/2023/01/611696023_18151096471429907_8259196900477539051_n.jpg
END:VEVENT
BEGIN:VEVENT
DTSTART;TZID=America/New_York:20270720T200000
DTEND;TZID=America/New_York:20270721T003000
DTSTAMP:20260424T211957
CREATED:20230118T162939Z
LAST-MODIFIED:20260114T144652Z
UID:10047269-1816113600-1816129800@golatindance.com
SUMMARY:Salsa Bachata at The Rose
DESCRIPTION:Come join us at The Rose every Tuesday for our Latin night of dancing!\nTime: 8pm – 12:30am\nThere will be an open level dance class at 8:30pm (often a little footwork and then partner work in either salsa or bachata)\, and then a social party after.\nThere is a bar available to purchase drinks
URL:https://golatindance.com/event/salsa-bachata-at-the-rose/2027-07-20/
LOCATION:The Rose – New York\, 160 West 25th Street\, Manhattan\, NY\, United States
CATEGORIES:New York City
ATTACH;FMTTYPE=image/jpeg:https://golatindance.com/wp-content/uploads/2023/01/611696023_18151096471429907_8259196900477539051_n.jpg
END:VEVENT
BEGIN:VEVENT
DTSTART;TZID=America/New_York:20270727T200000
DTEND;TZID=America/New_York:20270728T003000
DTSTAMP:20260424T211957
CREATED:20230118T162939Z
LAST-MODIFIED:20260114T144652Z
UID:10047270-1816718400-1816734600@golatindance.com
SUMMARY:Salsa Bachata at The Rose
DESCRIPTION:Come join us at The Rose every Tuesday for our Latin night of dancing!\nTime: 8pm – 12:30am\nThere will be an open level dance class at 8:30pm (often a little footwork and then partner work in either salsa or bachata)\, and then a social party after.\nThere is a bar available to purchase drinks
URL:https://golatindance.com/event/salsa-bachata-at-the-rose/2027-07-27/
LOCATION:The Rose – New York\, 160 West 25th Street\, Manhattan\, NY\, United States
CATEGORIES:New York City
ATTACH;FMTTYPE=image/jpeg:https://golatindance.com/wp-content/uploads/2023/01/611696023_18151096471429907_8259196900477539051_n.jpg
END:VEVENT
BEGIN:VEVENT
DTSTART;TZID=America/New_York:20270803T200000
DTEND;TZID=America/New_York:20270804T003000
DTSTAMP:20260424T211957
CREATED:20230118T162939Z
LAST-MODIFIED:20260114T144652Z
UID:10047271-1817323200-1817339400@golatindance.com
SUMMARY:Salsa Bachata at The Rose
DESCRIPTION:Come join us at The Rose every Tuesday for our Latin night of dancing!\nTime: 8pm – 12:30am\nThere will be an open level dance class at 8:30pm (often a little footwork and then partner work in either salsa or bachata)\, and then a social party after.\nThere is a bar available to purchase drinks
URL:https://golatindance.com/event/salsa-bachata-at-the-rose/2027-08-03/
LOCATION:The Rose – New York\, 160 West 25th Street\, Manhattan\, NY\, United States
CATEGORIES:New York City
ATTACH;FMTTYPE=image/jpeg:https://golatindance.com/wp-content/uploads/2023/01/611696023_18151096471429907_8259196900477539051_n.jpg
END:VEVENT
BEGIN:VEVENT
DTSTART;TZID=America/New_York:20270810T200000
DTEND;TZID=America/New_York:20270811T003000
DTSTAMP:20260424T211957
CREATED:20230118T162939Z
LAST-MODIFIED:20260114T144652Z
UID:10047272-1817928000-1817944200@golatindance.com
SUMMARY:Salsa Bachata at The Rose
DESCRIPTION:Come join us at The Rose every Tuesday for our Latin night of dancing!\nTime: 8pm – 12:30am\nThere will be an open level dance class at 8:30pm (often a little footwork and then partner work in either salsa or bachata)\, and then a social party after.\nThere is a bar available to purchase drinks
URL:https://golatindance.com/event/salsa-bachata-at-the-rose/2027-08-10/
LOCATION:The Rose – New York\, 160 West 25th Street\, Manhattan\, NY\, United States
CATEGORIES:New York City
ATTACH;FMTTYPE=image/jpeg:https://golatindance.com/wp-content/uploads/2023/01/611696023_18151096471429907_8259196900477539051_n.jpg
END:VEVENT
BEGIN:VEVENT
DTSTART;TZID=America/New_York:20270817T200000
DTEND;TZID=America/New_York:20270818T003000
DTSTAMP:20260424T211957
CREATED:20230118T162939Z
LAST-MODIFIED:20260114T144652Z
UID:10047273-1818532800-1818549000@golatindance.com
SUMMARY:Salsa Bachata at The Rose
DESCRIPTION:Come join us at The Rose every Tuesday for our Latin night of dancing!\nTime: 8pm – 12:30am\nThere will be an open level dance class at 8:30pm (often a little footwork and then partner work in either salsa or bachata)\, and then a social party after.\nThere is a bar available to purchase drinks
URL:https://golatindance.com/event/salsa-bachata-at-the-rose/2027-08-17/
LOCATION:The Rose – New York\, 160 West 25th Street\, Manhattan\, NY\, United States
CATEGORIES:New York City
ATTACH;FMTTYPE=image/jpeg:https://golatindance.com/wp-content/uploads/2023/01/611696023_18151096471429907_8259196900477539051_n.jpg
END:VEVENT
BEGIN:VEVENT
DTSTART;TZID=America/New_York:20270824T200000
DTEND;TZID=America/New_York:20270825T003000
DTSTAMP:20260424T211957
CREATED:20230118T162939Z
LAST-MODIFIED:20260114T144652Z
UID:10047274-1819137600-1819153800@golatindance.com
SUMMARY:Salsa Bachata at The Rose
DESCRIPTION:Come join us at The Rose every Tuesday for our Latin night of dancing!\nTime: 8pm – 12:30am\nThere will be an open level dance class at 8:30pm (often a little footwork and then partner work in either salsa or bachata)\, and then a social party after.\nThere is a bar available to purchase drinks
URL:https://golatindance.com/event/salsa-bachata-at-the-rose/2027-08-24/
LOCATION:The Rose – New York\, 160 West 25th Street\, Manhattan\, NY\, United States
CATEGORIES:New York City
ATTACH;FMTTYPE=image/jpeg:https://golatindance.com/wp-content/uploads/2023/01/611696023_18151096471429907_8259196900477539051_n.jpg
END:VEVENT
BEGIN:VEVENT
DTSTART;TZID=America/New_York:20270831T200000
DTEND;TZID=America/New_York:20270901T003000
DTSTAMP:20260424T211957
CREATED:20230118T162939Z
LAST-MODIFIED:20260114T144652Z
UID:10047275-1819742400-1819758600@golatindance.com
SUMMARY:Salsa Bachata at The Rose
DESCRIPTION:Come join us at The Rose every Tuesday for our Latin night of dancing!\nTime: 8pm – 12:30am\nThere will be an open level dance class at 8:30pm (often a little footwork and then partner work in either salsa or bachata)\, and then a social party after.\nThere is a bar available to purchase drinks
URL:https://golatindance.com/event/salsa-bachata-at-the-rose/2027-08-31/
LOCATION:The Rose – New York\, 160 West 25th Street\, Manhattan\, NY\, United States
CATEGORIES:New York City
ATTACH;FMTTYPE=image/jpeg:https://golatindance.com/wp-content/uploads/2023/01/611696023_18151096471429907_8259196900477539051_n.jpg
END:VEVENT
BEGIN:VEVENT
DTSTART;TZID=America/New_York:20270907T200000
DTEND;TZID=America/New_York:20270908T003000
DTSTAMP:20260424T211957
CREATED:20230118T162939Z
LAST-MODIFIED:20260114T144652Z
UID:10047276-1820347200-1820363400@golatindance.com
SUMMARY:Salsa Bachata at The Rose
DESCRIPTION:Come join us at The Rose every Tuesday for our Latin night of dancing!\nTime: 8pm – 12:30am\nThere will be an open level dance class at 8:30pm (often a little footwork and then partner work in either salsa or bachata)\, and then a social party after.\nThere is a bar available to purchase drinks
URL:https://golatindance.com/event/salsa-bachata-at-the-rose/2027-09-07/
LOCATION:The Rose – New York\, 160 West 25th Street\, Manhattan\, NY\, United States
CATEGORIES:New York City
ATTACH;FMTTYPE=image/jpeg:https://golatindance.com/wp-content/uploads/2023/01/611696023_18151096471429907_8259196900477539051_n.jpg
END:VEVENT
BEGIN:VEVENT
DTSTART;TZID=America/New_York:20270914T200000
DTEND;TZID=America/New_York:20270915T003000
DTSTAMP:20260424T211957
CREATED:20230118T162939Z
LAST-MODIFIED:20260114T144652Z
UID:10047277-1820952000-1820968200@golatindance.com
SUMMARY:Salsa Bachata at The Rose
DESCRIPTION:Come join us at The Rose every Tuesday for our Latin night of dancing!\nTime: 8pm – 12:30am\nThere will be an open level dance class at 8:30pm (often a little footwork and then partner work in either salsa or bachata)\, and then a social party after.\nThere is a bar available to purchase drinks
URL:https://golatindance.com/event/salsa-bachata-at-the-rose/2027-09-14/
LOCATION:The Rose – New York\, 160 West 25th Street\, Manhattan\, NY\, United States
CATEGORIES:New York City
ATTACH;FMTTYPE=image/jpeg:https://golatindance.com/wp-content/uploads/2023/01/611696023_18151096471429907_8259196900477539051_n.jpg
END:VEVENT
BEGIN:VEVENT
DTSTART;TZID=America/New_York:20270921T200000
DTEND;TZID=America/New_York:20270922T003000
DTSTAMP:20260424T211957
CREATED:20230118T162939Z
LAST-MODIFIED:20260114T144652Z
UID:10047278-1821556800-1821573000@golatindance.com
SUMMARY:Salsa Bachata at The Rose
DESCRIPTION:Come join us at The Rose every Tuesday for our Latin night of dancing!\nTime: 8pm – 12:30am\nThere will be an open level dance class at 8:30pm (often a little footwork and then partner work in either salsa or bachata)\, and then a social party after.\nThere is a bar available to purchase drinks
URL:https://golatindance.com/event/salsa-bachata-at-the-rose/2027-09-21/
LOCATION:The Rose – New York\, 160 West 25th Street\, Manhattan\, NY\, United States
CATEGORIES:New York City
ATTACH;FMTTYPE=image/jpeg:https://golatindance.com/wp-content/uploads/2023/01/611696023_18151096471429907_8259196900477539051_n.jpg
END:VEVENT
BEGIN:VEVENT
DTSTART;TZID=America/New_York:20270928T200000
DTEND;TZID=America/New_York:20270929T003000
DTSTAMP:20260424T211957
CREATED:20230118T162939Z
LAST-MODIFIED:20260114T144652Z
UID:10047279-1822161600-1822177800@golatindance.com
SUMMARY:Salsa Bachata at The Rose
DESCRIPTION:Come join us at The Rose every Tuesday for our Latin night of dancing!\nTime: 8pm – 12:30am\nThere will be an open level dance class at 8:30pm (often a little footwork and then partner work in either salsa or bachata)\, and then a social party after.\nThere is a bar available to purchase drinks
URL:https://golatindance.com/event/salsa-bachata-at-the-rose/2027-09-28/
LOCATION:The Rose – New York\, 160 West 25th Street\, Manhattan\, NY\, United States
CATEGORIES:New York City
ATTACH;FMTTYPE=image/jpeg:https://golatindance.com/wp-content/uploads/2023/01/611696023_18151096471429907_8259196900477539051_n.jpg
END:VEVENT
BEGIN:VEVENT
DTSTART;TZID=America/New_York:20271005T200000
DTEND;TZID=America/New_York:20271006T003000
DTSTAMP:20260424T211957
CREATED:20230118T162939Z
LAST-MODIFIED:20260114T144652Z
UID:10047280-1822766400-1822782600@golatindance.com
SUMMARY:Salsa Bachata at The Rose
DESCRIPTION:Come join us at The Rose every Tuesday for our Latin night of dancing!\nTime: 8pm – 12:30am\nThere will be an open level dance class at 8:30pm (often a little footwork and then partner work in either salsa or bachata)\, and then a social party after.\nThere is a bar available to purchase drinks
URL:https://golatindance.com/event/salsa-bachata-at-the-rose/2027-10-05/
LOCATION:The Rose – New York\, 160 West 25th Street\, Manhattan\, NY\, United States
CATEGORIES:New York City
ATTACH;FMTTYPE=image/jpeg:https://golatindance.com/wp-content/uploads/2023/01/611696023_18151096471429907_8259196900477539051_n.jpg
END:VEVENT
BEGIN:VEVENT
DTSTART;TZID=America/New_York:20271012T200000
DTEND;TZID=America/New_York:20271013T003000
DTSTAMP:20260424T211957
CREATED:20230118T162939Z
LAST-MODIFIED:20260114T144652Z
UID:10047281-1823371200-1823387400@golatindance.com
SUMMARY:Salsa Bachata at The Rose
DESCRIPTION:Come join us at The Rose every Tuesday for our Latin night of dancing!\nTime: 8pm – 12:30am\nThere will be an open level dance class at 8:30pm (often a little footwork and then partner work in either salsa or bachata)\, and then a social party after.\nThere is a bar available to purchase drinks
URL:https://golatindance.com/event/salsa-bachata-at-the-rose/2027-10-12/
LOCATION:The Rose – New York\, 160 West 25th Street\, Manhattan\, NY\, United States
CATEGORIES:New York City
ATTACH;FMTTYPE=image/jpeg:https://golatindance.com/wp-content/uploads/2023/01/611696023_18151096471429907_8259196900477539051_n.jpg
END:VEVENT
BEGIN:VEVENT
DTSTART;TZID=America/New_York:20271019T200000
DTEND;TZID=America/New_York:20271020T003000
DTSTAMP:20260424T211957
CREATED:20230118T162939Z
LAST-MODIFIED:20260114T144652Z
UID:10047282-1823976000-1823992200@golatindance.com
SUMMARY:Salsa Bachata at The Rose
DESCRIPTION:Come join us at The Rose every Tuesday for our Latin night of dancing!\nTime: 8pm – 12:30am\nThere will be an open level dance class at 8:30pm (often a little footwork and then partner work in either salsa or bachata)\, and then a social party after.\nThere is a bar available to purchase drinks
URL:https://golatindance.com/event/salsa-bachata-at-the-rose/2027-10-19/
LOCATION:The Rose – New York\, 160 West 25th Street\, Manhattan\, NY\, United States
CATEGORIES:New York City
ATTACH;FMTTYPE=image/jpeg:https://golatindance.com/wp-content/uploads/2023/01/611696023_18151096471429907_8259196900477539051_n.jpg
END:VEVENT
BEGIN:VEVENT
DTSTART;TZID=America/New_York:20271026T200000
DTEND;TZID=America/New_York:20271027T003000
DTSTAMP:20260424T211957
CREATED:20230118T162939Z
LAST-MODIFIED:20260114T144652Z
UID:10047283-1824580800-1824597000@golatindance.com
SUMMARY:Salsa Bachata at The Rose
DESCRIPTION:Come join us at The Rose every Tuesday for our Latin night of dancing!\nTime: 8pm – 12:30am\nThere will be an open level dance class at 8:30pm (often a little footwork and then partner work in either salsa or bachata)\, and then a social party after.\nThere is a bar available to purchase drinks
URL:https://golatindance.com/event/salsa-bachata-at-the-rose/2027-10-26/
LOCATION:The Rose – New York\, 160 West 25th Street\, Manhattan\, NY\, United States
CATEGORIES:New York City
ATTACH;FMTTYPE=image/jpeg:https://golatindance.com/wp-content/uploads/2023/01/611696023_18151096471429907_8259196900477539051_n.jpg
END:VEVENT
BEGIN:VEVENT
DTSTART;TZID=America/New_York:20271102T200000
DTEND;TZID=America/New_York:20271103T003000
DTSTAMP:20260424T211957
CREATED:20230118T162939Z
LAST-MODIFIED:20260114T144652Z
UID:10047284-1825185600-1825201800@golatindance.com
SUMMARY:Salsa Bachata at The Rose
DESCRIPTION:Come join us at The Rose every Tuesday for our Latin night of dancing!\nTime: 8pm – 12:30am\nThere will be an open level dance class at 8:30pm (often a little footwork and then partner work in either salsa or bachata)\, and then a social party after.\nThere is a bar available to purchase drinks
URL:https://golatindance.com/event/salsa-bachata-at-the-rose/2027-11-02/
LOCATION:The Rose – New York\, 160 West 25th Street\, Manhattan\, NY\, United States
CATEGORIES:New York City
ATTACH;FMTTYPE=image/jpeg:https://golatindance.com/wp-content/uploads/2023/01/611696023_18151096471429907_8259196900477539051_n.jpg
END:VEVENT
END:VCALENDAR