BEGIN:VCALENDAR
VERSION:2.0
PRODID:-//GO Latin Dance - ECPv6.15.18//NONSGML v1.0//EN
CALSCALE:GREGORIAN
METHOD:PUBLISH
X-ORIGINAL-URL:https://golatindance.com
X-WR-CALDESC:Events for GO Latin Dance
REFRESH-INTERVAL;VALUE=DURATION:PT1H
X-Robots-Tag:noindex
X-PUBLISHED-TTL:PT1H
BEGIN:VTIMEZONE
TZID:America/Los_Angeles
BEGIN:DAYLIGHT
TZOFFSETFROM:-0800
TZOFFSETTO:-0700
TZNAME:PDT
DTSTART:20250309T100000
END:DAYLIGHT
BEGIN:STANDARD
TZOFFSETFROM:-0700
TZOFFSETTO:-0800
TZNAME:PST
DTSTART:20251102T090000
END:STANDARD
BEGIN:DAYLIGHT
TZOFFSETFROM:-0800
TZOFFSETTO:-0700
TZNAME:PDT
DTSTART:20260308T100000
END:DAYLIGHT
BEGIN:STANDARD
TZOFFSETFROM:-0700
TZOFFSETTO:-0800
TZNAME:PST
DTSTART:20261101T090000
END:STANDARD
BEGIN:DAYLIGHT
TZOFFSETFROM:-0800
TZOFFSETTO:-0700
TZNAME:PDT
DTSTART:20270314T100000
END:DAYLIGHT
BEGIN:STANDARD
TZOFFSETFROM:-0700
TZOFFSETTO:-0800
TZNAME:PST
DTSTART:20271107T090000
END:STANDARD
END:VTIMEZONE
BEGIN:VEVENT
DTSTART;TZID=America/Los_Angeles:20260206T200000
DTEND;TZID=America/Los_Angeles:20260207T000000
DTSTAMP:20260421T055930
CREATED:20260203T203052Z
LAST-MODIFIED:20260203T203214Z
UID:10439225-1770408000-1770422400@golatindance.com
SUMMARY:SALSA NIGHT PASADENA Valentines Edition: Red Party
DESCRIPTION:Calle Caliente: Salsa Night Pasadena\n🌹Valentines Edition: Red Party 🌹 \nFRIDAY\, FEBRUARY 6th 2026 \nLove is in the air… and so is the rhythm. 💃\nAfter a Holidays Break we are ready to bring you back the best dance night. This Valentine’s Day\, join us for a Salsa Night you won’t forget. We’re turning up the passion with our RED PARTY — a night full of music\, movement\, and irresistible vibes. Don’t miss on a great event and join us for the biggest salsa night in town! Live music band\, 2\,500 sq foot dance floor\, live performances\, beverages\,… and much more!\nBring your Valentine with you …. or find one on the dance floor 🙂\n**Sexy RED attire strongly encouraged.**\nThink bold\, confident\, and unforgettable — dresses\, heels\, shirts\, or accents in red that make you feel 🔥. \nFeaturing:-Workshop : 8-9pm with Desi Jevon \n-Social (Open Floor): 9pm-12am \n-LIVE BAND: Los Vecinos \n-Performance \n-FREE wine & refreshments \nPrices: \n$20 Workshop + Social \nTickets available ONLINE (Click Here) or at the door the day of the event. \n(Advance online tickets purchase recommended due to limited capacity) \nVisit the Salsa Night tab for more info and check us out on Instagram @salsanightpasadena for a peek at previous events!
URL:https://golatindance.com/event/salsa-night-pasadena-valentines-edition-red-party/
LOCATION:Athletic Garage Dance Center\, 121 Waverly Dr\, Pasadena\, CA\, 91105\, United States
CATEGORIES:Los Angeles
ATTACH;FMTTYPE=image/jpeg:https://golatindance.com/wp-content/uploads/2026/02/299764_image_615121417_991193427400582_7944936631402165744_n.jpg
END:VEVENT
END:VCALENDAR