BEGIN:VCALENDAR
VERSION:2.0
PRODID:-//GO Latin Dance - ECPv6.15.18//NONSGML v1.0//EN
CALSCALE:GREGORIAN
METHOD:PUBLISH
X-WR-CALNAME:GO Latin Dance
X-ORIGINAL-URL:https://golatindance.com
X-WR-CALDESC:Events for GO Latin Dance
REFRESH-INTERVAL;VALUE=DURATION:PT1H
X-Robots-Tag:noindex
X-PUBLISHED-TTL:PT1H
BEGIN:VTIMEZONE
TZID:America/Los_Angeles
BEGIN:DAYLIGHT
TZOFFSETFROM:-0800
TZOFFSETTO:-0700
TZNAME:PDT
DTSTART:20260308T100000
END:DAYLIGHT
BEGIN:STANDARD
TZOFFSETFROM:-0700
TZOFFSETTO:-0800
TZNAME:PST
DTSTART:20261101T090000
END:STANDARD
BEGIN:DAYLIGHT
TZOFFSETFROM:-0800
TZOFFSETTO:-0700
TZNAME:PDT
DTSTART:20270314T100000
END:DAYLIGHT
BEGIN:STANDARD
TZOFFSETFROM:-0700
TZOFFSETTO:-0800
TZNAME:PST
DTSTART:20271107T090000
END:STANDARD
BEGIN:DAYLIGHT
TZOFFSETFROM:-0800
TZOFFSETTO:-0700
TZNAME:PDT
DTSTART:20280312T100000
END:DAYLIGHT
BEGIN:STANDARD
TZOFFSETFROM:-0700
TZOFFSETTO:-0800
TZNAME:PST
DTSTART:20281105T090000
END:STANDARD
END:VTIMEZONE
BEGIN:VEVENT
DTSTART;TZID=America/Los_Angeles:20270406T200000
DTEND;TZID=America/Los_Angeles:20270406T200000
DTSTAMP:20260421T170916
CREATED:20221108T212949Z
LAST-MODIFIED:20260113T170338Z
UID:10124318-1807041600-1807041600@golatindance.com
SUMMARY:Salsa Tuesdays at The Lighthouse
DESCRIPTION:EVERY TUESDAY SALSA AND BACHATA. \nThe Salsa Land Night! Learn to dance Salsa & Bachata\, dance the night away! \nDance classes 8:00 – 9:30 pm\n9:30 pm Social Dancing with DJ Rico & DJ Andy Lorenzo.
URL:https://golatindance.com/event/salsa-tuesdays-at-the-lighthouse/2027-04-06/
LOCATION:The Lighthouse Cafe\, 30 Pier Ave\, Hermosa Beach\, CA\, 90254-3732\, United States
CATEGORIES:Los Angeles
ATTACH;FMTTYPE=image/jpeg:https://golatindance.com/wp-content/uploads/2022/11/366274329_6416412175063075_2753096619981954415_n.jpg
END:VEVENT
BEGIN:VEVENT
DTSTART;TZID=America/Los_Angeles:20270413T200000
DTEND;TZID=America/Los_Angeles:20270413T200000
DTSTAMP:20260421T170916
CREATED:20221108T212949Z
LAST-MODIFIED:20260113T170338Z
UID:10124319-1807646400-1807646400@golatindance.com
SUMMARY:Salsa Tuesdays at The Lighthouse
DESCRIPTION:EVERY TUESDAY SALSA AND BACHATA. \nThe Salsa Land Night! Learn to dance Salsa & Bachata\, dance the night away! \nDance classes 8:00 – 9:30 pm\n9:30 pm Social Dancing with DJ Rico & DJ Andy Lorenzo.
URL:https://golatindance.com/event/salsa-tuesdays-at-the-lighthouse/2027-04-13/
LOCATION:The Lighthouse Cafe\, 30 Pier Ave\, Hermosa Beach\, CA\, 90254-3732\, United States
CATEGORIES:Los Angeles
ATTACH;FMTTYPE=image/jpeg:https://golatindance.com/wp-content/uploads/2022/11/366274329_6416412175063075_2753096619981954415_n.jpg
END:VEVENT
BEGIN:VEVENT
DTSTART;TZID=America/Los_Angeles:20270420T200000
DTEND;TZID=America/Los_Angeles:20270420T200000
DTSTAMP:20260421T170916
CREATED:20221108T212949Z
LAST-MODIFIED:20260113T170338Z
UID:10124320-1808251200-1808251200@golatindance.com
SUMMARY:Salsa Tuesdays at The Lighthouse
DESCRIPTION:EVERY TUESDAY SALSA AND BACHATA. \nThe Salsa Land Night! Learn to dance Salsa & Bachata\, dance the night away! \nDance classes 8:00 – 9:30 pm\n9:30 pm Social Dancing with DJ Rico & DJ Andy Lorenzo.
URL:https://golatindance.com/event/salsa-tuesdays-at-the-lighthouse/2027-04-20/
LOCATION:The Lighthouse Cafe\, 30 Pier Ave\, Hermosa Beach\, CA\, 90254-3732\, United States
CATEGORIES:Los Angeles
ATTACH;FMTTYPE=image/jpeg:https://golatindance.com/wp-content/uploads/2022/11/366274329_6416412175063075_2753096619981954415_n.jpg
END:VEVENT
BEGIN:VEVENT
DTSTART;TZID=America/Los_Angeles:20270427T200000
DTEND;TZID=America/Los_Angeles:20270427T200000
DTSTAMP:20260421T170916
CREATED:20221108T212949Z
LAST-MODIFIED:20260113T170338Z
UID:10124321-1808856000-1808856000@golatindance.com
SUMMARY:Salsa Tuesdays at The Lighthouse
DESCRIPTION:EVERY TUESDAY SALSA AND BACHATA. \nThe Salsa Land Night! Learn to dance Salsa & Bachata\, dance the night away! \nDance classes 8:00 – 9:30 pm\n9:30 pm Social Dancing with DJ Rico & DJ Andy Lorenzo.
URL:https://golatindance.com/event/salsa-tuesdays-at-the-lighthouse/2027-04-27/
LOCATION:The Lighthouse Cafe\, 30 Pier Ave\, Hermosa Beach\, CA\, 90254-3732\, United States
CATEGORIES:Los Angeles
ATTACH;FMTTYPE=image/jpeg:https://golatindance.com/wp-content/uploads/2022/11/366274329_6416412175063075_2753096619981954415_n.jpg
END:VEVENT
BEGIN:VEVENT
DTSTART;TZID=America/Los_Angeles:20270504T200000
DTEND;TZID=America/Los_Angeles:20270504T200000
DTSTAMP:20260421T170916
CREATED:20221108T212949Z
LAST-MODIFIED:20260113T170338Z
UID:10124322-1809460800-1809460800@golatindance.com
SUMMARY:Salsa Tuesdays at The Lighthouse
DESCRIPTION:EVERY TUESDAY SALSA AND BACHATA. \nThe Salsa Land Night! Learn to dance Salsa & Bachata\, dance the night away! \nDance classes 8:00 – 9:30 pm\n9:30 pm Social Dancing with DJ Rico & DJ Andy Lorenzo.
URL:https://golatindance.com/event/salsa-tuesdays-at-the-lighthouse/2027-05-04/
LOCATION:The Lighthouse Cafe\, 30 Pier Ave\, Hermosa Beach\, CA\, 90254-3732\, United States
CATEGORIES:Los Angeles
ATTACH;FMTTYPE=image/jpeg:https://golatindance.com/wp-content/uploads/2022/11/366274329_6416412175063075_2753096619981954415_n.jpg
END:VEVENT
BEGIN:VEVENT
DTSTART;TZID=America/Los_Angeles:20270511T200000
DTEND;TZID=America/Los_Angeles:20270511T200000
DTSTAMP:20260421T170916
CREATED:20221108T212949Z
LAST-MODIFIED:20260113T170338Z
UID:10124323-1810065600-1810065600@golatindance.com
SUMMARY:Salsa Tuesdays at The Lighthouse
DESCRIPTION:EVERY TUESDAY SALSA AND BACHATA. \nThe Salsa Land Night! Learn to dance Salsa & Bachata\, dance the night away! \nDance classes 8:00 – 9:30 pm\n9:30 pm Social Dancing with DJ Rico & DJ Andy Lorenzo.
URL:https://golatindance.com/event/salsa-tuesdays-at-the-lighthouse/2027-05-11/
LOCATION:The Lighthouse Cafe\, 30 Pier Ave\, Hermosa Beach\, CA\, 90254-3732\, United States
CATEGORIES:Los Angeles
ATTACH;FMTTYPE=image/jpeg:https://golatindance.com/wp-content/uploads/2022/11/366274329_6416412175063075_2753096619981954415_n.jpg
END:VEVENT
BEGIN:VEVENT
DTSTART;TZID=America/Los_Angeles:20270518T200000
DTEND;TZID=America/Los_Angeles:20270518T200000
DTSTAMP:20260421T170916
CREATED:20221108T212949Z
LAST-MODIFIED:20260113T170338Z
UID:10124324-1810670400-1810670400@golatindance.com
SUMMARY:Salsa Tuesdays at The Lighthouse
DESCRIPTION:EVERY TUESDAY SALSA AND BACHATA. \nThe Salsa Land Night! Learn to dance Salsa & Bachata\, dance the night away! \nDance classes 8:00 – 9:30 pm\n9:30 pm Social Dancing with DJ Rico & DJ Andy Lorenzo.
URL:https://golatindance.com/event/salsa-tuesdays-at-the-lighthouse/2027-05-18/
LOCATION:The Lighthouse Cafe\, 30 Pier Ave\, Hermosa Beach\, CA\, 90254-3732\, United States
CATEGORIES:Los Angeles
ATTACH;FMTTYPE=image/jpeg:https://golatindance.com/wp-content/uploads/2022/11/366274329_6416412175063075_2753096619981954415_n.jpg
END:VEVENT
BEGIN:VEVENT
DTSTART;TZID=America/Los_Angeles:20270525T200000
DTEND;TZID=America/Los_Angeles:20270525T200000
DTSTAMP:20260421T170916
CREATED:20221108T212949Z
LAST-MODIFIED:20260113T170338Z
UID:10124325-1811275200-1811275200@golatindance.com
SUMMARY:Salsa Tuesdays at The Lighthouse
DESCRIPTION:EVERY TUESDAY SALSA AND BACHATA. \nThe Salsa Land Night! Learn to dance Salsa & Bachata\, dance the night away! \nDance classes 8:00 – 9:30 pm\n9:30 pm Social Dancing with DJ Rico & DJ Andy Lorenzo.
URL:https://golatindance.com/event/salsa-tuesdays-at-the-lighthouse/2027-05-25/
LOCATION:The Lighthouse Cafe\, 30 Pier Ave\, Hermosa Beach\, CA\, 90254-3732\, United States
CATEGORIES:Los Angeles
ATTACH;FMTTYPE=image/jpeg:https://golatindance.com/wp-content/uploads/2022/11/366274329_6416412175063075_2753096619981954415_n.jpg
END:VEVENT
BEGIN:VEVENT
DTSTART;TZID=America/Los_Angeles:20270601T200000
DTEND;TZID=America/Los_Angeles:20270601T200000
DTSTAMP:20260421T170916
CREATED:20221108T212949Z
LAST-MODIFIED:20260113T170338Z
UID:10124326-1811880000-1811880000@golatindance.com
SUMMARY:Salsa Tuesdays at The Lighthouse
DESCRIPTION:EVERY TUESDAY SALSA AND BACHATA. \nThe Salsa Land Night! Learn to dance Salsa & Bachata\, dance the night away! \nDance classes 8:00 – 9:30 pm\n9:30 pm Social Dancing with DJ Rico & DJ Andy Lorenzo.
URL:https://golatindance.com/event/salsa-tuesdays-at-the-lighthouse/2027-06-01/
LOCATION:The Lighthouse Cafe\, 30 Pier Ave\, Hermosa Beach\, CA\, 90254-3732\, United States
CATEGORIES:Los Angeles
ATTACH;FMTTYPE=image/jpeg:https://golatindance.com/wp-content/uploads/2022/11/366274329_6416412175063075_2753096619981954415_n.jpg
END:VEVENT
BEGIN:VEVENT
DTSTART;TZID=America/Los_Angeles:20270608T200000
DTEND;TZID=America/Los_Angeles:20270608T200000
DTSTAMP:20260421T170916
CREATED:20221108T212949Z
LAST-MODIFIED:20260113T170338Z
UID:10124327-1812484800-1812484800@golatindance.com
SUMMARY:Salsa Tuesdays at The Lighthouse
DESCRIPTION:EVERY TUESDAY SALSA AND BACHATA. \nThe Salsa Land Night! Learn to dance Salsa & Bachata\, dance the night away! \nDance classes 8:00 – 9:30 pm\n9:30 pm Social Dancing with DJ Rico & DJ Andy Lorenzo.
URL:https://golatindance.com/event/salsa-tuesdays-at-the-lighthouse/2027-06-08/
LOCATION:The Lighthouse Cafe\, 30 Pier Ave\, Hermosa Beach\, CA\, 90254-3732\, United States
CATEGORIES:Los Angeles
ATTACH;FMTTYPE=image/jpeg:https://golatindance.com/wp-content/uploads/2022/11/366274329_6416412175063075_2753096619981954415_n.jpg
END:VEVENT
BEGIN:VEVENT
DTSTART;TZID=America/Los_Angeles:20270615T200000
DTEND;TZID=America/Los_Angeles:20270615T200000
DTSTAMP:20260421T170916
CREATED:20221108T212949Z
LAST-MODIFIED:20260113T170338Z
UID:10124328-1813089600-1813089600@golatindance.com
SUMMARY:Salsa Tuesdays at The Lighthouse
DESCRIPTION:EVERY TUESDAY SALSA AND BACHATA. \nThe Salsa Land Night! Learn to dance Salsa & Bachata\, dance the night away! \nDance classes 8:00 – 9:30 pm\n9:30 pm Social Dancing with DJ Rico & DJ Andy Lorenzo.
URL:https://golatindance.com/event/salsa-tuesdays-at-the-lighthouse/2027-06-15/
LOCATION:The Lighthouse Cafe\, 30 Pier Ave\, Hermosa Beach\, CA\, 90254-3732\, United States
CATEGORIES:Los Angeles
ATTACH;FMTTYPE=image/jpeg:https://golatindance.com/wp-content/uploads/2022/11/366274329_6416412175063075_2753096619981954415_n.jpg
END:VEVENT
BEGIN:VEVENT
DTSTART;TZID=America/Los_Angeles:20270622T200000
DTEND;TZID=America/Los_Angeles:20270622T200000
DTSTAMP:20260421T170916
CREATED:20221108T212949Z
LAST-MODIFIED:20260113T170338Z
UID:10124329-1813694400-1813694400@golatindance.com
SUMMARY:Salsa Tuesdays at The Lighthouse
DESCRIPTION:EVERY TUESDAY SALSA AND BACHATA. \nThe Salsa Land Night! Learn to dance Salsa & Bachata\, dance the night away! \nDance classes 8:00 – 9:30 pm\n9:30 pm Social Dancing with DJ Rico & DJ Andy Lorenzo.
URL:https://golatindance.com/event/salsa-tuesdays-at-the-lighthouse/2027-06-22/
LOCATION:The Lighthouse Cafe\, 30 Pier Ave\, Hermosa Beach\, CA\, 90254-3732\, United States
CATEGORIES:Los Angeles
ATTACH;FMTTYPE=image/jpeg:https://golatindance.com/wp-content/uploads/2022/11/366274329_6416412175063075_2753096619981954415_n.jpg
END:VEVENT
BEGIN:VEVENT
DTSTART;TZID=America/Los_Angeles:20270629T200000
DTEND;TZID=America/Los_Angeles:20270629T200000
DTSTAMP:20260421T170916
CREATED:20221108T212949Z
LAST-MODIFIED:20260113T170338Z
UID:10124330-1814299200-1814299200@golatindance.com
SUMMARY:Salsa Tuesdays at The Lighthouse
DESCRIPTION:EVERY TUESDAY SALSA AND BACHATA. \nThe Salsa Land Night! Learn to dance Salsa & Bachata\, dance the night away! \nDance classes 8:00 – 9:30 pm\n9:30 pm Social Dancing with DJ Rico & DJ Andy Lorenzo.
URL:https://golatindance.com/event/salsa-tuesdays-at-the-lighthouse/2027-06-29/
LOCATION:The Lighthouse Cafe\, 30 Pier Ave\, Hermosa Beach\, CA\, 90254-3732\, United States
CATEGORIES:Los Angeles
ATTACH;FMTTYPE=image/jpeg:https://golatindance.com/wp-content/uploads/2022/11/366274329_6416412175063075_2753096619981954415_n.jpg
END:VEVENT
BEGIN:VEVENT
DTSTART;TZID=America/Los_Angeles:20270706T200000
DTEND;TZID=America/Los_Angeles:20270706T200000
DTSTAMP:20260421T170916
CREATED:20221108T212949Z
LAST-MODIFIED:20260113T170338Z
UID:10124331-1814904000-1814904000@golatindance.com
SUMMARY:Salsa Tuesdays at The Lighthouse
DESCRIPTION:EVERY TUESDAY SALSA AND BACHATA. \nThe Salsa Land Night! Learn to dance Salsa & Bachata\, dance the night away! \nDance classes 8:00 – 9:30 pm\n9:30 pm Social Dancing with DJ Rico & DJ Andy Lorenzo.
URL:https://golatindance.com/event/salsa-tuesdays-at-the-lighthouse/2027-07-06/
LOCATION:The Lighthouse Cafe\, 30 Pier Ave\, Hermosa Beach\, CA\, 90254-3732\, United States
CATEGORIES:Los Angeles
ATTACH;FMTTYPE=image/jpeg:https://golatindance.com/wp-content/uploads/2022/11/366274329_6416412175063075_2753096619981954415_n.jpg
END:VEVENT
BEGIN:VEVENT
DTSTART;TZID=America/Los_Angeles:20270713T200000
DTEND;TZID=America/Los_Angeles:20270713T200000
DTSTAMP:20260421T170916
CREATED:20221108T212949Z
LAST-MODIFIED:20260113T170338Z
UID:10124332-1815508800-1815508800@golatindance.com
SUMMARY:Salsa Tuesdays at The Lighthouse
DESCRIPTION:EVERY TUESDAY SALSA AND BACHATA. \nThe Salsa Land Night! Learn to dance Salsa & Bachata\, dance the night away! \nDance classes 8:00 – 9:30 pm\n9:30 pm Social Dancing with DJ Rico & DJ Andy Lorenzo.
URL:https://golatindance.com/event/salsa-tuesdays-at-the-lighthouse/2027-07-13/
LOCATION:The Lighthouse Cafe\, 30 Pier Ave\, Hermosa Beach\, CA\, 90254-3732\, United States
CATEGORIES:Los Angeles
ATTACH;FMTTYPE=image/jpeg:https://golatindance.com/wp-content/uploads/2022/11/366274329_6416412175063075_2753096619981954415_n.jpg
END:VEVENT
BEGIN:VEVENT
DTSTART;TZID=America/Los_Angeles:20270720T200000
DTEND;TZID=America/Los_Angeles:20270720T200000
DTSTAMP:20260421T170916
CREATED:20221108T212949Z
LAST-MODIFIED:20260113T170338Z
UID:10124333-1816113600-1816113600@golatindance.com
SUMMARY:Salsa Tuesdays at The Lighthouse
DESCRIPTION:EVERY TUESDAY SALSA AND BACHATA. \nThe Salsa Land Night! Learn to dance Salsa & Bachata\, dance the night away! \nDance classes 8:00 – 9:30 pm\n9:30 pm Social Dancing with DJ Rico & DJ Andy Lorenzo.
URL:https://golatindance.com/event/salsa-tuesdays-at-the-lighthouse/2027-07-20/
LOCATION:The Lighthouse Cafe\, 30 Pier Ave\, Hermosa Beach\, CA\, 90254-3732\, United States
CATEGORIES:Los Angeles
ATTACH;FMTTYPE=image/jpeg:https://golatindance.com/wp-content/uploads/2022/11/366274329_6416412175063075_2753096619981954415_n.jpg
END:VEVENT
BEGIN:VEVENT
DTSTART;TZID=America/Los_Angeles:20270727T200000
DTEND;TZID=America/Los_Angeles:20270727T200000
DTSTAMP:20260421T170916
CREATED:20221108T212949Z
LAST-MODIFIED:20260113T170338Z
UID:10124334-1816718400-1816718400@golatindance.com
SUMMARY:Salsa Tuesdays at The Lighthouse
DESCRIPTION:EVERY TUESDAY SALSA AND BACHATA. \nThe Salsa Land Night! Learn to dance Salsa & Bachata\, dance the night away! \nDance classes 8:00 – 9:30 pm\n9:30 pm Social Dancing with DJ Rico & DJ Andy Lorenzo.
URL:https://golatindance.com/event/salsa-tuesdays-at-the-lighthouse/2027-07-27/
LOCATION:The Lighthouse Cafe\, 30 Pier Ave\, Hermosa Beach\, CA\, 90254-3732\, United States
CATEGORIES:Los Angeles
ATTACH;FMTTYPE=image/jpeg:https://golatindance.com/wp-content/uploads/2022/11/366274329_6416412175063075_2753096619981954415_n.jpg
END:VEVENT
BEGIN:VEVENT
DTSTART;TZID=America/Los_Angeles:20270803T200000
DTEND;TZID=America/Los_Angeles:20270803T200000
DTSTAMP:20260421T170916
CREATED:20221108T212949Z
LAST-MODIFIED:20260113T170338Z
UID:10124335-1817323200-1817323200@golatindance.com
SUMMARY:Salsa Tuesdays at The Lighthouse
DESCRIPTION:EVERY TUESDAY SALSA AND BACHATA. \nThe Salsa Land Night! Learn to dance Salsa & Bachata\, dance the night away! \nDance classes 8:00 – 9:30 pm\n9:30 pm Social Dancing with DJ Rico & DJ Andy Lorenzo.
URL:https://golatindance.com/event/salsa-tuesdays-at-the-lighthouse/2027-08-03/
LOCATION:The Lighthouse Cafe\, 30 Pier Ave\, Hermosa Beach\, CA\, 90254-3732\, United States
CATEGORIES:Los Angeles
ATTACH;FMTTYPE=image/jpeg:https://golatindance.com/wp-content/uploads/2022/11/366274329_6416412175063075_2753096619981954415_n.jpg
END:VEVENT
BEGIN:VEVENT
DTSTART;TZID=America/Los_Angeles:20270810T200000
DTEND;TZID=America/Los_Angeles:20270810T200000
DTSTAMP:20260421T170916
CREATED:20221108T212949Z
LAST-MODIFIED:20260113T170338Z
UID:10124336-1817928000-1817928000@golatindance.com
SUMMARY:Salsa Tuesdays at The Lighthouse
DESCRIPTION:EVERY TUESDAY SALSA AND BACHATA. \nThe Salsa Land Night! Learn to dance Salsa & Bachata\, dance the night away! \nDance classes 8:00 – 9:30 pm\n9:30 pm Social Dancing with DJ Rico & DJ Andy Lorenzo.
URL:https://golatindance.com/event/salsa-tuesdays-at-the-lighthouse/2027-08-10/
LOCATION:The Lighthouse Cafe\, 30 Pier Ave\, Hermosa Beach\, CA\, 90254-3732\, United States
CATEGORIES:Los Angeles
ATTACH;FMTTYPE=image/jpeg:https://golatindance.com/wp-content/uploads/2022/11/366274329_6416412175063075_2753096619981954415_n.jpg
END:VEVENT
BEGIN:VEVENT
DTSTART;TZID=America/Los_Angeles:20270817T200000
DTEND;TZID=America/Los_Angeles:20270817T200000
DTSTAMP:20260421T170916
CREATED:20221108T212949Z
LAST-MODIFIED:20260113T170338Z
UID:10124337-1818532800-1818532800@golatindance.com
SUMMARY:Salsa Tuesdays at The Lighthouse
DESCRIPTION:EVERY TUESDAY SALSA AND BACHATA. \nThe Salsa Land Night! Learn to dance Salsa & Bachata\, dance the night away! \nDance classes 8:00 – 9:30 pm\n9:30 pm Social Dancing with DJ Rico & DJ Andy Lorenzo.
URL:https://golatindance.com/event/salsa-tuesdays-at-the-lighthouse/2027-08-17/
LOCATION:The Lighthouse Cafe\, 30 Pier Ave\, Hermosa Beach\, CA\, 90254-3732\, United States
CATEGORIES:Los Angeles
ATTACH;FMTTYPE=image/jpeg:https://golatindance.com/wp-content/uploads/2022/11/366274329_6416412175063075_2753096619981954415_n.jpg
END:VEVENT
BEGIN:VEVENT
DTSTART;TZID=America/Los_Angeles:20270824T200000
DTEND;TZID=America/Los_Angeles:20270824T200000
DTSTAMP:20260421T170916
CREATED:20221108T212949Z
LAST-MODIFIED:20260113T170338Z
UID:10124338-1819137600-1819137600@golatindance.com
SUMMARY:Salsa Tuesdays at The Lighthouse
DESCRIPTION:EVERY TUESDAY SALSA AND BACHATA. \nThe Salsa Land Night! Learn to dance Salsa & Bachata\, dance the night away! \nDance classes 8:00 – 9:30 pm\n9:30 pm Social Dancing with DJ Rico & DJ Andy Lorenzo.
URL:https://golatindance.com/event/salsa-tuesdays-at-the-lighthouse/2027-08-24/
LOCATION:The Lighthouse Cafe\, 30 Pier Ave\, Hermosa Beach\, CA\, 90254-3732\, United States
CATEGORIES:Los Angeles
ATTACH;FMTTYPE=image/jpeg:https://golatindance.com/wp-content/uploads/2022/11/366274329_6416412175063075_2753096619981954415_n.jpg
END:VEVENT
BEGIN:VEVENT
DTSTART;TZID=America/Los_Angeles:20270831T200000
DTEND;TZID=America/Los_Angeles:20270831T200000
DTSTAMP:20260421T170916
CREATED:20221108T212949Z
LAST-MODIFIED:20260113T170338Z
UID:10124339-1819742400-1819742400@golatindance.com
SUMMARY:Salsa Tuesdays at The Lighthouse
DESCRIPTION:EVERY TUESDAY SALSA AND BACHATA. \nThe Salsa Land Night! Learn to dance Salsa & Bachata\, dance the night away! \nDance classes 8:00 – 9:30 pm\n9:30 pm Social Dancing with DJ Rico & DJ Andy Lorenzo.
URL:https://golatindance.com/event/salsa-tuesdays-at-the-lighthouse/2027-08-31/
LOCATION:The Lighthouse Cafe\, 30 Pier Ave\, Hermosa Beach\, CA\, 90254-3732\, United States
CATEGORIES:Los Angeles
ATTACH;FMTTYPE=image/jpeg:https://golatindance.com/wp-content/uploads/2022/11/366274329_6416412175063075_2753096619981954415_n.jpg
END:VEVENT
BEGIN:VEVENT
DTSTART;TZID=America/Los_Angeles:20270907T200000
DTEND;TZID=America/Los_Angeles:20270907T200000
DTSTAMP:20260421T170916
CREATED:20221108T212949Z
LAST-MODIFIED:20260113T170338Z
UID:10124340-1820347200-1820347200@golatindance.com
SUMMARY:Salsa Tuesdays at The Lighthouse
DESCRIPTION:EVERY TUESDAY SALSA AND BACHATA. \nThe Salsa Land Night! Learn to dance Salsa & Bachata\, dance the night away! \nDance classes 8:00 – 9:30 pm\n9:30 pm Social Dancing with DJ Rico & DJ Andy Lorenzo.
URL:https://golatindance.com/event/salsa-tuesdays-at-the-lighthouse/2027-09-07/
LOCATION:The Lighthouse Cafe\, 30 Pier Ave\, Hermosa Beach\, CA\, 90254-3732\, United States
CATEGORIES:Los Angeles
ATTACH;FMTTYPE=image/jpeg:https://golatindance.com/wp-content/uploads/2022/11/366274329_6416412175063075_2753096619981954415_n.jpg
END:VEVENT
BEGIN:VEVENT
DTSTART;TZID=America/Los_Angeles:20270914T200000
DTEND;TZID=America/Los_Angeles:20270914T200000
DTSTAMP:20260421T170917
CREATED:20221108T212949Z
LAST-MODIFIED:20260113T170338Z
UID:10124341-1820952000-1820952000@golatindance.com
SUMMARY:Salsa Tuesdays at The Lighthouse
DESCRIPTION:EVERY TUESDAY SALSA AND BACHATA. \nThe Salsa Land Night! Learn to dance Salsa & Bachata\, dance the night away! \nDance classes 8:00 – 9:30 pm\n9:30 pm Social Dancing with DJ Rico & DJ Andy Lorenzo.
URL:https://golatindance.com/event/salsa-tuesdays-at-the-lighthouse/2027-09-14/
LOCATION:The Lighthouse Cafe\, 30 Pier Ave\, Hermosa Beach\, CA\, 90254-3732\, United States
CATEGORIES:Los Angeles
ATTACH;FMTTYPE=image/jpeg:https://golatindance.com/wp-content/uploads/2022/11/366274329_6416412175063075_2753096619981954415_n.jpg
END:VEVENT
BEGIN:VEVENT
DTSTART;TZID=America/Los_Angeles:20270921T200000
DTEND;TZID=America/Los_Angeles:20270921T200000
DTSTAMP:20260421T170917
CREATED:20221108T212949Z
LAST-MODIFIED:20260113T170338Z
UID:10124342-1821556800-1821556800@golatindance.com
SUMMARY:Salsa Tuesdays at The Lighthouse
DESCRIPTION:EVERY TUESDAY SALSA AND BACHATA. \nThe Salsa Land Night! Learn to dance Salsa & Bachata\, dance the night away! \nDance classes 8:00 – 9:30 pm\n9:30 pm Social Dancing with DJ Rico & DJ Andy Lorenzo.
URL:https://golatindance.com/event/salsa-tuesdays-at-the-lighthouse/2027-09-21/
LOCATION:The Lighthouse Cafe\, 30 Pier Ave\, Hermosa Beach\, CA\, 90254-3732\, United States
CATEGORIES:Los Angeles
ATTACH;FMTTYPE=image/jpeg:https://golatindance.com/wp-content/uploads/2022/11/366274329_6416412175063075_2753096619981954415_n.jpg
END:VEVENT
BEGIN:VEVENT
DTSTART;TZID=America/Los_Angeles:20270928T200000
DTEND;TZID=America/Los_Angeles:20270928T200000
DTSTAMP:20260421T170917
CREATED:20221108T212949Z
LAST-MODIFIED:20260113T170338Z
UID:10124343-1822161600-1822161600@golatindance.com
SUMMARY:Salsa Tuesdays at The Lighthouse
DESCRIPTION:EVERY TUESDAY SALSA AND BACHATA. \nThe Salsa Land Night! Learn to dance Salsa & Bachata\, dance the night away! \nDance classes 8:00 – 9:30 pm\n9:30 pm Social Dancing with DJ Rico & DJ Andy Lorenzo.
URL:https://golatindance.com/event/salsa-tuesdays-at-the-lighthouse/2027-09-28/
LOCATION:The Lighthouse Cafe\, 30 Pier Ave\, Hermosa Beach\, CA\, 90254-3732\, United States
CATEGORIES:Los Angeles
ATTACH;FMTTYPE=image/jpeg:https://golatindance.com/wp-content/uploads/2022/11/366274329_6416412175063075_2753096619981954415_n.jpg
END:VEVENT
BEGIN:VEVENT
DTSTART;TZID=America/Los_Angeles:20271005T200000
DTEND;TZID=America/Los_Angeles:20271005T200000
DTSTAMP:20260421T170917
CREATED:20221108T212949Z
LAST-MODIFIED:20260113T170338Z
UID:10124344-1822766400-1822766400@golatindance.com
SUMMARY:Salsa Tuesdays at The Lighthouse
DESCRIPTION:EVERY TUESDAY SALSA AND BACHATA. \nThe Salsa Land Night! Learn to dance Salsa & Bachata\, dance the night away! \nDance classes 8:00 – 9:30 pm\n9:30 pm Social Dancing with DJ Rico & DJ Andy Lorenzo.
URL:https://golatindance.com/event/salsa-tuesdays-at-the-lighthouse/2027-10-05/
LOCATION:The Lighthouse Cafe\, 30 Pier Ave\, Hermosa Beach\, CA\, 90254-3732\, United States
CATEGORIES:Los Angeles
ATTACH;FMTTYPE=image/jpeg:https://golatindance.com/wp-content/uploads/2022/11/366274329_6416412175063075_2753096619981954415_n.jpg
END:VEVENT
BEGIN:VEVENT
DTSTART;TZID=America/Los_Angeles:20271012T200000
DTEND;TZID=America/Los_Angeles:20271012T200000
DTSTAMP:20260421T170917
CREATED:20221108T212949Z
LAST-MODIFIED:20260113T170338Z
UID:10124345-1823371200-1823371200@golatindance.com
SUMMARY:Salsa Tuesdays at The Lighthouse
DESCRIPTION:EVERY TUESDAY SALSA AND BACHATA. \nThe Salsa Land Night! Learn to dance Salsa & Bachata\, dance the night away! \nDance classes 8:00 – 9:30 pm\n9:30 pm Social Dancing with DJ Rico & DJ Andy Lorenzo.
URL:https://golatindance.com/event/salsa-tuesdays-at-the-lighthouse/2027-10-12/
LOCATION:The Lighthouse Cafe\, 30 Pier Ave\, Hermosa Beach\, CA\, 90254-3732\, United States
CATEGORIES:Los Angeles
ATTACH;FMTTYPE=image/jpeg:https://golatindance.com/wp-content/uploads/2022/11/366274329_6416412175063075_2753096619981954415_n.jpg
END:VEVENT
BEGIN:VEVENT
DTSTART;TZID=America/Los_Angeles:20271019T200000
DTEND;TZID=America/Los_Angeles:20271019T200000
DTSTAMP:20260421T170917
CREATED:20221108T212949Z
LAST-MODIFIED:20260113T170338Z
UID:10124346-1823976000-1823976000@golatindance.com
SUMMARY:Salsa Tuesdays at The Lighthouse
DESCRIPTION:EVERY TUESDAY SALSA AND BACHATA. \nThe Salsa Land Night! Learn to dance Salsa & Bachata\, dance the night away! \nDance classes 8:00 – 9:30 pm\n9:30 pm Social Dancing with DJ Rico & DJ Andy Lorenzo.
URL:https://golatindance.com/event/salsa-tuesdays-at-the-lighthouse/2027-10-19/
LOCATION:The Lighthouse Cafe\, 30 Pier Ave\, Hermosa Beach\, CA\, 90254-3732\, United States
CATEGORIES:Los Angeles
ATTACH;FMTTYPE=image/jpeg:https://golatindance.com/wp-content/uploads/2022/11/366274329_6416412175063075_2753096619981954415_n.jpg
END:VEVENT
BEGIN:VEVENT
DTSTART;TZID=America/Los_Angeles:20271026T200000
DTEND;TZID=America/Los_Angeles:20271026T200000
DTSTAMP:20260421T170917
CREATED:20221108T212949Z
LAST-MODIFIED:20260113T170338Z
UID:10124347-1824580800-1824580800@golatindance.com
SUMMARY:Salsa Tuesdays at The Lighthouse
DESCRIPTION:EVERY TUESDAY SALSA AND BACHATA. \nThe Salsa Land Night! Learn to dance Salsa & Bachata\, dance the night away! \nDance classes 8:00 – 9:30 pm\n9:30 pm Social Dancing with DJ Rico & DJ Andy Lorenzo.
URL:https://golatindance.com/event/salsa-tuesdays-at-the-lighthouse/2027-10-26/
LOCATION:The Lighthouse Cafe\, 30 Pier Ave\, Hermosa Beach\, CA\, 90254-3732\, United States
CATEGORIES:Los Angeles
ATTACH;FMTTYPE=image/jpeg:https://golatindance.com/wp-content/uploads/2022/11/366274329_6416412175063075_2753096619981954415_n.jpg
END:VEVENT
END:VCALENDAR