BEGIN:VCALENDAR
VERSION:2.0
PRODID:-//GO Latin Dance - ECPv6.15.18//NONSGML v1.0//EN
CALSCALE:GREGORIAN
METHOD:PUBLISH
X-WR-CALNAME:GO Latin Dance
X-ORIGINAL-URL:https://golatindance.com
X-WR-CALDESC:Events for GO Latin Dance
REFRESH-INTERVAL;VALUE=DURATION:PT1H
X-Robots-Tag:noindex
X-PUBLISHED-TTL:PT1H
BEGIN:VTIMEZONE
TZID:America/Los_Angeles
BEGIN:DAYLIGHT
TZOFFSETFROM:-0800
TZOFFSETTO:-0700
TZNAME:PDT
DTSTART:20260308T100000
END:DAYLIGHT
BEGIN:STANDARD
TZOFFSETFROM:-0700
TZOFFSETTO:-0800
TZNAME:PST
DTSTART:20261101T090000
END:STANDARD
BEGIN:DAYLIGHT
TZOFFSETFROM:-0800
TZOFFSETTO:-0700
TZNAME:PDT
DTSTART:20270314T100000
END:DAYLIGHT
BEGIN:STANDARD
TZOFFSETFROM:-0700
TZOFFSETTO:-0800
TZNAME:PST
DTSTART:20271107T090000
END:STANDARD
BEGIN:DAYLIGHT
TZOFFSETFROM:-0800
TZOFFSETTO:-0700
TZNAME:PDT
DTSTART:20280312T100000
END:DAYLIGHT
BEGIN:STANDARD
TZOFFSETFROM:-0700
TZOFFSETTO:-0800
TZNAME:PST
DTSTART:20281105T090000
END:STANDARD
BEGIN:DAYLIGHT
TZOFFSETFROM:-0800
TZOFFSETTO:-0700
TZNAME:PDT
DTSTART:20290311T100000
END:DAYLIGHT
BEGIN:STANDARD
TZOFFSETFROM:-0700
TZOFFSETTO:-0800
TZNAME:PST
DTSTART:20291104T090000
END:STANDARD
END:VTIMEZONE
BEGIN:VEVENT
DTSTART;TZID=America/Los_Angeles:20271109T200000
DTEND;TZID=America/Los_Angeles:20271109T200000
DTSTAMP:20260421T212939
CREATED:20221108T212949Z
LAST-MODIFIED:20260113T170338Z
UID:10124349-1825790400-1825790400@golatindance.com
SUMMARY:Salsa Tuesdays at The Lighthouse
DESCRIPTION:EVERY TUESDAY SALSA AND BACHATA. \nThe Salsa Land Night! Learn to dance Salsa & Bachata\, dance the night away! \nDance classes 8:00 – 9:30 pm\n9:30 pm Social Dancing with DJ Rico & DJ Andy Lorenzo.
URL:https://golatindance.com/event/salsa-tuesdays-at-the-lighthouse/2027-11-09/
LOCATION:The Lighthouse Cafe\, 30 Pier Ave\, Hermosa Beach\, CA\, 90254-3732\, United States
CATEGORIES:Los Angeles
ATTACH;FMTTYPE=image/jpeg:https://golatindance.com/wp-content/uploads/2022/11/366274329_6416412175063075_2753096619981954415_n.jpg
END:VEVENT
BEGIN:VEVENT
DTSTART;TZID=America/Los_Angeles:20271116T200000
DTEND;TZID=America/Los_Angeles:20271116T200000
DTSTAMP:20260421T212939
CREATED:20221108T212949Z
LAST-MODIFIED:20260113T170338Z
UID:10124350-1826395200-1826395200@golatindance.com
SUMMARY:Salsa Tuesdays at The Lighthouse
DESCRIPTION:EVERY TUESDAY SALSA AND BACHATA. \nThe Salsa Land Night! Learn to dance Salsa & Bachata\, dance the night away! \nDance classes 8:00 – 9:30 pm\n9:30 pm Social Dancing with DJ Rico & DJ Andy Lorenzo.
URL:https://golatindance.com/event/salsa-tuesdays-at-the-lighthouse/2027-11-16/
LOCATION:The Lighthouse Cafe\, 30 Pier Ave\, Hermosa Beach\, CA\, 90254-3732\, United States
CATEGORIES:Los Angeles
ATTACH;FMTTYPE=image/jpeg:https://golatindance.com/wp-content/uploads/2022/11/366274329_6416412175063075_2753096619981954415_n.jpg
END:VEVENT
BEGIN:VEVENT
DTSTART;TZID=America/Los_Angeles:20271123T200000
DTEND;TZID=America/Los_Angeles:20271123T200000
DTSTAMP:20260421T212939
CREATED:20221108T212949Z
LAST-MODIFIED:20260113T170338Z
UID:10124351-1827000000-1827000000@golatindance.com
SUMMARY:Salsa Tuesdays at The Lighthouse
DESCRIPTION:EVERY TUESDAY SALSA AND BACHATA. \nThe Salsa Land Night! Learn to dance Salsa & Bachata\, dance the night away! \nDance classes 8:00 – 9:30 pm\n9:30 pm Social Dancing with DJ Rico & DJ Andy Lorenzo.
URL:https://golatindance.com/event/salsa-tuesdays-at-the-lighthouse/2027-11-23/
LOCATION:The Lighthouse Cafe\, 30 Pier Ave\, Hermosa Beach\, CA\, 90254-3732\, United States
CATEGORIES:Los Angeles
ATTACH;FMTTYPE=image/jpeg:https://golatindance.com/wp-content/uploads/2022/11/366274329_6416412175063075_2753096619981954415_n.jpg
END:VEVENT
BEGIN:VEVENT
DTSTART;TZID=America/Los_Angeles:20271130T200000
DTEND;TZID=America/Los_Angeles:20271130T200000
DTSTAMP:20260421T212939
CREATED:20221108T212949Z
LAST-MODIFIED:20260113T170338Z
UID:10124352-1827604800-1827604800@golatindance.com
SUMMARY:Salsa Tuesdays at The Lighthouse
DESCRIPTION:EVERY TUESDAY SALSA AND BACHATA. \nThe Salsa Land Night! Learn to dance Salsa & Bachata\, dance the night away! \nDance classes 8:00 – 9:30 pm\n9:30 pm Social Dancing with DJ Rico & DJ Andy Lorenzo.
URL:https://golatindance.com/event/salsa-tuesdays-at-the-lighthouse/2027-11-30/
LOCATION:The Lighthouse Cafe\, 30 Pier Ave\, Hermosa Beach\, CA\, 90254-3732\, United States
CATEGORIES:Los Angeles
ATTACH;FMTTYPE=image/jpeg:https://golatindance.com/wp-content/uploads/2022/11/366274329_6416412175063075_2753096619981954415_n.jpg
END:VEVENT
BEGIN:VEVENT
DTSTART;TZID=America/Los_Angeles:20271207T200000
DTEND;TZID=America/Los_Angeles:20271207T200000
DTSTAMP:20260421T212939
CREATED:20221108T212949Z
LAST-MODIFIED:20260113T170338Z
UID:10124353-1828209600-1828209600@golatindance.com
SUMMARY:Salsa Tuesdays at The Lighthouse
DESCRIPTION:EVERY TUESDAY SALSA AND BACHATA. \nThe Salsa Land Night! Learn to dance Salsa & Bachata\, dance the night away! \nDance classes 8:00 – 9:30 pm\n9:30 pm Social Dancing with DJ Rico & DJ Andy Lorenzo.
URL:https://golatindance.com/event/salsa-tuesdays-at-the-lighthouse/2027-12-07/
LOCATION:The Lighthouse Cafe\, 30 Pier Ave\, Hermosa Beach\, CA\, 90254-3732\, United States
CATEGORIES:Los Angeles
ATTACH;FMTTYPE=image/jpeg:https://golatindance.com/wp-content/uploads/2022/11/366274329_6416412175063075_2753096619981954415_n.jpg
END:VEVENT
BEGIN:VEVENT
DTSTART;TZID=America/Los_Angeles:20271214T200000
DTEND;TZID=America/Los_Angeles:20271214T200000
DTSTAMP:20260421T212939
CREATED:20221108T212949Z
LAST-MODIFIED:20260113T170338Z
UID:10124354-1828814400-1828814400@golatindance.com
SUMMARY:Salsa Tuesdays at The Lighthouse
DESCRIPTION:EVERY TUESDAY SALSA AND BACHATA. \nThe Salsa Land Night! Learn to dance Salsa & Bachata\, dance the night away! \nDance classes 8:00 – 9:30 pm\n9:30 pm Social Dancing with DJ Rico & DJ Andy Lorenzo.
URL:https://golatindance.com/event/salsa-tuesdays-at-the-lighthouse/2027-12-14/
LOCATION:The Lighthouse Cafe\, 30 Pier Ave\, Hermosa Beach\, CA\, 90254-3732\, United States
CATEGORIES:Los Angeles
ATTACH;FMTTYPE=image/jpeg:https://golatindance.com/wp-content/uploads/2022/11/366274329_6416412175063075_2753096619981954415_n.jpg
END:VEVENT
BEGIN:VEVENT
DTSTART;TZID=America/Los_Angeles:20271221T200000
DTEND;TZID=America/Los_Angeles:20271221T200000
DTSTAMP:20260421T212939
CREATED:20221108T212949Z
LAST-MODIFIED:20260113T170338Z
UID:10124355-1829419200-1829419200@golatindance.com
SUMMARY:Salsa Tuesdays at The Lighthouse
DESCRIPTION:EVERY TUESDAY SALSA AND BACHATA. \nThe Salsa Land Night! Learn to dance Salsa & Bachata\, dance the night away! \nDance classes 8:00 – 9:30 pm\n9:30 pm Social Dancing with DJ Rico & DJ Andy Lorenzo.
URL:https://golatindance.com/event/salsa-tuesdays-at-the-lighthouse/2027-12-21/
LOCATION:The Lighthouse Cafe\, 30 Pier Ave\, Hermosa Beach\, CA\, 90254-3732\, United States
CATEGORIES:Los Angeles
ATTACH;FMTTYPE=image/jpeg:https://golatindance.com/wp-content/uploads/2022/11/366274329_6416412175063075_2753096619981954415_n.jpg
END:VEVENT
BEGIN:VEVENT
DTSTART;TZID=America/Los_Angeles:20271228T200000
DTEND;TZID=America/Los_Angeles:20271228T200000
DTSTAMP:20260421T212939
CREATED:20221108T212949Z
LAST-MODIFIED:20260113T170338Z
UID:10124356-1830024000-1830024000@golatindance.com
SUMMARY:Salsa Tuesdays at The Lighthouse
DESCRIPTION:EVERY TUESDAY SALSA AND BACHATA. \nThe Salsa Land Night! Learn to dance Salsa & Bachata\, dance the night away! \nDance classes 8:00 – 9:30 pm\n9:30 pm Social Dancing with DJ Rico & DJ Andy Lorenzo.
URL:https://golatindance.com/event/salsa-tuesdays-at-the-lighthouse/2027-12-28/
LOCATION:The Lighthouse Cafe\, 30 Pier Ave\, Hermosa Beach\, CA\, 90254-3732\, United States
CATEGORIES:Los Angeles
ATTACH;FMTTYPE=image/jpeg:https://golatindance.com/wp-content/uploads/2022/11/366274329_6416412175063075_2753096619981954415_n.jpg
END:VEVENT
BEGIN:VEVENT
DTSTART;TZID=America/Los_Angeles:20280104T200000
DTEND;TZID=America/Los_Angeles:20280104T200000
DTSTAMP:20260421T212939
CREATED:20221108T212949Z
LAST-MODIFIED:20260113T170338Z
UID:10124357-1830628800-1830628800@golatindance.com
SUMMARY:Salsa Tuesdays at The Lighthouse
DESCRIPTION:EVERY TUESDAY SALSA AND BACHATA. \nThe Salsa Land Night! Learn to dance Salsa & Bachata\, dance the night away! \nDance classes 8:00 – 9:30 pm\n9:30 pm Social Dancing with DJ Rico & DJ Andy Lorenzo.
URL:https://golatindance.com/event/salsa-tuesdays-at-the-lighthouse/2028-01-04/
LOCATION:The Lighthouse Cafe\, 30 Pier Ave\, Hermosa Beach\, CA\, 90254-3732\, United States
CATEGORIES:Los Angeles
ATTACH;FMTTYPE=image/jpeg:https://golatindance.com/wp-content/uploads/2022/11/366274329_6416412175063075_2753096619981954415_n.jpg
END:VEVENT
BEGIN:VEVENT
DTSTART;TZID=America/Los_Angeles:20280111T200000
DTEND;TZID=America/Los_Angeles:20280111T200000
DTSTAMP:20260421T212939
CREATED:20221108T212949Z
LAST-MODIFIED:20260113T170338Z
UID:10124358-1831233600-1831233600@golatindance.com
SUMMARY:Salsa Tuesdays at The Lighthouse
DESCRIPTION:EVERY TUESDAY SALSA AND BACHATA. \nThe Salsa Land Night! Learn to dance Salsa & Bachata\, dance the night away! \nDance classes 8:00 – 9:30 pm\n9:30 pm Social Dancing with DJ Rico & DJ Andy Lorenzo.
URL:https://golatindance.com/event/salsa-tuesdays-at-the-lighthouse/2028-01-11/
LOCATION:The Lighthouse Cafe\, 30 Pier Ave\, Hermosa Beach\, CA\, 90254-3732\, United States
CATEGORIES:Los Angeles
ATTACH;FMTTYPE=image/jpeg:https://golatindance.com/wp-content/uploads/2022/11/366274329_6416412175063075_2753096619981954415_n.jpg
END:VEVENT
BEGIN:VEVENT
DTSTART;TZID=America/Los_Angeles:20280118T200000
DTEND;TZID=America/Los_Angeles:20280118T200000
DTSTAMP:20260421T212939
CREATED:20221108T212949Z
LAST-MODIFIED:20260113T170338Z
UID:10124359-1831838400-1831838400@golatindance.com
SUMMARY:Salsa Tuesdays at The Lighthouse
DESCRIPTION:EVERY TUESDAY SALSA AND BACHATA. \nThe Salsa Land Night! Learn to dance Salsa & Bachata\, dance the night away! \nDance classes 8:00 – 9:30 pm\n9:30 pm Social Dancing with DJ Rico & DJ Andy Lorenzo.
URL:https://golatindance.com/event/salsa-tuesdays-at-the-lighthouse/2028-01-18/
LOCATION:The Lighthouse Cafe\, 30 Pier Ave\, Hermosa Beach\, CA\, 90254-3732\, United States
CATEGORIES:Los Angeles
ATTACH;FMTTYPE=image/jpeg:https://golatindance.com/wp-content/uploads/2022/11/366274329_6416412175063075_2753096619981954415_n.jpg
END:VEVENT
BEGIN:VEVENT
DTSTART;TZID=America/Los_Angeles:20280125T200000
DTEND;TZID=America/Los_Angeles:20280125T200000
DTSTAMP:20260421T212939
CREATED:20221108T212949Z
LAST-MODIFIED:20260113T170338Z
UID:10124360-1832443200-1832443200@golatindance.com
SUMMARY:Salsa Tuesdays at The Lighthouse
DESCRIPTION:EVERY TUESDAY SALSA AND BACHATA. \nThe Salsa Land Night! Learn to dance Salsa & Bachata\, dance the night away! \nDance classes 8:00 – 9:30 pm\n9:30 pm Social Dancing with DJ Rico & DJ Andy Lorenzo.
URL:https://golatindance.com/event/salsa-tuesdays-at-the-lighthouse/2028-01-25/
LOCATION:The Lighthouse Cafe\, 30 Pier Ave\, Hermosa Beach\, CA\, 90254-3732\, United States
CATEGORIES:Los Angeles
ATTACH;FMTTYPE=image/jpeg:https://golatindance.com/wp-content/uploads/2022/11/366274329_6416412175063075_2753096619981954415_n.jpg
END:VEVENT
BEGIN:VEVENT
DTSTART;TZID=America/Los_Angeles:20280201T200000
DTEND;TZID=America/Los_Angeles:20280201T200000
DTSTAMP:20260421T212939
CREATED:20221108T212949Z
LAST-MODIFIED:20260113T170338Z
UID:10124361-1833048000-1833048000@golatindance.com
SUMMARY:Salsa Tuesdays at The Lighthouse
DESCRIPTION:EVERY TUESDAY SALSA AND BACHATA. \nThe Salsa Land Night! Learn to dance Salsa & Bachata\, dance the night away! \nDance classes 8:00 – 9:30 pm\n9:30 pm Social Dancing with DJ Rico & DJ Andy Lorenzo.
URL:https://golatindance.com/event/salsa-tuesdays-at-the-lighthouse/2028-02-01/
LOCATION:The Lighthouse Cafe\, 30 Pier Ave\, Hermosa Beach\, CA\, 90254-3732\, United States
CATEGORIES:Los Angeles
ATTACH;FMTTYPE=image/jpeg:https://golatindance.com/wp-content/uploads/2022/11/366274329_6416412175063075_2753096619981954415_n.jpg
END:VEVENT
BEGIN:VEVENT
DTSTART;TZID=America/Los_Angeles:20280208T200000
DTEND;TZID=America/Los_Angeles:20280208T200000
DTSTAMP:20260421T212939
CREATED:20221108T212949Z
LAST-MODIFIED:20260113T170338Z
UID:10124362-1833652800-1833652800@golatindance.com
SUMMARY:Salsa Tuesdays at The Lighthouse
DESCRIPTION:EVERY TUESDAY SALSA AND BACHATA. \nThe Salsa Land Night! Learn to dance Salsa & Bachata\, dance the night away! \nDance classes 8:00 – 9:30 pm\n9:30 pm Social Dancing with DJ Rico & DJ Andy Lorenzo.
URL:https://golatindance.com/event/salsa-tuesdays-at-the-lighthouse/2028-02-08/
LOCATION:The Lighthouse Cafe\, 30 Pier Ave\, Hermosa Beach\, CA\, 90254-3732\, United States
CATEGORIES:Los Angeles
ATTACH;FMTTYPE=image/jpeg:https://golatindance.com/wp-content/uploads/2022/11/366274329_6416412175063075_2753096619981954415_n.jpg
END:VEVENT
BEGIN:VEVENT
DTSTART;TZID=America/Los_Angeles:20280215T200000
DTEND;TZID=America/Los_Angeles:20280215T200000
DTSTAMP:20260421T212939
CREATED:20221108T212949Z
LAST-MODIFIED:20260113T170338Z
UID:10124363-1834257600-1834257600@golatindance.com
SUMMARY:Salsa Tuesdays at The Lighthouse
DESCRIPTION:EVERY TUESDAY SALSA AND BACHATA. \nThe Salsa Land Night! Learn to dance Salsa & Bachata\, dance the night away! \nDance classes 8:00 – 9:30 pm\n9:30 pm Social Dancing with DJ Rico & DJ Andy Lorenzo.
URL:https://golatindance.com/event/salsa-tuesdays-at-the-lighthouse/2028-02-15/
LOCATION:The Lighthouse Cafe\, 30 Pier Ave\, Hermosa Beach\, CA\, 90254-3732\, United States
CATEGORIES:Los Angeles
ATTACH;FMTTYPE=image/jpeg:https://golatindance.com/wp-content/uploads/2022/11/366274329_6416412175063075_2753096619981954415_n.jpg
END:VEVENT
BEGIN:VEVENT
DTSTART;TZID=America/Los_Angeles:20280222T200000
DTEND;TZID=America/Los_Angeles:20280222T200000
DTSTAMP:20260421T212939
CREATED:20221108T212949Z
LAST-MODIFIED:20260113T170338Z
UID:10124364-1834862400-1834862400@golatindance.com
SUMMARY:Salsa Tuesdays at The Lighthouse
DESCRIPTION:EVERY TUESDAY SALSA AND BACHATA. \nThe Salsa Land Night! Learn to dance Salsa & Bachata\, dance the night away! \nDance classes 8:00 – 9:30 pm\n9:30 pm Social Dancing with DJ Rico & DJ Andy Lorenzo.
URL:https://golatindance.com/event/salsa-tuesdays-at-the-lighthouse/2028-02-22/
LOCATION:The Lighthouse Cafe\, 30 Pier Ave\, Hermosa Beach\, CA\, 90254-3732\, United States
CATEGORIES:Los Angeles
ATTACH;FMTTYPE=image/jpeg:https://golatindance.com/wp-content/uploads/2022/11/366274329_6416412175063075_2753096619981954415_n.jpg
END:VEVENT
BEGIN:VEVENT
DTSTART;TZID=America/Los_Angeles:20280229T200000
DTEND;TZID=America/Los_Angeles:20280229T200000
DTSTAMP:20260421T212939
CREATED:20221108T212949Z
LAST-MODIFIED:20260113T170338Z
UID:10124365-1835467200-1835467200@golatindance.com
SUMMARY:Salsa Tuesdays at The Lighthouse
DESCRIPTION:EVERY TUESDAY SALSA AND BACHATA. \nThe Salsa Land Night! Learn to dance Salsa & Bachata\, dance the night away! \nDance classes 8:00 – 9:30 pm\n9:30 pm Social Dancing with DJ Rico & DJ Andy Lorenzo.
URL:https://golatindance.com/event/salsa-tuesdays-at-the-lighthouse/2028-02-29/
LOCATION:The Lighthouse Cafe\, 30 Pier Ave\, Hermosa Beach\, CA\, 90254-3732\, United States
CATEGORIES:Los Angeles
ATTACH;FMTTYPE=image/jpeg:https://golatindance.com/wp-content/uploads/2022/11/366274329_6416412175063075_2753096619981954415_n.jpg
END:VEVENT
BEGIN:VEVENT
DTSTART;TZID=America/Los_Angeles:20280307T200000
DTEND;TZID=America/Los_Angeles:20280307T200000
DTSTAMP:20260421T212939
CREATED:20221108T212949Z
LAST-MODIFIED:20260113T170338Z
UID:10124366-1836072000-1836072000@golatindance.com
SUMMARY:Salsa Tuesdays at The Lighthouse
DESCRIPTION:EVERY TUESDAY SALSA AND BACHATA. \nThe Salsa Land Night! Learn to dance Salsa & Bachata\, dance the night away! \nDance classes 8:00 – 9:30 pm\n9:30 pm Social Dancing with DJ Rico & DJ Andy Lorenzo.
URL:https://golatindance.com/event/salsa-tuesdays-at-the-lighthouse/2028-03-07/
LOCATION:The Lighthouse Cafe\, 30 Pier Ave\, Hermosa Beach\, CA\, 90254-3732\, United States
CATEGORIES:Los Angeles
ATTACH;FMTTYPE=image/jpeg:https://golatindance.com/wp-content/uploads/2022/11/366274329_6416412175063075_2753096619981954415_n.jpg
END:VEVENT
BEGIN:VEVENT
DTSTART;TZID=America/Los_Angeles:20280314T200000
DTEND;TZID=America/Los_Angeles:20280314T200000
DTSTAMP:20260421T212939
CREATED:20221108T212949Z
LAST-MODIFIED:20260113T170338Z
UID:10124367-1836676800-1836676800@golatindance.com
SUMMARY:Salsa Tuesdays at The Lighthouse
DESCRIPTION:EVERY TUESDAY SALSA AND BACHATA. \nThe Salsa Land Night! Learn to dance Salsa & Bachata\, dance the night away! \nDance classes 8:00 – 9:30 pm\n9:30 pm Social Dancing with DJ Rico & DJ Andy Lorenzo.
URL:https://golatindance.com/event/salsa-tuesdays-at-the-lighthouse/2028-03-14/
LOCATION:The Lighthouse Cafe\, 30 Pier Ave\, Hermosa Beach\, CA\, 90254-3732\, United States
CATEGORIES:Los Angeles
ATTACH;FMTTYPE=image/jpeg:https://golatindance.com/wp-content/uploads/2022/11/366274329_6416412175063075_2753096619981954415_n.jpg
END:VEVENT
BEGIN:VEVENT
DTSTART;TZID=America/Los_Angeles:20280321T200000
DTEND;TZID=America/Los_Angeles:20280321T200000
DTSTAMP:20260421T212939
CREATED:20221108T212949Z
LAST-MODIFIED:20260113T170338Z
UID:10124368-1837281600-1837281600@golatindance.com
SUMMARY:Salsa Tuesdays at The Lighthouse
DESCRIPTION:EVERY TUESDAY SALSA AND BACHATA. \nThe Salsa Land Night! Learn to dance Salsa & Bachata\, dance the night away! \nDance classes 8:00 – 9:30 pm\n9:30 pm Social Dancing with DJ Rico & DJ Andy Lorenzo.
URL:https://golatindance.com/event/salsa-tuesdays-at-the-lighthouse/2028-03-21/
LOCATION:The Lighthouse Cafe\, 30 Pier Ave\, Hermosa Beach\, CA\, 90254-3732\, United States
CATEGORIES:Los Angeles
ATTACH;FMTTYPE=image/jpeg:https://golatindance.com/wp-content/uploads/2022/11/366274329_6416412175063075_2753096619981954415_n.jpg
END:VEVENT
BEGIN:VEVENT
DTSTART;TZID=America/Los_Angeles:20280328T200000
DTEND;TZID=America/Los_Angeles:20280328T200000
DTSTAMP:20260421T212939
CREATED:20221108T212949Z
LAST-MODIFIED:20260113T170338Z
UID:10124369-1837886400-1837886400@golatindance.com
SUMMARY:Salsa Tuesdays at The Lighthouse
DESCRIPTION:EVERY TUESDAY SALSA AND BACHATA. \nThe Salsa Land Night! Learn to dance Salsa & Bachata\, dance the night away! \nDance classes 8:00 – 9:30 pm\n9:30 pm Social Dancing with DJ Rico & DJ Andy Lorenzo.
URL:https://golatindance.com/event/salsa-tuesdays-at-the-lighthouse/2028-03-28/
LOCATION:The Lighthouse Cafe\, 30 Pier Ave\, Hermosa Beach\, CA\, 90254-3732\, United States
CATEGORIES:Los Angeles
ATTACH;FMTTYPE=image/jpeg:https://golatindance.com/wp-content/uploads/2022/11/366274329_6416412175063075_2753096619981954415_n.jpg
END:VEVENT
BEGIN:VEVENT
DTSTART;TZID=America/Los_Angeles:20280404T200000
DTEND;TZID=America/Los_Angeles:20280404T200000
DTSTAMP:20260421T212939
CREATED:20221108T212949Z
LAST-MODIFIED:20260113T170338Z
UID:10124370-1838491200-1838491200@golatindance.com
SUMMARY:Salsa Tuesdays at The Lighthouse
DESCRIPTION:EVERY TUESDAY SALSA AND BACHATA. \nThe Salsa Land Night! Learn to dance Salsa & Bachata\, dance the night away! \nDance classes 8:00 – 9:30 pm\n9:30 pm Social Dancing with DJ Rico & DJ Andy Lorenzo.
URL:https://golatindance.com/event/salsa-tuesdays-at-the-lighthouse/2028-04-04/
LOCATION:The Lighthouse Cafe\, 30 Pier Ave\, Hermosa Beach\, CA\, 90254-3732\, United States
CATEGORIES:Los Angeles
ATTACH;FMTTYPE=image/jpeg:https://golatindance.com/wp-content/uploads/2022/11/366274329_6416412175063075_2753096619981954415_n.jpg
END:VEVENT
BEGIN:VEVENT
DTSTART;TZID=America/Los_Angeles:20280411T200000
DTEND;TZID=America/Los_Angeles:20280411T200000
DTSTAMP:20260421T212939
CREATED:20221108T212949Z
LAST-MODIFIED:20260113T170338Z
UID:10124371-1839096000-1839096000@golatindance.com
SUMMARY:Salsa Tuesdays at The Lighthouse
DESCRIPTION:EVERY TUESDAY SALSA AND BACHATA. \nThe Salsa Land Night! Learn to dance Salsa & Bachata\, dance the night away! \nDance classes 8:00 – 9:30 pm\n9:30 pm Social Dancing with DJ Rico & DJ Andy Lorenzo.
URL:https://golatindance.com/event/salsa-tuesdays-at-the-lighthouse/2028-04-11/
LOCATION:The Lighthouse Cafe\, 30 Pier Ave\, Hermosa Beach\, CA\, 90254-3732\, United States
CATEGORIES:Los Angeles
ATTACH;FMTTYPE=image/jpeg:https://golatindance.com/wp-content/uploads/2022/11/366274329_6416412175063075_2753096619981954415_n.jpg
END:VEVENT
BEGIN:VEVENT
DTSTART;TZID=America/Los_Angeles:20280418T200000
DTEND;TZID=America/Los_Angeles:20280418T200000
DTSTAMP:20260421T212939
CREATED:20221108T212949Z
LAST-MODIFIED:20260113T170338Z
UID:10124372-1839700800-1839700800@golatindance.com
SUMMARY:Salsa Tuesdays at The Lighthouse
DESCRIPTION:EVERY TUESDAY SALSA AND BACHATA. \nThe Salsa Land Night! Learn to dance Salsa & Bachata\, dance the night away! \nDance classes 8:00 – 9:30 pm\n9:30 pm Social Dancing with DJ Rico & DJ Andy Lorenzo.
URL:https://golatindance.com/event/salsa-tuesdays-at-the-lighthouse/2028-04-18/
LOCATION:The Lighthouse Cafe\, 30 Pier Ave\, Hermosa Beach\, CA\, 90254-3732\, United States
CATEGORIES:Los Angeles
ATTACH;FMTTYPE=image/jpeg:https://golatindance.com/wp-content/uploads/2022/11/366274329_6416412175063075_2753096619981954415_n.jpg
END:VEVENT
BEGIN:VEVENT
DTSTART;TZID=America/Los_Angeles:20280425T200000
DTEND;TZID=America/Los_Angeles:20280425T200000
DTSTAMP:20260421T212939
CREATED:20221108T212949Z
LAST-MODIFIED:20260113T170338Z
UID:10124373-1840305600-1840305600@golatindance.com
SUMMARY:Salsa Tuesdays at The Lighthouse
DESCRIPTION:EVERY TUESDAY SALSA AND BACHATA. \nThe Salsa Land Night! Learn to dance Salsa & Bachata\, dance the night away! \nDance classes 8:00 – 9:30 pm\n9:30 pm Social Dancing with DJ Rico & DJ Andy Lorenzo.
URL:https://golatindance.com/event/salsa-tuesdays-at-the-lighthouse/2028-04-25/
LOCATION:The Lighthouse Cafe\, 30 Pier Ave\, Hermosa Beach\, CA\, 90254-3732\, United States
CATEGORIES:Los Angeles
ATTACH;FMTTYPE=image/jpeg:https://golatindance.com/wp-content/uploads/2022/11/366274329_6416412175063075_2753096619981954415_n.jpg
END:VEVENT
BEGIN:VEVENT
DTSTART;TZID=America/Los_Angeles:20280502T200000
DTEND;TZID=America/Los_Angeles:20280502T200000
DTSTAMP:20260421T212939
CREATED:20221108T212949Z
LAST-MODIFIED:20260113T170338Z
UID:10124374-1840910400-1840910400@golatindance.com
SUMMARY:Salsa Tuesdays at The Lighthouse
DESCRIPTION:EVERY TUESDAY SALSA AND BACHATA. \nThe Salsa Land Night! Learn to dance Salsa & Bachata\, dance the night away! \nDance classes 8:00 – 9:30 pm\n9:30 pm Social Dancing with DJ Rico & DJ Andy Lorenzo.
URL:https://golatindance.com/event/salsa-tuesdays-at-the-lighthouse/2028-05-02/
LOCATION:The Lighthouse Cafe\, 30 Pier Ave\, Hermosa Beach\, CA\, 90254-3732\, United States
CATEGORIES:Los Angeles
ATTACH;FMTTYPE=image/jpeg:https://golatindance.com/wp-content/uploads/2022/11/366274329_6416412175063075_2753096619981954415_n.jpg
END:VEVENT
BEGIN:VEVENT
DTSTART;TZID=America/Los_Angeles:20280509T200000
DTEND;TZID=America/Los_Angeles:20280509T200000
DTSTAMP:20260421T212939
CREATED:20221108T212949Z
LAST-MODIFIED:20260113T170338Z
UID:10124375-1841515200-1841515200@golatindance.com
SUMMARY:Salsa Tuesdays at The Lighthouse
DESCRIPTION:EVERY TUESDAY SALSA AND BACHATA. \nThe Salsa Land Night! Learn to dance Salsa & Bachata\, dance the night away! \nDance classes 8:00 – 9:30 pm\n9:30 pm Social Dancing with DJ Rico & DJ Andy Lorenzo.
URL:https://golatindance.com/event/salsa-tuesdays-at-the-lighthouse/2028-05-09/
LOCATION:The Lighthouse Cafe\, 30 Pier Ave\, Hermosa Beach\, CA\, 90254-3732\, United States
CATEGORIES:Los Angeles
ATTACH;FMTTYPE=image/jpeg:https://golatindance.com/wp-content/uploads/2022/11/366274329_6416412175063075_2753096619981954415_n.jpg
END:VEVENT
BEGIN:VEVENT
DTSTART;TZID=America/Los_Angeles:20280516T200000
DTEND;TZID=America/Los_Angeles:20280516T200000
DTSTAMP:20260421T212939
CREATED:20221108T212949Z
LAST-MODIFIED:20260113T170338Z
UID:10124376-1842120000-1842120000@golatindance.com
SUMMARY:Salsa Tuesdays at The Lighthouse
DESCRIPTION:EVERY TUESDAY SALSA AND BACHATA. \nThe Salsa Land Night! Learn to dance Salsa & Bachata\, dance the night away! \nDance classes 8:00 – 9:30 pm\n9:30 pm Social Dancing with DJ Rico & DJ Andy Lorenzo.
URL:https://golatindance.com/event/salsa-tuesdays-at-the-lighthouse/2028-05-16/
LOCATION:The Lighthouse Cafe\, 30 Pier Ave\, Hermosa Beach\, CA\, 90254-3732\, United States
CATEGORIES:Los Angeles
ATTACH;FMTTYPE=image/jpeg:https://golatindance.com/wp-content/uploads/2022/11/366274329_6416412175063075_2753096619981954415_n.jpg
END:VEVENT
BEGIN:VEVENT
DTSTART;TZID=America/Los_Angeles:20280523T200000
DTEND;TZID=America/Los_Angeles:20280523T200000
DTSTAMP:20260421T212939
CREATED:20221108T212949Z
LAST-MODIFIED:20260113T170338Z
UID:10124377-1842724800-1842724800@golatindance.com
SUMMARY:Salsa Tuesdays at The Lighthouse
DESCRIPTION:EVERY TUESDAY SALSA AND BACHATA. \nThe Salsa Land Night! Learn to dance Salsa & Bachata\, dance the night away! \nDance classes 8:00 – 9:30 pm\n9:30 pm Social Dancing with DJ Rico & DJ Andy Lorenzo.
URL:https://golatindance.com/event/salsa-tuesdays-at-the-lighthouse/2028-05-23/
LOCATION:The Lighthouse Cafe\, 30 Pier Ave\, Hermosa Beach\, CA\, 90254-3732\, United States
CATEGORIES:Los Angeles
ATTACH;FMTTYPE=image/jpeg:https://golatindance.com/wp-content/uploads/2022/11/366274329_6416412175063075_2753096619981954415_n.jpg
END:VEVENT
BEGIN:VEVENT
DTSTART;TZID=America/Los_Angeles:20280530T200000
DTEND;TZID=America/Los_Angeles:20280530T200000
DTSTAMP:20260421T212939
CREATED:20221108T212949Z
LAST-MODIFIED:20260113T170338Z
UID:10124378-1843329600-1843329600@golatindance.com
SUMMARY:Salsa Tuesdays at The Lighthouse
DESCRIPTION:EVERY TUESDAY SALSA AND BACHATA. \nThe Salsa Land Night! Learn to dance Salsa & Bachata\, dance the night away! \nDance classes 8:00 – 9:30 pm\n9:30 pm Social Dancing with DJ Rico & DJ Andy Lorenzo.
URL:https://golatindance.com/event/salsa-tuesdays-at-the-lighthouse/2028-05-30/
LOCATION:The Lighthouse Cafe\, 30 Pier Ave\, Hermosa Beach\, CA\, 90254-3732\, United States
CATEGORIES:Los Angeles
ATTACH;FMTTYPE=image/jpeg:https://golatindance.com/wp-content/uploads/2022/11/366274329_6416412175063075_2753096619981954415_n.jpg
END:VEVENT
END:VCALENDAR