BEGIN:VCALENDAR
VERSION:2.0
PRODID:-//GO Latin Dance - ECPv6.15.18//NONSGML v1.0//EN
CALSCALE:GREGORIAN
METHOD:PUBLISH
X-ORIGINAL-URL:https://golatindance.com
X-WR-CALDESC:Events for GO Latin Dance
REFRESH-INTERVAL;VALUE=DURATION:PT1H
X-Robots-Tag:noindex
X-PUBLISHED-TTL:PT1H
BEGIN:VTIMEZONE
TZID:America/New_York
BEGIN:DAYLIGHT
TZOFFSETFROM:-0500
TZOFFSETTO:-0400
TZNAME:EDT
DTSTART:20290311T070000
END:DAYLIGHT
BEGIN:STANDARD
TZOFFSETFROM:-0400
TZOFFSETTO:-0500
TZNAME:EST
DTSTART:20291104T060000
END:STANDARD
BEGIN:DAYLIGHT
TZOFFSETFROM:-0500
TZOFFSETTO:-0400
TZNAME:EDT
DTSTART:20300310T070000
END:DAYLIGHT
BEGIN:STANDARD
TZOFFSETFROM:-0400
TZOFFSETTO:-0500
TZNAME:EST
DTSTART:20301103T060000
END:STANDARD
BEGIN:DAYLIGHT
TZOFFSETFROM:-0500
TZOFFSETTO:-0400
TZNAME:EDT
DTSTART:20310309T070000
END:DAYLIGHT
BEGIN:STANDARD
TZOFFSETFROM:-0400
TZOFFSETTO:-0500
TZNAME:EST
DTSTART:20311102T060000
END:STANDARD
BEGIN:DAYLIGHT
TZOFFSETFROM:-0500
TZOFFSETTO:-0400
TZNAME:EDT
DTSTART:20320314T070000
END:DAYLIGHT
BEGIN:STANDARD
TZOFFSETFROM:-0400
TZOFFSETTO:-0500
TZNAME:EST
DTSTART:20321107T060000
END:STANDARD
END:VTIMEZONE
BEGIN:VEVENT
DTSTART;TZID=America/New_York:20300926T210000
DTEND;TZID=America/New_York:20300927T010000
DTSTAMP:20260424T144905
CREATED:20251203T154436Z
LAST-MODIFIED:20260114T145424Z
UID:10428657-1916686800-1916701200@golatindance.com
SUMMARY:CLASICOS THURSDAYS at D'Antigua
DESCRIPTION:Hola mi gente\, \nI would like to cordially invite you to CLASICOS THURSDAYS at the legendary D’Antigua at 84-16 Northern Blvd in Jackson Heights/Queens every Thursday as we feature the best in salsa classics in vinyl from the best DJ’s around including your host “El Boricua del Sabor” DJ John John. \nWe open doors at 9 pm with a complimentary salsa class to get you started and then go straight into dance mode at this beautiful\, elegant\, and spacious venue that also offers a Full bar with Happy Hour All Night and a delicious food menu. \nHappy Hour: $5 Beers | $6 Wines | $7 Micheladas | $8 Sangria & Well Drinks \nCover: JUST $10 ALL NIGHT \nVenue: \nD’Antigua \n84-16 Nothern Blvd \nJackson Heights\, NY 11372 \nDinner/Table RSVP: (718) 779-0128 \n 
URL:https://golatindance.com/event/clasicos-thursdays-at-dantigua-every-1st-3rd-thursday-of-the-month/2030-09-26/
LOCATION:D’antigua\, 84-16 Nothern Blvd\, Jackson Heights\, Queens\, NY\, 11372\, United States
CATEGORIES:New York City
ATTACH;FMTTYPE=image/jpeg:https://golatindance.com/wp-content/uploads/2025/12/613587433_1456527036481886_1083403841486279672_n.jpg
END:VEVENT
BEGIN:VEVENT
DTSTART;TZID=America/New_York:20301003T210000
DTEND;TZID=America/New_York:20301004T010000
DTSTAMP:20260424T144905
CREATED:20251203T154436Z
LAST-MODIFIED:20260114T145424Z
UID:10419745-1917291600-1917306000@golatindance.com
SUMMARY:CLASICOS THURSDAYS at D'Antigua
DESCRIPTION:Hola mi gente\, \nI would like to cordially invite you to CLASICOS THURSDAYS at the legendary D’Antigua at 84-16 Northern Blvd in Jackson Heights/Queens every Thursday as we feature the best in salsa classics in vinyl from the best DJ’s around including your host “El Boricua del Sabor” DJ John John. \nWe open doors at 9 pm with a complimentary salsa class to get you started and then go straight into dance mode at this beautiful\, elegant\, and spacious venue that also offers a Full bar with Happy Hour All Night and a delicious food menu. \nHappy Hour: $5 Beers | $6 Wines | $7 Micheladas | $8 Sangria & Well Drinks \nCover: JUST $10 ALL NIGHT \nVenue: \nD’Antigua \n84-16 Nothern Blvd \nJackson Heights\, NY 11372 \nDinner/Table RSVP: (718) 779-0128 \n 
URL:https://golatindance.com/event/clasicos-thursdays-at-dantigua-every-1st-3rd-thursday-of-the-month/2030-10-03/
LOCATION:D’antigua\, 84-16 Nothern Blvd\, Jackson Heights\, Queens\, NY\, 11372\, United States
CATEGORIES:New York City
ATTACH;FMTTYPE=image/jpeg:https://golatindance.com/wp-content/uploads/2025/12/613587433_1456527036481886_1083403841486279672_n.jpg
END:VEVENT
BEGIN:VEVENT
DTSTART;TZID=America/New_York:20301010T210000
DTEND;TZID=America/New_York:20301011T010000
DTSTAMP:20260424T144905
CREATED:20251203T154436Z
LAST-MODIFIED:20260114T145424Z
UID:10428658-1917896400-1917910800@golatindance.com
SUMMARY:CLASICOS THURSDAYS at D'Antigua
DESCRIPTION:Hola mi gente\, \nI would like to cordially invite you to CLASICOS THURSDAYS at the legendary D’Antigua at 84-16 Northern Blvd in Jackson Heights/Queens every Thursday as we feature the best in salsa classics in vinyl from the best DJ’s around including your host “El Boricua del Sabor” DJ John John. \nWe open doors at 9 pm with a complimentary salsa class to get you started and then go straight into dance mode at this beautiful\, elegant\, and spacious venue that also offers a Full bar with Happy Hour All Night and a delicious food menu. \nHappy Hour: $5 Beers | $6 Wines | $7 Micheladas | $8 Sangria & Well Drinks \nCover: JUST $10 ALL NIGHT \nVenue: \nD’Antigua \n84-16 Nothern Blvd \nJackson Heights\, NY 11372 \nDinner/Table RSVP: (718) 779-0128 \n 
URL:https://golatindance.com/event/clasicos-thursdays-at-dantigua-every-1st-3rd-thursday-of-the-month/2030-10-10/
LOCATION:D’antigua\, 84-16 Nothern Blvd\, Jackson Heights\, Queens\, NY\, 11372\, United States
CATEGORIES:New York City
ATTACH;FMTTYPE=image/jpeg:https://golatindance.com/wp-content/uploads/2025/12/613587433_1456527036481886_1083403841486279672_n.jpg
END:VEVENT
BEGIN:VEVENT
DTSTART;TZID=America/New_York:20301017T210000
DTEND;TZID=America/New_York:20301018T010000
DTSTAMP:20260424T144905
CREATED:20251203T154436Z
LAST-MODIFIED:20260114T145424Z
UID:10428659-1918501200-1918515600@golatindance.com
SUMMARY:CLASICOS THURSDAYS at D'Antigua
DESCRIPTION:Hola mi gente\, \nI would like to cordially invite you to CLASICOS THURSDAYS at the legendary D’Antigua at 84-16 Northern Blvd in Jackson Heights/Queens every Thursday as we feature the best in salsa classics in vinyl from the best DJ’s around including your host “El Boricua del Sabor” DJ John John. \nWe open doors at 9 pm with a complimentary salsa class to get you started and then go straight into dance mode at this beautiful\, elegant\, and spacious venue that also offers a Full bar with Happy Hour All Night and a delicious food menu. \nHappy Hour: $5 Beers | $6 Wines | $7 Micheladas | $8 Sangria & Well Drinks \nCover: JUST $10 ALL NIGHT \nVenue: \nD’Antigua \n84-16 Nothern Blvd \nJackson Heights\, NY 11372 \nDinner/Table RSVP: (718) 779-0128 \n 
URL:https://golatindance.com/event/clasicos-thursdays-at-dantigua-every-1st-3rd-thursday-of-the-month/2030-10-17/
LOCATION:D’antigua\, 84-16 Nothern Blvd\, Jackson Heights\, Queens\, NY\, 11372\, United States
CATEGORIES:New York City
ATTACH;FMTTYPE=image/jpeg:https://golatindance.com/wp-content/uploads/2025/12/613587433_1456527036481886_1083403841486279672_n.jpg
END:VEVENT
BEGIN:VEVENT
DTSTART;TZID=America/New_York:20301024T210000
DTEND;TZID=America/New_York:20301025T010000
DTSTAMP:20260424T144905
CREATED:20251203T154436Z
LAST-MODIFIED:20260114T145424Z
UID:10428660-1919106000-1919120400@golatindance.com
SUMMARY:CLASICOS THURSDAYS at D'Antigua
DESCRIPTION:Hola mi gente\, \nI would like to cordially invite you to CLASICOS THURSDAYS at the legendary D’Antigua at 84-16 Northern Blvd in Jackson Heights/Queens every Thursday as we feature the best in salsa classics in vinyl from the best DJ’s around including your host “El Boricua del Sabor” DJ John John. \nWe open doors at 9 pm with a complimentary salsa class to get you started and then go straight into dance mode at this beautiful\, elegant\, and spacious venue that also offers a Full bar with Happy Hour All Night and a delicious food menu. \nHappy Hour: $5 Beers | $6 Wines | $7 Micheladas | $8 Sangria & Well Drinks \nCover: JUST $10 ALL NIGHT \nVenue: \nD’Antigua \n84-16 Nothern Blvd \nJackson Heights\, NY 11372 \nDinner/Table RSVP: (718) 779-0128 \n 
URL:https://golatindance.com/event/clasicos-thursdays-at-dantigua-every-1st-3rd-thursday-of-the-month/2030-10-24/
LOCATION:D’antigua\, 84-16 Nothern Blvd\, Jackson Heights\, Queens\, NY\, 11372\, United States
CATEGORIES:New York City
ATTACH;FMTTYPE=image/jpeg:https://golatindance.com/wp-content/uploads/2025/12/613587433_1456527036481886_1083403841486279672_n.jpg
END:VEVENT
BEGIN:VEVENT
DTSTART;TZID=America/New_York:20301031T210000
DTEND;TZID=America/New_York:20301101T010000
DTSTAMP:20260424T144905
CREATED:20251203T154436Z
LAST-MODIFIED:20260114T145424Z
UID:10428661-1919710800-1919725200@golatindance.com
SUMMARY:CLASICOS THURSDAYS at D'Antigua
DESCRIPTION:Hola mi gente\, \nI would like to cordially invite you to CLASICOS THURSDAYS at the legendary D’Antigua at 84-16 Northern Blvd in Jackson Heights/Queens every Thursday as we feature the best in salsa classics in vinyl from the best DJ’s around including your host “El Boricua del Sabor” DJ John John. \nWe open doors at 9 pm with a complimentary salsa class to get you started and then go straight into dance mode at this beautiful\, elegant\, and spacious venue that also offers a Full bar with Happy Hour All Night and a delicious food menu. \nHappy Hour: $5 Beers | $6 Wines | $7 Micheladas | $8 Sangria & Well Drinks \nCover: JUST $10 ALL NIGHT \nVenue: \nD’Antigua \n84-16 Nothern Blvd \nJackson Heights\, NY 11372 \nDinner/Table RSVP: (718) 779-0128 \n 
URL:https://golatindance.com/event/clasicos-thursdays-at-dantigua-every-1st-3rd-thursday-of-the-month/2030-10-31/
LOCATION:D’antigua\, 84-16 Nothern Blvd\, Jackson Heights\, Queens\, NY\, 11372\, United States
CATEGORIES:New York City
ATTACH;FMTTYPE=image/jpeg:https://golatindance.com/wp-content/uploads/2025/12/613587433_1456527036481886_1083403841486279672_n.jpg
END:VEVENT
BEGIN:VEVENT
DTSTART;TZID=America/New_York:20301107T210000
DTEND;TZID=America/New_York:20301108T010000
DTSTAMP:20260424T144905
CREATED:20251203T154436Z
LAST-MODIFIED:20260114T145424Z
UID:10419746-1920315600-1920330000@golatindance.com
SUMMARY:CLASICOS THURSDAYS at D'Antigua
DESCRIPTION:Hola mi gente\, \nI would like to cordially invite you to CLASICOS THURSDAYS at the legendary D’Antigua at 84-16 Northern Blvd in Jackson Heights/Queens every Thursday as we feature the best in salsa classics in vinyl from the best DJ’s around including your host “El Boricua del Sabor” DJ John John. \nWe open doors at 9 pm with a complimentary salsa class to get you started and then go straight into dance mode at this beautiful\, elegant\, and spacious venue that also offers a Full bar with Happy Hour All Night and a delicious food menu. \nHappy Hour: $5 Beers | $6 Wines | $7 Micheladas | $8 Sangria & Well Drinks \nCover: JUST $10 ALL NIGHT \nVenue: \nD’Antigua \n84-16 Nothern Blvd \nJackson Heights\, NY 11372 \nDinner/Table RSVP: (718) 779-0128 \n 
URL:https://golatindance.com/event/clasicos-thursdays-at-dantigua-every-1st-3rd-thursday-of-the-month/2030-11-07/
LOCATION:D’antigua\, 84-16 Nothern Blvd\, Jackson Heights\, Queens\, NY\, 11372\, United States
CATEGORIES:New York City
ATTACH;FMTTYPE=image/jpeg:https://golatindance.com/wp-content/uploads/2025/12/613587433_1456527036481886_1083403841486279672_n.jpg
END:VEVENT
BEGIN:VEVENT
DTSTART;TZID=America/New_York:20301114T210000
DTEND;TZID=America/New_York:20301115T010000
DTSTAMP:20260424T144905
CREATED:20251203T154436Z
LAST-MODIFIED:20260114T145424Z
UID:10428662-1920920400-1920934800@golatindance.com
SUMMARY:CLASICOS THURSDAYS at D'Antigua
DESCRIPTION:Hola mi gente\, \nI would like to cordially invite you to CLASICOS THURSDAYS at the legendary D’Antigua at 84-16 Northern Blvd in Jackson Heights/Queens every Thursday as we feature the best in salsa classics in vinyl from the best DJ’s around including your host “El Boricua del Sabor” DJ John John. \nWe open doors at 9 pm with a complimentary salsa class to get you started and then go straight into dance mode at this beautiful\, elegant\, and spacious venue that also offers a Full bar with Happy Hour All Night and a delicious food menu. \nHappy Hour: $5 Beers | $6 Wines | $7 Micheladas | $8 Sangria & Well Drinks \nCover: JUST $10 ALL NIGHT \nVenue: \nD’Antigua \n84-16 Nothern Blvd \nJackson Heights\, NY 11372 \nDinner/Table RSVP: (718) 779-0128 \n 
URL:https://golatindance.com/event/clasicos-thursdays-at-dantigua-every-1st-3rd-thursday-of-the-month/2030-11-14/
LOCATION:D’antigua\, 84-16 Nothern Blvd\, Jackson Heights\, Queens\, NY\, 11372\, United States
CATEGORIES:New York City
ATTACH;FMTTYPE=image/jpeg:https://golatindance.com/wp-content/uploads/2025/12/613587433_1456527036481886_1083403841486279672_n.jpg
END:VEVENT
BEGIN:VEVENT
DTSTART;TZID=America/New_York:20301121T210000
DTEND;TZID=America/New_York:20301122T010000
DTSTAMP:20260424T144905
CREATED:20251203T154436Z
LAST-MODIFIED:20260114T145424Z
UID:10428663-1921525200-1921539600@golatindance.com
SUMMARY:CLASICOS THURSDAYS at D'Antigua
DESCRIPTION:Hola mi gente\, \nI would like to cordially invite you to CLASICOS THURSDAYS at the legendary D’Antigua at 84-16 Northern Blvd in Jackson Heights/Queens every Thursday as we feature the best in salsa classics in vinyl from the best DJ’s around including your host “El Boricua del Sabor” DJ John John. \nWe open doors at 9 pm with a complimentary salsa class to get you started and then go straight into dance mode at this beautiful\, elegant\, and spacious venue that also offers a Full bar with Happy Hour All Night and a delicious food menu. \nHappy Hour: $5 Beers | $6 Wines | $7 Micheladas | $8 Sangria & Well Drinks \nCover: JUST $10 ALL NIGHT \nVenue: \nD’Antigua \n84-16 Nothern Blvd \nJackson Heights\, NY 11372 \nDinner/Table RSVP: (718) 779-0128 \n 
URL:https://golatindance.com/event/clasicos-thursdays-at-dantigua-every-1st-3rd-thursday-of-the-month/2030-11-21/
LOCATION:D’antigua\, 84-16 Nothern Blvd\, Jackson Heights\, Queens\, NY\, 11372\, United States
CATEGORIES:New York City
ATTACH;FMTTYPE=image/jpeg:https://golatindance.com/wp-content/uploads/2025/12/613587433_1456527036481886_1083403841486279672_n.jpg
END:VEVENT
BEGIN:VEVENT
DTSTART;TZID=America/New_York:20301128T210000
DTEND;TZID=America/New_York:20301129T010000
DTSTAMP:20260424T144905
CREATED:20251203T154436Z
LAST-MODIFIED:20260114T145424Z
UID:10428664-1922130000-1922144400@golatindance.com
SUMMARY:CLASICOS THURSDAYS at D'Antigua
DESCRIPTION:Hola mi gente\, \nI would like to cordially invite you to CLASICOS THURSDAYS at the legendary D’Antigua at 84-16 Northern Blvd in Jackson Heights/Queens every Thursday as we feature the best in salsa classics in vinyl from the best DJ’s around including your host “El Boricua del Sabor” DJ John John. \nWe open doors at 9 pm with a complimentary salsa class to get you started and then go straight into dance mode at this beautiful\, elegant\, and spacious venue that also offers a Full bar with Happy Hour All Night and a delicious food menu. \nHappy Hour: $5 Beers | $6 Wines | $7 Micheladas | $8 Sangria & Well Drinks \nCover: JUST $10 ALL NIGHT \nVenue: \nD’Antigua \n84-16 Nothern Blvd \nJackson Heights\, NY 11372 \nDinner/Table RSVP: (718) 779-0128 \n 
URL:https://golatindance.com/event/clasicos-thursdays-at-dantigua-every-1st-3rd-thursday-of-the-month/2030-11-28/
LOCATION:D’antigua\, 84-16 Nothern Blvd\, Jackson Heights\, Queens\, NY\, 11372\, United States
CATEGORIES:New York City
ATTACH;FMTTYPE=image/jpeg:https://golatindance.com/wp-content/uploads/2025/12/613587433_1456527036481886_1083403841486279672_n.jpg
END:VEVENT
BEGIN:VEVENT
DTSTART;TZID=America/New_York:20301205T210000
DTEND;TZID=America/New_York:20301206T010000
DTSTAMP:20260424T144905
CREATED:20251203T154436Z
LAST-MODIFIED:20260114T145424Z
UID:10428665-1922734800-1922749200@golatindance.com
SUMMARY:CLASICOS THURSDAYS at D'Antigua
DESCRIPTION:Hola mi gente\, \nI would like to cordially invite you to CLASICOS THURSDAYS at the legendary D’Antigua at 84-16 Northern Blvd in Jackson Heights/Queens every Thursday as we feature the best in salsa classics in vinyl from the best DJ’s around including your host “El Boricua del Sabor” DJ John John. \nWe open doors at 9 pm with a complimentary salsa class to get you started and then go straight into dance mode at this beautiful\, elegant\, and spacious venue that also offers a Full bar with Happy Hour All Night and a delicious food menu. \nHappy Hour: $5 Beers | $6 Wines | $7 Micheladas | $8 Sangria & Well Drinks \nCover: JUST $10 ALL NIGHT \nVenue: \nD’Antigua \n84-16 Nothern Blvd \nJackson Heights\, NY 11372 \nDinner/Table RSVP: (718) 779-0128 \n 
URL:https://golatindance.com/event/clasicos-thursdays-at-dantigua-every-1st-3rd-thursday-of-the-month/2030-12-05/
LOCATION:D’antigua\, 84-16 Nothern Blvd\, Jackson Heights\, Queens\, NY\, 11372\, United States
CATEGORIES:New York City
ATTACH;FMTTYPE=image/jpeg:https://golatindance.com/wp-content/uploads/2025/12/613587433_1456527036481886_1083403841486279672_n.jpg
END:VEVENT
BEGIN:VEVENT
DTSTART;TZID=America/New_York:20301212T210000
DTEND;TZID=America/New_York:20301213T010000
DTSTAMP:20260424T144905
CREATED:20251203T154436Z
LAST-MODIFIED:20260114T145424Z
UID:10428666-1923339600-1923354000@golatindance.com
SUMMARY:CLASICOS THURSDAYS at D'Antigua
DESCRIPTION:Hola mi gente\, \nI would like to cordially invite you to CLASICOS THURSDAYS at the legendary D’Antigua at 84-16 Northern Blvd in Jackson Heights/Queens every Thursday as we feature the best in salsa classics in vinyl from the best DJ’s around including your host “El Boricua del Sabor” DJ John John. \nWe open doors at 9 pm with a complimentary salsa class to get you started and then go straight into dance mode at this beautiful\, elegant\, and spacious venue that also offers a Full bar with Happy Hour All Night and a delicious food menu. \nHappy Hour: $5 Beers | $6 Wines | $7 Micheladas | $8 Sangria & Well Drinks \nCover: JUST $10 ALL NIGHT \nVenue: \nD’Antigua \n84-16 Nothern Blvd \nJackson Heights\, NY 11372 \nDinner/Table RSVP: (718) 779-0128 \n 
URL:https://golatindance.com/event/clasicos-thursdays-at-dantigua-every-1st-3rd-thursday-of-the-month/2030-12-12/
LOCATION:D’antigua\, 84-16 Nothern Blvd\, Jackson Heights\, Queens\, NY\, 11372\, United States
CATEGORIES:New York City
ATTACH;FMTTYPE=image/jpeg:https://golatindance.com/wp-content/uploads/2025/12/613587433_1456527036481886_1083403841486279672_n.jpg
END:VEVENT
BEGIN:VEVENT
DTSTART;TZID=America/New_York:20301219T210000
DTEND;TZID=America/New_York:20301220T010000
DTSTAMP:20260424T144905
CREATED:20251203T154436Z
LAST-MODIFIED:20260114T145424Z
UID:10428667-1923944400-1923958800@golatindance.com
SUMMARY:CLASICOS THURSDAYS at D'Antigua
DESCRIPTION:Hola mi gente\, \nI would like to cordially invite you to CLASICOS THURSDAYS at the legendary D’Antigua at 84-16 Northern Blvd in Jackson Heights/Queens every Thursday as we feature the best in salsa classics in vinyl from the best DJ’s around including your host “El Boricua del Sabor” DJ John John. \nWe open doors at 9 pm with a complimentary salsa class to get you started and then go straight into dance mode at this beautiful\, elegant\, and spacious venue that also offers a Full bar with Happy Hour All Night and a delicious food menu. \nHappy Hour: $5 Beers | $6 Wines | $7 Micheladas | $8 Sangria & Well Drinks \nCover: JUST $10 ALL NIGHT \nVenue: \nD’Antigua \n84-16 Nothern Blvd \nJackson Heights\, NY 11372 \nDinner/Table RSVP: (718) 779-0128 \n 
URL:https://golatindance.com/event/clasicos-thursdays-at-dantigua-every-1st-3rd-thursday-of-the-month/2030-12-19/
LOCATION:D’antigua\, 84-16 Nothern Blvd\, Jackson Heights\, Queens\, NY\, 11372\, United States
CATEGORIES:New York City
ATTACH;FMTTYPE=image/jpeg:https://golatindance.com/wp-content/uploads/2025/12/613587433_1456527036481886_1083403841486279672_n.jpg
END:VEVENT
BEGIN:VEVENT
DTSTART;TZID=America/New_York:20301226T210000
DTEND;TZID=America/New_York:20301227T010000
DTSTAMP:20260424T144905
CREATED:20251203T154436Z
LAST-MODIFIED:20260114T145424Z
UID:10428668-1924549200-1924563600@golatindance.com
SUMMARY:CLASICOS THURSDAYS at D'Antigua
DESCRIPTION:Hola mi gente\, \nI would like to cordially invite you to CLASICOS THURSDAYS at the legendary D’Antigua at 84-16 Northern Blvd in Jackson Heights/Queens every Thursday as we feature the best in salsa classics in vinyl from the best DJ’s around including your host “El Boricua del Sabor” DJ John John. \nWe open doors at 9 pm with a complimentary salsa class to get you started and then go straight into dance mode at this beautiful\, elegant\, and spacious venue that also offers a Full bar with Happy Hour All Night and a delicious food menu. \nHappy Hour: $5 Beers | $6 Wines | $7 Micheladas | $8 Sangria & Well Drinks \nCover: JUST $10 ALL NIGHT \nVenue: \nD’Antigua \n84-16 Nothern Blvd \nJackson Heights\, NY 11372 \nDinner/Table RSVP: (718) 779-0128 \n 
URL:https://golatindance.com/event/clasicos-thursdays-at-dantigua-every-1st-3rd-thursday-of-the-month/2030-12-26/
LOCATION:D’antigua\, 84-16 Nothern Blvd\, Jackson Heights\, Queens\, NY\, 11372\, United States
CATEGORIES:New York City
ATTACH;FMTTYPE=image/jpeg:https://golatindance.com/wp-content/uploads/2025/12/613587433_1456527036481886_1083403841486279672_n.jpg
END:VEVENT
BEGIN:VEVENT
DTSTART;TZID=America/New_York:20310102T210000
DTEND;TZID=America/New_York:20310103T010000
DTSTAMP:20260424T144905
CREATED:20251203T154436Z
LAST-MODIFIED:20260114T145424Z
UID:10428669-1925154000-1925168400@golatindance.com
SUMMARY:CLASICOS THURSDAYS at D'Antigua
DESCRIPTION:Hola mi gente\, \nI would like to cordially invite you to CLASICOS THURSDAYS at the legendary D’Antigua at 84-16 Northern Blvd in Jackson Heights/Queens every Thursday as we feature the best in salsa classics in vinyl from the best DJ’s around including your host “El Boricua del Sabor” DJ John John. \nWe open doors at 9 pm with a complimentary salsa class to get you started and then go straight into dance mode at this beautiful\, elegant\, and spacious venue that also offers a Full bar with Happy Hour All Night and a delicious food menu. \nHappy Hour: $5 Beers | $6 Wines | $7 Micheladas | $8 Sangria & Well Drinks \nCover: JUST $10 ALL NIGHT \nVenue: \nD’Antigua \n84-16 Nothern Blvd \nJackson Heights\, NY 11372 \nDinner/Table RSVP: (718) 779-0128 \n 
URL:https://golatindance.com/event/clasicos-thursdays-at-dantigua-every-1st-3rd-thursday-of-the-month/2031-01-02/
LOCATION:D’antigua\, 84-16 Nothern Blvd\, Jackson Heights\, Queens\, NY\, 11372\, United States
CATEGORIES:New York City
ATTACH;FMTTYPE=image/jpeg:https://golatindance.com/wp-content/uploads/2025/12/613587433_1456527036481886_1083403841486279672_n.jpg
END:VEVENT
BEGIN:VEVENT
DTSTART;TZID=America/New_York:20310109T210000
DTEND;TZID=America/New_York:20310110T010000
DTSTAMP:20260424T144905
CREATED:20251203T154436Z
LAST-MODIFIED:20260114T145424Z
UID:10432141-1925758800-1925773200@golatindance.com
SUMMARY:CLASICOS THURSDAYS at D'Antigua
DESCRIPTION:Hola mi gente\, \nI would like to cordially invite you to CLASICOS THURSDAYS at the legendary D’Antigua at 84-16 Northern Blvd in Jackson Heights/Queens every Thursday as we feature the best in salsa classics in vinyl from the best DJ’s around including your host “El Boricua del Sabor” DJ John John. \nWe open doors at 9 pm with a complimentary salsa class to get you started and then go straight into dance mode at this beautiful\, elegant\, and spacious venue that also offers a Full bar with Happy Hour All Night and a delicious food menu. \nHappy Hour: $5 Beers | $6 Wines | $7 Micheladas | $8 Sangria & Well Drinks \nCover: JUST $10 ALL NIGHT \nVenue: \nD’Antigua \n84-16 Nothern Blvd \nJackson Heights\, NY 11372 \nDinner/Table RSVP: (718) 779-0128 \n 
URL:https://golatindance.com/event/clasicos-thursdays-at-dantigua-every-1st-3rd-thursday-of-the-month/2031-01-09/
LOCATION:D’antigua\, 84-16 Nothern Blvd\, Jackson Heights\, Queens\, NY\, 11372\, United States
CATEGORIES:New York City
ATTACH;FMTTYPE=image/jpeg:https://golatindance.com/wp-content/uploads/2025/12/613587433_1456527036481886_1083403841486279672_n.jpg
END:VEVENT
END:VCALENDAR