BEGIN:VCALENDAR
VERSION:2.0
PRODID:-//GO Latin Dance - ECPv6.15.18//NONSGML v1.0//EN
CALSCALE:GREGORIAN
METHOD:PUBLISH
X-ORIGINAL-URL:https://golatindance.com
X-WR-CALDESC:Events for GO Latin Dance
REFRESH-INTERVAL;VALUE=DURATION:PT1H
X-Robots-Tag:noindex
X-PUBLISHED-TTL:PT1H
BEGIN:VTIMEZONE
TZID:America/Los_Angeles
BEGIN:DAYLIGHT
TZOFFSETFROM:-0800
TZOFFSETTO:-0700
TZNAME:PDT
DTSTART:20270314T100000
END:DAYLIGHT
BEGIN:STANDARD
TZOFFSETFROM:-0700
TZOFFSETTO:-0800
TZNAME:PST
DTSTART:20271107T090000
END:STANDARD
BEGIN:DAYLIGHT
TZOFFSETFROM:-0800
TZOFFSETTO:-0700
TZNAME:PDT
DTSTART:20280312T100000
END:DAYLIGHT
BEGIN:STANDARD
TZOFFSETFROM:-0700
TZOFFSETTO:-0800
TZNAME:PST
DTSTART:20281105T090000
END:STANDARD
BEGIN:DAYLIGHT
TZOFFSETFROM:-0800
TZOFFSETTO:-0700
TZNAME:PDT
DTSTART:20290311T100000
END:DAYLIGHT
BEGIN:STANDARD
TZOFFSETFROM:-0700
TZOFFSETTO:-0800
TZNAME:PST
DTSTART:20291104T090000
END:STANDARD
BEGIN:DAYLIGHT
TZOFFSETFROM:-0800
TZOFFSETTO:-0700
TZNAME:PDT
DTSTART:20300310T100000
END:DAYLIGHT
BEGIN:STANDARD
TZOFFSETFROM:-0700
TZOFFSETTO:-0800
TZNAME:PST
DTSTART:20301103T090000
END:STANDARD
END:VTIMEZONE
BEGIN:VEVENT
DTSTART;TZID=America/Los_Angeles:20280809T210000
DTEND;TZID=America/Los_Angeles:20280810T010000
DTSTAMP:20260419T092930
CREATED:20221108T042345Z
LAST-MODIFIED:20251230T203438Z
UID:10243397-1849467600-1849482000@golatindance.com
SUMMARY:El Timbon
DESCRIPTION:El Timbon at Upcider. Timba y música Cubana with DJ @waltdigz 9pm – 1am.
URL:https://golatindance.com/event/el-timbon/2028-08-09/
LOCATION:Upcider\, 1160 Polk St\, San Francisco\, United States
CATEGORIES:San Francisco
ATTACH;FMTTYPE=image/jpeg:https://golatindance.com/wp-content/uploads/2022/11/448804496_10161408513993864_4910762915102962933_n.jpg
END:VEVENT
BEGIN:VEVENT
DTSTART;TZID=America/Los_Angeles:20280816T210000
DTEND;TZID=America/Los_Angeles:20280817T010000
DTSTAMP:20260419T092930
CREATED:20221108T042345Z
LAST-MODIFIED:20251230T203438Z
UID:10243398-1850072400-1850086800@golatindance.com
SUMMARY:El Timbon
DESCRIPTION:El Timbon at Upcider. Timba y música Cubana with DJ @waltdigz 9pm – 1am.
URL:https://golatindance.com/event/el-timbon/2028-08-16/
LOCATION:Upcider\, 1160 Polk St\, San Francisco\, United States
CATEGORIES:San Francisco
ATTACH;FMTTYPE=image/jpeg:https://golatindance.com/wp-content/uploads/2022/11/448804496_10161408513993864_4910762915102962933_n.jpg
END:VEVENT
BEGIN:VEVENT
DTSTART;TZID=America/Los_Angeles:20280823T210000
DTEND;TZID=America/Los_Angeles:20280824T010000
DTSTAMP:20260419T092930
CREATED:20221108T042345Z
LAST-MODIFIED:20251230T203438Z
UID:10243399-1850677200-1850691600@golatindance.com
SUMMARY:El Timbon
DESCRIPTION:El Timbon at Upcider. Timba y música Cubana with DJ @waltdigz 9pm – 1am.
URL:https://golatindance.com/event/el-timbon/2028-08-23/
LOCATION:Upcider\, 1160 Polk St\, San Francisco\, United States
CATEGORIES:San Francisco
ATTACH;FMTTYPE=image/jpeg:https://golatindance.com/wp-content/uploads/2022/11/448804496_10161408513993864_4910762915102962933_n.jpg
END:VEVENT
BEGIN:VEVENT
DTSTART;TZID=America/Los_Angeles:20280830T210000
DTEND;TZID=America/Los_Angeles:20280831T010000
DTSTAMP:20260419T092930
CREATED:20221108T042345Z
LAST-MODIFIED:20251230T203438Z
UID:10243400-1851282000-1851296400@golatindance.com
SUMMARY:El Timbon
DESCRIPTION:El Timbon at Upcider. Timba y música Cubana with DJ @waltdigz 9pm – 1am.
URL:https://golatindance.com/event/el-timbon/2028-08-30/
LOCATION:Upcider\, 1160 Polk St\, San Francisco\, United States
CATEGORIES:San Francisco
ATTACH;FMTTYPE=image/jpeg:https://golatindance.com/wp-content/uploads/2022/11/448804496_10161408513993864_4910762915102962933_n.jpg
END:VEVENT
BEGIN:VEVENT
DTSTART;TZID=America/Los_Angeles:20280906T210000
DTEND;TZID=America/Los_Angeles:20280907T010000
DTSTAMP:20260419T092930
CREATED:20221108T042345Z
LAST-MODIFIED:20251230T203438Z
UID:10243401-1851886800-1851901200@golatindance.com
SUMMARY:El Timbon
DESCRIPTION:El Timbon at Upcider. Timba y música Cubana with DJ @waltdigz 9pm – 1am.
URL:https://golatindance.com/event/el-timbon/2028-09-06/
LOCATION:Upcider\, 1160 Polk St\, San Francisco\, United States
CATEGORIES:San Francisco
ATTACH;FMTTYPE=image/jpeg:https://golatindance.com/wp-content/uploads/2022/11/448804496_10161408513993864_4910762915102962933_n.jpg
END:VEVENT
BEGIN:VEVENT
DTSTART;TZID=America/Los_Angeles:20280913T210000
DTEND;TZID=America/Los_Angeles:20280914T010000
DTSTAMP:20260419T092930
CREATED:20221108T042345Z
LAST-MODIFIED:20251230T203438Z
UID:10243402-1852491600-1852506000@golatindance.com
SUMMARY:El Timbon
DESCRIPTION:El Timbon at Upcider. Timba y música Cubana with DJ @waltdigz 9pm – 1am.
URL:https://golatindance.com/event/el-timbon/2028-09-13/
LOCATION:Upcider\, 1160 Polk St\, San Francisco\, United States
CATEGORIES:San Francisco
ATTACH;FMTTYPE=image/jpeg:https://golatindance.com/wp-content/uploads/2022/11/448804496_10161408513993864_4910762915102962933_n.jpg
END:VEVENT
BEGIN:VEVENT
DTSTART;TZID=America/Los_Angeles:20280920T210000
DTEND;TZID=America/Los_Angeles:20280921T010000
DTSTAMP:20260419T092930
CREATED:20221108T042345Z
LAST-MODIFIED:20251230T203438Z
UID:10243403-1853096400-1853110800@golatindance.com
SUMMARY:El Timbon
DESCRIPTION:El Timbon at Upcider. Timba y música Cubana with DJ @waltdigz 9pm – 1am.
URL:https://golatindance.com/event/el-timbon/2028-09-20/
LOCATION:Upcider\, 1160 Polk St\, San Francisco\, United States
CATEGORIES:San Francisco
ATTACH;FMTTYPE=image/jpeg:https://golatindance.com/wp-content/uploads/2022/11/448804496_10161408513993864_4910762915102962933_n.jpg
END:VEVENT
BEGIN:VEVENT
DTSTART;TZID=America/Los_Angeles:20280927T210000
DTEND;TZID=America/Los_Angeles:20280928T010000
DTSTAMP:20260419T092930
CREATED:20221108T042345Z
LAST-MODIFIED:20251230T203438Z
UID:10243404-1853701200-1853715600@golatindance.com
SUMMARY:El Timbon
DESCRIPTION:El Timbon at Upcider. Timba y música Cubana with DJ @waltdigz 9pm – 1am.
URL:https://golatindance.com/event/el-timbon/2028-09-27/
LOCATION:Upcider\, 1160 Polk St\, San Francisco\, United States
CATEGORIES:San Francisco
ATTACH;FMTTYPE=image/jpeg:https://golatindance.com/wp-content/uploads/2022/11/448804496_10161408513993864_4910762915102962933_n.jpg
END:VEVENT
BEGIN:VEVENT
DTSTART;TZID=America/Los_Angeles:20281004T210000
DTEND;TZID=America/Los_Angeles:20281005T010000
DTSTAMP:20260419T092930
CREATED:20221108T042345Z
LAST-MODIFIED:20251230T203438Z
UID:10243405-1854306000-1854320400@golatindance.com
SUMMARY:El Timbon
DESCRIPTION:El Timbon at Upcider. Timba y música Cubana with DJ @waltdigz 9pm – 1am.
URL:https://golatindance.com/event/el-timbon/2028-10-04/
LOCATION:Upcider\, 1160 Polk St\, San Francisco\, United States
CATEGORIES:San Francisco
ATTACH;FMTTYPE=image/jpeg:https://golatindance.com/wp-content/uploads/2022/11/448804496_10161408513993864_4910762915102962933_n.jpg
END:VEVENT
BEGIN:VEVENT
DTSTART;TZID=America/Los_Angeles:20281011T210000
DTEND;TZID=America/Los_Angeles:20281012T010000
DTSTAMP:20260419T092930
CREATED:20221108T042345Z
LAST-MODIFIED:20251230T203438Z
UID:10243406-1854910800-1854925200@golatindance.com
SUMMARY:El Timbon
DESCRIPTION:El Timbon at Upcider. Timba y música Cubana with DJ @waltdigz 9pm – 1am.
URL:https://golatindance.com/event/el-timbon/2028-10-11/
LOCATION:Upcider\, 1160 Polk St\, San Francisco\, United States
CATEGORIES:San Francisco
ATTACH;FMTTYPE=image/jpeg:https://golatindance.com/wp-content/uploads/2022/11/448804496_10161408513993864_4910762915102962933_n.jpg
END:VEVENT
BEGIN:VEVENT
DTSTART;TZID=America/Los_Angeles:20281018T210000
DTEND;TZID=America/Los_Angeles:20281019T010000
DTSTAMP:20260419T092930
CREATED:20221108T042345Z
LAST-MODIFIED:20251230T203438Z
UID:10243407-1855515600-1855530000@golatindance.com
SUMMARY:El Timbon
DESCRIPTION:El Timbon at Upcider. Timba y música Cubana with DJ @waltdigz 9pm – 1am.
URL:https://golatindance.com/event/el-timbon/2028-10-18/
LOCATION:Upcider\, 1160 Polk St\, San Francisco\, United States
CATEGORIES:San Francisco
ATTACH;FMTTYPE=image/jpeg:https://golatindance.com/wp-content/uploads/2022/11/448804496_10161408513993864_4910762915102962933_n.jpg
END:VEVENT
BEGIN:VEVENT
DTSTART;TZID=America/Los_Angeles:20281025T210000
DTEND;TZID=America/Los_Angeles:20281026T010000
DTSTAMP:20260419T092930
CREATED:20221108T042345Z
LAST-MODIFIED:20251230T203438Z
UID:10243408-1856120400-1856134800@golatindance.com
SUMMARY:El Timbon
DESCRIPTION:El Timbon at Upcider. Timba y música Cubana with DJ @waltdigz 9pm – 1am.
URL:https://golatindance.com/event/el-timbon/2028-10-25/
LOCATION:Upcider\, 1160 Polk St\, San Francisco\, United States
CATEGORIES:San Francisco
ATTACH;FMTTYPE=image/jpeg:https://golatindance.com/wp-content/uploads/2022/11/448804496_10161408513993864_4910762915102962933_n.jpg
END:VEVENT
BEGIN:VEVENT
DTSTART;TZID=America/Los_Angeles:20281101T210000
DTEND;TZID=America/Los_Angeles:20281102T010000
DTSTAMP:20260419T092930
CREATED:20221108T042345Z
LAST-MODIFIED:20251230T203438Z
UID:10243409-1856725200-1856739600@golatindance.com
SUMMARY:El Timbon
DESCRIPTION:El Timbon at Upcider. Timba y música Cubana with DJ @waltdigz 9pm – 1am.
URL:https://golatindance.com/event/el-timbon/2028-11-01/
LOCATION:Upcider\, 1160 Polk St\, San Francisco\, United States
CATEGORIES:San Francisco
ATTACH;FMTTYPE=image/jpeg:https://golatindance.com/wp-content/uploads/2022/11/448804496_10161408513993864_4910762915102962933_n.jpg
END:VEVENT
BEGIN:VEVENT
DTSTART;TZID=America/Los_Angeles:20281108T210000
DTEND;TZID=America/Los_Angeles:20281109T010000
DTSTAMP:20260419T092930
CREATED:20221108T042345Z
LAST-MODIFIED:20251230T203438Z
UID:10243410-1857330000-1857344400@golatindance.com
SUMMARY:El Timbon
DESCRIPTION:El Timbon at Upcider. Timba y música Cubana with DJ @waltdigz 9pm – 1am.
URL:https://golatindance.com/event/el-timbon/2028-11-08/
LOCATION:Upcider\, 1160 Polk St\, San Francisco\, United States
CATEGORIES:San Francisco
ATTACH;FMTTYPE=image/jpeg:https://golatindance.com/wp-content/uploads/2022/11/448804496_10161408513993864_4910762915102962933_n.jpg
END:VEVENT
BEGIN:VEVENT
DTSTART;TZID=America/Los_Angeles:20281115T210000
DTEND;TZID=America/Los_Angeles:20281116T010000
DTSTAMP:20260419T092930
CREATED:20221108T042345Z
LAST-MODIFIED:20251230T203438Z
UID:10243411-1857934800-1857949200@golatindance.com
SUMMARY:El Timbon
DESCRIPTION:El Timbon at Upcider. Timba y música Cubana with DJ @waltdigz 9pm – 1am.
URL:https://golatindance.com/event/el-timbon/2028-11-15/
LOCATION:Upcider\, 1160 Polk St\, San Francisco\, United States
CATEGORIES:San Francisco
ATTACH;FMTTYPE=image/jpeg:https://golatindance.com/wp-content/uploads/2022/11/448804496_10161408513993864_4910762915102962933_n.jpg
END:VEVENT
BEGIN:VEVENT
DTSTART;TZID=America/Los_Angeles:20281122T210000
DTEND;TZID=America/Los_Angeles:20281123T010000
DTSTAMP:20260419T092930
CREATED:20221108T042345Z
LAST-MODIFIED:20251230T203438Z
UID:10243412-1858539600-1858554000@golatindance.com
SUMMARY:El Timbon
DESCRIPTION:El Timbon at Upcider. Timba y música Cubana with DJ @waltdigz 9pm – 1am.
URL:https://golatindance.com/event/el-timbon/2028-11-22/
LOCATION:Upcider\, 1160 Polk St\, San Francisco\, United States
CATEGORIES:San Francisco
ATTACH;FMTTYPE=image/jpeg:https://golatindance.com/wp-content/uploads/2022/11/448804496_10161408513993864_4910762915102962933_n.jpg
END:VEVENT
BEGIN:VEVENT
DTSTART;TZID=America/Los_Angeles:20281129T210000
DTEND;TZID=America/Los_Angeles:20281130T010000
DTSTAMP:20260419T092930
CREATED:20221108T042345Z
LAST-MODIFIED:20251230T203438Z
UID:10243413-1859144400-1859158800@golatindance.com
SUMMARY:El Timbon
DESCRIPTION:El Timbon at Upcider. Timba y música Cubana with DJ @waltdigz 9pm – 1am.
URL:https://golatindance.com/event/el-timbon/2028-11-29/
LOCATION:Upcider\, 1160 Polk St\, San Francisco\, United States
CATEGORIES:San Francisco
ATTACH;FMTTYPE=image/jpeg:https://golatindance.com/wp-content/uploads/2022/11/448804496_10161408513993864_4910762915102962933_n.jpg
END:VEVENT
BEGIN:VEVENT
DTSTART;TZID=America/Los_Angeles:20281206T210000
DTEND;TZID=America/Los_Angeles:20281207T010000
DTSTAMP:20260419T092930
CREATED:20221108T042345Z
LAST-MODIFIED:20251230T203438Z
UID:10243414-1859749200-1859763600@golatindance.com
SUMMARY:El Timbon
DESCRIPTION:El Timbon at Upcider. Timba y música Cubana with DJ @waltdigz 9pm – 1am.
URL:https://golatindance.com/event/el-timbon/2028-12-06/
LOCATION:Upcider\, 1160 Polk St\, San Francisco\, United States
CATEGORIES:San Francisco
ATTACH;FMTTYPE=image/jpeg:https://golatindance.com/wp-content/uploads/2022/11/448804496_10161408513993864_4910762915102962933_n.jpg
END:VEVENT
BEGIN:VEVENT
DTSTART;TZID=America/Los_Angeles:20281213T210000
DTEND;TZID=America/Los_Angeles:20281214T010000
DTSTAMP:20260419T092930
CREATED:20221108T042345Z
LAST-MODIFIED:20251230T203438Z
UID:10243415-1860354000-1860368400@golatindance.com
SUMMARY:El Timbon
DESCRIPTION:El Timbon at Upcider. Timba y música Cubana with DJ @waltdigz 9pm – 1am.
URL:https://golatindance.com/event/el-timbon/2028-12-13/
LOCATION:Upcider\, 1160 Polk St\, San Francisco\, United States
CATEGORIES:San Francisco
ATTACH;FMTTYPE=image/jpeg:https://golatindance.com/wp-content/uploads/2022/11/448804496_10161408513993864_4910762915102962933_n.jpg
END:VEVENT
BEGIN:VEVENT
DTSTART;TZID=America/Los_Angeles:20281220T210000
DTEND;TZID=America/Los_Angeles:20281221T010000
DTSTAMP:20260419T092930
CREATED:20221108T042345Z
LAST-MODIFIED:20251230T203438Z
UID:10243416-1860958800-1860973200@golatindance.com
SUMMARY:El Timbon
DESCRIPTION:El Timbon at Upcider. Timba y música Cubana with DJ @waltdigz 9pm – 1am.
URL:https://golatindance.com/event/el-timbon/2028-12-20/
LOCATION:Upcider\, 1160 Polk St\, San Francisco\, United States
CATEGORIES:San Francisco
ATTACH;FMTTYPE=image/jpeg:https://golatindance.com/wp-content/uploads/2022/11/448804496_10161408513993864_4910762915102962933_n.jpg
END:VEVENT
BEGIN:VEVENT
DTSTART;TZID=America/Los_Angeles:20281227T210000
DTEND;TZID=America/Los_Angeles:20281228T010000
DTSTAMP:20260419T092930
CREATED:20221108T042345Z
LAST-MODIFIED:20251230T203438Z
UID:10243417-1861563600-1861578000@golatindance.com
SUMMARY:El Timbon
DESCRIPTION:El Timbon at Upcider. Timba y música Cubana with DJ @waltdigz 9pm – 1am.
URL:https://golatindance.com/event/el-timbon/2028-12-27/
LOCATION:Upcider\, 1160 Polk St\, San Francisco\, United States
CATEGORIES:San Francisco
ATTACH;FMTTYPE=image/jpeg:https://golatindance.com/wp-content/uploads/2022/11/448804496_10161408513993864_4910762915102962933_n.jpg
END:VEVENT
BEGIN:VEVENT
DTSTART;TZID=America/Los_Angeles:20290103T210000
DTEND;TZID=America/Los_Angeles:20290104T010000
DTSTAMP:20260419T092930
CREATED:20221108T042345Z
LAST-MODIFIED:20251230T203438Z
UID:10243418-1862168400-1862182800@golatindance.com
SUMMARY:El Timbon
DESCRIPTION:El Timbon at Upcider. Timba y música Cubana with DJ @waltdigz 9pm – 1am.
URL:https://golatindance.com/event/el-timbon/2029-01-03/
LOCATION:Upcider\, 1160 Polk St\, San Francisco\, United States
CATEGORIES:San Francisco
ATTACH;FMTTYPE=image/jpeg:https://golatindance.com/wp-content/uploads/2022/11/448804496_10161408513993864_4910762915102962933_n.jpg
END:VEVENT
BEGIN:VEVENT
DTSTART;TZID=America/Los_Angeles:20290110T210000
DTEND;TZID=America/Los_Angeles:20290111T010000
DTSTAMP:20260419T092930
CREATED:20221108T042345Z
LAST-MODIFIED:20251230T203438Z
UID:10243419-1862773200-1862787600@golatindance.com
SUMMARY:El Timbon
DESCRIPTION:El Timbon at Upcider. Timba y música Cubana with DJ @waltdigz 9pm – 1am.
URL:https://golatindance.com/event/el-timbon/2029-01-10/
LOCATION:Upcider\, 1160 Polk St\, San Francisco\, United States
CATEGORIES:San Francisco
ATTACH;FMTTYPE=image/jpeg:https://golatindance.com/wp-content/uploads/2022/11/448804496_10161408513993864_4910762915102962933_n.jpg
END:VEVENT
BEGIN:VEVENT
DTSTART;TZID=America/Los_Angeles:20290117T210000
DTEND;TZID=America/Los_Angeles:20290118T010000
DTSTAMP:20260419T092930
CREATED:20221108T042345Z
LAST-MODIFIED:20251230T203438Z
UID:10243420-1863378000-1863392400@golatindance.com
SUMMARY:El Timbon
DESCRIPTION:El Timbon at Upcider. Timba y música Cubana with DJ @waltdigz 9pm – 1am.
URL:https://golatindance.com/event/el-timbon/2029-01-17/
LOCATION:Upcider\, 1160 Polk St\, San Francisco\, United States
CATEGORIES:San Francisco
ATTACH;FMTTYPE=image/jpeg:https://golatindance.com/wp-content/uploads/2022/11/448804496_10161408513993864_4910762915102962933_n.jpg
END:VEVENT
BEGIN:VEVENT
DTSTART;TZID=America/Los_Angeles:20290124T210000
DTEND;TZID=America/Los_Angeles:20290125T010000
DTSTAMP:20260419T092930
CREATED:20221108T042345Z
LAST-MODIFIED:20251230T203438Z
UID:10243421-1863982800-1863997200@golatindance.com
SUMMARY:El Timbon
DESCRIPTION:El Timbon at Upcider. Timba y música Cubana with DJ @waltdigz 9pm – 1am.
URL:https://golatindance.com/event/el-timbon/2029-01-24/
LOCATION:Upcider\, 1160 Polk St\, San Francisco\, United States
CATEGORIES:San Francisco
ATTACH;FMTTYPE=image/jpeg:https://golatindance.com/wp-content/uploads/2022/11/448804496_10161408513993864_4910762915102962933_n.jpg
END:VEVENT
BEGIN:VEVENT
DTSTART;TZID=America/Los_Angeles:20290131T210000
DTEND;TZID=America/Los_Angeles:20290201T010000
DTSTAMP:20260419T092930
CREATED:20221108T042345Z
LAST-MODIFIED:20251230T203438Z
UID:10243422-1864587600-1864602000@golatindance.com
SUMMARY:El Timbon
DESCRIPTION:El Timbon at Upcider. Timba y música Cubana with DJ @waltdigz 9pm – 1am.
URL:https://golatindance.com/event/el-timbon/2029-01-31/
LOCATION:Upcider\, 1160 Polk St\, San Francisco\, United States
CATEGORIES:San Francisco
ATTACH;FMTTYPE=image/jpeg:https://golatindance.com/wp-content/uploads/2022/11/448804496_10161408513993864_4910762915102962933_n.jpg
END:VEVENT
BEGIN:VEVENT
DTSTART;TZID=America/Los_Angeles:20290207T210000
DTEND;TZID=America/Los_Angeles:20290208T010000
DTSTAMP:20260419T092930
CREATED:20221108T042345Z
LAST-MODIFIED:20251230T203438Z
UID:10243423-1865192400-1865206800@golatindance.com
SUMMARY:El Timbon
DESCRIPTION:El Timbon at Upcider. Timba y música Cubana with DJ @waltdigz 9pm – 1am.
URL:https://golatindance.com/event/el-timbon/2029-02-07/
LOCATION:Upcider\, 1160 Polk St\, San Francisco\, United States
CATEGORIES:San Francisco
ATTACH;FMTTYPE=image/jpeg:https://golatindance.com/wp-content/uploads/2022/11/448804496_10161408513993864_4910762915102962933_n.jpg
END:VEVENT
BEGIN:VEVENT
DTSTART;TZID=America/Los_Angeles:20290214T210000
DTEND;TZID=America/Los_Angeles:20290215T010000
DTSTAMP:20260419T092930
CREATED:20221108T042345Z
LAST-MODIFIED:20251230T203438Z
UID:10243424-1865797200-1865811600@golatindance.com
SUMMARY:El Timbon
DESCRIPTION:El Timbon at Upcider. Timba y música Cubana with DJ @waltdigz 9pm – 1am.
URL:https://golatindance.com/event/el-timbon/2029-02-14/
LOCATION:Upcider\, 1160 Polk St\, San Francisco\, United States
CATEGORIES:San Francisco
ATTACH;FMTTYPE=image/jpeg:https://golatindance.com/wp-content/uploads/2022/11/448804496_10161408513993864_4910762915102962933_n.jpg
END:VEVENT
BEGIN:VEVENT
DTSTART;TZID=America/Los_Angeles:20290221T210000
DTEND;TZID=America/Los_Angeles:20290222T010000
DTSTAMP:20260419T092930
CREATED:20221108T042345Z
LAST-MODIFIED:20251230T203438Z
UID:10243425-1866402000-1866416400@golatindance.com
SUMMARY:El Timbon
DESCRIPTION:El Timbon at Upcider. Timba y música Cubana with DJ @waltdigz 9pm – 1am.
URL:https://golatindance.com/event/el-timbon/2029-02-21/
LOCATION:Upcider\, 1160 Polk St\, San Francisco\, United States
CATEGORIES:San Francisco
ATTACH;FMTTYPE=image/jpeg:https://golatindance.com/wp-content/uploads/2022/11/448804496_10161408513993864_4910762915102962933_n.jpg
END:VEVENT
BEGIN:VEVENT
DTSTART;TZID=America/Los_Angeles:20290228T210000
DTEND;TZID=America/Los_Angeles:20290301T010000
DTSTAMP:20260419T092930
CREATED:20221108T042345Z
LAST-MODIFIED:20251230T203438Z
UID:10243426-1867006800-1867021200@golatindance.com
SUMMARY:El Timbon
DESCRIPTION:El Timbon at Upcider. Timba y música Cubana with DJ @waltdigz 9pm – 1am.
URL:https://golatindance.com/event/el-timbon/2029-02-28/
LOCATION:Upcider\, 1160 Polk St\, San Francisco\, United States
CATEGORIES:San Francisco
ATTACH;FMTTYPE=image/jpeg:https://golatindance.com/wp-content/uploads/2022/11/448804496_10161408513993864_4910762915102962933_n.jpg
END:VEVENT
END:VCALENDAR