BEGIN:VCALENDAR
VERSION:2.0
PRODID:-//GO Latin Dance - ECPv6.15.18//NONSGML v1.0//EN
CALSCALE:GREGORIAN
METHOD:PUBLISH
X-WR-CALNAME:GO Latin Dance
X-ORIGINAL-URL:https://golatindance.com
X-WR-CALDESC:Events for GO Latin Dance
REFRESH-INTERVAL;VALUE=DURATION:PT1H
X-Robots-Tag:noindex
X-PUBLISHED-TTL:PT1H
BEGIN:VTIMEZONE
TZID:America/Los_Angeles
BEGIN:DAYLIGHT
TZOFFSETFROM:-0800
TZOFFSETTO:-0700
TZNAME:PDT
DTSTART:20270314T100000
END:DAYLIGHT
BEGIN:STANDARD
TZOFFSETFROM:-0700
TZOFFSETTO:-0800
TZNAME:PST
DTSTART:20271107T090000
END:STANDARD
BEGIN:DAYLIGHT
TZOFFSETFROM:-0800
TZOFFSETTO:-0700
TZNAME:PDT
DTSTART:20280312T100000
END:DAYLIGHT
BEGIN:STANDARD
TZOFFSETFROM:-0700
TZOFFSETTO:-0800
TZNAME:PST
DTSTART:20281105T090000
END:STANDARD
BEGIN:DAYLIGHT
TZOFFSETFROM:-0800
TZOFFSETTO:-0700
TZNAME:PDT
DTSTART:20290311T100000
END:DAYLIGHT
BEGIN:STANDARD
TZOFFSETFROM:-0700
TZOFFSETTO:-0800
TZNAME:PST
DTSTART:20291104T090000
END:STANDARD
BEGIN:DAYLIGHT
TZOFFSETFROM:-0800
TZOFFSETTO:-0700
TZNAME:PDT
DTSTART:20300310T100000
END:DAYLIGHT
BEGIN:STANDARD
TZOFFSETFROM:-0700
TZOFFSETTO:-0800
TZNAME:PST
DTSTART:20301103T090000
END:STANDARD
END:VTIMEZONE
BEGIN:VEVENT
DTSTART;TZID=America/Los_Angeles:20281227T210000
DTEND;TZID=America/Los_Angeles:20281228T010000
DTSTAMP:20260421T074308
CREATED:20221108T042345Z
LAST-MODIFIED:20251230T203438Z
UID:10243417-1861563600-1861578000@golatindance.com
SUMMARY:El Timbon
DESCRIPTION:El Timbon at Upcider. Timba y música Cubana with DJ @waltdigz 9pm – 1am.
URL:https://golatindance.com/event/el-timbon/2028-12-27/
LOCATION:Upcider\, 1160 Polk St\, San Francisco\, United States
CATEGORIES:San Francisco
ATTACH;FMTTYPE=image/jpeg:https://golatindance.com/wp-content/uploads/2022/11/448804496_10161408513993864_4910762915102962933_n.jpg
END:VEVENT
BEGIN:VEVENT
DTSTART;TZID=America/Los_Angeles:20290103T210000
DTEND;TZID=America/Los_Angeles:20290104T010000
DTSTAMP:20260421T074308
CREATED:20221108T042345Z
LAST-MODIFIED:20251230T203438Z
UID:10243418-1862168400-1862182800@golatindance.com
SUMMARY:El Timbon
DESCRIPTION:El Timbon at Upcider. Timba y música Cubana with DJ @waltdigz 9pm – 1am.
URL:https://golatindance.com/event/el-timbon/2029-01-03/
LOCATION:Upcider\, 1160 Polk St\, San Francisco\, United States
CATEGORIES:San Francisco
ATTACH;FMTTYPE=image/jpeg:https://golatindance.com/wp-content/uploads/2022/11/448804496_10161408513993864_4910762915102962933_n.jpg
END:VEVENT
BEGIN:VEVENT
DTSTART;TZID=America/Los_Angeles:20290110T210000
DTEND;TZID=America/Los_Angeles:20290111T010000
DTSTAMP:20260421T074308
CREATED:20221108T042345Z
LAST-MODIFIED:20251230T203438Z
UID:10243419-1862773200-1862787600@golatindance.com
SUMMARY:El Timbon
DESCRIPTION:El Timbon at Upcider. Timba y música Cubana with DJ @waltdigz 9pm – 1am.
URL:https://golatindance.com/event/el-timbon/2029-01-10/
LOCATION:Upcider\, 1160 Polk St\, San Francisco\, United States
CATEGORIES:San Francisco
ATTACH;FMTTYPE=image/jpeg:https://golatindance.com/wp-content/uploads/2022/11/448804496_10161408513993864_4910762915102962933_n.jpg
END:VEVENT
BEGIN:VEVENT
DTSTART;TZID=America/Los_Angeles:20290117T210000
DTEND;TZID=America/Los_Angeles:20290118T010000
DTSTAMP:20260421T074308
CREATED:20221108T042345Z
LAST-MODIFIED:20251230T203438Z
UID:10243420-1863378000-1863392400@golatindance.com
SUMMARY:El Timbon
DESCRIPTION:El Timbon at Upcider. Timba y música Cubana with DJ @waltdigz 9pm – 1am.
URL:https://golatindance.com/event/el-timbon/2029-01-17/
LOCATION:Upcider\, 1160 Polk St\, San Francisco\, United States
CATEGORIES:San Francisco
ATTACH;FMTTYPE=image/jpeg:https://golatindance.com/wp-content/uploads/2022/11/448804496_10161408513993864_4910762915102962933_n.jpg
END:VEVENT
BEGIN:VEVENT
DTSTART;TZID=America/Los_Angeles:20290124T210000
DTEND;TZID=America/Los_Angeles:20290125T010000
DTSTAMP:20260421T074308
CREATED:20221108T042345Z
LAST-MODIFIED:20251230T203438Z
UID:10243421-1863982800-1863997200@golatindance.com
SUMMARY:El Timbon
DESCRIPTION:El Timbon at Upcider. Timba y música Cubana with DJ @waltdigz 9pm – 1am.
URL:https://golatindance.com/event/el-timbon/2029-01-24/
LOCATION:Upcider\, 1160 Polk St\, San Francisco\, United States
CATEGORIES:San Francisco
ATTACH;FMTTYPE=image/jpeg:https://golatindance.com/wp-content/uploads/2022/11/448804496_10161408513993864_4910762915102962933_n.jpg
END:VEVENT
BEGIN:VEVENT
DTSTART;TZID=America/Los_Angeles:20290131T210000
DTEND;TZID=America/Los_Angeles:20290201T010000
DTSTAMP:20260421T074308
CREATED:20221108T042345Z
LAST-MODIFIED:20251230T203438Z
UID:10243422-1864587600-1864602000@golatindance.com
SUMMARY:El Timbon
DESCRIPTION:El Timbon at Upcider. Timba y música Cubana with DJ @waltdigz 9pm – 1am.
URL:https://golatindance.com/event/el-timbon/2029-01-31/
LOCATION:Upcider\, 1160 Polk St\, San Francisco\, United States
CATEGORIES:San Francisco
ATTACH;FMTTYPE=image/jpeg:https://golatindance.com/wp-content/uploads/2022/11/448804496_10161408513993864_4910762915102962933_n.jpg
END:VEVENT
BEGIN:VEVENT
DTSTART;TZID=America/Los_Angeles:20290207T210000
DTEND;TZID=America/Los_Angeles:20290208T010000
DTSTAMP:20260421T074308
CREATED:20221108T042345Z
LAST-MODIFIED:20251230T203438Z
UID:10243423-1865192400-1865206800@golatindance.com
SUMMARY:El Timbon
DESCRIPTION:El Timbon at Upcider. Timba y música Cubana with DJ @waltdigz 9pm – 1am.
URL:https://golatindance.com/event/el-timbon/2029-02-07/
LOCATION:Upcider\, 1160 Polk St\, San Francisco\, United States
CATEGORIES:San Francisco
ATTACH;FMTTYPE=image/jpeg:https://golatindance.com/wp-content/uploads/2022/11/448804496_10161408513993864_4910762915102962933_n.jpg
END:VEVENT
BEGIN:VEVENT
DTSTART;TZID=America/Los_Angeles:20290214T210000
DTEND;TZID=America/Los_Angeles:20290215T010000
DTSTAMP:20260421T074308
CREATED:20221108T042345Z
LAST-MODIFIED:20251230T203438Z
UID:10243424-1865797200-1865811600@golatindance.com
SUMMARY:El Timbon
DESCRIPTION:El Timbon at Upcider. Timba y música Cubana with DJ @waltdigz 9pm – 1am.
URL:https://golatindance.com/event/el-timbon/2029-02-14/
LOCATION:Upcider\, 1160 Polk St\, San Francisco\, United States
CATEGORIES:San Francisco
ATTACH;FMTTYPE=image/jpeg:https://golatindance.com/wp-content/uploads/2022/11/448804496_10161408513993864_4910762915102962933_n.jpg
END:VEVENT
BEGIN:VEVENT
DTSTART;TZID=America/Los_Angeles:20290221T210000
DTEND;TZID=America/Los_Angeles:20290222T010000
DTSTAMP:20260421T074308
CREATED:20221108T042345Z
LAST-MODIFIED:20251230T203438Z
UID:10243425-1866402000-1866416400@golatindance.com
SUMMARY:El Timbon
DESCRIPTION:El Timbon at Upcider. Timba y música Cubana with DJ @waltdigz 9pm – 1am.
URL:https://golatindance.com/event/el-timbon/2029-02-21/
LOCATION:Upcider\, 1160 Polk St\, San Francisco\, United States
CATEGORIES:San Francisco
ATTACH;FMTTYPE=image/jpeg:https://golatindance.com/wp-content/uploads/2022/11/448804496_10161408513993864_4910762915102962933_n.jpg
END:VEVENT
BEGIN:VEVENT
DTSTART;TZID=America/Los_Angeles:20290228T210000
DTEND;TZID=America/Los_Angeles:20290301T010000
DTSTAMP:20260421T074308
CREATED:20221108T042345Z
LAST-MODIFIED:20251230T203438Z
UID:10243426-1867006800-1867021200@golatindance.com
SUMMARY:El Timbon
DESCRIPTION:El Timbon at Upcider. Timba y música Cubana with DJ @waltdigz 9pm – 1am.
URL:https://golatindance.com/event/el-timbon/2029-02-28/
LOCATION:Upcider\, 1160 Polk St\, San Francisco\, United States
CATEGORIES:San Francisco
ATTACH;FMTTYPE=image/jpeg:https://golatindance.com/wp-content/uploads/2022/11/448804496_10161408513993864_4910762915102962933_n.jpg
END:VEVENT
BEGIN:VEVENT
DTSTART;TZID=America/Los_Angeles:20290307T210000
DTEND;TZID=America/Los_Angeles:20290308T010000
DTSTAMP:20260421T074308
CREATED:20221108T042345Z
LAST-MODIFIED:20251230T203438Z
UID:10243427-1867611600-1867626000@golatindance.com
SUMMARY:El Timbon
DESCRIPTION:El Timbon at Upcider. Timba y música Cubana with DJ @waltdigz 9pm – 1am.
URL:https://golatindance.com/event/el-timbon/2029-03-07/
LOCATION:Upcider\, 1160 Polk St\, San Francisco\, United States
CATEGORIES:San Francisco
ATTACH;FMTTYPE=image/jpeg:https://golatindance.com/wp-content/uploads/2022/11/448804496_10161408513993864_4910762915102962933_n.jpg
END:VEVENT
BEGIN:VEVENT
DTSTART;TZID=America/Los_Angeles:20290314T210000
DTEND;TZID=America/Los_Angeles:20290315T010000
DTSTAMP:20260421T074308
CREATED:20221108T042345Z
LAST-MODIFIED:20251230T203438Z
UID:10243428-1868216400-1868230800@golatindance.com
SUMMARY:El Timbon
DESCRIPTION:El Timbon at Upcider. Timba y música Cubana with DJ @waltdigz 9pm – 1am.
URL:https://golatindance.com/event/el-timbon/2029-03-14/
LOCATION:Upcider\, 1160 Polk St\, San Francisco\, United States
CATEGORIES:San Francisco
ATTACH;FMTTYPE=image/jpeg:https://golatindance.com/wp-content/uploads/2022/11/448804496_10161408513993864_4910762915102962933_n.jpg
END:VEVENT
BEGIN:VEVENT
DTSTART;TZID=America/Los_Angeles:20290321T210000
DTEND;TZID=America/Los_Angeles:20290322T010000
DTSTAMP:20260421T074308
CREATED:20221108T042345Z
LAST-MODIFIED:20251230T203438Z
UID:10243429-1868821200-1868835600@golatindance.com
SUMMARY:El Timbon
DESCRIPTION:El Timbon at Upcider. Timba y música Cubana with DJ @waltdigz 9pm – 1am.
URL:https://golatindance.com/event/el-timbon/2029-03-21/
LOCATION:Upcider\, 1160 Polk St\, San Francisco\, United States
CATEGORIES:San Francisco
ATTACH;FMTTYPE=image/jpeg:https://golatindance.com/wp-content/uploads/2022/11/448804496_10161408513993864_4910762915102962933_n.jpg
END:VEVENT
BEGIN:VEVENT
DTSTART;TZID=America/Los_Angeles:20290328T210000
DTEND;TZID=America/Los_Angeles:20290329T010000
DTSTAMP:20260421T074308
CREATED:20221108T042345Z
LAST-MODIFIED:20251230T203438Z
UID:10243430-1869426000-1869440400@golatindance.com
SUMMARY:El Timbon
DESCRIPTION:El Timbon at Upcider. Timba y música Cubana with DJ @waltdigz 9pm – 1am.
URL:https://golatindance.com/event/el-timbon/2029-03-28/
LOCATION:Upcider\, 1160 Polk St\, San Francisco\, United States
CATEGORIES:San Francisco
ATTACH;FMTTYPE=image/jpeg:https://golatindance.com/wp-content/uploads/2022/11/448804496_10161408513993864_4910762915102962933_n.jpg
END:VEVENT
BEGIN:VEVENT
DTSTART;TZID=America/Los_Angeles:20290404T210000
DTEND;TZID=America/Los_Angeles:20290405T010000
DTSTAMP:20260421T074308
CREATED:20221108T042345Z
LAST-MODIFIED:20251230T203438Z
UID:10243431-1870030800-1870045200@golatindance.com
SUMMARY:El Timbon
DESCRIPTION:El Timbon at Upcider. Timba y música Cubana with DJ @waltdigz 9pm – 1am.
URL:https://golatindance.com/event/el-timbon/2029-04-04/
LOCATION:Upcider\, 1160 Polk St\, San Francisco\, United States
CATEGORIES:San Francisco
ATTACH;FMTTYPE=image/jpeg:https://golatindance.com/wp-content/uploads/2022/11/448804496_10161408513993864_4910762915102962933_n.jpg
END:VEVENT
BEGIN:VEVENT
DTSTART;TZID=America/Los_Angeles:20290411T210000
DTEND;TZID=America/Los_Angeles:20290412T010000
DTSTAMP:20260421T074308
CREATED:20221108T042345Z
LAST-MODIFIED:20251230T203438Z
UID:10243432-1870635600-1870650000@golatindance.com
SUMMARY:El Timbon
DESCRIPTION:El Timbon at Upcider. Timba y música Cubana with DJ @waltdigz 9pm – 1am.
URL:https://golatindance.com/event/el-timbon/2029-04-11/
LOCATION:Upcider\, 1160 Polk St\, San Francisco\, United States
CATEGORIES:San Francisco
ATTACH;FMTTYPE=image/jpeg:https://golatindance.com/wp-content/uploads/2022/11/448804496_10161408513993864_4910762915102962933_n.jpg
END:VEVENT
BEGIN:VEVENT
DTSTART;TZID=America/Los_Angeles:20290418T210000
DTEND;TZID=America/Los_Angeles:20290419T010000
DTSTAMP:20260421T074308
CREATED:20221108T042345Z
LAST-MODIFIED:20251230T203438Z
UID:10243433-1871240400-1871254800@golatindance.com
SUMMARY:El Timbon
DESCRIPTION:El Timbon at Upcider. Timba y música Cubana with DJ @waltdigz 9pm – 1am.
URL:https://golatindance.com/event/el-timbon/2029-04-18/
LOCATION:Upcider\, 1160 Polk St\, San Francisco\, United States
CATEGORIES:San Francisco
ATTACH;FMTTYPE=image/jpeg:https://golatindance.com/wp-content/uploads/2022/11/448804496_10161408513993864_4910762915102962933_n.jpg
END:VEVENT
BEGIN:VEVENT
DTSTART;TZID=America/Los_Angeles:20290425T210000
DTEND;TZID=America/Los_Angeles:20290426T010000
DTSTAMP:20260421T074308
CREATED:20221108T042345Z
LAST-MODIFIED:20251230T203438Z
UID:10243434-1871845200-1871859600@golatindance.com
SUMMARY:El Timbon
DESCRIPTION:El Timbon at Upcider. Timba y música Cubana with DJ @waltdigz 9pm – 1am.
URL:https://golatindance.com/event/el-timbon/2029-04-25/
LOCATION:Upcider\, 1160 Polk St\, San Francisco\, United States
CATEGORIES:San Francisco
ATTACH;FMTTYPE=image/jpeg:https://golatindance.com/wp-content/uploads/2022/11/448804496_10161408513993864_4910762915102962933_n.jpg
END:VEVENT
BEGIN:VEVENT
DTSTART;TZID=America/Los_Angeles:20290502T210000
DTEND;TZID=America/Los_Angeles:20290503T010000
DTSTAMP:20260421T074308
CREATED:20221108T042345Z
LAST-MODIFIED:20251230T203438Z
UID:10252605-1872450000-1872464400@golatindance.com
SUMMARY:El Timbon
DESCRIPTION:El Timbon at Upcider. Timba y música Cubana with DJ @waltdigz 9pm – 1am.
URL:https://golatindance.com/event/el-timbon/2029-05-02/
LOCATION:Upcider\, 1160 Polk St\, San Francisco\, United States
CATEGORIES:San Francisco
ATTACH;FMTTYPE=image/jpeg:https://golatindance.com/wp-content/uploads/2022/11/448804496_10161408513993864_4910762915102962933_n.jpg
END:VEVENT
BEGIN:VEVENT
DTSTART;TZID=America/Los_Angeles:20290509T210000
DTEND;TZID=America/Los_Angeles:20290510T010000
DTSTAMP:20260421T074308
CREATED:20221108T042345Z
LAST-MODIFIED:20251230T203438Z
UID:10252606-1873054800-1873069200@golatindance.com
SUMMARY:El Timbon
DESCRIPTION:El Timbon at Upcider. Timba y música Cubana with DJ @waltdigz 9pm – 1am.
URL:https://golatindance.com/event/el-timbon/2029-05-09/
LOCATION:Upcider\, 1160 Polk St\, San Francisco\, United States
CATEGORIES:San Francisco
ATTACH;FMTTYPE=image/jpeg:https://golatindance.com/wp-content/uploads/2022/11/448804496_10161408513993864_4910762915102962933_n.jpg
END:VEVENT
BEGIN:VEVENT
DTSTART;TZID=America/Los_Angeles:20290516T210000
DTEND;TZID=America/Los_Angeles:20290517T010000
DTSTAMP:20260421T074308
CREATED:20221108T042345Z
LAST-MODIFIED:20251230T203438Z
UID:10267624-1873659600-1873674000@golatindance.com
SUMMARY:El Timbon
DESCRIPTION:El Timbon at Upcider. Timba y música Cubana with DJ @waltdigz 9pm – 1am.
URL:https://golatindance.com/event/el-timbon/2029-05-16/
LOCATION:Upcider\, 1160 Polk St\, San Francisco\, United States
CATEGORIES:San Francisco
ATTACH;FMTTYPE=image/jpeg:https://golatindance.com/wp-content/uploads/2022/11/448804496_10161408513993864_4910762915102962933_n.jpg
END:VEVENT
BEGIN:VEVENT
DTSTART;TZID=America/Los_Angeles:20290523T210000
DTEND;TZID=America/Los_Angeles:20290524T010000
DTSTAMP:20260421T074308
CREATED:20221108T042345Z
LAST-MODIFIED:20251230T203438Z
UID:10267625-1874264400-1874278800@golatindance.com
SUMMARY:El Timbon
DESCRIPTION:El Timbon at Upcider. Timba y música Cubana with DJ @waltdigz 9pm – 1am.
URL:https://golatindance.com/event/el-timbon/2029-05-23/
LOCATION:Upcider\, 1160 Polk St\, San Francisco\, United States
CATEGORIES:San Francisco
ATTACH;FMTTYPE=image/jpeg:https://golatindance.com/wp-content/uploads/2022/11/448804496_10161408513993864_4910762915102962933_n.jpg
END:VEVENT
BEGIN:VEVENT
DTSTART;TZID=America/Los_Angeles:20290530T210000
DTEND;TZID=America/Los_Angeles:20290531T010000
DTSTAMP:20260421T074308
CREATED:20221108T042345Z
LAST-MODIFIED:20251230T203438Z
UID:10267626-1874869200-1874883600@golatindance.com
SUMMARY:El Timbon
DESCRIPTION:El Timbon at Upcider. Timba y música Cubana with DJ @waltdigz 9pm – 1am.
URL:https://golatindance.com/event/el-timbon/2029-05-30/
LOCATION:Upcider\, 1160 Polk St\, San Francisco\, United States
CATEGORIES:San Francisco
ATTACH;FMTTYPE=image/jpeg:https://golatindance.com/wp-content/uploads/2022/11/448804496_10161408513993864_4910762915102962933_n.jpg
END:VEVENT
BEGIN:VEVENT
DTSTART;TZID=America/Los_Angeles:20290606T210000
DTEND;TZID=America/Los_Angeles:20290607T010000
DTSTAMP:20260421T074308
CREATED:20221108T042345Z
LAST-MODIFIED:20251230T203438Z
UID:10267627-1875474000-1875488400@golatindance.com
SUMMARY:El Timbon
DESCRIPTION:El Timbon at Upcider. Timba y música Cubana with DJ @waltdigz 9pm – 1am.
URL:https://golatindance.com/event/el-timbon/2029-06-06/
LOCATION:Upcider\, 1160 Polk St\, San Francisco\, United States
CATEGORIES:San Francisco
ATTACH;FMTTYPE=image/jpeg:https://golatindance.com/wp-content/uploads/2022/11/448804496_10161408513993864_4910762915102962933_n.jpg
END:VEVENT
BEGIN:VEVENT
DTSTART;TZID=America/Los_Angeles:20290613T210000
DTEND;TZID=America/Los_Angeles:20290614T010000
DTSTAMP:20260421T074308
CREATED:20221108T042345Z
LAST-MODIFIED:20251230T203438Z
UID:10267628-1876078800-1876093200@golatindance.com
SUMMARY:El Timbon
DESCRIPTION:El Timbon at Upcider. Timba y música Cubana with DJ @waltdigz 9pm – 1am.
URL:https://golatindance.com/event/el-timbon/2029-06-13/
LOCATION:Upcider\, 1160 Polk St\, San Francisco\, United States
CATEGORIES:San Francisco
ATTACH;FMTTYPE=image/jpeg:https://golatindance.com/wp-content/uploads/2022/11/448804496_10161408513993864_4910762915102962933_n.jpg
END:VEVENT
BEGIN:VEVENT
DTSTART;TZID=America/Los_Angeles:20290620T210000
DTEND;TZID=America/Los_Angeles:20290621T010000
DTSTAMP:20260421T074308
CREATED:20221108T042345Z
LAST-MODIFIED:20251230T203438Z
UID:10267629-1876683600-1876698000@golatindance.com
SUMMARY:El Timbon
DESCRIPTION:El Timbon at Upcider. Timba y música Cubana with DJ @waltdigz 9pm – 1am.
URL:https://golatindance.com/event/el-timbon/2029-06-20/
LOCATION:Upcider\, 1160 Polk St\, San Francisco\, United States
CATEGORIES:San Francisco
ATTACH;FMTTYPE=image/jpeg:https://golatindance.com/wp-content/uploads/2022/11/448804496_10161408513993864_4910762915102962933_n.jpg
END:VEVENT
BEGIN:VEVENT
DTSTART;TZID=America/Los_Angeles:20290627T210000
DTEND;TZID=America/Los_Angeles:20290628T010000
DTSTAMP:20260421T074308
CREATED:20221108T042345Z
LAST-MODIFIED:20251230T203438Z
UID:10321928-1877288400-1877302800@golatindance.com
SUMMARY:El Timbon
DESCRIPTION:El Timbon at Upcider. Timba y música Cubana with DJ @waltdigz 9pm – 1am.
URL:https://golatindance.com/event/el-timbon/2029-06-27/
LOCATION:Upcider\, 1160 Polk St\, San Francisco\, United States
CATEGORIES:San Francisco
ATTACH;FMTTYPE=image/jpeg:https://golatindance.com/wp-content/uploads/2022/11/448804496_10161408513993864_4910762915102962933_n.jpg
END:VEVENT
BEGIN:VEVENT
DTSTART;TZID=America/Los_Angeles:20290704T210000
DTEND;TZID=America/Los_Angeles:20290705T010000
DTSTAMP:20260421T074308
CREATED:20221108T042345Z
LAST-MODIFIED:20251230T203438Z
UID:10321929-1877893200-1877907600@golatindance.com
SUMMARY:El Timbon
DESCRIPTION:El Timbon at Upcider. Timba y música Cubana with DJ @waltdigz 9pm – 1am.
URL:https://golatindance.com/event/el-timbon/2029-07-04/
LOCATION:Upcider\, 1160 Polk St\, San Francisco\, United States
CATEGORIES:San Francisco
ATTACH;FMTTYPE=image/jpeg:https://golatindance.com/wp-content/uploads/2022/11/448804496_10161408513993864_4910762915102962933_n.jpg
END:VEVENT
BEGIN:VEVENT
DTSTART;TZID=America/Los_Angeles:20290711T210000
DTEND;TZID=America/Los_Angeles:20290712T010000
DTSTAMP:20260421T074308
CREATED:20221108T042345Z
LAST-MODIFIED:20251230T203438Z
UID:10321930-1878498000-1878512400@golatindance.com
SUMMARY:El Timbon
DESCRIPTION:El Timbon at Upcider. Timba y música Cubana with DJ @waltdigz 9pm – 1am.
URL:https://golatindance.com/event/el-timbon/2029-07-11/
LOCATION:Upcider\, 1160 Polk St\, San Francisco\, United States
CATEGORIES:San Francisco
ATTACH;FMTTYPE=image/jpeg:https://golatindance.com/wp-content/uploads/2022/11/448804496_10161408513993864_4910762915102962933_n.jpg
END:VEVENT
BEGIN:VEVENT
DTSTART;TZID=America/Los_Angeles:20290718T210000
DTEND;TZID=America/Los_Angeles:20290719T010000
DTSTAMP:20260421T074308
CREATED:20221108T042345Z
LAST-MODIFIED:20251230T203438Z
UID:10321931-1879102800-1879117200@golatindance.com
SUMMARY:El Timbon
DESCRIPTION:El Timbon at Upcider. Timba y música Cubana with DJ @waltdigz 9pm – 1am.
URL:https://golatindance.com/event/el-timbon/2029-07-18/
LOCATION:Upcider\, 1160 Polk St\, San Francisco\, United States
CATEGORIES:San Francisco
ATTACH;FMTTYPE=image/jpeg:https://golatindance.com/wp-content/uploads/2022/11/448804496_10161408513993864_4910762915102962933_n.jpg
END:VEVENT
END:VCALENDAR