BEGIN:VCALENDAR
VERSION:2.0
PRODID:-//GO Latin Dance - ECPv6.15.18//NONSGML v1.0//EN
CALSCALE:GREGORIAN
METHOD:PUBLISH
X-WR-CALNAME:GO Latin Dance
X-ORIGINAL-URL:https://golatindance.com
X-WR-CALDESC:Events for GO Latin Dance
REFRESH-INTERVAL;VALUE=DURATION:PT1H
X-Robots-Tag:noindex
X-PUBLISHED-TTL:PT1H
BEGIN:VTIMEZONE
TZID:America/Los_Angeles
BEGIN:DAYLIGHT
TZOFFSETFROM:-0800
TZOFFSETTO:-0700
TZNAME:PDT
DTSTART:20280312T100000
END:DAYLIGHT
BEGIN:STANDARD
TZOFFSETFROM:-0700
TZOFFSETTO:-0800
TZNAME:PST
DTSTART:20281105T090000
END:STANDARD
BEGIN:DAYLIGHT
TZOFFSETFROM:-0800
TZOFFSETTO:-0700
TZNAME:PDT
DTSTART:20290311T100000
END:DAYLIGHT
BEGIN:STANDARD
TZOFFSETFROM:-0700
TZOFFSETTO:-0800
TZNAME:PST
DTSTART:20291104T090000
END:STANDARD
BEGIN:DAYLIGHT
TZOFFSETFROM:-0800
TZOFFSETTO:-0700
TZNAME:PDT
DTSTART:20300310T100000
END:DAYLIGHT
BEGIN:STANDARD
TZOFFSETFROM:-0700
TZOFFSETTO:-0800
TZNAME:PST
DTSTART:20301103T090000
END:STANDARD
BEGIN:DAYLIGHT
TZOFFSETFROM:-0800
TZOFFSETTO:-0700
TZNAME:PDT
DTSTART:20310309T100000
END:DAYLIGHT
BEGIN:STANDARD
TZOFFSETFROM:-0700
TZOFFSETTO:-0800
TZNAME:PST
DTSTART:20311102T090000
END:STANDARD
END:VTIMEZONE
BEGIN:VEVENT
DTSTART;TZID=America/Los_Angeles:20290725T210000
DTEND;TZID=America/Los_Angeles:20290726T010000
DTSTAMP:20260421T112555
CREATED:20221108T042345Z
LAST-MODIFIED:20251230T203438Z
UID:10321932-1879707600-1879722000@golatindance.com
SUMMARY:El Timbon
DESCRIPTION:El Timbon at Upcider. Timba y música Cubana with DJ @waltdigz 9pm – 1am.
URL:https://golatindance.com/event/el-timbon/2029-07-25/
LOCATION:Upcider\, 1160 Polk St\, San Francisco\, United States
CATEGORIES:San Francisco
ATTACH;FMTTYPE=image/jpeg:https://golatindance.com/wp-content/uploads/2022/11/448804496_10161408513993864_4910762915102962933_n.jpg
END:VEVENT
BEGIN:VEVENT
DTSTART;TZID=America/Los_Angeles:20290801T210000
DTEND;TZID=America/Los_Angeles:20290802T010000
DTSTAMP:20260421T112555
CREATED:20221108T042345Z
LAST-MODIFIED:20251230T203438Z
UID:10321933-1880312400-1880326800@golatindance.com
SUMMARY:El Timbon
DESCRIPTION:El Timbon at Upcider. Timba y música Cubana with DJ @waltdigz 9pm – 1am.
URL:https://golatindance.com/event/el-timbon/2029-08-01/
LOCATION:Upcider\, 1160 Polk St\, San Francisco\, United States
CATEGORIES:San Francisco
ATTACH;FMTTYPE=image/jpeg:https://golatindance.com/wp-content/uploads/2022/11/448804496_10161408513993864_4910762915102962933_n.jpg
END:VEVENT
BEGIN:VEVENT
DTSTART;TZID=America/Los_Angeles:20290808T210000
DTEND;TZID=America/Los_Angeles:20290809T010000
DTSTAMP:20260421T112555
CREATED:20221108T042345Z
LAST-MODIFIED:20251230T203438Z
UID:10321934-1880917200-1880931600@golatindance.com
SUMMARY:El Timbon
DESCRIPTION:El Timbon at Upcider. Timba y música Cubana with DJ @waltdigz 9pm – 1am.
URL:https://golatindance.com/event/el-timbon/2029-08-08/
LOCATION:Upcider\, 1160 Polk St\, San Francisco\, United States
CATEGORIES:San Francisco
ATTACH;FMTTYPE=image/jpeg:https://golatindance.com/wp-content/uploads/2022/11/448804496_10161408513993864_4910762915102962933_n.jpg
END:VEVENT
BEGIN:VEVENT
DTSTART;TZID=America/Los_Angeles:20290815T210000
DTEND;TZID=America/Los_Angeles:20290816T010000
DTSTAMP:20260421T112555
CREATED:20221108T042345Z
LAST-MODIFIED:20251230T203438Z
UID:10321935-1881522000-1881536400@golatindance.com
SUMMARY:El Timbon
DESCRIPTION:El Timbon at Upcider. Timba y música Cubana with DJ @waltdigz 9pm – 1am.
URL:https://golatindance.com/event/el-timbon/2029-08-15/
LOCATION:Upcider\, 1160 Polk St\, San Francisco\, United States
CATEGORIES:San Francisco
ATTACH;FMTTYPE=image/jpeg:https://golatindance.com/wp-content/uploads/2022/11/448804496_10161408513993864_4910762915102962933_n.jpg
END:VEVENT
BEGIN:VEVENT
DTSTART;TZID=America/Los_Angeles:20290822T210000
DTEND;TZID=America/Los_Angeles:20290823T010000
DTSTAMP:20260421T112555
CREATED:20221108T042345Z
LAST-MODIFIED:20251230T203438Z
UID:10321936-1882126800-1882141200@golatindance.com
SUMMARY:El Timbon
DESCRIPTION:El Timbon at Upcider. Timba y música Cubana with DJ @waltdigz 9pm – 1am.
URL:https://golatindance.com/event/el-timbon/2029-08-22/
LOCATION:Upcider\, 1160 Polk St\, San Francisco\, United States
CATEGORIES:San Francisco
ATTACH;FMTTYPE=image/jpeg:https://golatindance.com/wp-content/uploads/2022/11/448804496_10161408513993864_4910762915102962933_n.jpg
END:VEVENT
BEGIN:VEVENT
DTSTART;TZID=America/Los_Angeles:20290829T210000
DTEND;TZID=America/Los_Angeles:20290830T010000
DTSTAMP:20260421T112555
CREATED:20221108T042345Z
LAST-MODIFIED:20251230T203438Z
UID:10321937-1882731600-1882746000@golatindance.com
SUMMARY:El Timbon
DESCRIPTION:El Timbon at Upcider. Timba y música Cubana with DJ @waltdigz 9pm – 1am.
URL:https://golatindance.com/event/el-timbon/2029-08-29/
LOCATION:Upcider\, 1160 Polk St\, San Francisco\, United States
CATEGORIES:San Francisco
ATTACH;FMTTYPE=image/jpeg:https://golatindance.com/wp-content/uploads/2022/11/448804496_10161408513993864_4910762915102962933_n.jpg
END:VEVENT
BEGIN:VEVENT
DTSTART;TZID=America/Los_Angeles:20290905T210000
DTEND;TZID=America/Los_Angeles:20290906T010000
DTSTAMP:20260421T112555
CREATED:20221108T042345Z
LAST-MODIFIED:20251230T203438Z
UID:10321938-1883336400-1883350800@golatindance.com
SUMMARY:El Timbon
DESCRIPTION:El Timbon at Upcider. Timba y música Cubana with DJ @waltdigz 9pm – 1am.
URL:https://golatindance.com/event/el-timbon/2029-09-05/
LOCATION:Upcider\, 1160 Polk St\, San Francisco\, United States
CATEGORIES:San Francisco
ATTACH;FMTTYPE=image/jpeg:https://golatindance.com/wp-content/uploads/2022/11/448804496_10161408513993864_4910762915102962933_n.jpg
END:VEVENT
BEGIN:VEVENT
DTSTART;TZID=America/Los_Angeles:20290912T210000
DTEND;TZID=America/Los_Angeles:20290913T010000
DTSTAMP:20260421T112555
CREATED:20221108T042345Z
LAST-MODIFIED:20251230T203438Z
UID:10321939-1883941200-1883955600@golatindance.com
SUMMARY:El Timbon
DESCRIPTION:El Timbon at Upcider. Timba y música Cubana with DJ @waltdigz 9pm – 1am.
URL:https://golatindance.com/event/el-timbon/2029-09-12/
LOCATION:Upcider\, 1160 Polk St\, San Francisco\, United States
CATEGORIES:San Francisco
ATTACH;FMTTYPE=image/jpeg:https://golatindance.com/wp-content/uploads/2022/11/448804496_10161408513993864_4910762915102962933_n.jpg
END:VEVENT
BEGIN:VEVENT
DTSTART;TZID=America/Los_Angeles:20290919T210000
DTEND;TZID=America/Los_Angeles:20290920T010000
DTSTAMP:20260421T112555
CREATED:20221108T042345Z
LAST-MODIFIED:20251230T203438Z
UID:10321940-1884546000-1884560400@golatindance.com
SUMMARY:El Timbon
DESCRIPTION:El Timbon at Upcider. Timba y música Cubana with DJ @waltdigz 9pm – 1am.
URL:https://golatindance.com/event/el-timbon/2029-09-19/
LOCATION:Upcider\, 1160 Polk St\, San Francisco\, United States
CATEGORIES:San Francisco
ATTACH;FMTTYPE=image/jpeg:https://golatindance.com/wp-content/uploads/2022/11/448804496_10161408513993864_4910762915102962933_n.jpg
END:VEVENT
BEGIN:VEVENT
DTSTART;TZID=America/Los_Angeles:20290926T210000
DTEND;TZID=America/Los_Angeles:20290927T010000
DTSTAMP:20260421T112555
CREATED:20221108T042345Z
LAST-MODIFIED:20251230T203438Z
UID:10321941-1885150800-1885165200@golatindance.com
SUMMARY:El Timbon
DESCRIPTION:El Timbon at Upcider. Timba y música Cubana with DJ @waltdigz 9pm – 1am.
URL:https://golatindance.com/event/el-timbon/2029-09-26/
LOCATION:Upcider\, 1160 Polk St\, San Francisco\, United States
CATEGORIES:San Francisco
ATTACH;FMTTYPE=image/jpeg:https://golatindance.com/wp-content/uploads/2022/11/448804496_10161408513993864_4910762915102962933_n.jpg
END:VEVENT
BEGIN:VEVENT
DTSTART;TZID=America/Los_Angeles:20291003T210000
DTEND;TZID=America/Los_Angeles:20291004T010000
DTSTAMP:20260421T112555
CREATED:20221108T042345Z
LAST-MODIFIED:20251230T203438Z
UID:10321942-1885755600-1885770000@golatindance.com
SUMMARY:El Timbon
DESCRIPTION:El Timbon at Upcider. Timba y música Cubana with DJ @waltdigz 9pm – 1am.
URL:https://golatindance.com/event/el-timbon/2029-10-03/
LOCATION:Upcider\, 1160 Polk St\, San Francisco\, United States
CATEGORIES:San Francisco
ATTACH;FMTTYPE=image/jpeg:https://golatindance.com/wp-content/uploads/2022/11/448804496_10161408513993864_4910762915102962933_n.jpg
END:VEVENT
BEGIN:VEVENT
DTSTART;TZID=America/Los_Angeles:20291010T210000
DTEND;TZID=America/Los_Angeles:20291011T010000
DTSTAMP:20260421T112555
CREATED:20221108T042345Z
LAST-MODIFIED:20251230T203438Z
UID:10321943-1886360400-1886374800@golatindance.com
SUMMARY:El Timbon
DESCRIPTION:El Timbon at Upcider. Timba y música Cubana with DJ @waltdigz 9pm – 1am.
URL:https://golatindance.com/event/el-timbon/2029-10-10/
LOCATION:Upcider\, 1160 Polk St\, San Francisco\, United States
CATEGORIES:San Francisco
ATTACH;FMTTYPE=image/jpeg:https://golatindance.com/wp-content/uploads/2022/11/448804496_10161408513993864_4910762915102962933_n.jpg
END:VEVENT
BEGIN:VEVENT
DTSTART;TZID=America/Los_Angeles:20291017T210000
DTEND;TZID=America/Los_Angeles:20291018T010000
DTSTAMP:20260421T112555
CREATED:20221108T042345Z
LAST-MODIFIED:20251230T203438Z
UID:10321944-1886965200-1886979600@golatindance.com
SUMMARY:El Timbon
DESCRIPTION:El Timbon at Upcider. Timba y música Cubana with DJ @waltdigz 9pm – 1am.
URL:https://golatindance.com/event/el-timbon/2029-10-17/
LOCATION:Upcider\, 1160 Polk St\, San Francisco\, United States
CATEGORIES:San Francisco
ATTACH;FMTTYPE=image/jpeg:https://golatindance.com/wp-content/uploads/2022/11/448804496_10161408513993864_4910762915102962933_n.jpg
END:VEVENT
BEGIN:VEVENT
DTSTART;TZID=America/Los_Angeles:20291024T210000
DTEND;TZID=America/Los_Angeles:20291025T010000
DTSTAMP:20260421T112555
CREATED:20221108T042345Z
LAST-MODIFIED:20251230T203438Z
UID:10321945-1887570000-1887584400@golatindance.com
SUMMARY:El Timbon
DESCRIPTION:El Timbon at Upcider. Timba y música Cubana with DJ @waltdigz 9pm – 1am.
URL:https://golatindance.com/event/el-timbon/2029-10-24/
LOCATION:Upcider\, 1160 Polk St\, San Francisco\, United States
CATEGORIES:San Francisco
ATTACH;FMTTYPE=image/jpeg:https://golatindance.com/wp-content/uploads/2022/11/448804496_10161408513993864_4910762915102962933_n.jpg
END:VEVENT
BEGIN:VEVENT
DTSTART;TZID=America/Los_Angeles:20291031T210000
DTEND;TZID=America/Los_Angeles:20291101T010000
DTSTAMP:20260421T112555
CREATED:20221108T042345Z
LAST-MODIFIED:20251230T203438Z
UID:10321946-1888174800-1888189200@golatindance.com
SUMMARY:El Timbon
DESCRIPTION:El Timbon at Upcider. Timba y música Cubana with DJ @waltdigz 9pm – 1am.
URL:https://golatindance.com/event/el-timbon/2029-10-31/
LOCATION:Upcider\, 1160 Polk St\, San Francisco\, United States
CATEGORIES:San Francisco
ATTACH;FMTTYPE=image/jpeg:https://golatindance.com/wp-content/uploads/2022/11/448804496_10161408513993864_4910762915102962933_n.jpg
END:VEVENT
BEGIN:VEVENT
DTSTART;TZID=America/Los_Angeles:20291107T210000
DTEND;TZID=America/Los_Angeles:20291108T010000
DTSTAMP:20260421T112555
CREATED:20221108T042345Z
LAST-MODIFIED:20251230T203438Z
UID:10321947-1888779600-1888794000@golatindance.com
SUMMARY:El Timbon
DESCRIPTION:El Timbon at Upcider. Timba y música Cubana with DJ @waltdigz 9pm – 1am.
URL:https://golatindance.com/event/el-timbon/2029-11-07/
LOCATION:Upcider\, 1160 Polk St\, San Francisco\, United States
CATEGORIES:San Francisco
ATTACH;FMTTYPE=image/jpeg:https://golatindance.com/wp-content/uploads/2022/11/448804496_10161408513993864_4910762915102962933_n.jpg
END:VEVENT
BEGIN:VEVENT
DTSTART;TZID=America/Los_Angeles:20291114T210000
DTEND;TZID=America/Los_Angeles:20291115T010000
DTSTAMP:20260421T112555
CREATED:20221108T042345Z
LAST-MODIFIED:20251230T203438Z
UID:10321948-1889384400-1889398800@golatindance.com
SUMMARY:El Timbon
DESCRIPTION:El Timbon at Upcider. Timba y música Cubana with DJ @waltdigz 9pm – 1am.
URL:https://golatindance.com/event/el-timbon/2029-11-14/
LOCATION:Upcider\, 1160 Polk St\, San Francisco\, United States
CATEGORIES:San Francisco
ATTACH;FMTTYPE=image/jpeg:https://golatindance.com/wp-content/uploads/2022/11/448804496_10161408513993864_4910762915102962933_n.jpg
END:VEVENT
BEGIN:VEVENT
DTSTART;TZID=America/Los_Angeles:20291121T210000
DTEND;TZID=America/Los_Angeles:20291122T010000
DTSTAMP:20260421T112555
CREATED:20221108T042345Z
LAST-MODIFIED:20251230T203438Z
UID:10321949-1889989200-1890003600@golatindance.com
SUMMARY:El Timbon
DESCRIPTION:El Timbon at Upcider. Timba y música Cubana with DJ @waltdigz 9pm – 1am.
URL:https://golatindance.com/event/el-timbon/2029-11-21/
LOCATION:Upcider\, 1160 Polk St\, San Francisco\, United States
CATEGORIES:San Francisco
ATTACH;FMTTYPE=image/jpeg:https://golatindance.com/wp-content/uploads/2022/11/448804496_10161408513993864_4910762915102962933_n.jpg
END:VEVENT
BEGIN:VEVENT
DTSTART;TZID=America/Los_Angeles:20291128T210000
DTEND;TZID=America/Los_Angeles:20291129T010000
DTSTAMP:20260421T112555
CREATED:20221108T042345Z
LAST-MODIFIED:20251230T203438Z
UID:10321950-1890594000-1890608400@golatindance.com
SUMMARY:El Timbon
DESCRIPTION:El Timbon at Upcider. Timba y música Cubana with DJ @waltdigz 9pm – 1am.
URL:https://golatindance.com/event/el-timbon/2029-11-28/
LOCATION:Upcider\, 1160 Polk St\, San Francisco\, United States
CATEGORIES:San Francisco
ATTACH;FMTTYPE=image/jpeg:https://golatindance.com/wp-content/uploads/2022/11/448804496_10161408513993864_4910762915102962933_n.jpg
END:VEVENT
BEGIN:VEVENT
DTSTART;TZID=America/Los_Angeles:20291205T210000
DTEND;TZID=America/Los_Angeles:20291206T010000
DTSTAMP:20260421T112555
CREATED:20221108T042345Z
LAST-MODIFIED:20251230T203438Z
UID:10321951-1891198800-1891213200@golatindance.com
SUMMARY:El Timbon
DESCRIPTION:El Timbon at Upcider. Timba y música Cubana with DJ @waltdigz 9pm – 1am.
URL:https://golatindance.com/event/el-timbon/2029-12-05/
LOCATION:Upcider\, 1160 Polk St\, San Francisco\, United States
CATEGORIES:San Francisco
ATTACH;FMTTYPE=image/jpeg:https://golatindance.com/wp-content/uploads/2022/11/448804496_10161408513993864_4910762915102962933_n.jpg
END:VEVENT
BEGIN:VEVENT
DTSTART;TZID=America/Los_Angeles:20291212T210000
DTEND;TZID=America/Los_Angeles:20291213T010000
DTSTAMP:20260421T112555
CREATED:20221108T042345Z
LAST-MODIFIED:20251230T203438Z
UID:10321952-1891803600-1891818000@golatindance.com
SUMMARY:El Timbon
DESCRIPTION:El Timbon at Upcider. Timba y música Cubana with DJ @waltdigz 9pm – 1am.
URL:https://golatindance.com/event/el-timbon/2029-12-12/
LOCATION:Upcider\, 1160 Polk St\, San Francisco\, United States
CATEGORIES:San Francisco
ATTACH;FMTTYPE=image/jpeg:https://golatindance.com/wp-content/uploads/2022/11/448804496_10161408513993864_4910762915102962933_n.jpg
END:VEVENT
BEGIN:VEVENT
DTSTART;TZID=America/Los_Angeles:20291219T210000
DTEND;TZID=America/Los_Angeles:20291220T010000
DTSTAMP:20260421T112555
CREATED:20221108T042345Z
LAST-MODIFIED:20251230T203438Z
UID:10427751-1892408400-1892422800@golatindance.com
SUMMARY:El Timbon
DESCRIPTION:El Timbon at Upcider. Timba y música Cubana with DJ @waltdigz 9pm – 1am.
URL:https://golatindance.com/event/el-timbon/2029-12-19/
LOCATION:Upcider\, 1160 Polk St\, San Francisco\, United States
CATEGORIES:San Francisco
ATTACH;FMTTYPE=image/jpeg:https://golatindance.com/wp-content/uploads/2022/11/448804496_10161408513993864_4910762915102962933_n.jpg
END:VEVENT
BEGIN:VEVENT
DTSTART;TZID=America/Los_Angeles:20291226T210000
DTEND;TZID=America/Los_Angeles:20291227T010000
DTSTAMP:20260421T112555
CREATED:20221108T042345Z
LAST-MODIFIED:20251230T203438Z
UID:10427752-1893013200-1893027600@golatindance.com
SUMMARY:El Timbon
DESCRIPTION:El Timbon at Upcider. Timba y música Cubana with DJ @waltdigz 9pm – 1am.
URL:https://golatindance.com/event/el-timbon/2029-12-26/
LOCATION:Upcider\, 1160 Polk St\, San Francisco\, United States
CATEGORIES:San Francisco
ATTACH;FMTTYPE=image/jpeg:https://golatindance.com/wp-content/uploads/2022/11/448804496_10161408513993864_4910762915102962933_n.jpg
END:VEVENT
BEGIN:VEVENT
DTSTART;TZID=America/Los_Angeles:20300102T210000
DTEND;TZID=America/Los_Angeles:20300103T010000
DTSTAMP:20260421T112555
CREATED:20221108T042345Z
LAST-MODIFIED:20251230T203438Z
UID:10427753-1893618000-1893632400@golatindance.com
SUMMARY:El Timbon
DESCRIPTION:El Timbon at Upcider. Timba y música Cubana with DJ @waltdigz 9pm – 1am.
URL:https://golatindance.com/event/el-timbon/2030-01-02/
LOCATION:Upcider\, 1160 Polk St\, San Francisco\, United States
CATEGORIES:San Francisco
ATTACH;FMTTYPE=image/jpeg:https://golatindance.com/wp-content/uploads/2022/11/448804496_10161408513993864_4910762915102962933_n.jpg
END:VEVENT
BEGIN:VEVENT
DTSTART;TZID=America/Los_Angeles:20300109T210000
DTEND;TZID=America/Los_Angeles:20300110T010000
DTSTAMP:20260421T112555
CREATED:20221108T042345Z
LAST-MODIFIED:20251230T203438Z
UID:10427754-1894222800-1894237200@golatindance.com
SUMMARY:El Timbon
DESCRIPTION:El Timbon at Upcider. Timba y música Cubana with DJ @waltdigz 9pm – 1am.
URL:https://golatindance.com/event/el-timbon/2030-01-09/
LOCATION:Upcider\, 1160 Polk St\, San Francisco\, United States
CATEGORIES:San Francisco
ATTACH;FMTTYPE=image/jpeg:https://golatindance.com/wp-content/uploads/2022/11/448804496_10161408513993864_4910762915102962933_n.jpg
END:VEVENT
BEGIN:VEVENT
DTSTART;TZID=America/Los_Angeles:20300116T210000
DTEND;TZID=America/Los_Angeles:20300117T010000
DTSTAMP:20260421T112555
CREATED:20221108T042345Z
LAST-MODIFIED:20251230T203438Z
UID:10427755-1894827600-1894842000@golatindance.com
SUMMARY:El Timbon
DESCRIPTION:El Timbon at Upcider. Timba y música Cubana with DJ @waltdigz 9pm – 1am.
URL:https://golatindance.com/event/el-timbon/2030-01-16/
LOCATION:Upcider\, 1160 Polk St\, San Francisco\, United States
CATEGORIES:San Francisco
ATTACH;FMTTYPE=image/jpeg:https://golatindance.com/wp-content/uploads/2022/11/448804496_10161408513993864_4910762915102962933_n.jpg
END:VEVENT
BEGIN:VEVENT
DTSTART;TZID=America/Los_Angeles:20300123T210000
DTEND;TZID=America/Los_Angeles:20300124T010000
DTSTAMP:20260421T112555
CREATED:20221108T042345Z
LAST-MODIFIED:20251230T203438Z
UID:10427756-1895432400-1895446800@golatindance.com
SUMMARY:El Timbon
DESCRIPTION:El Timbon at Upcider. Timba y música Cubana with DJ @waltdigz 9pm – 1am.
URL:https://golatindance.com/event/el-timbon/2030-01-23/
LOCATION:Upcider\, 1160 Polk St\, San Francisco\, United States
CATEGORIES:San Francisco
ATTACH;FMTTYPE=image/jpeg:https://golatindance.com/wp-content/uploads/2022/11/448804496_10161408513993864_4910762915102962933_n.jpg
END:VEVENT
BEGIN:VEVENT
DTSTART;TZID=America/Los_Angeles:20300130T210000
DTEND;TZID=America/Los_Angeles:20300131T010000
DTSTAMP:20260421T112555
CREATED:20221108T042345Z
LAST-MODIFIED:20251230T203438Z
UID:10427757-1896037200-1896051600@golatindance.com
SUMMARY:El Timbon
DESCRIPTION:El Timbon at Upcider. Timba y música Cubana with DJ @waltdigz 9pm – 1am.
URL:https://golatindance.com/event/el-timbon/2030-01-30/
LOCATION:Upcider\, 1160 Polk St\, San Francisco\, United States
CATEGORIES:San Francisco
ATTACH;FMTTYPE=image/jpeg:https://golatindance.com/wp-content/uploads/2022/11/448804496_10161408513993864_4910762915102962933_n.jpg
END:VEVENT
BEGIN:VEVENT
DTSTART;TZID=America/Los_Angeles:20300206T210000
DTEND;TZID=America/Los_Angeles:20300207T010000
DTSTAMP:20260421T112555
CREATED:20221108T042345Z
LAST-MODIFIED:20251230T203438Z
UID:10427758-1896642000-1896656400@golatindance.com
SUMMARY:El Timbon
DESCRIPTION:El Timbon at Upcider. Timba y música Cubana with DJ @waltdigz 9pm – 1am.
URL:https://golatindance.com/event/el-timbon/2030-02-06/
LOCATION:Upcider\, 1160 Polk St\, San Francisco\, United States
CATEGORIES:San Francisco
ATTACH;FMTTYPE=image/jpeg:https://golatindance.com/wp-content/uploads/2022/11/448804496_10161408513993864_4910762915102962933_n.jpg
END:VEVENT
BEGIN:VEVENT
DTSTART;TZID=America/Los_Angeles:20300213T210000
DTEND;TZID=America/Los_Angeles:20300214T010000
DTSTAMP:20260421T112555
CREATED:20221108T042345Z
LAST-MODIFIED:20251230T203438Z
UID:10427759-1897246800-1897261200@golatindance.com
SUMMARY:El Timbon
DESCRIPTION:El Timbon at Upcider. Timba y música Cubana with DJ @waltdigz 9pm – 1am.
URL:https://golatindance.com/event/el-timbon/2030-02-13/
LOCATION:Upcider\, 1160 Polk St\, San Francisco\, United States
CATEGORIES:San Francisco
ATTACH;FMTTYPE=image/jpeg:https://golatindance.com/wp-content/uploads/2022/11/448804496_10161408513993864_4910762915102962933_n.jpg
END:VEVENT
END:VCALENDAR