BEGIN:VCALENDAR
VERSION:2.0
PRODID:-//GO Latin Dance - ECPv6.15.18//NONSGML v1.0//EN
CALSCALE:GREGORIAN
METHOD:PUBLISH
X-WR-CALNAME:GO Latin Dance
X-ORIGINAL-URL:https://golatindance.com
X-WR-CALDESC:Events for GO Latin Dance
REFRESH-INTERVAL;VALUE=DURATION:PT1H
X-Robots-Tag:noindex
X-PUBLISHED-TTL:PT1H
BEGIN:VTIMEZONE
TZID:America/Los_Angeles
BEGIN:DAYLIGHT
TZOFFSETFROM:-0800
TZOFFSETTO:-0700
TZNAME:PDT
DTSTART:20290311T100000
END:DAYLIGHT
BEGIN:STANDARD
TZOFFSETFROM:-0700
TZOFFSETTO:-0800
TZNAME:PST
DTSTART:20291104T090000
END:STANDARD
BEGIN:DAYLIGHT
TZOFFSETFROM:-0800
TZOFFSETTO:-0700
TZNAME:PDT
DTSTART:20300310T100000
END:DAYLIGHT
BEGIN:STANDARD
TZOFFSETFROM:-0700
TZOFFSETTO:-0800
TZNAME:PST
DTSTART:20301103T090000
END:STANDARD
BEGIN:DAYLIGHT
TZOFFSETFROM:-0800
TZOFFSETTO:-0700
TZNAME:PDT
DTSTART:20310309T100000
END:DAYLIGHT
BEGIN:STANDARD
TZOFFSETFROM:-0700
TZOFFSETTO:-0800
TZNAME:PST
DTSTART:20311102T090000
END:STANDARD
END:VTIMEZONE
BEGIN:VEVENT
DTSTART;TZID=America/Los_Angeles:20300918T210000
DTEND;TZID=America/Los_Angeles:20300919T010000
DTSTAMP:20260421T194610
CREATED:20221108T042345Z
LAST-MODIFIED:20251230T203438Z
UID:10427790-1915995600-1916010000@golatindance.com
SUMMARY:El Timbon
DESCRIPTION:El Timbon at Upcider. Timba y música Cubana with DJ @waltdigz 9pm – 1am.
URL:https://golatindance.com/event/el-timbon/2030-09-18/
LOCATION:Upcider\, 1160 Polk St\, San Francisco\, United States
CATEGORIES:San Francisco
ATTACH;FMTTYPE=image/jpeg:https://golatindance.com/wp-content/uploads/2022/11/448804496_10161408513993864_4910762915102962933_n.jpg
END:VEVENT
BEGIN:VEVENT
DTSTART;TZID=America/Los_Angeles:20300925T210000
DTEND;TZID=America/Los_Angeles:20300926T010000
DTSTAMP:20260421T194610
CREATED:20221108T042345Z
LAST-MODIFIED:20251230T203438Z
UID:10427791-1916600400-1916614800@golatindance.com
SUMMARY:El Timbon
DESCRIPTION:El Timbon at Upcider. Timba y música Cubana with DJ @waltdigz 9pm – 1am.
URL:https://golatindance.com/event/el-timbon/2030-09-25/
LOCATION:Upcider\, 1160 Polk St\, San Francisco\, United States
CATEGORIES:San Francisco
ATTACH;FMTTYPE=image/jpeg:https://golatindance.com/wp-content/uploads/2022/11/448804496_10161408513993864_4910762915102962933_n.jpg
END:VEVENT
BEGIN:VEVENT
DTSTART;TZID=America/Los_Angeles:20301002T210000
DTEND;TZID=America/Los_Angeles:20301003T010000
DTSTAMP:20260421T194610
CREATED:20221108T042345Z
LAST-MODIFIED:20251230T203438Z
UID:10427792-1917205200-1917219600@golatindance.com
SUMMARY:El Timbon
DESCRIPTION:El Timbon at Upcider. Timba y música Cubana with DJ @waltdigz 9pm – 1am.
URL:https://golatindance.com/event/el-timbon/2030-10-02/
LOCATION:Upcider\, 1160 Polk St\, San Francisco\, United States
CATEGORIES:San Francisco
ATTACH;FMTTYPE=image/jpeg:https://golatindance.com/wp-content/uploads/2022/11/448804496_10161408513993864_4910762915102962933_n.jpg
END:VEVENT
BEGIN:VEVENT
DTSTART;TZID=America/Los_Angeles:20301009T210000
DTEND;TZID=America/Los_Angeles:20301010T010000
DTSTAMP:20260421T194610
CREATED:20221108T042345Z
LAST-MODIFIED:20251230T203438Z
UID:10427793-1917810000-1917824400@golatindance.com
SUMMARY:El Timbon
DESCRIPTION:El Timbon at Upcider. Timba y música Cubana with DJ @waltdigz 9pm – 1am.
URL:https://golatindance.com/event/el-timbon/2030-10-09/
LOCATION:Upcider\, 1160 Polk St\, San Francisco\, United States
CATEGORIES:San Francisco
ATTACH;FMTTYPE=image/jpeg:https://golatindance.com/wp-content/uploads/2022/11/448804496_10161408513993864_4910762915102962933_n.jpg
END:VEVENT
BEGIN:VEVENT
DTSTART;TZID=America/Los_Angeles:20301016T210000
DTEND;TZID=America/Los_Angeles:20301017T010000
DTSTAMP:20260421T194610
CREATED:20221108T042345Z
LAST-MODIFIED:20251230T203438Z
UID:10427794-1918414800-1918429200@golatindance.com
SUMMARY:El Timbon
DESCRIPTION:El Timbon at Upcider. Timba y música Cubana with DJ @waltdigz 9pm – 1am.
URL:https://golatindance.com/event/el-timbon/2030-10-16/
LOCATION:Upcider\, 1160 Polk St\, San Francisco\, United States
CATEGORIES:San Francisco
ATTACH;FMTTYPE=image/jpeg:https://golatindance.com/wp-content/uploads/2022/11/448804496_10161408513993864_4910762915102962933_n.jpg
END:VEVENT
BEGIN:VEVENT
DTSTART;TZID=America/Los_Angeles:20301023T210000
DTEND;TZID=America/Los_Angeles:20301024T010000
DTSTAMP:20260421T194610
CREATED:20221108T042345Z
LAST-MODIFIED:20251230T203438Z
UID:10427795-1919019600-1919034000@golatindance.com
SUMMARY:El Timbon
DESCRIPTION:El Timbon at Upcider. Timba y música Cubana with DJ @waltdigz 9pm – 1am.
URL:https://golatindance.com/event/el-timbon/2030-10-23/
LOCATION:Upcider\, 1160 Polk St\, San Francisco\, United States
CATEGORIES:San Francisco
ATTACH;FMTTYPE=image/jpeg:https://golatindance.com/wp-content/uploads/2022/11/448804496_10161408513993864_4910762915102962933_n.jpg
END:VEVENT
BEGIN:VEVENT
DTSTART;TZID=America/Los_Angeles:20301030T210000
DTEND;TZID=America/Los_Angeles:20301031T010000
DTSTAMP:20260421T194610
CREATED:20221108T042345Z
LAST-MODIFIED:20251230T203438Z
UID:10427796-1919624400-1919638800@golatindance.com
SUMMARY:El Timbon
DESCRIPTION:El Timbon at Upcider. Timba y música Cubana with DJ @waltdigz 9pm – 1am.
URL:https://golatindance.com/event/el-timbon/2030-10-30/
LOCATION:Upcider\, 1160 Polk St\, San Francisco\, United States
CATEGORIES:San Francisco
ATTACH;FMTTYPE=image/jpeg:https://golatindance.com/wp-content/uploads/2022/11/448804496_10161408513993864_4910762915102962933_n.jpg
END:VEVENT
BEGIN:VEVENT
DTSTART;TZID=America/Los_Angeles:20301106T210000
DTEND;TZID=America/Los_Angeles:20301107T010000
DTSTAMP:20260421T194610
CREATED:20221108T042345Z
LAST-MODIFIED:20251230T203438Z
UID:10427797-1920229200-1920243600@golatindance.com
SUMMARY:El Timbon
DESCRIPTION:El Timbon at Upcider. Timba y música Cubana with DJ @waltdigz 9pm – 1am.
URL:https://golatindance.com/event/el-timbon/2030-11-06/
LOCATION:Upcider\, 1160 Polk St\, San Francisco\, United States
CATEGORIES:San Francisco
ATTACH;FMTTYPE=image/jpeg:https://golatindance.com/wp-content/uploads/2022/11/448804496_10161408513993864_4910762915102962933_n.jpg
END:VEVENT
BEGIN:VEVENT
DTSTART;TZID=America/Los_Angeles:20301113T210000
DTEND;TZID=America/Los_Angeles:20301114T010000
DTSTAMP:20260421T194610
CREATED:20221108T042345Z
LAST-MODIFIED:20251230T203438Z
UID:10427798-1920834000-1920848400@golatindance.com
SUMMARY:El Timbon
DESCRIPTION:El Timbon at Upcider. Timba y música Cubana with DJ @waltdigz 9pm – 1am.
URL:https://golatindance.com/event/el-timbon/2030-11-13/
LOCATION:Upcider\, 1160 Polk St\, San Francisco\, United States
CATEGORIES:San Francisco
ATTACH;FMTTYPE=image/jpeg:https://golatindance.com/wp-content/uploads/2022/11/448804496_10161408513993864_4910762915102962933_n.jpg
END:VEVENT
BEGIN:VEVENT
DTSTART;TZID=America/Los_Angeles:20301120T210000
DTEND;TZID=America/Los_Angeles:20301121T010000
DTSTAMP:20260421T194610
CREATED:20221108T042345Z
LAST-MODIFIED:20251230T203438Z
UID:10427799-1921438800-1921453200@golatindance.com
SUMMARY:El Timbon
DESCRIPTION:El Timbon at Upcider. Timba y música Cubana with DJ @waltdigz 9pm – 1am.
URL:https://golatindance.com/event/el-timbon/2030-11-20/
LOCATION:Upcider\, 1160 Polk St\, San Francisco\, United States
CATEGORIES:San Francisco
ATTACH;FMTTYPE=image/jpeg:https://golatindance.com/wp-content/uploads/2022/11/448804496_10161408513993864_4910762915102962933_n.jpg
END:VEVENT
BEGIN:VEVENT
DTSTART;TZID=America/Los_Angeles:20301127T210000
DTEND;TZID=America/Los_Angeles:20301128T010000
DTSTAMP:20260421T194610
CREATED:20221108T042345Z
LAST-MODIFIED:20251230T203438Z
UID:10427800-1922043600-1922058000@golatindance.com
SUMMARY:El Timbon
DESCRIPTION:El Timbon at Upcider. Timba y música Cubana with DJ @waltdigz 9pm – 1am.
URL:https://golatindance.com/event/el-timbon/2030-11-27/
LOCATION:Upcider\, 1160 Polk St\, San Francisco\, United States
CATEGORIES:San Francisco
ATTACH;FMTTYPE=image/jpeg:https://golatindance.com/wp-content/uploads/2022/11/448804496_10161408513993864_4910762915102962933_n.jpg
END:VEVENT
BEGIN:VEVENT
DTSTART;TZID=America/Los_Angeles:20301204T210000
DTEND;TZID=America/Los_Angeles:20301205T010000
DTSTAMP:20260421T194610
CREATED:20221108T042345Z
LAST-MODIFIED:20251230T203438Z
UID:10427801-1922648400-1922662800@golatindance.com
SUMMARY:El Timbon
DESCRIPTION:El Timbon at Upcider. Timba y música Cubana with DJ @waltdigz 9pm – 1am.
URL:https://golatindance.com/event/el-timbon/2030-12-04/
LOCATION:Upcider\, 1160 Polk St\, San Francisco\, United States
CATEGORIES:San Francisco
ATTACH;FMTTYPE=image/jpeg:https://golatindance.com/wp-content/uploads/2022/11/448804496_10161408513993864_4910762915102962933_n.jpg
END:VEVENT
BEGIN:VEVENT
DTSTART;TZID=America/Los_Angeles:20301211T210000
DTEND;TZID=America/Los_Angeles:20301212T010000
DTSTAMP:20260421T194610
CREATED:20221108T042345Z
LAST-MODIFIED:20251230T203438Z
UID:10427802-1923253200-1923267600@golatindance.com
SUMMARY:El Timbon
DESCRIPTION:El Timbon at Upcider. Timba y música Cubana with DJ @waltdigz 9pm – 1am.
URL:https://golatindance.com/event/el-timbon/2030-12-11/
LOCATION:Upcider\, 1160 Polk St\, San Francisco\, United States
CATEGORIES:San Francisco
ATTACH;FMTTYPE=image/jpeg:https://golatindance.com/wp-content/uploads/2022/11/448804496_10161408513993864_4910762915102962933_n.jpg
END:VEVENT
BEGIN:VEVENT
DTSTART;TZID=America/Los_Angeles:20301218T210000
DTEND;TZID=America/Los_Angeles:20301219T010000
DTSTAMP:20260421T194610
CREATED:20221108T042345Z
LAST-MODIFIED:20251230T203438Z
UID:10427803-1923858000-1923872400@golatindance.com
SUMMARY:El Timbon
DESCRIPTION:El Timbon at Upcider. Timba y música Cubana with DJ @waltdigz 9pm – 1am.
URL:https://golatindance.com/event/el-timbon/2030-12-18/
LOCATION:Upcider\, 1160 Polk St\, San Francisco\, United States
CATEGORIES:San Francisco
ATTACH;FMTTYPE=image/jpeg:https://golatindance.com/wp-content/uploads/2022/11/448804496_10161408513993864_4910762915102962933_n.jpg
END:VEVENT
BEGIN:VEVENT
DTSTART;TZID=America/Los_Angeles:20301225T210000
DTEND;TZID=America/Los_Angeles:20301226T010000
DTSTAMP:20260421T194610
CREATED:20221108T042345Z
LAST-MODIFIED:20251230T203438Z
UID:10427804-1924462800-1924477200@golatindance.com
SUMMARY:El Timbon
DESCRIPTION:El Timbon at Upcider. Timba y música Cubana with DJ @waltdigz 9pm – 1am.
URL:https://golatindance.com/event/el-timbon/2030-12-25/
LOCATION:Upcider\, 1160 Polk St\, San Francisco\, United States
CATEGORIES:San Francisco
ATTACH;FMTTYPE=image/jpeg:https://golatindance.com/wp-content/uploads/2022/11/448804496_10161408513993864_4910762915102962933_n.jpg
END:VEVENT
END:VCALENDAR