BEGIN:VCALENDAR
VERSION:2.0
PRODID:-//GO Latin Dance - ECPv6.15.18//NONSGML v1.0//EN
CALSCALE:GREGORIAN
METHOD:PUBLISH
X-WR-CALNAME:GO Latin Dance
X-ORIGINAL-URL:https://golatindance.com
X-WR-CALDESC:Events for GO Latin Dance
REFRESH-INTERVAL;VALUE=DURATION:PT1H
X-Robots-Tag:noindex
X-PUBLISHED-TTL:PT1H
BEGIN:VTIMEZONE
TZID:America/Los_Angeles
BEGIN:DAYLIGHT
TZOFFSETFROM:-0800
TZOFFSETTO:-0700
TZNAME:PDT
DTSTART:20290311T100000
END:DAYLIGHT
BEGIN:STANDARD
TZOFFSETFROM:-0700
TZOFFSETTO:-0800
TZNAME:PST
DTSTART:20291104T090000
END:STANDARD
BEGIN:DAYLIGHT
TZOFFSETFROM:-0800
TZOFFSETTO:-0700
TZNAME:PDT
DTSTART:20300310T100000
END:DAYLIGHT
BEGIN:STANDARD
TZOFFSETFROM:-0700
TZOFFSETTO:-0800
TZNAME:PST
DTSTART:20301103T090000
END:STANDARD
BEGIN:DAYLIGHT
TZOFFSETFROM:-0800
TZOFFSETTO:-0700
TZNAME:PDT
DTSTART:20310309T100000
END:DAYLIGHT
BEGIN:STANDARD
TZOFFSETFROM:-0700
TZOFFSETTO:-0800
TZNAME:PST
DTSTART:20311102T090000
END:STANDARD
END:VTIMEZONE
BEGIN:VEVENT
DTSTART;TZID=America/Los_Angeles:20301127T210000
DTEND;TZID=America/Los_Angeles:20301128T010000
DTSTAMP:20260421T210516
CREATED:20221108T042345Z
LAST-MODIFIED:20251230T203438Z
UID:10427800-1922043600-1922058000@golatindance.com
SUMMARY:El Timbon
DESCRIPTION:El Timbon at Upcider. Timba y música Cubana with DJ @waltdigz 9pm – 1am.
URL:https://golatindance.com/event/el-timbon/2030-11-27/
LOCATION:Upcider\, 1160 Polk St\, San Francisco\, United States
CATEGORIES:San Francisco
ATTACH;FMTTYPE=image/jpeg:https://golatindance.com/wp-content/uploads/2022/11/448804496_10161408513993864_4910762915102962933_n.jpg
END:VEVENT
BEGIN:VEVENT
DTSTART;TZID=America/Los_Angeles:20301204T210000
DTEND;TZID=America/Los_Angeles:20301205T010000
DTSTAMP:20260421T210516
CREATED:20221108T042345Z
LAST-MODIFIED:20251230T203438Z
UID:10427801-1922648400-1922662800@golatindance.com
SUMMARY:El Timbon
DESCRIPTION:El Timbon at Upcider. Timba y música Cubana with DJ @waltdigz 9pm – 1am.
URL:https://golatindance.com/event/el-timbon/2030-12-04/
LOCATION:Upcider\, 1160 Polk St\, San Francisco\, United States
CATEGORIES:San Francisco
ATTACH;FMTTYPE=image/jpeg:https://golatindance.com/wp-content/uploads/2022/11/448804496_10161408513993864_4910762915102962933_n.jpg
END:VEVENT
BEGIN:VEVENT
DTSTART;TZID=America/Los_Angeles:20301211T210000
DTEND;TZID=America/Los_Angeles:20301212T010000
DTSTAMP:20260421T210516
CREATED:20221108T042345Z
LAST-MODIFIED:20251230T203438Z
UID:10427802-1923253200-1923267600@golatindance.com
SUMMARY:El Timbon
DESCRIPTION:El Timbon at Upcider. Timba y música Cubana with DJ @waltdigz 9pm – 1am.
URL:https://golatindance.com/event/el-timbon/2030-12-11/
LOCATION:Upcider\, 1160 Polk St\, San Francisco\, United States
CATEGORIES:San Francisco
ATTACH;FMTTYPE=image/jpeg:https://golatindance.com/wp-content/uploads/2022/11/448804496_10161408513993864_4910762915102962933_n.jpg
END:VEVENT
BEGIN:VEVENT
DTSTART;TZID=America/Los_Angeles:20301218T210000
DTEND;TZID=America/Los_Angeles:20301219T010000
DTSTAMP:20260421T210516
CREATED:20221108T042345Z
LAST-MODIFIED:20251230T203438Z
UID:10427803-1923858000-1923872400@golatindance.com
SUMMARY:El Timbon
DESCRIPTION:El Timbon at Upcider. Timba y música Cubana with DJ @waltdigz 9pm – 1am.
URL:https://golatindance.com/event/el-timbon/2030-12-18/
LOCATION:Upcider\, 1160 Polk St\, San Francisco\, United States
CATEGORIES:San Francisco
ATTACH;FMTTYPE=image/jpeg:https://golatindance.com/wp-content/uploads/2022/11/448804496_10161408513993864_4910762915102962933_n.jpg
END:VEVENT
BEGIN:VEVENT
DTSTART;TZID=America/Los_Angeles:20301225T210000
DTEND;TZID=America/Los_Angeles:20301226T010000
DTSTAMP:20260421T210516
CREATED:20221108T042345Z
LAST-MODIFIED:20251230T203438Z
UID:10427804-1924462800-1924477200@golatindance.com
SUMMARY:El Timbon
DESCRIPTION:El Timbon at Upcider. Timba y música Cubana with DJ @waltdigz 9pm – 1am.
URL:https://golatindance.com/event/el-timbon/2030-12-25/
LOCATION:Upcider\, 1160 Polk St\, San Francisco\, United States
CATEGORIES:San Francisco
ATTACH;FMTTYPE=image/jpeg:https://golatindance.com/wp-content/uploads/2022/11/448804496_10161408513993864_4910762915102962933_n.jpg
END:VEVENT
END:VCALENDAR