BEGIN:VCALENDAR
VERSION:2.0
PRODID:-//GO Latin Dance - ECPv6.15.18//NONSGML v1.0//EN
CALSCALE:GREGORIAN
METHOD:PUBLISH
X-ORIGINAL-URL:https://golatindance.com
X-WR-CALDESC:Events for GO Latin Dance
REFRESH-INTERVAL;VALUE=DURATION:PT1H
X-Robots-Tag:noindex
X-PUBLISHED-TTL:PT1H
BEGIN:VTIMEZONE
TZID:America/New_York
BEGIN:DAYLIGHT
TZOFFSETFROM:-0500
TZOFFSETTO:-0400
TZNAME:EDT
DTSTART:20280312T070000
END:DAYLIGHT
BEGIN:STANDARD
TZOFFSETFROM:-0400
TZOFFSETTO:-0500
TZNAME:EST
DTSTART:20281105T060000
END:STANDARD
BEGIN:DAYLIGHT
TZOFFSETFROM:-0500
TZOFFSETTO:-0400
TZNAME:EDT
DTSTART:20290311T070000
END:DAYLIGHT
BEGIN:STANDARD
TZOFFSETFROM:-0400
TZOFFSETTO:-0500
TZNAME:EST
DTSTART:20291104T060000
END:STANDARD
BEGIN:DAYLIGHT
TZOFFSETFROM:-0500
TZOFFSETTO:-0400
TZNAME:EDT
DTSTART:20300310T070000
END:DAYLIGHT
BEGIN:STANDARD
TZOFFSETFROM:-0400
TZOFFSETTO:-0500
TZNAME:EST
DTSTART:20301103T060000
END:STANDARD
BEGIN:DAYLIGHT
TZOFFSETFROM:-0500
TZOFFSETTO:-0400
TZNAME:EDT
DTSTART:20310309T070000
END:DAYLIGHT
BEGIN:STANDARD
TZOFFSETFROM:-0400
TZOFFSETTO:-0500
TZNAME:EST
DTSTART:20311102T060000
END:STANDARD
END:VTIMEZONE
BEGIN:VEVENT
DTSTART;TZID=America/New_York:20291003T190000
DTEND;TZID=America/New_York:20291003T223000
DTSTAMP:20260421T042800
CREATED:20251001T190743Z
LAST-MODIFIED:20260204T172426Z
UID:10440409-1885748400-1885761000@golatindance.com
SUMMARY:Dancing at Las Tunas Mexican  Restaurant
DESCRIPTION:(1043 W Patrick St Suite A\, Frederick\, MD 21702)\nMusic by DJ-Cesar!!! Salsa\, bachata\, Latin. “$5 suggested cash cover”
URL:https://golatindance.com/event/dancing-at-las-tunas-mexican-restaurant/2029-10-03/
LOCATION:Las Tunas Mexican Restaurant\, 1043 W Patrick St\, Suite A\, Frederick\, MD\, 21702\, United States
CATEGORIES:Washington DC-Baltimore
END:VEVENT
BEGIN:VEVENT
DTSTART;TZID=America/New_York:20291010T190000
DTEND;TZID=America/New_York:20291010T223000
DTSTAMP:20260421T042800
CREATED:20251001T190743Z
LAST-MODIFIED:20260204T172426Z
UID:10440410-1886353200-1886365800@golatindance.com
SUMMARY:Dancing at Las Tunas Mexican  Restaurant
DESCRIPTION:(1043 W Patrick St Suite A\, Frederick\, MD 21702)\nMusic by DJ-Cesar!!! Salsa\, bachata\, Latin. “$5 suggested cash cover”
URL:https://golatindance.com/event/dancing-at-las-tunas-mexican-restaurant/2029-10-10/
LOCATION:Las Tunas Mexican Restaurant\, 1043 W Patrick St\, Suite A\, Frederick\, MD\, 21702\, United States
CATEGORIES:Washington DC-Baltimore
END:VEVENT
BEGIN:VEVENT
DTSTART;TZID=America/New_York:20291017T190000
DTEND;TZID=America/New_York:20291017T223000
DTSTAMP:20260421T042800
CREATED:20251001T190743Z
LAST-MODIFIED:20260204T172426Z
UID:10440411-1886958000-1886970600@golatindance.com
SUMMARY:Dancing at Las Tunas Mexican  Restaurant
DESCRIPTION:(1043 W Patrick St Suite A\, Frederick\, MD 21702)\nMusic by DJ-Cesar!!! Salsa\, bachata\, Latin. “$5 suggested cash cover”
URL:https://golatindance.com/event/dancing-at-las-tunas-mexican-restaurant/2029-10-17/
LOCATION:Las Tunas Mexican Restaurant\, 1043 W Patrick St\, Suite A\, Frederick\, MD\, 21702\, United States
CATEGORIES:Washington DC-Baltimore
END:VEVENT
BEGIN:VEVENT
DTSTART;TZID=America/New_York:20291024T190000
DTEND;TZID=America/New_York:20291024T223000
DTSTAMP:20260421T042800
CREATED:20251001T190743Z
LAST-MODIFIED:20260204T172426Z
UID:10440412-1887562800-1887575400@golatindance.com
SUMMARY:Dancing at Las Tunas Mexican  Restaurant
DESCRIPTION:(1043 W Patrick St Suite A\, Frederick\, MD 21702)\nMusic by DJ-Cesar!!! Salsa\, bachata\, Latin. “$5 suggested cash cover”
URL:https://golatindance.com/event/dancing-at-las-tunas-mexican-restaurant/2029-10-24/
LOCATION:Las Tunas Mexican Restaurant\, 1043 W Patrick St\, Suite A\, Frederick\, MD\, 21702\, United States
CATEGORIES:Washington DC-Baltimore
END:VEVENT
BEGIN:VEVENT
DTSTART;TZID=America/New_York:20291031T190000
DTEND;TZID=America/New_York:20291031T223000
DTSTAMP:20260421T042800
CREATED:20251001T190743Z
LAST-MODIFIED:20260204T172426Z
UID:10440413-1888167600-1888180200@golatindance.com
SUMMARY:Dancing at Las Tunas Mexican  Restaurant
DESCRIPTION:(1043 W Patrick St Suite A\, Frederick\, MD 21702)\nMusic by DJ-Cesar!!! Salsa\, bachata\, Latin. “$5 suggested cash cover”
URL:https://golatindance.com/event/dancing-at-las-tunas-mexican-restaurant/2029-10-31/
LOCATION:Las Tunas Mexican Restaurant\, 1043 W Patrick St\, Suite A\, Frederick\, MD\, 21702\, United States
CATEGORIES:Washington DC-Baltimore
END:VEVENT
BEGIN:VEVENT
DTSTART;TZID=America/New_York:20291107T190000
DTEND;TZID=America/New_York:20291107T223000
DTSTAMP:20260421T042800
CREATED:20251001T190743Z
LAST-MODIFIED:20260204T172426Z
UID:10440414-1888772400-1888785000@golatindance.com
SUMMARY:Dancing at Las Tunas Mexican  Restaurant
DESCRIPTION:(1043 W Patrick St Suite A\, Frederick\, MD 21702)\nMusic by DJ-Cesar!!! Salsa\, bachata\, Latin. “$5 suggested cash cover”
URL:https://golatindance.com/event/dancing-at-las-tunas-mexican-restaurant/2029-11-07/
LOCATION:Las Tunas Mexican Restaurant\, 1043 W Patrick St\, Suite A\, Frederick\, MD\, 21702\, United States
CATEGORIES:Washington DC-Baltimore
END:VEVENT
BEGIN:VEVENT
DTSTART;TZID=America/New_York:20291114T190000
DTEND;TZID=America/New_York:20291114T223000
DTSTAMP:20260421T042800
CREATED:20251001T190743Z
LAST-MODIFIED:20260204T172426Z
UID:10440415-1889377200-1889389800@golatindance.com
SUMMARY:Dancing at Las Tunas Mexican  Restaurant
DESCRIPTION:(1043 W Patrick St Suite A\, Frederick\, MD 21702)\nMusic by DJ-Cesar!!! Salsa\, bachata\, Latin. “$5 suggested cash cover”
URL:https://golatindance.com/event/dancing-at-las-tunas-mexican-restaurant/2029-11-14/
LOCATION:Las Tunas Mexican Restaurant\, 1043 W Patrick St\, Suite A\, Frederick\, MD\, 21702\, United States
CATEGORIES:Washington DC-Baltimore
END:VEVENT
BEGIN:VEVENT
DTSTART;TZID=America/New_York:20291121T190000
DTEND;TZID=America/New_York:20291121T223000
DTSTAMP:20260421T042800
CREATED:20251001T190743Z
LAST-MODIFIED:20260204T172426Z
UID:10440416-1889982000-1889994600@golatindance.com
SUMMARY:Dancing at Las Tunas Mexican  Restaurant
DESCRIPTION:(1043 W Patrick St Suite A\, Frederick\, MD 21702)\nMusic by DJ-Cesar!!! Salsa\, bachata\, Latin. “$5 suggested cash cover”
URL:https://golatindance.com/event/dancing-at-las-tunas-mexican-restaurant/2029-11-21/
LOCATION:Las Tunas Mexican Restaurant\, 1043 W Patrick St\, Suite A\, Frederick\, MD\, 21702\, United States
CATEGORIES:Washington DC-Baltimore
END:VEVENT
BEGIN:VEVENT
DTSTART;TZID=America/New_York:20291128T190000
DTEND;TZID=America/New_York:20291128T223000
DTSTAMP:20260421T042800
CREATED:20251001T190743Z
LAST-MODIFIED:20260204T172426Z
UID:10440417-1890586800-1890599400@golatindance.com
SUMMARY:Dancing at Las Tunas Mexican  Restaurant
DESCRIPTION:(1043 W Patrick St Suite A\, Frederick\, MD 21702)\nMusic by DJ-Cesar!!! Salsa\, bachata\, Latin. “$5 suggested cash cover”
URL:https://golatindance.com/event/dancing-at-las-tunas-mexican-restaurant/2029-11-28/
LOCATION:Las Tunas Mexican Restaurant\, 1043 W Patrick St\, Suite A\, Frederick\, MD\, 21702\, United States
CATEGORIES:Washington DC-Baltimore
END:VEVENT
BEGIN:VEVENT
DTSTART;TZID=America/New_York:20291205T190000
DTEND;TZID=America/New_York:20291205T223000
DTSTAMP:20260421T042800
CREATED:20251001T190743Z
LAST-MODIFIED:20260204T172426Z
UID:10440418-1891191600-1891204200@golatindance.com
SUMMARY:Dancing at Las Tunas Mexican  Restaurant
DESCRIPTION:(1043 W Patrick St Suite A\, Frederick\, MD 21702)\nMusic by DJ-Cesar!!! Salsa\, bachata\, Latin. “$5 suggested cash cover”
URL:https://golatindance.com/event/dancing-at-las-tunas-mexican-restaurant/2029-12-05/
LOCATION:Las Tunas Mexican Restaurant\, 1043 W Patrick St\, Suite A\, Frederick\, MD\, 21702\, United States
CATEGORIES:Washington DC-Baltimore
END:VEVENT
BEGIN:VEVENT
DTSTART;TZID=America/New_York:20291212T190000
DTEND;TZID=America/New_York:20291212T223000
DTSTAMP:20260421T042800
CREATED:20251001T190743Z
LAST-MODIFIED:20260204T172426Z
UID:10440419-1891796400-1891809000@golatindance.com
SUMMARY:Dancing at Las Tunas Mexican  Restaurant
DESCRIPTION:(1043 W Patrick St Suite A\, Frederick\, MD 21702)\nMusic by DJ-Cesar!!! Salsa\, bachata\, Latin. “$5 suggested cash cover”
URL:https://golatindance.com/event/dancing-at-las-tunas-mexican-restaurant/2029-12-12/
LOCATION:Las Tunas Mexican Restaurant\, 1043 W Patrick St\, Suite A\, Frederick\, MD\, 21702\, United States
CATEGORIES:Washington DC-Baltimore
END:VEVENT
BEGIN:VEVENT
DTSTART;TZID=America/New_York:20291219T190000
DTEND;TZID=America/New_York:20291219T223000
DTSTAMP:20260421T042800
CREATED:20251001T190743Z
LAST-MODIFIED:20260204T172426Z
UID:10440420-1892401200-1892413800@golatindance.com
SUMMARY:Dancing at Las Tunas Mexican  Restaurant
DESCRIPTION:(1043 W Patrick St Suite A\, Frederick\, MD 21702)\nMusic by DJ-Cesar!!! Salsa\, bachata\, Latin. “$5 suggested cash cover”
URL:https://golatindance.com/event/dancing-at-las-tunas-mexican-restaurant/2029-12-19/
LOCATION:Las Tunas Mexican Restaurant\, 1043 W Patrick St\, Suite A\, Frederick\, MD\, 21702\, United States
CATEGORIES:Washington DC-Baltimore
END:VEVENT
BEGIN:VEVENT
DTSTART;TZID=America/New_York:20291226T190000
DTEND;TZID=America/New_York:20291226T223000
DTSTAMP:20260421T042800
CREATED:20251001T190743Z
LAST-MODIFIED:20260204T172426Z
UID:10440421-1893006000-1893018600@golatindance.com
SUMMARY:Dancing at Las Tunas Mexican  Restaurant
DESCRIPTION:(1043 W Patrick St Suite A\, Frederick\, MD 21702)\nMusic by DJ-Cesar!!! Salsa\, bachata\, Latin. “$5 suggested cash cover”
URL:https://golatindance.com/event/dancing-at-las-tunas-mexican-restaurant/2029-12-26/
LOCATION:Las Tunas Mexican Restaurant\, 1043 W Patrick St\, Suite A\, Frederick\, MD\, 21702\, United States
CATEGORIES:Washington DC-Baltimore
END:VEVENT
BEGIN:VEVENT
DTSTART;TZID=America/New_York:20300102T190000
DTEND;TZID=America/New_York:20300102T223000
DTSTAMP:20260421T042800
CREATED:20251001T190743Z
LAST-MODIFIED:20260204T172426Z
UID:10440422-1893610800-1893623400@golatindance.com
SUMMARY:Dancing at Las Tunas Mexican  Restaurant
DESCRIPTION:(1043 W Patrick St Suite A\, Frederick\, MD 21702)\nMusic by DJ-Cesar!!! Salsa\, bachata\, Latin. “$5 suggested cash cover”
URL:https://golatindance.com/event/dancing-at-las-tunas-mexican-restaurant/2030-01-02/
LOCATION:Las Tunas Mexican Restaurant\, 1043 W Patrick St\, Suite A\, Frederick\, MD\, 21702\, United States
CATEGORIES:Washington DC-Baltimore
END:VEVENT
BEGIN:VEVENT
DTSTART;TZID=America/New_York:20300109T190000
DTEND;TZID=America/New_York:20300109T223000
DTSTAMP:20260421T042800
CREATED:20251001T190743Z
LAST-MODIFIED:20260204T172426Z
UID:10440423-1894215600-1894228200@golatindance.com
SUMMARY:Dancing at Las Tunas Mexican  Restaurant
DESCRIPTION:(1043 W Patrick St Suite A\, Frederick\, MD 21702)\nMusic by DJ-Cesar!!! Salsa\, bachata\, Latin. “$5 suggested cash cover”
URL:https://golatindance.com/event/dancing-at-las-tunas-mexican-restaurant/2030-01-09/
LOCATION:Las Tunas Mexican Restaurant\, 1043 W Patrick St\, Suite A\, Frederick\, MD\, 21702\, United States
CATEGORIES:Washington DC-Baltimore
END:VEVENT
BEGIN:VEVENT
DTSTART;TZID=America/New_York:20300116T190000
DTEND;TZID=America/New_York:20300116T223000
DTSTAMP:20260421T042800
CREATED:20251001T190743Z
LAST-MODIFIED:20260204T172426Z
UID:10440424-1894820400-1894833000@golatindance.com
SUMMARY:Dancing at Las Tunas Mexican  Restaurant
DESCRIPTION:(1043 W Patrick St Suite A\, Frederick\, MD 21702)\nMusic by DJ-Cesar!!! Salsa\, bachata\, Latin. “$5 suggested cash cover”
URL:https://golatindance.com/event/dancing-at-las-tunas-mexican-restaurant/2030-01-16/
LOCATION:Las Tunas Mexican Restaurant\, 1043 W Patrick St\, Suite A\, Frederick\, MD\, 21702\, United States
CATEGORIES:Washington DC-Baltimore
END:VEVENT
BEGIN:VEVENT
DTSTART;TZID=America/New_York:20300123T190000
DTEND;TZID=America/New_York:20300123T223000
DTSTAMP:20260421T042800
CREATED:20251001T190743Z
LAST-MODIFIED:20260204T172426Z
UID:10440425-1895425200-1895437800@golatindance.com
SUMMARY:Dancing at Las Tunas Mexican  Restaurant
DESCRIPTION:(1043 W Patrick St Suite A\, Frederick\, MD 21702)\nMusic by DJ-Cesar!!! Salsa\, bachata\, Latin. “$5 suggested cash cover”
URL:https://golatindance.com/event/dancing-at-las-tunas-mexican-restaurant/2030-01-23/
LOCATION:Las Tunas Mexican Restaurant\, 1043 W Patrick St\, Suite A\, Frederick\, MD\, 21702\, United States
CATEGORIES:Washington DC-Baltimore
END:VEVENT
BEGIN:VEVENT
DTSTART;TZID=America/New_York:20300130T190000
DTEND;TZID=America/New_York:20300130T223000
DTSTAMP:20260421T042800
CREATED:20251001T190743Z
LAST-MODIFIED:20260204T172426Z
UID:10440426-1896030000-1896042600@golatindance.com
SUMMARY:Dancing at Las Tunas Mexican  Restaurant
DESCRIPTION:(1043 W Patrick St Suite A\, Frederick\, MD 21702)\nMusic by DJ-Cesar!!! Salsa\, bachata\, Latin. “$5 suggested cash cover”
URL:https://golatindance.com/event/dancing-at-las-tunas-mexican-restaurant/2030-01-30/
LOCATION:Las Tunas Mexican Restaurant\, 1043 W Patrick St\, Suite A\, Frederick\, MD\, 21702\, United States
CATEGORIES:Washington DC-Baltimore
END:VEVENT
BEGIN:VEVENT
DTSTART;TZID=America/New_York:20300206T190000
DTEND;TZID=America/New_York:20300206T223000
DTSTAMP:20260421T042800
CREATED:20251001T190743Z
LAST-MODIFIED:20260204T172426Z
UID:10440427-1896634800-1896647400@golatindance.com
SUMMARY:Dancing at Las Tunas Mexican  Restaurant
DESCRIPTION:(1043 W Patrick St Suite A\, Frederick\, MD 21702)\nMusic by DJ-Cesar!!! Salsa\, bachata\, Latin. “$5 suggested cash cover”
URL:https://golatindance.com/event/dancing-at-las-tunas-mexican-restaurant/2030-02-06/
LOCATION:Las Tunas Mexican Restaurant\, 1043 W Patrick St\, Suite A\, Frederick\, MD\, 21702\, United States
CATEGORIES:Washington DC-Baltimore
END:VEVENT
BEGIN:VEVENT
DTSTART;TZID=America/New_York:20300213T190000
DTEND;TZID=America/New_York:20300213T223000
DTSTAMP:20260421T042800
CREATED:20251001T190743Z
LAST-MODIFIED:20260204T172426Z
UID:10440428-1897239600-1897252200@golatindance.com
SUMMARY:Dancing at Las Tunas Mexican  Restaurant
DESCRIPTION:(1043 W Patrick St Suite A\, Frederick\, MD 21702)\nMusic by DJ-Cesar!!! Salsa\, bachata\, Latin. “$5 suggested cash cover”
URL:https://golatindance.com/event/dancing-at-las-tunas-mexican-restaurant/2030-02-13/
LOCATION:Las Tunas Mexican Restaurant\, 1043 W Patrick St\, Suite A\, Frederick\, MD\, 21702\, United States
CATEGORIES:Washington DC-Baltimore
END:VEVENT
BEGIN:VEVENT
DTSTART;TZID=America/New_York:20300220T190000
DTEND;TZID=America/New_York:20300220T223000
DTSTAMP:20260421T042800
CREATED:20251001T190743Z
LAST-MODIFIED:20260204T172426Z
UID:10440429-1897844400-1897857000@golatindance.com
SUMMARY:Dancing at Las Tunas Mexican  Restaurant
DESCRIPTION:(1043 W Patrick St Suite A\, Frederick\, MD 21702)\nMusic by DJ-Cesar!!! Salsa\, bachata\, Latin. “$5 suggested cash cover”
URL:https://golatindance.com/event/dancing-at-las-tunas-mexican-restaurant/2030-02-20/
LOCATION:Las Tunas Mexican Restaurant\, 1043 W Patrick St\, Suite A\, Frederick\, MD\, 21702\, United States
CATEGORIES:Washington DC-Baltimore
END:VEVENT
BEGIN:VEVENT
DTSTART;TZID=America/New_York:20300227T190000
DTEND;TZID=America/New_York:20300227T223000
DTSTAMP:20260421T042800
CREATED:20251001T190743Z
LAST-MODIFIED:20260204T172426Z
UID:10440430-1898449200-1898461800@golatindance.com
SUMMARY:Dancing at Las Tunas Mexican  Restaurant
DESCRIPTION:(1043 W Patrick St Suite A\, Frederick\, MD 21702)\nMusic by DJ-Cesar!!! Salsa\, bachata\, Latin. “$5 suggested cash cover”
URL:https://golatindance.com/event/dancing-at-las-tunas-mexican-restaurant/2030-02-27/
LOCATION:Las Tunas Mexican Restaurant\, 1043 W Patrick St\, Suite A\, Frederick\, MD\, 21702\, United States
CATEGORIES:Washington DC-Baltimore
END:VEVENT
BEGIN:VEVENT
DTSTART;TZID=America/New_York:20300306T190000
DTEND;TZID=America/New_York:20300306T223000
DTSTAMP:20260421T042800
CREATED:20251001T190743Z
LAST-MODIFIED:20260204T172426Z
UID:10440431-1899054000-1899066600@golatindance.com
SUMMARY:Dancing at Las Tunas Mexican  Restaurant
DESCRIPTION:(1043 W Patrick St Suite A\, Frederick\, MD 21702)\nMusic by DJ-Cesar!!! Salsa\, bachata\, Latin. “$5 suggested cash cover”
URL:https://golatindance.com/event/dancing-at-las-tunas-mexican-restaurant/2030-03-06/
LOCATION:Las Tunas Mexican Restaurant\, 1043 W Patrick St\, Suite A\, Frederick\, MD\, 21702\, United States
CATEGORIES:Washington DC-Baltimore
END:VEVENT
BEGIN:VEVENT
DTSTART;TZID=America/New_York:20300313T190000
DTEND;TZID=America/New_York:20300313T223000
DTSTAMP:20260421T042800
CREATED:20251001T190743Z
LAST-MODIFIED:20260204T172426Z
UID:10440432-1899658800-1899671400@golatindance.com
SUMMARY:Dancing at Las Tunas Mexican  Restaurant
DESCRIPTION:(1043 W Patrick St Suite A\, Frederick\, MD 21702)\nMusic by DJ-Cesar!!! Salsa\, bachata\, Latin. “$5 suggested cash cover”
URL:https://golatindance.com/event/dancing-at-las-tunas-mexican-restaurant/2030-03-13/
LOCATION:Las Tunas Mexican Restaurant\, 1043 W Patrick St\, Suite A\, Frederick\, MD\, 21702\, United States
CATEGORIES:Washington DC-Baltimore
END:VEVENT
BEGIN:VEVENT
DTSTART;TZID=America/New_York:20300320T190000
DTEND;TZID=America/New_York:20300320T223000
DTSTAMP:20260421T042800
CREATED:20251001T190743Z
LAST-MODIFIED:20260204T172426Z
UID:10440433-1900263600-1900276200@golatindance.com
SUMMARY:Dancing at Las Tunas Mexican  Restaurant
DESCRIPTION:(1043 W Patrick St Suite A\, Frederick\, MD 21702)\nMusic by DJ-Cesar!!! Salsa\, bachata\, Latin. “$5 suggested cash cover”
URL:https://golatindance.com/event/dancing-at-las-tunas-mexican-restaurant/2030-03-20/
LOCATION:Las Tunas Mexican Restaurant\, 1043 W Patrick St\, Suite A\, Frederick\, MD\, 21702\, United States
CATEGORIES:Washington DC-Baltimore
END:VEVENT
BEGIN:VEVENT
DTSTART;TZID=America/New_York:20300327T190000
DTEND;TZID=America/New_York:20300327T223000
DTSTAMP:20260421T042800
CREATED:20251001T190743Z
LAST-MODIFIED:20260204T172426Z
UID:10440434-1900868400-1900881000@golatindance.com
SUMMARY:Dancing at Las Tunas Mexican  Restaurant
DESCRIPTION:(1043 W Patrick St Suite A\, Frederick\, MD 21702)\nMusic by DJ-Cesar!!! Salsa\, bachata\, Latin. “$5 suggested cash cover”
URL:https://golatindance.com/event/dancing-at-las-tunas-mexican-restaurant/2030-03-27/
LOCATION:Las Tunas Mexican Restaurant\, 1043 W Patrick St\, Suite A\, Frederick\, MD\, 21702\, United States
CATEGORIES:Washington DC-Baltimore
END:VEVENT
BEGIN:VEVENT
DTSTART;TZID=America/New_York:20300403T190000
DTEND;TZID=America/New_York:20300403T223000
DTSTAMP:20260421T042800
CREATED:20251001T190743Z
LAST-MODIFIED:20260204T172426Z
UID:10440435-1901473200-1901485800@golatindance.com
SUMMARY:Dancing at Las Tunas Mexican  Restaurant
DESCRIPTION:(1043 W Patrick St Suite A\, Frederick\, MD 21702)\nMusic by DJ-Cesar!!! Salsa\, bachata\, Latin. “$5 suggested cash cover”
URL:https://golatindance.com/event/dancing-at-las-tunas-mexican-restaurant/2030-04-03/
LOCATION:Las Tunas Mexican Restaurant\, 1043 W Patrick St\, Suite A\, Frederick\, MD\, 21702\, United States
CATEGORIES:Washington DC-Baltimore
END:VEVENT
BEGIN:VEVENT
DTSTART;TZID=America/New_York:20300410T190000
DTEND;TZID=America/New_York:20300410T223000
DTSTAMP:20260421T042800
CREATED:20251001T190743Z
LAST-MODIFIED:20260204T172426Z
UID:10440436-1902078000-1902090600@golatindance.com
SUMMARY:Dancing at Las Tunas Mexican  Restaurant
DESCRIPTION:(1043 W Patrick St Suite A\, Frederick\, MD 21702)\nMusic by DJ-Cesar!!! Salsa\, bachata\, Latin. “$5 suggested cash cover”
URL:https://golatindance.com/event/dancing-at-las-tunas-mexican-restaurant/2030-04-10/
LOCATION:Las Tunas Mexican Restaurant\, 1043 W Patrick St\, Suite A\, Frederick\, MD\, 21702\, United States
CATEGORIES:Washington DC-Baltimore
END:VEVENT
BEGIN:VEVENT
DTSTART;TZID=America/New_York:20300417T190000
DTEND;TZID=America/New_York:20300417T223000
DTSTAMP:20260421T042800
CREATED:20251001T190743Z
LAST-MODIFIED:20260204T172426Z
UID:10440437-1902682800-1902695400@golatindance.com
SUMMARY:Dancing at Las Tunas Mexican  Restaurant
DESCRIPTION:(1043 W Patrick St Suite A\, Frederick\, MD 21702)\nMusic by DJ-Cesar!!! Salsa\, bachata\, Latin. “$5 suggested cash cover”
URL:https://golatindance.com/event/dancing-at-las-tunas-mexican-restaurant/2030-04-17/
LOCATION:Las Tunas Mexican Restaurant\, 1043 W Patrick St\, Suite A\, Frederick\, MD\, 21702\, United States
CATEGORIES:Washington DC-Baltimore
END:VEVENT
BEGIN:VEVENT
DTSTART;TZID=America/New_York:20300424T190000
DTEND;TZID=America/New_York:20300424T223000
DTSTAMP:20260421T042800
CREATED:20251001T190743Z
LAST-MODIFIED:20260204T172426Z
UID:10440438-1903287600-1903300200@golatindance.com
SUMMARY:Dancing at Las Tunas Mexican  Restaurant
DESCRIPTION:(1043 W Patrick St Suite A\, Frederick\, MD 21702)\nMusic by DJ-Cesar!!! Salsa\, bachata\, Latin. “$5 suggested cash cover”
URL:https://golatindance.com/event/dancing-at-las-tunas-mexican-restaurant/2030-04-24/
LOCATION:Las Tunas Mexican Restaurant\, 1043 W Patrick St\, Suite A\, Frederick\, MD\, 21702\, United States
CATEGORIES:Washington DC-Baltimore
END:VEVENT
END:VCALENDAR