BEGIN:VCALENDAR
VERSION:2.0
PRODID:-//GO Latin Dance - ECPv6.15.18//NONSGML v1.0//EN
CALSCALE:GREGORIAN
METHOD:PUBLISH
X-WR-CALNAME:GO Latin Dance
X-ORIGINAL-URL:https://golatindance.com
X-WR-CALDESC:Events for GO Latin Dance
REFRESH-INTERVAL;VALUE=DURATION:PT1H
X-Robots-Tag:noindex
X-PUBLISHED-TTL:PT1H
BEGIN:VTIMEZONE
TZID:America/New_York
BEGIN:DAYLIGHT
TZOFFSETFROM:-0500
TZOFFSETTO:-0400
TZNAME:EDT
DTSTART:20290311T070000
END:DAYLIGHT
BEGIN:STANDARD
TZOFFSETFROM:-0400
TZOFFSETTO:-0500
TZNAME:EST
DTSTART:20291104T060000
END:STANDARD
BEGIN:DAYLIGHT
TZOFFSETFROM:-0500
TZOFFSETTO:-0400
TZNAME:EDT
DTSTART:20300310T070000
END:DAYLIGHT
BEGIN:STANDARD
TZOFFSETFROM:-0400
TZOFFSETTO:-0500
TZNAME:EST
DTSTART:20301103T060000
END:STANDARD
BEGIN:DAYLIGHT
TZOFFSETFROM:-0500
TZOFFSETTO:-0400
TZNAME:EDT
DTSTART:20310309T070000
END:DAYLIGHT
BEGIN:STANDARD
TZOFFSETFROM:-0400
TZOFFSETTO:-0500
TZNAME:EST
DTSTART:20311102T060000
END:STANDARD
BEGIN:DAYLIGHT
TZOFFSETFROM:-0500
TZOFFSETTO:-0400
TZNAME:EDT
DTSTART:20320314T070000
END:DAYLIGHT
BEGIN:STANDARD
TZOFFSETFROM:-0400
TZOFFSETTO:-0500
TZNAME:EST
DTSTART:20321107T060000
END:STANDARD
END:VTIMEZONE
BEGIN:VEVENT
DTSTART;TZID=America/New_York:20300710T190000
DTEND;TZID=America/New_York:20300710T223000
DTSTAMP:20260421T110611
CREATED:20251001T190743Z
LAST-MODIFIED:20260204T172426Z
UID:10440449-1909940400-1909953000@golatindance.com
SUMMARY:Dancing at Las Tunas Mexican  Restaurant
DESCRIPTION:(1043 W Patrick St Suite A\, Frederick\, MD 21702)\nMusic by DJ-Cesar!!! Salsa\, bachata\, Latin. “$5 suggested cash cover”
URL:https://golatindance.com/event/dancing-at-las-tunas-mexican-restaurant/2030-07-10/
LOCATION:Las Tunas Mexican Restaurant\, 1043 W Patrick St\, Suite A\, Frederick\, MD\, 21702\, United States
CATEGORIES:Washington DC-Baltimore
END:VEVENT
BEGIN:VEVENT
DTSTART;TZID=America/New_York:20300717T190000
DTEND;TZID=America/New_York:20300717T223000
DTSTAMP:20260421T110611
CREATED:20251001T190743Z
LAST-MODIFIED:20260204T172426Z
UID:10440450-1910545200-1910557800@golatindance.com
SUMMARY:Dancing at Las Tunas Mexican  Restaurant
DESCRIPTION:(1043 W Patrick St Suite A\, Frederick\, MD 21702)\nMusic by DJ-Cesar!!! Salsa\, bachata\, Latin. “$5 suggested cash cover”
URL:https://golatindance.com/event/dancing-at-las-tunas-mexican-restaurant/2030-07-17/
LOCATION:Las Tunas Mexican Restaurant\, 1043 W Patrick St\, Suite A\, Frederick\, MD\, 21702\, United States
CATEGORIES:Washington DC-Baltimore
END:VEVENT
BEGIN:VEVENT
DTSTART;TZID=America/New_York:20300724T190000
DTEND;TZID=America/New_York:20300724T223000
DTSTAMP:20260421T110611
CREATED:20251001T190743Z
LAST-MODIFIED:20260204T172426Z
UID:10440451-1911150000-1911162600@golatindance.com
SUMMARY:Dancing at Las Tunas Mexican  Restaurant
DESCRIPTION:(1043 W Patrick St Suite A\, Frederick\, MD 21702)\nMusic by DJ-Cesar!!! Salsa\, bachata\, Latin. “$5 suggested cash cover”
URL:https://golatindance.com/event/dancing-at-las-tunas-mexican-restaurant/2030-07-24/
LOCATION:Las Tunas Mexican Restaurant\, 1043 W Patrick St\, Suite A\, Frederick\, MD\, 21702\, United States
CATEGORIES:Washington DC-Baltimore
END:VEVENT
BEGIN:VEVENT
DTSTART;TZID=America/New_York:20300731T190000
DTEND;TZID=America/New_York:20300731T223000
DTSTAMP:20260421T110611
CREATED:20251001T190743Z
LAST-MODIFIED:20260204T172426Z
UID:10440452-1911754800-1911767400@golatindance.com
SUMMARY:Dancing at Las Tunas Mexican  Restaurant
DESCRIPTION:(1043 W Patrick St Suite A\, Frederick\, MD 21702)\nMusic by DJ-Cesar!!! Salsa\, bachata\, Latin. “$5 suggested cash cover”
URL:https://golatindance.com/event/dancing-at-las-tunas-mexican-restaurant/2030-07-31/
LOCATION:Las Tunas Mexican Restaurant\, 1043 W Patrick St\, Suite A\, Frederick\, MD\, 21702\, United States
CATEGORIES:Washington DC-Baltimore
END:VEVENT
BEGIN:VEVENT
DTSTART;TZID=America/New_York:20300807T190000
DTEND;TZID=America/New_York:20300807T223000
DTSTAMP:20260421T110611
CREATED:20251001T190743Z
LAST-MODIFIED:20260204T172426Z
UID:10440453-1912359600-1912372200@golatindance.com
SUMMARY:Dancing at Las Tunas Mexican  Restaurant
DESCRIPTION:(1043 W Patrick St Suite A\, Frederick\, MD 21702)\nMusic by DJ-Cesar!!! Salsa\, bachata\, Latin. “$5 suggested cash cover”
URL:https://golatindance.com/event/dancing-at-las-tunas-mexican-restaurant/2030-08-07/
LOCATION:Las Tunas Mexican Restaurant\, 1043 W Patrick St\, Suite A\, Frederick\, MD\, 21702\, United States
CATEGORIES:Washington DC-Baltimore
END:VEVENT
BEGIN:VEVENT
DTSTART;TZID=America/New_York:20300814T190000
DTEND;TZID=America/New_York:20300814T223000
DTSTAMP:20260421T110612
CREATED:20251001T190743Z
LAST-MODIFIED:20260204T172426Z
UID:10440454-1912964400-1912977000@golatindance.com
SUMMARY:Dancing at Las Tunas Mexican  Restaurant
DESCRIPTION:(1043 W Patrick St Suite A\, Frederick\, MD 21702)\nMusic by DJ-Cesar!!! Salsa\, bachata\, Latin. “$5 suggested cash cover”
URL:https://golatindance.com/event/dancing-at-las-tunas-mexican-restaurant/2030-08-14/
LOCATION:Las Tunas Mexican Restaurant\, 1043 W Patrick St\, Suite A\, Frederick\, MD\, 21702\, United States
CATEGORIES:Washington DC-Baltimore
END:VEVENT
BEGIN:VEVENT
DTSTART;TZID=America/New_York:20300821T190000
DTEND;TZID=America/New_York:20300821T223000
DTSTAMP:20260421T110612
CREATED:20251001T190743Z
LAST-MODIFIED:20260204T172426Z
UID:10440455-1913569200-1913581800@golatindance.com
SUMMARY:Dancing at Las Tunas Mexican  Restaurant
DESCRIPTION:(1043 W Patrick St Suite A\, Frederick\, MD 21702)\nMusic by DJ-Cesar!!! Salsa\, bachata\, Latin. “$5 suggested cash cover”
URL:https://golatindance.com/event/dancing-at-las-tunas-mexican-restaurant/2030-08-21/
LOCATION:Las Tunas Mexican Restaurant\, 1043 W Patrick St\, Suite A\, Frederick\, MD\, 21702\, United States
CATEGORIES:Washington DC-Baltimore
END:VEVENT
BEGIN:VEVENT
DTSTART;TZID=America/New_York:20300828T190000
DTEND;TZID=America/New_York:20300828T223000
DTSTAMP:20260421T110612
CREATED:20251001T190743Z
LAST-MODIFIED:20260204T172426Z
UID:10440456-1914174000-1914186600@golatindance.com
SUMMARY:Dancing at Las Tunas Mexican  Restaurant
DESCRIPTION:(1043 W Patrick St Suite A\, Frederick\, MD 21702)\nMusic by DJ-Cesar!!! Salsa\, bachata\, Latin. “$5 suggested cash cover”
URL:https://golatindance.com/event/dancing-at-las-tunas-mexican-restaurant/2030-08-28/
LOCATION:Las Tunas Mexican Restaurant\, 1043 W Patrick St\, Suite A\, Frederick\, MD\, 21702\, United States
CATEGORIES:Washington DC-Baltimore
END:VEVENT
BEGIN:VEVENT
DTSTART;TZID=America/New_York:20300904T190000
DTEND;TZID=America/New_York:20300904T223000
DTSTAMP:20260421T110612
CREATED:20251001T190743Z
LAST-MODIFIED:20260204T172426Z
UID:10440457-1914778800-1914791400@golatindance.com
SUMMARY:Dancing at Las Tunas Mexican  Restaurant
DESCRIPTION:(1043 W Patrick St Suite A\, Frederick\, MD 21702)\nMusic by DJ-Cesar!!! Salsa\, bachata\, Latin. “$5 suggested cash cover”
URL:https://golatindance.com/event/dancing-at-las-tunas-mexican-restaurant/2030-09-04/
LOCATION:Las Tunas Mexican Restaurant\, 1043 W Patrick St\, Suite A\, Frederick\, MD\, 21702\, United States
CATEGORIES:Washington DC-Baltimore
END:VEVENT
BEGIN:VEVENT
DTSTART;TZID=America/New_York:20300911T190000
DTEND;TZID=America/New_York:20300911T223000
DTSTAMP:20260421T110612
CREATED:20251001T190743Z
LAST-MODIFIED:20260204T172426Z
UID:10440458-1915383600-1915396200@golatindance.com
SUMMARY:Dancing at Las Tunas Mexican  Restaurant
DESCRIPTION:(1043 W Patrick St Suite A\, Frederick\, MD 21702)\nMusic by DJ-Cesar!!! Salsa\, bachata\, Latin. “$5 suggested cash cover”
URL:https://golatindance.com/event/dancing-at-las-tunas-mexican-restaurant/2030-09-11/
LOCATION:Las Tunas Mexican Restaurant\, 1043 W Patrick St\, Suite A\, Frederick\, MD\, 21702\, United States
CATEGORIES:Washington DC-Baltimore
END:VEVENT
BEGIN:VEVENT
DTSTART;TZID=America/New_York:20300918T190000
DTEND;TZID=America/New_York:20300918T223000
DTSTAMP:20260421T110612
CREATED:20251001T190743Z
LAST-MODIFIED:20260204T172426Z
UID:10440459-1915988400-1916001000@golatindance.com
SUMMARY:Dancing at Las Tunas Mexican  Restaurant
DESCRIPTION:(1043 W Patrick St Suite A\, Frederick\, MD 21702)\nMusic by DJ-Cesar!!! Salsa\, bachata\, Latin. “$5 suggested cash cover”
URL:https://golatindance.com/event/dancing-at-las-tunas-mexican-restaurant/2030-09-18/
LOCATION:Las Tunas Mexican Restaurant\, 1043 W Patrick St\, Suite A\, Frederick\, MD\, 21702\, United States
CATEGORIES:Washington DC-Baltimore
END:VEVENT
BEGIN:VEVENT
DTSTART;TZID=America/New_York:20300925T190000
DTEND;TZID=America/New_York:20300925T223000
DTSTAMP:20260421T110612
CREATED:20251001T190743Z
LAST-MODIFIED:20260204T172426Z
UID:10440460-1916593200-1916605800@golatindance.com
SUMMARY:Dancing at Las Tunas Mexican  Restaurant
DESCRIPTION:(1043 W Patrick St Suite A\, Frederick\, MD 21702)\nMusic by DJ-Cesar!!! Salsa\, bachata\, Latin. “$5 suggested cash cover”
URL:https://golatindance.com/event/dancing-at-las-tunas-mexican-restaurant/2030-09-25/
LOCATION:Las Tunas Mexican Restaurant\, 1043 W Patrick St\, Suite A\, Frederick\, MD\, 21702\, United States
CATEGORIES:Washington DC-Baltimore
END:VEVENT
BEGIN:VEVENT
DTSTART;TZID=America/New_York:20301002T190000
DTEND;TZID=America/New_York:20301002T223000
DTSTAMP:20260421T110612
CREATED:20251001T190743Z
LAST-MODIFIED:20260204T172426Z
UID:10440461-1917198000-1917210600@golatindance.com
SUMMARY:Dancing at Las Tunas Mexican  Restaurant
DESCRIPTION:(1043 W Patrick St Suite A\, Frederick\, MD 21702)\nMusic by DJ-Cesar!!! Salsa\, bachata\, Latin. “$5 suggested cash cover”
URL:https://golatindance.com/event/dancing-at-las-tunas-mexican-restaurant/2030-10-02/
LOCATION:Las Tunas Mexican Restaurant\, 1043 W Patrick St\, Suite A\, Frederick\, MD\, 21702\, United States
CATEGORIES:Washington DC-Baltimore
END:VEVENT
BEGIN:VEVENT
DTSTART;TZID=America/New_York:20301009T190000
DTEND;TZID=America/New_York:20301009T223000
DTSTAMP:20260421T110612
CREATED:20251001T190743Z
LAST-MODIFIED:20260204T172426Z
UID:10440462-1917802800-1917815400@golatindance.com
SUMMARY:Dancing at Las Tunas Mexican  Restaurant
DESCRIPTION:(1043 W Patrick St Suite A\, Frederick\, MD 21702)\nMusic by DJ-Cesar!!! Salsa\, bachata\, Latin. “$5 suggested cash cover”
URL:https://golatindance.com/event/dancing-at-las-tunas-mexican-restaurant/2030-10-09/
LOCATION:Las Tunas Mexican Restaurant\, 1043 W Patrick St\, Suite A\, Frederick\, MD\, 21702\, United States
CATEGORIES:Washington DC-Baltimore
END:VEVENT
BEGIN:VEVENT
DTSTART;TZID=America/New_York:20301016T190000
DTEND;TZID=America/New_York:20301016T223000
DTSTAMP:20260421T110612
CREATED:20251001T190743Z
LAST-MODIFIED:20260204T172426Z
UID:10440463-1918407600-1918420200@golatindance.com
SUMMARY:Dancing at Las Tunas Mexican  Restaurant
DESCRIPTION:(1043 W Patrick St Suite A\, Frederick\, MD 21702)\nMusic by DJ-Cesar!!! Salsa\, bachata\, Latin. “$5 suggested cash cover”
URL:https://golatindance.com/event/dancing-at-las-tunas-mexican-restaurant/2030-10-16/
LOCATION:Las Tunas Mexican Restaurant\, 1043 W Patrick St\, Suite A\, Frederick\, MD\, 21702\, United States
CATEGORIES:Washington DC-Baltimore
END:VEVENT
BEGIN:VEVENT
DTSTART;TZID=America/New_York:20301023T190000
DTEND;TZID=America/New_York:20301023T223000
DTSTAMP:20260421T110612
CREATED:20251001T190743Z
LAST-MODIFIED:20260204T172426Z
UID:10440464-1919012400-1919025000@golatindance.com
SUMMARY:Dancing at Las Tunas Mexican  Restaurant
DESCRIPTION:(1043 W Patrick St Suite A\, Frederick\, MD 21702)\nMusic by DJ-Cesar!!! Salsa\, bachata\, Latin. “$5 suggested cash cover”
URL:https://golatindance.com/event/dancing-at-las-tunas-mexican-restaurant/2030-10-23/
LOCATION:Las Tunas Mexican Restaurant\, 1043 W Patrick St\, Suite A\, Frederick\, MD\, 21702\, United States
CATEGORIES:Washington DC-Baltimore
END:VEVENT
BEGIN:VEVENT
DTSTART;TZID=America/New_York:20301030T190000
DTEND;TZID=America/New_York:20301030T223000
DTSTAMP:20260421T110612
CREATED:20251001T190743Z
LAST-MODIFIED:20260204T172426Z
UID:10440465-1919617200-1919629800@golatindance.com
SUMMARY:Dancing at Las Tunas Mexican  Restaurant
DESCRIPTION:(1043 W Patrick St Suite A\, Frederick\, MD 21702)\nMusic by DJ-Cesar!!! Salsa\, bachata\, Latin. “$5 suggested cash cover”
URL:https://golatindance.com/event/dancing-at-las-tunas-mexican-restaurant/2030-10-30/
LOCATION:Las Tunas Mexican Restaurant\, 1043 W Patrick St\, Suite A\, Frederick\, MD\, 21702\, United States
CATEGORIES:Washington DC-Baltimore
END:VEVENT
BEGIN:VEVENT
DTSTART;TZID=America/New_York:20301106T190000
DTEND;TZID=America/New_York:20301106T223000
DTSTAMP:20260421T110612
CREATED:20251001T190743Z
LAST-MODIFIED:20260204T172426Z
UID:10440466-1920222000-1920234600@golatindance.com
SUMMARY:Dancing at Las Tunas Mexican  Restaurant
DESCRIPTION:(1043 W Patrick St Suite A\, Frederick\, MD 21702)\nMusic by DJ-Cesar!!! Salsa\, bachata\, Latin. “$5 suggested cash cover”
URL:https://golatindance.com/event/dancing-at-las-tunas-mexican-restaurant/2030-11-06/
LOCATION:Las Tunas Mexican Restaurant\, 1043 W Patrick St\, Suite A\, Frederick\, MD\, 21702\, United States
CATEGORIES:Washington DC-Baltimore
END:VEVENT
BEGIN:VEVENT
DTSTART;TZID=America/New_York:20301113T190000
DTEND;TZID=America/New_York:20301113T223000
DTSTAMP:20260421T110612
CREATED:20251001T190743Z
LAST-MODIFIED:20260204T172426Z
UID:10440467-1920826800-1920839400@golatindance.com
SUMMARY:Dancing at Las Tunas Mexican  Restaurant
DESCRIPTION:(1043 W Patrick St Suite A\, Frederick\, MD 21702)\nMusic by DJ-Cesar!!! Salsa\, bachata\, Latin. “$5 suggested cash cover”
URL:https://golatindance.com/event/dancing-at-las-tunas-mexican-restaurant/2030-11-13/
LOCATION:Las Tunas Mexican Restaurant\, 1043 W Patrick St\, Suite A\, Frederick\, MD\, 21702\, United States
CATEGORIES:Washington DC-Baltimore
END:VEVENT
BEGIN:VEVENT
DTSTART;TZID=America/New_York:20301120T190000
DTEND;TZID=America/New_York:20301120T223000
DTSTAMP:20260421T110612
CREATED:20251001T190743Z
LAST-MODIFIED:20260204T172426Z
UID:10440468-1921431600-1921444200@golatindance.com
SUMMARY:Dancing at Las Tunas Mexican  Restaurant
DESCRIPTION:(1043 W Patrick St Suite A\, Frederick\, MD 21702)\nMusic by DJ-Cesar!!! Salsa\, bachata\, Latin. “$5 suggested cash cover”
URL:https://golatindance.com/event/dancing-at-las-tunas-mexican-restaurant/2030-11-20/
LOCATION:Las Tunas Mexican Restaurant\, 1043 W Patrick St\, Suite A\, Frederick\, MD\, 21702\, United States
CATEGORIES:Washington DC-Baltimore
END:VEVENT
BEGIN:VEVENT
DTSTART;TZID=America/New_York:20301127T190000
DTEND;TZID=America/New_York:20301127T223000
DTSTAMP:20260421T110612
CREATED:20251001T190743Z
LAST-MODIFIED:20260204T172426Z
UID:10440469-1922036400-1922049000@golatindance.com
SUMMARY:Dancing at Las Tunas Mexican  Restaurant
DESCRIPTION:(1043 W Patrick St Suite A\, Frederick\, MD 21702)\nMusic by DJ-Cesar!!! Salsa\, bachata\, Latin. “$5 suggested cash cover”
URL:https://golatindance.com/event/dancing-at-las-tunas-mexican-restaurant/2030-11-27/
LOCATION:Las Tunas Mexican Restaurant\, 1043 W Patrick St\, Suite A\, Frederick\, MD\, 21702\, United States
CATEGORIES:Washington DC-Baltimore
END:VEVENT
BEGIN:VEVENT
DTSTART;TZID=America/New_York:20301204T190000
DTEND;TZID=America/New_York:20301204T223000
DTSTAMP:20260421T110612
CREATED:20251001T190743Z
LAST-MODIFIED:20260204T172426Z
UID:10440470-1922641200-1922653800@golatindance.com
SUMMARY:Dancing at Las Tunas Mexican  Restaurant
DESCRIPTION:(1043 W Patrick St Suite A\, Frederick\, MD 21702)\nMusic by DJ-Cesar!!! Salsa\, bachata\, Latin. “$5 suggested cash cover”
URL:https://golatindance.com/event/dancing-at-las-tunas-mexican-restaurant/2030-12-04/
LOCATION:Las Tunas Mexican Restaurant\, 1043 W Patrick St\, Suite A\, Frederick\, MD\, 21702\, United States
CATEGORIES:Washington DC-Baltimore
END:VEVENT
BEGIN:VEVENT
DTSTART;TZID=America/New_York:20301211T190000
DTEND;TZID=America/New_York:20301211T223000
DTSTAMP:20260421T110612
CREATED:20251001T190743Z
LAST-MODIFIED:20260204T172426Z
UID:10440471-1923246000-1923258600@golatindance.com
SUMMARY:Dancing at Las Tunas Mexican  Restaurant
DESCRIPTION:(1043 W Patrick St Suite A\, Frederick\, MD 21702)\nMusic by DJ-Cesar!!! Salsa\, bachata\, Latin. “$5 suggested cash cover”
URL:https://golatindance.com/event/dancing-at-las-tunas-mexican-restaurant/2030-12-11/
LOCATION:Las Tunas Mexican Restaurant\, 1043 W Patrick St\, Suite A\, Frederick\, MD\, 21702\, United States
CATEGORIES:Washington DC-Baltimore
END:VEVENT
BEGIN:VEVENT
DTSTART;TZID=America/New_York:20301218T190000
DTEND;TZID=America/New_York:20301218T223000
DTSTAMP:20260421T110612
CREATED:20251001T190743Z
LAST-MODIFIED:20260204T172426Z
UID:10440472-1923850800-1923863400@golatindance.com
SUMMARY:Dancing at Las Tunas Mexican  Restaurant
DESCRIPTION:(1043 W Patrick St Suite A\, Frederick\, MD 21702)\nMusic by DJ-Cesar!!! Salsa\, bachata\, Latin. “$5 suggested cash cover”
URL:https://golatindance.com/event/dancing-at-las-tunas-mexican-restaurant/2030-12-18/
LOCATION:Las Tunas Mexican Restaurant\, 1043 W Patrick St\, Suite A\, Frederick\, MD\, 21702\, United States
CATEGORIES:Washington DC-Baltimore
END:VEVENT
BEGIN:VEVENT
DTSTART;TZID=America/New_York:20301225T190000
DTEND;TZID=America/New_York:20301225T223000
DTSTAMP:20260421T110612
CREATED:20251001T190743Z
LAST-MODIFIED:20260204T172426Z
UID:10440473-1924455600-1924468200@golatindance.com
SUMMARY:Dancing at Las Tunas Mexican  Restaurant
DESCRIPTION:(1043 W Patrick St Suite A\, Frederick\, MD 21702)\nMusic by DJ-Cesar!!! Salsa\, bachata\, Latin. “$5 suggested cash cover”
URL:https://golatindance.com/event/dancing-at-las-tunas-mexican-restaurant/2030-12-25/
LOCATION:Las Tunas Mexican Restaurant\, 1043 W Patrick St\, Suite A\, Frederick\, MD\, 21702\, United States
CATEGORIES:Washington DC-Baltimore
END:VEVENT
BEGIN:VEVENT
DTSTART;TZID=America/New_York:20310101T190000
DTEND;TZID=America/New_York:20310101T223000
DTSTAMP:20260421T110612
CREATED:20251001T190743Z
LAST-MODIFIED:20260204T172426Z
UID:10440474-1925060400-1925073000@golatindance.com
SUMMARY:Dancing at Las Tunas Mexican  Restaurant
DESCRIPTION:(1043 W Patrick St Suite A\, Frederick\, MD 21702)\nMusic by DJ-Cesar!!! Salsa\, bachata\, Latin. “$5 suggested cash cover”
URL:https://golatindance.com/event/dancing-at-las-tunas-mexican-restaurant/2031-01-01/
LOCATION:Las Tunas Mexican Restaurant\, 1043 W Patrick St\, Suite A\, Frederick\, MD\, 21702\, United States
CATEGORIES:Washington DC-Baltimore
END:VEVENT
BEGIN:VEVENT
DTSTART;TZID=America/New_York:20310108T190000
DTEND;TZID=America/New_York:20310108T223000
DTSTAMP:20260421T110612
CREATED:20251001T190743Z
LAST-MODIFIED:20260204T172426Z
UID:10440475-1925665200-1925677800@golatindance.com
SUMMARY:Dancing at Las Tunas Mexican  Restaurant
DESCRIPTION:(1043 W Patrick St Suite A\, Frederick\, MD 21702)\nMusic by DJ-Cesar!!! Salsa\, bachata\, Latin. “$5 suggested cash cover”
URL:https://golatindance.com/event/dancing-at-las-tunas-mexican-restaurant/2031-01-08/
LOCATION:Las Tunas Mexican Restaurant\, 1043 W Patrick St\, Suite A\, Frederick\, MD\, 21702\, United States
CATEGORIES:Washington DC-Baltimore
END:VEVENT
BEGIN:VEVENT
DTSTART;TZID=America/New_York:20310115T190000
DTEND;TZID=America/New_York:20310115T223000
DTSTAMP:20260421T110612
CREATED:20251001T190743Z
LAST-MODIFIED:20260204T172426Z
UID:10440476-1926270000-1926282600@golatindance.com
SUMMARY:Dancing at Las Tunas Mexican  Restaurant
DESCRIPTION:(1043 W Patrick St Suite A\, Frederick\, MD 21702)\nMusic by DJ-Cesar!!! Salsa\, bachata\, Latin. “$5 suggested cash cover”
URL:https://golatindance.com/event/dancing-at-las-tunas-mexican-restaurant/2031-01-15/
LOCATION:Las Tunas Mexican Restaurant\, 1043 W Patrick St\, Suite A\, Frederick\, MD\, 21702\, United States
CATEGORIES:Washington DC-Baltimore
END:VEVENT
BEGIN:VEVENT
DTSTART;TZID=America/New_York:20310122T190000
DTEND;TZID=America/New_York:20310122T223000
DTSTAMP:20260421T110612
CREATED:20251001T190743Z
LAST-MODIFIED:20260204T172426Z
UID:10440477-1926874800-1926887400@golatindance.com
SUMMARY:Dancing at Las Tunas Mexican  Restaurant
DESCRIPTION:(1043 W Patrick St Suite A\, Frederick\, MD 21702)\nMusic by DJ-Cesar!!! Salsa\, bachata\, Latin. “$5 suggested cash cover”
URL:https://golatindance.com/event/dancing-at-las-tunas-mexican-restaurant/2031-01-22/
LOCATION:Las Tunas Mexican Restaurant\, 1043 W Patrick St\, Suite A\, Frederick\, MD\, 21702\, United States
CATEGORIES:Washington DC-Baltimore
END:VEVENT
BEGIN:VEVENT
DTSTART;TZID=America/New_York:20310129T190000
DTEND;TZID=America/New_York:20310129T223000
DTSTAMP:20260421T110612
CREATED:20251001T190743Z
LAST-MODIFIED:20260204T172426Z
UID:10440478-1927479600-1927492200@golatindance.com
SUMMARY:Dancing at Las Tunas Mexican  Restaurant
DESCRIPTION:(1043 W Patrick St Suite A\, Frederick\, MD 21702)\nMusic by DJ-Cesar!!! Salsa\, bachata\, Latin. “$5 suggested cash cover”
URL:https://golatindance.com/event/dancing-at-las-tunas-mexican-restaurant/2031-01-29/
LOCATION:Las Tunas Mexican Restaurant\, 1043 W Patrick St\, Suite A\, Frederick\, MD\, 21702\, United States
CATEGORIES:Washington DC-Baltimore
END:VEVENT
END:VCALENDAR